Workbook

Sheet ГП-101
L1: Приложение №1
L2: к Дополнительному соглашению №1
L3: к Договору подряда №01033-ИДК25 от 01.03.2025
B5: ПОДРЯДЧИК: | C5: ТЕХНИЧЕСКИЙ ЗАКАЗЧИК: | J5: ЗАКАЗЧИК:
B6: Индивидуальный предприниматель | C6: ООО ТЗ ЭНКО | J6: ООО ИДК ЭНКО
B7: ИП Беспрозванных А.П.
B9: ______________/А. П. Беспрозванных | C9: _____________/С.И. Ярков | J9: _________________/С.И. Ярков
A12: Локальный сметный расчет №1-1
A13: ГП-101
A15: № | B15: Наименование | C15: Характеристика | D15: Ед. изм. | E15: Норма расхода | F15: Толщина, (мм) | G15: секция 1 | H15: Кол-во | I15: Цена за ед. | J15: Сумма | K15: Примечание | L15: Форма закупа материала
A16: 03 | B16: Каркас
A17: 03.02. | B17: Устройство заполнения стен
A18: 03.02.00. | B18: Машины и механизмы
A19: 03.02.00.00. | B19: Машины и механизмы | J19: =J20 -> 3528000
B20: Работа: | J20: =SUM(J21) -> 3528000
B21: Услуги по подъему и перепещению грузов автокраном | D21: маш/час | H21: 1200 | I21: 2940 | J21: =I21*H21 -> 3528000 | K21: точное кол-во маш/час по фактически отработанному времени
B22: Материалы:
B23: -
A24: 03.02.01. | B24: Кладка наружных и внутренних стен из блока толщ. 250мм,190мм,90мм, кладка стен из кирпича, монтаж перемычек, кладка вентканалов
A25: 03.02.01.01. | B25: 1 этаж | J25: =J26+J35 -> 963436.3
B26: Работа: | J26: =SUM(J27:J34) -> 705490.63
B27: Кладка стен из керамзитобетонного блока толщ. 250 мм армированных | D27: м3 | G27: 33.14 | H27: =SUM(G27:G27) -> 33.14 | I27: 4939 | J27: =I27*H27 -> 163678.46
B28: Кладка перегородок из керамзитобетонного блока пустотелого толщ. 190 мм армированных | D28: м2 | G28: 155.68 | H28: =SUM(G28:G28) -> 155.68 | I28: 1461 | J28: =I28*H28 -> 227448.48
B29: Кладка перегородок из керамзитобетонного блока полнотелого толщ. 190 мм армированных | D29: м2 | G29: 118.24 | H29: =SUM(G29:G29) -> 118.24 | I29: 1461 | J29: =I29*H29 -> 172748.64
B30: Кладка перегородок из кирпича армированных | D30: м2 | G30: 69.93 | H30: =SUM(G30:G30) -> 69.93 | I30: 1610 | J30: =I30*H30 -> 112587.3
B31: Монтаж перемычек керамзитобетонных и ж/б | D31: шт | G31: 21 | H31: =SUM(G31:G31) -> 21 | I31: 803 | J31: =I31*H31 -> 16863
B32: Монтаж и изготовление металлических элементов | C32: перемычки из уголка | D32: кг | G32: 126.33 | H32: =SUM(G32:G32) -> 126.33 | I32: 94.5 | J32: =I32*H32 -> 11938.185
B33: Устройство перемычек из стержней арматуры (3-4 стержня на проем, в зависимости от толщины кладки) | D33: кг | G33: 1.92 | H33: =SUM(G33:G33) -> 1.92 | I33: 118 | J33: =I33*H33 -> 226.56
B34: Зачеканка шва раствором | D34: м3 | G34: =139.13*0.06*0.03 -> 0.250434 | H34: =SUM(G34:G34) -> 0.250434 | K34: для просчета объема раствора
B35: Материалы: | J35: =SUM(J36:J56) -> 257945.68
B36: Блоки керамзитобетонные тип 1 | C36: толщ.250мм, пустотелые по прочности не ниже М35 | D36: шт. | E36: 12.4 | F36: 0.25 | G36: =G27/0.25*E36 -> 1643.744 | H36: =SUM(G36:G36) -> 1643.744 | I36: 0 | J36: =H36*I36 -> 0 | K36: на м2 | L36: Закуп ЭНКО Давальческий
B37: Блоки керамзитобетонные тип 2 | C37: толщ.190мм, пустотелые по прочности не ниже М35 | D37: шт. | E37: 12.4 | G37: =G28*E37 -> 1930.432 | H37: =SUM(G37:G37) -> 1930.432 | I37: 0 | J37: =H37*I37 -> 0 | K37: на м2 | L37: Закуп ЭНКО Давальческий
B38: Блоки керамзитобетонные тип 3 | C38: толщ.190мм, полнотелые по прочности не ниже М35 | D38: шт. | E38: 12.4 | G38: =G29*E38 -> 1466.176 | H38: =SUM(G38:G38) -> 1466.176 | I38: 0 | J38: =H38*I38 -> 0 | K38: на м2 | L38: Закуп ЭНКО Давальческий
B39: Кирпич керамический тип 1 | C39: полуторный М150 пустотелый | D39: шт. | E39: 42 | G39: =G30*E39 -> 2937.06 | H39: =SUM(G39:G39) -> 2937.06 | I39: 0 | J39: =H39*I39 -> 0 | K39: расход, подтвержденный актом о фактическом расходе материала | L39: Закуп ЭНКО Давальческий
B40: Раствор тип 1 На кладку блок | C40: М75 | D40: м3 | E40: 0.195 | G40: =G27*E40+G28*E40*0.19+G29*E40*0.19 -> 16.611036 | H40: =SUM(G40:G40) -> 16.611036 | I40: 7875 | J40: =H40*I40 -> 130811.91 | K40: на м3 | L40: закуп подрядчика
B41: Раствор тип 1 На кладку кирпич (перегородки) | C41: М75 | D41: м3 | E41: 0.046 | G41: =G30*E41 -> 3.21678 | H41: =SUM(G41:G41) -> 3.21678 | I41: 7875 | J41: =H41*I41 -> 25332.143 | K41: на м2, расход, подтвержденный актом о фактическом расходе материала | L41: закуп подрядчика
B42: Раствор тип 1 На заполнение швов | C42: М75 | D42: м3 | E42: 1.01 | G42: =G34*E42 -> 0.25293834 | H42: =SUM(G42:G42) -> 0.25293834 | I42: 7875 | J42: =H42*I42 -> 1991.8894 | K42: на м3 | L42: закуп подрядчика
B43: Раствор тип 1 На перемычки керамзитобетонных и ж/б | C43: М75 | D43: м3 | E43: 0.006 | G43: =G32*E43 -> 0.75798 | H43: =SUM(G43:G43) -> 0.75798 | I43: 7875 | J43: =H43*I43 -> 5969.0925 | K43: увеличили норму из-за замены перемычек на широкие | L43: закуп подрядчика
B44: Раствор тип 1 На перемычки из стержней арматуру | C44: М75 | D44: м3 | E44: 1.01 | G44: 0.004 | H44: =SUM(G44:G44) -> 0.004 | I44: 7875 | J44: =H44*I44 -> 31.5 | L44: закуп подрядчика
B45: Сетка кладочная | C45: Ø3 Вр-1 яч. 50х50 по ТУ2 | D45: м2 | G45: 256.29 | H45: =SUM(G45:G45) -> 256.29 | I45: 88.34 | J45: =H45*I45 -> 22640.659 | L45: закуп подрядчика
...

Sheet ГП-103 с.1,2,3
N1: Приложение №2
N2: к Дополнительному соглашению №1
N3: к Договору подряда №01033-ИДК25 от 01.03.2025
B5: ПОДРЯДЧИК: | C5: ТЕХНИЧЕСКИЙ ЗАКАЗЧИК: | L5: ЗАКАЗЧИК:
B6: Индивидуальный предприниматель | C6: ООО ТЗ ЭНКО | L6: ООО ИДК ЭНКО
B7: ИП Беспрозванных А.П.
B9: ______________/А. П. Беспрозванных | C9: _____________/С.И. Ярков | L9: _________________/С.И. Ярков
A12: Локальный сметный расчет №2
A13: ГП-103 (секция 1,2,3)
A15: № | B15: Наименование | C15: Характеристика | D15: Ед. изм. | E15: Норма расхода | F15: Толщина, (мм) | G15: секция 1 | H15: секция 2 | I15: секция 3 | J15: Кол-во | K15: Цена за ед. | L15: Сумма | M15: Примечание | N15: Форма закупа материала
A16: 03 | B16: Каркас
A17: 03.02. | B17: Устройство заполнения стен
A18: 03.02.00. | B18: Машины и механизмы
A19: 03.02.00.00. | B19: Машины и механизмы
B20: Работа: | L20: =SUM(L21:L21) -> 5292000
B21: Услуги по подъему и перепещению грузов автокраном | D21: маш/час | J21: 1800 | K21: 2940 | L21: =K21*J21 -> 5292000 | M21: точное кол-во маш/час по фактически отработанному времени
B22: Материалы:
B23: -
A24: 03.02.01. | B24: Кладка наружных и внутренних стен из блока толщ. 250мм,190мм,90мм, кладка стен из кирпича, монтаж перемычек, кладка вентканалов
A25: 03.02.01.01. | B25: 1 этаж | L25: =L26+L38 -> 4289742.2
B26: Работа: | L26: =SUM(L27:L37) -> 3000917.4
B27: Кладка стен из керамзитобетонного блока толщ. 250 мм армированных | D27: м3 | G27: 41.03 | H27: 35.24 | I27: 47.31 | J27: =SUM(G27:I27) -> 123.58 | K27: 4939 | L27: =K27*J27 -> 610361.62
B28: Кладка под окна из керамического полнотелого кирпича | D28: м3 | G28: 0.2 | H28: 0.11 | I28: 3.39 | J28: =SUM(G28:I28) -> 3.7 | K28: 5845 | L28: =K28*J28 -> 21626.5
B29: Кладка перегородок из керамзитобетонного блока пустотелого толщ. 190 мм армированных | D29: м2 | G29: 285.84 | H29: 186.47 | I29: 168.32 | J29: =SUM(G29:I29) -> 640.63 | K29: 1461 | L29: =K29*J29 -> 935960.43
B30: Кладка перегородок из керамзитобетонного блока полнотелого толщ. 190 мм армированных | D30: м2 | H30: 27.37 | I30: 69.47 | J30: =SUM(G30:I30) -> 96.84 | K30: 1461 | L30: =K30*J30 -> 141483.24
B31: Кладка перегородок из кирпича армированных | D31: м2 | G31: 192.47 | H31: 186.27 | I31: 298.18 | J31: =SUM(G31:I31) -> 676.92 | K31: 1610 | L31: =K31*J31 -> 1089841.2
B32: Монтаж перемычек керамзитобетонных и ж/б | D32: шт | G32: 57 | H32: 42 | I32: 68 | J32: =SUM(G32:I32) -> 167 | K32: 803 | L32: =K32*J32 -> 134101
B33: Монтаж и изготовление металлических элементов | C33: перемычки из уголка, металлические стойки | D33: кг | G33: 22.48 | H33: =7.55+49.37 -> 56.92 | I33: =8.46+41.16 -> 49.62 | J33: =SUM(G33:I33) -> 129.02 | K33: 94.5 | L33: =K33*J33 -> 12192.39
B34: Устройство перемычек из стержней арматуры (3-4 стержня на проем, в зависимости от толщины кладки) | D34: кг | G34: 13.27 | H34: 14.35 | I34: 17.69 | J34: =SUM(G34:I34) -> 45.31 | K34: 118 | L34: =K34*J34 -> 5346.58
B35: Устройство деформационного шва | C35: с учетом гидроизоляции | D35: м2 | G35: 51 | H35: 54.33 | I35: 62.47 | J35: =SUM(G35:I35) -> 167.8 | K35: 298 | L35: =K35*J35 -> 50004.4
B36: Гидроизоляция | D36: м2 | G36: 11 | I36: 17 | J36: =SUM(G36:I36) -> 28 | M36: для просчета объема гидроизоляции
B37: Зачеканка шва раствором | D37: м3 | G37: =193.52*0.06*0.03 -> 0.348336 | H37: =165.14*0.06*0.03 -> 0.297252 | I37: =271.69*0.06*0.03 -> 0.489042 | J37: =SUM(G37:I37) -> 1.13463 | M37: для просчета объема раствора
B38: Материалы: | L38: =SUM(L39:L74) -> 1288824.9
B39: Блоки керамзитобетонные тип 1 | C39: толщ.250мм, пустотелые по прочности не ниже М35 | D39: шт. | E39: 12.4 | F39: 0.25 | G39: =G27/0.25*E39 -> 2035.088 | H39: =H27/0.25*E39 -> 1747.904 | I39: =I27/0.25*E39 -> 2346.576 | J39: =SUM(G39:I39) -> 6129.568 | K39: 0 | L39: =J39*K39 -> 0 | M39: на м2 | N39: Закуп ЭНКО Давальческий
B40: Блоки керамзитобетонные тип 2 | C40: толщ.190мм, пустотелые по прочности не ниже М35 | D40: шт. | E40: 12.4 | G40: =G29*E40 -> 3544.416 | H40: =H29*E40 -> 2312.228 | I40: =I29*E40 -> 2087.168 | J40: =SUM(G40:I40) -> 7943.812 | K40: 0 | L40: =J40*K40 -> 0 | M40: на м2 | N40: Закуп ЭНКО Давальческий
B41: Блоки керамзитобетонные тип 3 | C41: толщ.190мм, полнотелые по прочности не ниже М35 | D41: шт. | E41: 12.4 | G41: =G30*E41 -> 0 | H41: =H30*E41 -> 339.388 | I41: =I30*E41 -> 861.428 | J41: =SUM(G41:I41) -> 1200.816 | K41: 0 | L41: =J41*K41 -> 0 | M41: на м2 | N41: Закуп ЭНКО Давальческий
B42: Кирпич керамический тип 1 | C42: полуторный М150 пустотелый | D42: шт. | E42: 42 | G42: =G31*E42 -> 8083.74 | H42: =H31*E42 -> 7823.34 | I42: =I31*E42 -> 12523.56 | J42: =SUM(G42:I42) -> 28430.64 | K42: 0 | L42: =J42*K42 -> 0 | M42: расход, подтвержденный актом о фактическом расходе материала | N42: Закуп ЭНКО Давальческий
B43: Кирпич керамический тип 2 | C43: полуторный М150 полнотелый | D43: шт. | E43: 42 | G43: =G28/0.25*E43 -> 33.6 | H43: =H28/0.25*E43 -> 18.48 | I43: =I28/0.25*E43 -> 569.52 | J43: =SUM(G43:I43) -> 621.6 | K43: 0 | L43: =J43*K43 -> 0 | M43: расход, подтвержденный актом о фактическом расходе материала | N43: Закуп ЭНКО Давальческий
B44: Раствор тип 1 На кладку блок | C44: М75 | D44: м3 | E44: 0.195 | G44: =G27*E44+G29*E44*0.19+G30*E44*0.19 -> 18.591222 | H44: =H27*E44+H29*E44*0.19+H30*E44*0.19 -> 14.794572 | I44: =I27*E44+I29*E44*0.19+I30*E44*0.19 -> 18.03557 | J44: =SUM(G44:I44) -> 51.421364 | K44: 7875 | L44: =J44*K44 -> 404943.24 | M44: на м3 | N44: закуп подрядчика
B45: Раствор тип 1 На кладку кирпич (под окна и вентканалы кровли) | C45: М75 | D45: м3 | E45: 0.24 | G45: =G28*E45 -> 0.048 | H45: =H28*E45 -> 0.0264 | I45: =I28*E45 -> 0.8136 | J45: =SUM(G45:I45) -> 0.888 | K45: 7875 | L45: =J45*K45 -> 6993 | M45: на м3 | N45: закуп подрядчика
...

Sheet ГП-107
B2: Локальный сметный расчет (ЛСР) №10
B3: Объект: «Комплексная застройка территории, расположенной в границах улиц: Тобольский тракт - Обход города Тюмени (мкр. Губернаторский). Многоэтажный жилой дом ГП-72.107
B4: Ведомость объемов работ и расхода материалов по работе: Устройство заполнения стен и сопутствующим работам (согласно проекту шифр , стадия Р)
A6: № | B6: Наименование | C6: Характеристика | D6: Ед. изм. | E6: Норма расхода | F6: Толщина, (мм) | G6: секция 1 | H6: секция 2 | I6: Кол-во | J6: Цена за ед. | K6: Сумма | L6: Примечание | M6: Форма закупа материала
A7: 03 | B7: Каркас
A8: 03.02. | B8: Устройство заполнения стен
A9: 03.02.01. | B9: Кладка наружных и внутренних стен из блока толщ. 250мм,190мм,90мм, кладка стен из кирпича, монтаж перемычек, кладка вентканалов
A10: 03.02.01.01. | B10: 1 этаж | K10: =K11+K22 -> 0
B11: Работа: | K11: =SUM(K12:K20) -> 0
B12: Кладка стен из керамзитобетонного блока толщ. 250 мм армированных | D12: м3 | G12: 37.53 | H12: 53.56 | I12: =SUM(G12:H12) -> 91.09 | J12: =VLOOKUP(B12,работы!$B$5:$F$19,4,0) -> 0 | K12: =I12*J12 -> 0
B13: Кладка под окна из керамического полнотелого кирпича | D13: м3 | G13: 0.23 | H13: 0.39 | I13: =SUM(G13:H13) -> 0.62 | J13: =VLOOKUP(B13,работы!$B$5:$F$19,4,0) -> 0 | K13: =I13*J13 -> 0
B14: Кладка перегородок из керамзитобетонного блока пустотелого толщ. 190 мм армированных | D14: м2 | G14: 164.4 | H14: 341.36 | I14: =SUM(G14:H14) -> 505.76 | J14: =VLOOKUP(B14,работы!$B$5:$F$19,4,0) -> 0 | K14: =I14*J14 -> 0
B15: Кладка перегородок из керамзитобетонного блока полнотелого толщ. 190 мм армированных | D15: м2 | G15: 68.19 | H15: 89.41 | I15: =SUM(G15:H15) -> 157.6 | J15: =VLOOKUP(B15,работы!$B$5:$F$19,4,0) -> 0 | K15: =I15*J15 -> 0
B16: Кладка перегородок из кирпича армированных | D16: м2 | G16: 151.56 | H16: 264.14 | I16: =SUM(G16:H16) -> 415.7 | J16: =VLOOKUP(B16,работы!$B$5:$F$19,4,0) -> 0 | K16: =I16*J16 -> 0
B17: Монтаж перемычек керамзитобетонных и ж/б | D17: шт | G17: 51 | H17: 73 | I17: =SUM(G17:H17) -> 124 | J17: =VLOOKUP(B17,работы!$B$5:$F$19,4,0) -> 0 | K17: =I17*J17 -> 0
B18: Монтаж и изготовление металлических элементов | C18: перемычки из уголка, металлические стойки | D18: кг | G18: =17.04+42+2.45 -> 61.49 | H18: =39.59+49.03+2.45 -> 91.07 | I18: =SUM(G18:H18) -> 152.56 | J18: =VLOOKUP(B18,работы!$B$5:$F$19,4,0) -> 0 | K18: =I18*J18 -> 0
B19: Устройство перемычек из стержней арматуры (3-4 стержня на проем, в зависимости от толщины кладки) | D19: кг | G19: 0.83 | H19: 11.09 | I19: =SUM(G19:H19) -> 11.92 | J19: =VLOOKUP(B19,работы!$B$5:$F$19,4,0) -> 0 | K19: =I19*J19 -> 0
B20: Устройство деформационного шва | D20: м2 | G20: =10.43*4.07 -> 42.4501 | I20: =SUM(G20:H20) -> 42.4501 | J20: =VLOOKUP(B20,работы!$B$5:$F$19,4,0) -> 0 | K20: =I20*J20 -> 0
B21: Зачеканка шва раствором | D21: м3 | G21: =167.05*0.06*0.03 -> 0.30069 | H21: =259.07*0.06*0.03 -> 0.466326 | I21: =SUM(G21:H21) -> 0.767016 | L21: для просчета объема раствора
B22: Материалы: | K22: =SUM(K23:K56) -> 0
B23: Блоки керамзитобетонные тип 1 | C23: толщ.250мм, пустотелые по прочности не ниже М35 | D23: шт. | E23: 12.4 | F23: 0.25 | G23: =G12/0.25*E23 -> 1861.488 | H23: =H12/0.25*E23 -> 2656.576 | I23: =SUM(G23:H23) -> 4518.064 | J23: =VLOOKUP(B23,материал!$B$5:$G$67,5,0) -> 0 | K23: =I23*J23 -> 0 | L23: на м2 | M23: =VLOOKUP(B23,материал!$B$5:$H$67,7,0) -> Давальческий материал
B24: Блоки керамзитобетонные тип 2 | C24: толщ.190мм, пустотелые по прочности не ниже М35 | D24: шт. | E24: 12.4 | G24: =G14*E24 -> 2038.56 | H24: =H14*E24 -> 4232.864 | I24: =SUM(G24:H24) -> 6271.424 | J24: =VLOOKUP(B24,материал!$B$5:$G$67,5,0) -> 0 | K24: =I24*J24 -> 0 | L24: на м2 | M24: =VLOOKUP(B24,материал!$B$5:$H$67,7,0) -> Давальческий материал
B25: Блоки керамзитобетонные тип 3 | C25: толщ.190мм, полнотелые по прочности не ниже М35 | D25: шт. | E25: 12.4 | G25: =G15*E25 -> 845.556 | H25: =H15*E25 -> 1108.684 | I25: =SUM(G25:H25) -> 1954.24 | J25: =VLOOKUP(B25,материал!$B$5:$G$67,5,0) -> 0 | K25: =I25*J25 -> 0 | L25: на м2 | M25: =VLOOKUP(B25,материал!$B$5:$H$67,7,0) -> Давальческий материал
B26: Кирпич керамический тип 1 | C26: полуторный М150 пустотелый | D26: шт. | E26: 42 | G26: =G16*E26 -> 6365.52 | H26: =H16*E26 -> 11093.88 | I26: =SUM(G26:H26) -> 17459.4 | J26: =VLOOKUP(B26,материал!$B$5:$G$67,5,0) -> 0 | K26: =I26*J26 -> 0 | L26: расход, подтвержденный актом о фактическом расходе материала | M26: =VLOOKUP(B26,материал!$B$5:$H$67,7,0) -> Давальческий материал
B27: Раствор тип 1 На кладку блок | C27: М75 | D27: м3 | E27: 0.195 | G27: =G12*E27+G14*E27*0.19+G15*E27*0.19 -> 15.93581 | H27: =H12*E27+H14*E27*0.19+H15*E27*0.19 -> 26.404229 | I27: =SUM(G27:H27) -> 42.340038 | J27: =VLOOKUP(B27,материал!$B$5:$G$67,5,0) -> 0 | K27: =I27*J27 -> 0 | L27: на м3 | M27: =VLOOKUP(B27,материал!$B$5:$H$67,7,0) -> Закуп подярдчика
B28: Раствор тип 1 На кладку кирпич (под окна и вентканалы кровли) | C28: М75 | D28: м3 | E28: 0.24 | G28: =G13*E28 -> 0.0552 | H28: =H13*E28 -> 0.0936 | I28: =SUM(G28:H28) -> 0.1488 | J28: =VLOOKUP(B28,материал!$B$5:$G$67,5,0) -> 0 | K28: =I28*J28 -> 0 | L28: на м3 | M28: =VLOOKUP(B28,материал!$B$5:$H$67,7,0) -> Закуп подярдчика
B29: Раствор тип 1 На кладку кирпич (перегородки) | C29: М75 | D29: м3 | E29: 0.046 | G29: =G16*E29 -> 6.97176 | H29: =H16*E29 -> 12.15044 | I29: =SUM(G29:H29) -> 19.1222 | J29: =VLOOKUP(B29,материал!$B$5:$G$67,5,0) -> 0 | K29: =I29*J29 -> 0 | L29: на м2, расход, подтвержденный актом о фактическом расходе материала | M29: =VLOOKUP(B29,материал!$B$5:$H$67,7,0) -> Закуп подярдчика
B30: Раствор тип 1 На заполнение швов | C30: М75 | D30: м3 | E30: 1.01 | G30: =G21*E30 -> 0.3036969 | H30: =H21*E30 -> 0.47098926 | I30: =SUM(G30:H30) -> 0.77468616 | J30: =VLOOKUP(B30,материал!$B$5:$G$67,5,0) -> 0 | K30: =I30*J30 -> 0 | L30: на м3 | M30: =VLOOKUP(B30,материал!$B$5:$H$67,7,0) -> Закуп подярдчика
B31: Раствор тип 1 На перемычки керамзитобетонных и ж/б | C31: М75 | D31: м3 | E31: 0.006 | G31: =G18*E31 -> 0.36894 | H31: =H18*E31 -> 0.54642 | I31: =SUM(G31:H31) -> 0.91536 | J31: =VLOOKUP(B31,материал!$B$5:$G$67,5,0) -> 0 | K31: =I31*J31 -> 0 | L31: увеличили норму из-за замены перемычек на широкие | M31: =VLOOKUP(B31,материал!$B$5:$H$67,7,0) -> Закуп подярдчика
B32: Раствор тип 1 На перемычки из стержней арматуру | C32: М75 | D32: м3 | E32: 1.01 | G32: 0.001 | H32: 0.021 | I32: =SUM(G32:H32) -> 0.022 | J32: =VLOOKUP(B32,материал!$B$5:$G$67,5,0) -> 0 | K32: =I32*J32 -> 0 | M32: =VLOOKUP(B32,материал!$B$5:$H$67,7,0) -> Закуп подярдчика
B33: Сетка кладочная | C33: Ø3 Вр-1 яч. 50х50 по ТУ2 | D33: м2 | G33: 273.75 | H33: 441.03 | I33: =SUM(G33:H33) -> 714.78 | J33: =VLOOKUP(B33,материал!$B$5:$G$67,5,0) -> 0 | K33: =I33*J33 -> 0 | M33: =VLOOKUP(B33,материал!$B$5:$H$67,7,0) -> Закуп подярдчика
B34: Перемычка тип 1 | C34: ПБК-19.9.12-8 | D34: шт. | H34: 2 | I34: =SUM(G34:H34) -> 2 | J34: =VLOOKUP(B34,материал!$B$5:$G$67,5,0) -> 0 | K34: =I34*J34 -> 0 | M34: =VLOOKUP(B34,материал!$B$5:$H$67,7,0) -> Закуп подярдчика
B35: Перемычка тип 2 | C35: ПБК-19.9.14-8 | D35: шт. | H35: 4 | I35: =SUM(G35:H35) -> 4 | J35: =VLOOKUP(B35,материал!$B$5:$G$67,5,0) -> 0 | K35: =I35*J35 -> 0 | M35: =VLOOKUP(B35,материал!$B$5:$H$67,7,0) -> Закуп подярдчика
B36: Перемычка тип 3 | C36: ПБК-19.12.12-8 | D36: шт. | H36: 3 | I36: =SUM(G36:H36) -> 3 | J36: =VLOOKUP(B36,материал!$B$5:$G$67,5,0) -> 0 | K36: =I36*J36 -> 0 | M36: =VLOOKUP(B36,материал!$B$5:$H$67,7,0) -> Закуп подярдчика
B37: Перемычка тип 4 | C37: ПБК-19.12.14-8 | D37: шт. | G37: 9 | H37: 12 | I37: =SUM(G37:H37) -> 21 | J37: =VLOOKUP(B37,материал!$B$5:$G$67,5,0) -> 0 | K37: =I37*J37 -> 0 | M37: =VLOOKUP(B37,материал!$B$5:$H$67,7,0) -> Закуп подярдчика
B38: Перемычка тип 5 | C38: ПБК-19.12.16-8 | D38: шт. | G38: 3 | I38: =SUM(G38:H38) -> 3 | J38: =VLOOKUP(B38,материал!$B$5:$G$67,5,0) -> 0 | K38: =I38*J38 -> 0 | M38: =VLOOKUP(B38,материал!$B$5:$H$67,7,0) -> Закуп подярдчика
B39: Перемычка тип 6 | C39: ПБК-19.12.18-8 | D39: шт. | H39: 1 | I39: =SUM(G39:H39) -> 1 | J39: =VLOOKUP(B39,материал!$B$5:$G$67,5,0) -> 0 | K39: =I39*J39 -> 0 | M39: =VLOOKUP(B39,материал!$B$5:$H$67,7,0) -> Закуп подярдчика
B40: Перемычка тип 7 | C40: ПБК-19.12.20-8 | D40: шт. | G40: 3 | H40: 6 | I40: =SUM(G40:H40) -> 9 | J40: =VLOOKUP(B40,материал!$B$5:$G$67,5,0) -> 0 | K40: =I40*J40 -> 0 | M40: =VLOOKUP(B40,материал!$B$5:$H$67,7,0) -> Закуп подярдчика
B41: Перемычка тип 8 | C41: ПБК-19.12.22-8 | D41: шт. | G41: 16 | H41: 32 | I41: =SUM(G41:H41) -> 48 | J41: =VLOOKUP(B41,материал!$B$5:$G$67,5,0) -> 0 | K41: =I41*J41 -> 0 | M41: =VLOOKUP(B41,материал!$B$5:$H$67,7,0) -> Закуп подярдчика
B42: Перемычка тип 9 | C42: ПБК-19.12.26-8 | D42: шт. | G42: 8 | H42: 5 | I42: =SUM(G42:H42) -> 13 | J42: =VLOOKUP(B42,материал!$B$5:$G$67,5,0) -> 0 | K42: =I42*J42 -> 0 | M42: =VLOOKUP(B42,материал!$B$5:$H$67,7,0) -> Закуп подярдчика
...

Sheet работы
A2: Сводная ведомость объемов работ
A4: № | B4: Наименование | C4: Ед. изм. | D4: Кол-во | E4: Цена за ед. | F4: Сумма
A5: 03 | B5: Каркас
A6: 03.02. | B6: Устройство заполнения стен
B7: Кладка стен из керамзитобетонного блока толщ. 250 мм армированных | C7: м3 | D7: =SUMIF('ГП-107'!$B$7:$K$806,B7,'ГП-107'!$I$7:$I$806) -> 949.82191 | F7: =E7*D7 -> 0
B8: Кладка под окна из керамического полнотелого кирпича | C8: м3 | D8: =SUMIF('ГП-107'!$B$7:$K$806,B8,'ГП-107'!$I$7:$I$806) -> 61.23 | F8: =E8*D8 -> 0
B9: Кладка перегородок из керамзитобетонного блока пустотелого толщ. 190 мм армированных | C9: м2 | D9: =SUMIF('ГП-107'!$B$7:$K$806,B9,'ГП-107'!$I$7:$I$806) -> 4563.5064 | F9: =E9*D9 -> 0
B10: Кладка перегородок из керамзитобетонного блока полнотелого толщ. 190 мм армированных | C10: м2 | D10: =SUMIF('ГП-107'!$B$7:$K$806,B10,'ГП-107'!$I$7:$I$806) -> 2465.3421 | F10: =E10*D10 -> 0
B11: Кладка перегородок из кирпича армированных | C11: м2 | D11: =SUMIF('ГП-107'!$B$7:$K$806,B11,'ГП-107'!$I$7:$I$806) -> 1709.94 | F11: =E11*D11 -> 0
B12: Монтаж перемычек керамзитобетонных и ж/б | C12: шт | D12: =SUMIF('ГП-107'!$B$7:$K$806,B12,'ГП-107'!$I$7:$I$806) -> 2354 | F12: =E12*D12 -> 0
B13: Монтаж и изготовление металлических элементов | C13: кг | D13: =SUMIF('ГП-107'!$B$7:$K$806,B13,'ГП-107'!$I$7:$I$806) -> 2547.39 | F13: =E13*D13 -> 0
B14: Устройство перемычек из стержней арматуры (3-4 стержня на проем, в зависимости от толщины кладки) | C14: кг | D14: =SUMIF('ГП-107'!$B$7:$K$806,B14,'ГП-107'!$I$7:$I$806) -> 1101.99 | F14: =E14*D14 -> 0
B15: Устройство деформационного шва | C15: м2 | D15: =SUMIF('ГП-107'!$B$7:$K$806,B15,'ГП-107'!$I$7:$I$806) -> 441.9061 | F15: =E15*D15 -> 0
B16: Кладка перегородок из керамзитобетонного блока пустотелого толщ. 90 мм армированных | C16: м2 | D16: =SUMIF('ГП-107'!$B$7:$K$806,B16,'ГП-107'!$I$7:$I$806) -> 4346.87 | F16: =E16*D16 -> 0
B17: Кладка перегородок из керамзитобетонного блока полнотелого толщ. 90 мм армированных | C17: м2 | D17: =SUMIF('ГП-107'!$B$7:$K$806,B17,'ГП-107'!$I$7:$I$806) -> 4613.5494 | F17: =E17*D17 -> 0
B18: Кладка парапетов на кровле из кирпича армированных | C18: м3 | D18: =SUMIF('ГП-107'!$B$7:$K$806,B18,'ГП-107'!$I$7:$I$806) -> 109.57 | F18: =E18*D18 -> 0
B19: Кладка вентшахт на кровле из кирпича армированных | C19: м3 | D19: =SUMIF('ГП-107'!$B$7:$K$806,B19,'ГП-107'!$I$7:$I$806) -> 55.43 | F19: =E19*D19 -> 0
B20: в тч стоимость работ | F20: =SUM(F7:F19) -> 0
F21: =F20-'ГП-107'!K808 -> 0

Sheet материал
A2: Сводная ведомость объемов материала
A4: № | B4: Наименование | C4: Характеристика | D4: Ед. изм. | E4: Кол-во | F4: Цена за ед. | G4: Сумма | H4: Форма закупа материала
A5: 03 | B5: Каркас
A6: 03.02. | B6: Устройство заполнения стен
B7: Блоки керамзитобетонные тип 1 | C7: толщ.250мм, пустотелые по прочности не ниже М35 | D7: шт. | E7: =SUMIFS('ГП-107'!$I$7:$I$806,'ГП-107'!$B$7:$B$806,B7,'ГП-107'!$C$7:$C$806,C7) -> 47111.167 | G7: =E7*F7 -> 0 | H7: Давальческий материал
B8: Блоки керамзитобетонные тип 2 | C8: толщ.190мм, пустотелые по прочности не ниже М35 | D8: шт. | E8: =SUMIFS('ГП-107'!$I$7:$I$806,'ГП-107'!$B$7:$B$806,B8,'ГП-107'!$C$7:$C$806,C8) -> 56587.479 | G8: =E8*F8 -> 0 | H8: Давальческий материал
B9: Блоки керамзитобетонные тип 3 | C9: толщ.190мм, полнотелые по прочности не ниже М35 | D9: шт. | E9: =SUMIFS('ГП-107'!$I$7:$I$806,'ГП-107'!$B$7:$B$806,B9,'ГП-107'!$C$7:$C$806,C9) -> 30570.242 | G9: =E9*F9 -> 0 | H9: Давальческий материал
B10: Кирпич керамический тип 1 | C10: полуторный М150 пустотелый | D10: шт. | E10: =SUMIFS('ГП-107'!$I$7:$I$806,'ГП-107'!$B$7:$B$806,B10,'ГП-107'!$C$7:$C$806,C10) -> 71817.48 | G10: =E10*F10 -> 0 | H10: Давальческий материал
B11: Раствор тип 1 На кладку блок | C11: М75 | D11: м3 | E11: =SUMIFS('ГП-107'!$I$7:$I$806,'ГП-107'!$B$7:$B$806,B11,'ГП-107'!$C$7:$C$806,C11) -> 602.88947 | G11: =E11*F11 -> 0 | H11: Закуп подярдчика
B12: Раствор тип 1 На кладку кирпич (под окна и вентканалы кровли) | C12: М75 | D12: м3 | E12: =SUMIFS('ГП-107'!$I$7:$I$806,'ГП-107'!$B$7:$B$806,B12,'ГП-107'!$C$7:$C$806,C12) -> 54.2952 | G12: =E12*F12 -> 0 | H12: Закуп подярдчика
B13: Раствор тип 1 На кладку кирпич (перегородки) | C13: М75 | D13: м3 | E13: =SUMIFS('ГП-107'!$I$7:$I$806,'ГП-107'!$B$7:$B$806,B13,'ГП-107'!$C$7:$C$806,C13) -> 78.65724 | G13: =E13*F13 -> 0 | H13: Закуп подярдчика
B14: Раствор тип 1 На заполнение швов | C14: М75 | D14: м3 | E14: =SUMIFS('ГП-107'!$I$7:$I$806,'ГП-107'!$B$7:$B$806,B14,'ГП-107'!$C$7:$C$806,C14) -> 16.725073 | G14: =E14*F14 -> 0 | H14: Закуп подярдчика
B15: Раствор тип 1 На перемычки керамзитобетонных и ж/б | C15: М75 | D15: м3 | E15: =SUMIFS('ГП-107'!$I$7:$I$806,'ГП-107'!$B$7:$B$806,B15,'ГП-107'!$C$7:$C$806,C15) -> 14.29336 | G15: =E15*F15 -> 0 | H15: Закуп подярдчика
B16: Раствор тип 1 На перемычки из стержней арматуру | C16: М75 | D16: м3 | E16: =SUMIFS('ГП-107'!$I$7:$I$806,'ГП-107'!$B$7:$B$806,B16,'ГП-107'!$C$7:$C$806,C16) -> 2.037076 | G16: =E16*F16 -> 0 | H16: Закуп подярдчика
B17: Сетка кладочная | C17: Ø3 Вр-1 яч. 50х50 по ТУ2 | D17: м2 | E17: =SUMIFS('ГП-107'!$I$7:$I$806,'ГП-107'!$B$7:$B$806,B17,'ГП-107'!$C$7:$C$806,C17) -> 6498.5 | G17: =E17*F17 -> 0 | H17: Закуп подярдчика
B18: Перемычка тип 1 | C18: ПБК-19.9.12-8 | D18: шт. | E18: =SUMIFS('ГП-107'!$I$7:$I$806,'ГП-107'!$B$7:$B$806,B18,'ГП-107'!$C$7:$C$806,C18) -> 2 | G18: =E18*F18 -> 0 | H18: Закуп подярдчика
... B65: Перемычка тип 36 | C65: Перемычка полистиролбетонная D500 19.25.32-8 | D65: шт. | E65: =SUMIFS('ГП-107'!$I$7:$I$806,'ГП-107'!$B$7:$B$806,B65,'ГП-107'!$C$7:$C$806,C65) -> 2 | G65: =E65*F65 -> 0 | H65: Закуп подярдчика
B66: Прочие материалы (Грунт ГФ-021, Пена монтажная противопожарная, Болт БСР 120х12, Электроды ø3мм) | C66: - | D66: % | G66: =SUMIF('ГП-107'!$B$7:$K$806,B66,'ГП-107'!$K$7:$K$806) -> 0 | H66: Закуп подярдчика
B67: Прочие материалы (Грунт ГФ-021, Пена монтажная противопожарная, Болт БСР 120х12) | C67: - | D67: % | G67: =SUMIF('ГП-107'!$B$7:$K$806,B67,'ГП-107'!$K$7:$K$806) -> 0 | H67: Закуп подярдчика
B68: в тч стоимость материалов | G68: =SUM(G7:G67) -> 0
G70: =G68-'ГП-107'!K809 -> 0
