Workbook

Sheet 08.04.ГП-13
L1: Приложение №
L2: к Договору подряда №
A4: ПОДРЯДЧИК: | E4: ТЕХНИЧЕСКИЙ ЗАКАЗЧИК: | J4: ЗАКАЗЧИК:
A8: ______________/ | E8: _____________/ | J8: _________________/
A11: Локальный сметный расчет №
A12: ГП-13
A14: № п/п | B14: Наименование | C14: Марка/ Завод изготовитель | D14: Характеристика | E14: Ед. изм. | F14: Норма расхода | G14: Толщина, мм (м)/ Высота, мм (м)/ Длина,мм (м)/ Диаметр , мм (м) | H14: Кол-во | I14: Цена за ед. изм., руб | J14: Сумма, руб | K14: Примечание | L14: Форма закупа материала
A15: 08 | B15: Двери
A16: 08.04. | B16: Поставка и монтаж ворот
A17: 08.04.01. | B17: Ворота секционные
A18: 08.04.01.00 | B18: Ворота секционные | E18: шт | J18: =J19+J21 -> 0
B19: Работа: | J19: =J20 -> 0
B20: Монтаж секционных ворот и пуско-наладочные работы | E20: шт | H20: =SUM(H22:H22) -> 2 | I20: =VLOOKUP(B20,Работы!$B$3:$J$4,8,0) -> 0 | J20: =I20*H20 -> 0
B21: Материалы: | J21: =SUM(J22:J22) -> 0
B22: Комплект секционных ворот тип 1 | C22: "Алютех" или аналог | D22: Промышленные секционные ворота из аллюминиевых сэндвич панелей арт. СП.Р.ProPlus. Внешний цвет панелей Ral 7016 | E22: шт | G22: Габаритные размеры ворот ВхН, 3200х3000мм (h) | H22: 2 | I22: =VLOOKUP(B22,Материал!$B$3:$J$4,8,0) -> 0 | J22: =I22*H22 -> 0 | K22: Обозначение по проекту 6
A23: 08.04.01.02 | B23: Занавес противопожарный | J23: =J24+J26 -> 0
B24: Работа: | J24: =J25 -> 0
B25: Монтаж занавес противопожарных и пуско-наладочные работы | E25: шт | H25: =SUM(H27:H27) -> 1 | I25: =VLOOKUP(B25,Работы!$B$3:$J$4,8,0) -> 0 | J25: =I25*H25 -> 0
B26: Материалы: | J26: =SUM(J27:J27) -> 0
B27: Комплект шторы противопожарной | C27: "Алютех" или аналог | D27: Противопожарная штора, рулонная (автоматическая) с пределом огнестойкости EI60 | E27: шт | G27: Габаритные размеры проема ВхН, 5500х2875 мм (h) | H27: 1 | I27: =VLOOKUP(B27,Материал!$B$3:$J$4,8,0) -> 0 | J27: =I27*H27 -> 0 | K27: Обозначение по проекту ПШ-1
A28: 08.04.03. | B28: Прочее
A29: 08.04.03.00 | B29: Пуско-наладочные работы | E29: шт | J29: =J30+J32 -> 0
B30: Работа: | J30: =J31 -> 0
B31: Пуско-наладочные работы | E31: шт | H31: 3 | I31: =VLOOKUP(B31,Работы!$B$3:$J$5,8,0) -> 0 | J31: =I31*H31 -> 0
B32: Материалы: | J32: =SUM(J33:J33) -> 0
B33: Пульт ДУ | C33: "Алютех" или аналог | D33: Пульт дистанционного управления для секционных ворот | E33: шт | H33: 124 | I33: =VLOOKUP(B33,Материал!$B$3:$J$5,8,0) -> 0 | J33: =I33*H33 -> 0
I34: Итого по ЛСР, в тч НДС: | J34: =J18+J23+J29 -> 0 | K34: Либо указать: Без НДС
I35: в тч стоимость работ: | J35: =J19+J24+J30 -> 0
I36: в тч стоимость материалов: | J36: =J26+J21+J32 -> 0
I37: в тч НДС: | J37: =J34*22/122 -> 0 | K37: Либо указать: нет
A40: Примечание:
A42: 1. Монтаж сдвоенных въездных ворот тип 6 - подготовку проема осуществляет компания поставщик ворот.
A43: 2. Учесть блок для приема сигнала на открывание ворот по индукционной петле и считывалю Akuvox 01
A44: 3. Учесть Дополнительный контур уплотнения для полотна ворот.
A45: 4. На кождое паркоместо, заложить четырехканальный пульт для ворот, плюс 10 пультов для УК.
A46: 5. Фотоэлементы и сигнальные лампы, так же дополнительно фотоэлемент в уплотнении нижней панели ворот.
A47: 6. Пуско-наладочные работы производятся подрядной организацией перед вводом объекта в эксплуатацию.
A49: Стоимость строительно-монтажных работ (СМР) учитывает прямые затраты, накладные расходы, сметную прибыль, затраты на все второстепенные, сопутсвующие (расходные) материалы и работы необходимые для осуществления полного комплекса работ, включая затраты: на мобилизацию, аренду и эксплуатацию всех необходимых механизмов, оборудования и инструментов, бытовых помещений и биотуалетов; выполнение сопутствующих работ; вывоз мусора; налоги и иные издержки Подрядчика.
A50: В случае изменения системы налогообложения, риски увеличения стоимости договора относятся на сторону, чья система налогообложения изменяется.
A51: Стоимость материалов учитывает стоимость доставки до объекта строительства.
...

Sheet Работы
B1: Ведомость объемов работ
A2: № п/п | B2: Наименование | C2: Марка/ Завод изготовитель | D2: Характеристика | E2: Ед. изм. | F2: Норма расхода | G2: Толщина, мм (м)/ Высота, мм (м)/ Длина,мм (м)/ Диаметр , мм (м) | H2: Кол-во | I2: Цена за ед. изм., руб | J2: Сумма, руб | K2: Примечание | L2: Форма закупа материала
B3: Монтаж секционных ворот и пуско-наладочные работы | E3: шт | H3: 2 | J3: =I3*H3 -> 0
B4: Монтаж занавес противопожарных и пуско-наладочные работы | E4: шт | H4: 1 | J4: =I4*H4 -> 0
B5: Пуско-наладочные работы | E5: шт | H5: 3 | J5: =I5*H5 -> 0
J6: =SUM(J3:J5) -> 0
K7: =J6-'08.04.ГП-13'!J35 -> 0
A8: Примечание:
A9: Стоимость строительно-монтажных работ (СМР) учитывает прямые затраты, накладные расходы, сметную прибыль, затраты на все второстепенные, сопутствующие (расходные) материалы и работы необходимые для осуществления полного комплекса работ, включая затраты: на мобилизацию, аренду и эксплуатацию всех необходимых механизмов, оборудования и инструментов, бытовых помещений и биотуалетов; выполнение сопутствующих работ; вывоз мусора; налоги и иные издержки Подрядчика.
A10: Изготовление и монтаж дверей только после замеров
A11: Стоимость установки дверей учитывает стоимость разгрузки, монтаж

Sheet Материал
B1: Спецификация материалов
A2: № п/п | B2: Наименование | C2: Марка/ Завод изготовитель | D2: Характеристика | E2: Ед. изм. | F2: Норма расхода | G2: Толщина, мм (м)/ Высота, мм (м)/ Длина,мм (м)/ Диаметр , мм (м) | H2: Кол-во | I2: Цена за ед. изм., руб | J2: Сумма, руб | K2: Примечание | L2: Форма закупа материала
B3: Комплект секционных ворот тип 1 | C3: "Алютех" или аналог | D3: Промышленные секционные ворота из аллюм. Панелей арт. СП.Р.ProPlus. Внешний цвет панелей Ral 7016 | E3: шт | G3: Габаритные размеры ворот ВхН, 3200х3000мм (h) | H3: 2 | J3: =I3*H3 -> 0 | K3: Обозначение по проекту тип 6
B4: Комплект шторы противопожарной | C4: "Алютех" или аналог | D4: Противопожарная штора, рулонная (автоматическая) с пределом огнестойкости EI60 | E4: шт | G4: Габаритные размеры проема ВхН, 5500х2875 мм (h) | H4: 1 | J4: =I4*H4 -> 0 | K4: Обозначение по проекту ПШ-1
B5: Пульт ДУ | D5: Пульт дистанционного управления для секционных ворот | E5: шт | H5: 124 | J5: =I5*H5 -> 0
H6: ИТОГО: | J6: =SUM(J3:J5) -> 0
K7: =J6-'08.04.ГП-13'!J36 -> 0
A9: Примечание:
A10: Стоимость материалов учитывает стоимость доставки до объекта строительства.
