Workbook

Sheet  Вода  У (2)
E1: Фасонные изделия
E2: Расходные материалы
A3: Сметный расчет №1
A5: № п/п | E5: Наименование | F5: Ед. изм. | G5: Объем работ | H5: Стоимость за ед., руб. | I5: Общая стоимость, руб.
A6: Водопровод
A7: 1 | E7: Водопровод холодной и горячей воды (В1,Т3) выше отм.0,000 (жилая часть)
E8: Квартирные узлы учета хол. и гор. воды (1-я, 2-я зоны)
E9: Кран шаровый муфтовый НР-ВР 1/2" Валтек, HLV | F9: шт | G9: 352 | I9: =G9*H9 -> 0
E10: Фильтр сетчатый муфтовый ВР 1/2" / Валтек | F10: шт | G10: 352 | I10: =G10*H10 -> 0
E11: Редуктор давления ВР 1/2" ИКМА | F11: шт | G11: 352 | I11: =G11*H11 -> 0
E12: Счетчик холодной воды "Пульсар" универсальный Ду-15; Qn=1,5 м3/час; L=80мм; обратным клапаном; (присоединители в комплекте); МПИ 6 лет / В1 Телеметрия | F12: шт | G12: 176 | I12: =G12*H12 -> 0
E13: Счетчик горячей воды "Пульсар" универсальный Ду-15; Qn=1,5 м3/час; L=80мм; обратным клапаном; (присоединители в комплекте); МПИ 6 лет / Т3 Телеметрия | F13: шт | G13: 176 | I13: =G13*H13 -> 0
E14: Кран шаровый муфтовый ВР-ВР 1/2" Валтек, HLV | F14: шт | G14: 352 | I14: =G14*H14 -> 0
E15: Кран шаровый муфтовый Вр-Вр 1/2" (для УВП ХВС) Валтек | F15: шт | G15: 176 | I15: =G15*H15 -> 0
E16: Офисные узлы учета хол. и гор. воды 1 этаж | I16: =G16*H16 -> 0
E17: Кран шаровый муфтовый НР-ВР 1/2" Валтек | F17: шт | G17: 12 | I17: =G17*H17 -> 0
E18: Фильтр сетчатый муфтовый ВР 1/2" / Валтек | F18: шт | G18: 12 | I18: =G18*H18 -> 0
E19: Редуктор давления ВР 1/2" Валтек, HLV | F19: шт | G19: 12 | I19: =G19*H19 -> 0
E20: Счетчик холодной воды "Пульсар" универсальный Ду-15; Qn=1,5 м3/час; L=80мм; обратным клапаном; (присоединители в комплекте); МПИ 6 лет / В1 Телеметрия | F20: шт | G20: 12 | I20: =G20*H20 -> 0
E21: Фасонные изделия (ниппеля, тройники, заглушка) | F21: % | I21: =G21*H21 -> 0
E22: Расходные материалы (хомуты, шпилька) | F22: % | I22: =G22*H22 -> 0
E23: Квартирные стояки В1 (1-я зона) выше отм 0.000
E24: Труба ППН PN20 DN20х3,4 TEBO | F24: м | G24: 100 | I24: =G24*H24 -> 0
E25: Труба ППН PN20 DN40х6,7 TEBO | F25: м | G25: 260 | I25: =G25*H25 -> 0
E26: Труба ППН PN20 DN32х6,7 TEBO | F26: м | G26: 70 | I26: =G26*H26 -> 0
E27: Труба ППН PN20 DN25х6,8 TEBO | F27: м | G27: 32 | I27: =G27*H27 -> 0
E28: Фасонные изделия (муфта соединительная, заглушка, тройники ППН, угольник ППН, переходы ППН, гильза, теплоизоляция Термафлекс) | F28: %
E29: Расходные материалы (хомуты ППН, скотч) | F29: %
E30: Квартирные стояки В1 (2-я зона) выше отм 0.000
E31: Труба стальная нерж. AISI304 Д-21,3х3,0 мм (ISO) (Ду15) | F31: м | G31: 28 | I31: =G31*H31 -> 0
E32: Труба стальная нерж. AISI304 Д-28,0х3,0 мм (ISO) (Ду20) | F32: м | G32: 28 | I32: =G32*H32 -> 0
E33: Труба стальная нерж. AISI304 Д-33,0х3,0 мм (ISO) (Ду25) | F33: м | G33: 48 | I33: =G33*H33 -> 0
E34: Труба стальная нерж. AISI304 Д-40,0х3,0 мм (ISO) (Ду32) | F34: м | G34: 236 | I34: =G34*H34 -> 0
E35: Труба стальная нерж. AISI304 Д-48,3х3,0 мм (ISO) (Ду40) | F35: м | G35: 12 | I35: =G35*H35 -> 0
E36: Труба стальная нерж. AISI304 Д-57,0х3,0 мм (ISO) (Ду50) | F36: м | G36: 90 | I36: =G36*H36 -> 0
E37: Кран шаровый муфтовый с НГ 1 1/4" Валтек, HLV | F37: шт | G37: 8 | I37: =G37*H37 -> 0
E38: Кран шаровый муфтовый Вр 2" Валтек, HLV | F38: шт | G38: 1 | I38: =G38*H38 -> 0
E39: Сгон Нр-Вр 2" | F39: шт | G39: 1 | I39: =G39*H39 -> 0
E40: Муфта лат. ВР 1 1/4" | F40: шт | G40: 8 | I40: =G40*H40 -> 0
E41: Фасонные изделия (резьба стальная нерж., гильза из стальной трубы, теплоизоляция Термафлекс) | F41: % | I41: =G41*H41 -> 0
...

Sheet ИТП ГП-9
A2: Сметный расчет №4
A3: Жилой район «Преображенский» в г. Тюмени. Квартал 3.» Участок 72:17:1313004:6273. Многоэтажный жилой дом ГП-9. | G3: №1 от 31.03.21 | I3: №2 от 30.04.21 | K3: №3 от 31.05.21 | O3: Накопление | Q3: Остаток
A4: № | B4: Наименование | C4: Ед. | D4: Кол-во | E4: Цена | F4: Сумма | G4: Кол-во | H4: Сумма | I4: Кол-во | J4: Сумма | K4: Кол-во | L4: Сумма | M4: Кол-во | N4: Сумма | O4: Кол-во | P4: Сумма | Q4: Кол-во | R4: Сумма
A5: Раздел 1. Устройство системы ИТП
A6: 1 | B6: Узел ввода
A7: 1.01 | B7: Регулятор перепада давления VFG 2 Danfoss Ду65 | C7: шт. | D7: 1 | E7: 153424.8 | F7: =D7*E7 -> 153424.8 | G7: 1 | H7: =G7*E7 -> 153424.8 | J7: =I7*E7 -> 0 | L7: =K7*E7 -> 0 | O7: =G7+I7+K7+M7 -> 1 | P7: =H7+J7+L7+N7 -> 153424.8 | Q7: =D7-O7 -> 0 | R7: =F7-P7 -> 0
A8: =A7+0.01 -> 1.02 | B8: Регулирующий блок AFP Danfoss с имп. трубкой | C8: шт. | D8: 1 | E8: 87974.1 | F8: =D8*E8 -> 87974.1 | G8: 1 | H8: =G8*E8 -> 87974.1 | J8: =I8*E8 -> 0 | L8: =K8*E8 -> 0 | O8: =G8+I8+K8+M8 -> 1 | P8: =H8+J8+L8+N8 -> 87974.1 | Q8: =D8-O8 -> 0 | R8: =F8-P8 -> 0
A9: =A8+0.01 -> 1.03 | B9: Кран шаровый под приварку, Ду32 LD | C9: шт. | D9: 1 | E9: 1384.7 | F9: =D9*E9 -> 1384.7 | G9: 1 | H9: =G9*E9 -> 1384.7 | J9: =I9*E9 -> 0 | L9: =K9*E9 -> 0 | O9: =G9+I9+K9+M9 -> 1 | P9: =H9+J9+L9+N9 -> 1384.7 | Q9: =D9-O9 -> 0 | R9: =F9-P9 -> 0
A10: =A9+0.01 -> 1.04 | B10: Кран шаровый под приварку, Ду15 LD | C10: шт. | D10: 1 | E10: 1007.58 | F10: =D10*E10 -> 1007.58 | G10: 1 | H10: =G10*E10 -> 1007.58 | J10: =I10*E10 -> 0 | L10: =K10*E10 -> 0 | O10: =G10+I10+K10+M10 -> 1 | P10: =H10+J10+L10+N10 -> 1007.58 | Q10: =D10-O10 -> 0 | R10: =F10-P10 -> 0
A11: =A10+0.01 -> 1.05 | B11: Кран шаровый под приварку, Ду125 LD | C11: шт. | D11: 2 | E11: 8308.19 | F11: =D11*E11 -> 16616.38 | G11: 2 | H11: =G11*E11 -> 16616.38 | J11: =I11*E11 -> 0 | L11: =K11*E11 -> 0 | O11: =G11+I11+K11+M11 -> 2 | P11: =H11+J11+L11+N11 -> 16616.38 | Q11: =D11-O11 -> 0 | R11: =F11-P11 -> 0
A12: =A11+0.01 -> 1.06 | B12: Кран шаровый под приварку, Ду125 LD | C12: шт. | D12: 2 | E12: 43221.8 | F12: =D12*E12 -> 86443.6 | G12: 2 | H12: =G12*E12 -> 86443.6 | J12: =I12*E12 -> 0 | L12: =K12*E12 -> 0 | O12: =G12+I12+K12+M12 -> 2 | P12: =H12+J12+L12+N12 -> 86443.6 | Q12: =D12-O12 -> 0 | R12: =F12-P12 -> 0
A13: =A12+0.01 -> 1.07 | B13: Грязевик, Ду125 | C13: шт. | D13: 1 | E13: 2921.11 | F13: =D13*E13 -> 2921.11 | G13: 1 | H13: =G13*E13 -> 2921.11 | J13: =I13*E13 -> 0 | L13: =K13*E13 -> 0 | O13: =G13+I13+K13+M13 -> 1 | P13: =H13+J13+L13+N13 -> 2921.11 | Q13: =D13-O13 -> 0 | R13: =F13-P13 -> 0
A14: =A13+0.01 -> 1.08 | B14: Фильтр, Ду125 F12516M | C14: шт. | D14: 2 | E14: 13938.34 | F14: =D14*E14 -> 27876.68 | G14: 2 | H14: =G14*E14 -> 27876.68 | J14: =I14*E14 -> 0 | L14: =K14*E14 -> 0 | O14: =G14+I14+K14+M14 -> 2 | P14: =H14+J14+L14+N14 -> 27876.68 | Q14: =D14-O14 -> 0 | R14: =F14-P14 -> 0
A15: =A14+0.01 -> 1.09 | B15: Кран шаровый под приварку, Ду40 LD | C15: шт. | D15: 2 | E15: 1510.79 | F15: =D15*E15 -> 3021.58 | G15: 2 | H15: =G15*E15 -> 3021.58 | J15: =I15*E15 -> 0 | L15: =K15*E15 -> 0 | O15: =G15+I15+K15+M15 -> 2 | P15: =H15+J15+L15+N15 -> 3021.58 | Q15: =D15-O15 -> 0 | R15: =F15-P15 -> 0
B16: КИП | J16: =I16*E16 -> 0 | L16: =K16*E16 -> 0
A17: =A15+0.01 -> 1.1 | B17: Манометр Ру=1,6 МПа d-100мм М20х1.5, "ROSMA" | C17: шт. | D17: 3 | E17: 307.38 | F17: =D17*E17 -> 922.14 | H17: =G17*E17 -> 0 | I17: 3 | J17: =I17*E17 -> 922.14 | L17: =K17*E17 -> 0 | O17: =G17+I17+K17+M17 -> 3 | P17: =H17+J17+L17+N17 -> 922.14 | Q17: =D17-O17 -> 0 | R17: =F17-P17 -> 0
A18: =A17+0.01 -> 1.11 | B18: Манометр Ру=1,6 МПа d-100мм М20х1.5, "ROSMA" | C18: шт. | D18: 2 | E18: 307.38 | F18: =D18*E18 -> 614.76 | H18: =G18*E18 -> 0 | I18: 2 | J18: =I18*E18 -> 614.76 | L18: =K18*E18 -> 0 | O18: =G18+I18+K18+M18 -> 2 | P18: =H18+J18+L18+N18 -> 614.76 | Q18: =D18-O18 -> 0 | R18: =F18-P18 -> 0
A19: =A18+0.01 -> 1.12 | B19: Импульсная трубка, Danfoss | C19: шт. | D19: 2 | E19: 3874.76 | F19: =D19*E19 -> 7749.52 | H19: =G19*E19 -> 0 | I19: 2 | J19: =I19*E19 -> 7749.52 | L19: =K19*E19 -> 0 | O19: =G19+I19+K19+M19 -> 2 | P19: =H19+J19+L19+N19 -> 7749.52 | Q19: =D19-O19 -> 0 | R19: =F19-P19 -> 0
A20: =A19+0.01 -> 1.13 | B20: Трубка Перкинса | C20: шт. | D20: 4 | E20: 529.2 | F20: =D20*E20 -> 2116.8 | H20: =G20*E20 -> 0 | I20: 4 | J20: =I20*E20 -> 2116.8 | L20: =K20*E20 -> 0 | O20: =G20+I20+K20+M20 -> 4 | P20: =H20+J20+L20+N20 -> 2116.8 | Q20: =D20-O20 -> 0 | R20: =F20-P20 -> 0
A21: =A20+0.01 -> 1.14 | B21: Кран трехходовой для манометра, Ру=1,6 Мпа, Ду=15 мм | C21: шт. | D21: 7 | E21: 306 | F21: =D21*E21 -> 2142 | H21: =G21*E21 -> 0 | I21: 7 | J21: =I21*E21 -> 2142 | L21: =K21*E21 -> 0 | O21: =G21+I21+K21+M21 -> 7 | P21: =H21+J21+L21+N21 -> 2142 | Q21: =D21-O21 -> 0 | R21: =F21-P21 -> 0
A22: 2 | B22: Узел учета | J22: =I22*E22 -> 0 | L22: =K22*E22 -> 0
A23: =A22+0.01 -> 2.01 | B23: Тепловычислитель СПТ 941.2 (+ блок питания) | C23: шт. | D23: 1 | E23: 17818.87 | F23: =D23*E23 -> 17818.87 | H23: =G23*E23 -> 0 | I23: 1 | J23: =I23*E23 -> 17818.87 | L23: =K23*E23 -> 0 | O23: =G23+I23+K23+M23 -> 1 | P23: =H23+J23+L23+N23 -> 17818.87 | Q23: =D23-O23 -> 0 | R23: =F23-P23 -> 0
A24: =A23+0.01 -> 2.02 | B24: Преобразователь расхода ПРЭМ Ду80, кл. D, сэндвич | C24: шт. | D24: 2 | E24: 31063.98 | F24: =D24*E24 -> 62127.96 | H24: =G24*E24 -> 0 | I24: 2 | J24: =I24*E24 -> 62127.96 | L24: =K24*E24 -> 0 | O24: =G24+I24+K24+M24 -> 2 | P24: =H24+J24+L24+N24 -> 62127.96 | Q24: =D24-O24 -> 0 | R24: =F24-P24 -> 0
A25: =A24+0.01 -> 2.03 | B25: Счетчик гор. воды с имп. вых. СВГДи Ду20 | C25: шт. | D25: 1 | E25: 4011.14 | F25: =D25*E25 -> 4011.14 | H25: =G25*E25 -> 0 | I25: 1 | J25: =I25*E25 -> 4011.14 | L25: =K25*E25 -> 0 | O25: =G25+I25+K25+M25 -> 1 | P25: =H25+J25+L25+N25 -> 4011.14 | Q25: =D25-O25 -> 0 | R25: =F25-P25 -> 0
A26: =A25+0.01 -> 2.04 | B26: Кран шаровый под приварку, Ду25 LD | C26: шт. | D26: 2 | E26: 1070.05 | F26: =D26*E26 -> 2140.1 | H26: =G26*E26 -> 0 | I26: 2 | J26: =I26*E26 -> 2140.1 | L26: =K26*E26 -> 0 | O26: =G26+I26+K26+M26 -> 2 | P26: =H26+J26+L26+N26 -> 2140.1 | Q26: =D26-O26 -> 0 | R26: =F26-P26 -> 0
A27: =A26+0.01 -> 2.05 | B27: Кран шаровый муфтовый Ду15 (1/2") Вр-Вр MVI | C27: шт. | D27: 1 | E27: 176.65 | F27: =D27*E27 -> 176.65 | H27: =G27*E27 -> 0 | I27: 1 | J27: =I27*E27 -> 176.65 | L27: =K27*E27 -> 0 | O27: =G27+I27+K27+M27 -> 1 | P27: =H27+J27+L27+N27 -> 176.65 | Q27: =D27-O27 -> 0 | R27: =F27-P27 -> 0
A28: =A27+0.01 -> 2.06 | B28: Кран шаровый муфтовый Ду25 (1") Вр-Вр MVI | C28: шт. | D28: 2 | E28: 581.23 | F28: =D28*E28 -> 1162.46 | H28: =G28*E28 -> 0 | I28: 2 | J28: =I28*E28 -> 1162.46 | L28: =K28*E28 -> 0 | O28: =G28+I28+K28+M28 -> 2 | P28: =H28+J28+L28+N28 -> 1162.46 | Q28: =D28-O28 -> 0 | R28: =F28-P28 -> 0
A29: =A28+0.01 -> 2.07 | B29: Фильтр Ду25 (1") Вр-Вр, MVI | C29: шт. | D29: 1 | E29: 557.7 | F29: =D29*E29 -> 557.7 | H29: =G29*E29 -> 0 | I29: 1 | J29: =I29*E29 -> 557.7 | L29: =K29*E29 -> 0 | O29: =G29+I29+K29+M29 -> 1 | P29: =H29+J29+L29+N29 -> 557.7 | Q29: =D29-O29 -> 0 | R29: =F29-P29 -> 0
A30: =A29+0.01 -> 2.08 | B30: Монтажный комплект Ду80 | C30: шт. | D30: 2 | E30: 1392.95 | F30: =D30*E30 -> 2785.9 | H30: =G30*E30 -> 0 | I30: 2 | J30: =I30*E30 -> 2785.9 | L30: =K30*E30 -> 0 | O30: =G30+I30+K30+M30 -> 2 | P30: =H30+J30+L30+N30 -> 2785.9 | Q30: =D30-O30 -> 0 | R30: =F30-P30 -> 0
A31: =A30+0.01 -> 2.09 | B31: Монтажная вставка Ду80 | C31: шт. | D31: 2 | E31: 2779.59 | F31: =D31*E31 -> 5559.18 | H31: =G31*E31 -> 0 | I31: 2 | J31: =I31*E31 -> 5559.18 | L31: =K31*E31 -> 0 | O31: =G31+I31+K31+M31 -> 2 | P31: =H31+J31+L31+N31 -> 5559.18 | Q31: =D31-O31 -> 0 | R31: =F31-P31 -> 0
B32: КИП | J32: =I32*E32 -> 0 | L32: =K32*E32 -> 0
A33: =A31+0.01 -> 2.1 | B33: Датчик температуры КТСП (Комплект термометров КТПТР-01-1-100П-А4-120) | C33: шт. | D33: 1 | E33: 2310.24 | F33: =D33*E33 -> 2310.24 | H33: =G33*E33 -> 0 | I33: 1 | J33: =I33*E33 -> 2310.24 | L33: =K33*E33 -> 0 | O33: =G33+I33+K33+M33 -> 1 | P33: =H33+J33+L33+N33 -> 2310.24 | Q33: =D33-O33 -> 0 | R33: =F33-P33 -> 0
A34: =A33+0.01 -> 2.11 | B34: Гильза для датчика температуры L120 резьба внутр. и наруж. М20х1,5 | C34: шт. | D34: 2 | E34: 489.56 | F34: =D34*E34 -> 979.12 | H34: =G34*E34 -> 0 | I34: 2 | J34: =I34*E34 -> 979.12 | L34: =K34*E34 -> 0 | O34: =G34+I34+K34+M34 -> 2 | P34: =H34+J34+L34+N34 -> 979.12 | Q34: =D34-O34 -> 0 | R34: =F34-P34 -> 0
A35: =A34+0.01 -> 2.12 | B35: Термометр биметалличсеский | C35: шт. | D35: 1 | E35: 419 | F35: =D35*E35 -> 419 | H35: =G35*E35 -> 0 | I35: 1 | J35: =I35*E35 -> 419 | L35: =K35*E35 -> 0 | O35: =G35+I35+K35+M35 -> 1 | P35: =H35+J35+L35+N35 -> 419 | Q35: =D35-O35 -> 0 | R35: =F35-P35 -> 0
A36: =A35+0.01 -> 2.13 | B36: Термометр биметалличсеский | C36: шт. | D36: 1 | E36: 419 | F36: =D36*E36 -> 419 | H36: =G36*E36 -> 0 | I36: 1 | J36: =I36*E36 -> 419 | L36: =K36*E36 -> 0 | O36: =G36+I36+K36+M36 -> 1 | P36: =H36+J36+L36+N36 -> 419 | Q36: =D36-O36 -> 0 | R36: =F36-P36 -> 0
A37: =A36+0.01 -> 2.14 | B37: Манометр Ру=1,6 МПа d-100мм М20х1.5, "ROSMA" | C37: шт. | D37: 2 | E37: 307.38 | F37: =D37*E37 -> 614.76 | H37: =G37*E37 -> 0 | I37: 2 | J37: =I37*E37 -> 614.76 | L37: =K37*E37 -> 0 | O37: =G37+I37+K37+M37 -> 2 | P37: =H37+J37+L37+N37 -> 614.76 | Q37: =D37-O37 -> 0 | R37: =F37-P37 -> 0
A38: =A37+0.01 -> 2.15 | B38: Манометр Ру=1,6 МПа d-100мм М20х1.5, "ROSMA" | C38: шт. | D38: 4 | E38: 307.38 | F38: =D38*E38 -> 1229.52 | H38: =G38*E38 -> 0 | I38: 4 | J38: =I38*E38 -> 1229.52 | L38: =K38*E38 -> 0 | O38: =G38+I38+K38+M38 -> 4 | P38: =H38+J38+L38+N38 -> 1229.52 | Q38: =D38-O38 -> 0 | R38: =F38-P38 -> 0
A39: =A38+0.01 -> 2.16 | B39: Датчик давления СДВ-И-2,5-1,6-1,0М(1,6)-4-20мА-DA422-0605-3 с блоком питания 10ВР220-24Д | C39: шт. | D39: 1 | E39: 3899.37 | F39: =D39*E39 -> 3899.37 | H39: =G39*E39 -> 0 | I39: 1 | J39: =I39*E39 -> 3899.37 | L39: =K39*E39 -> 0 | O39: =G39+I39+K39+M39 -> 1 | P39: =H39+J39+L39+N39 -> 3899.37 | Q39: =D39-O39 -> 0 | R39: =F39-P39 -> 0
A40: =A39+0.01 -> 2.17 | B40: Бобышка приварная L35 мм М20х1,5 прямая | C40: шт. | D40: 2 | E40: 108.16 | F40: =D40*E40 -> 216.32 | H40: =G40*E40 -> 0 | I40: 2 | J40: =I40*E40 -> 216.32 | L40: =K40*E40 -> 0 | O40: =G40+I40+K40+M40 -> 2 | P40: =H40+J40+L40+N40 -> 216.32 | Q40: =D40-O40 -> 0 | R40: =F40-P40 -> 0
A41: =A40+0.01 -> 2.18 | B41: Переходник датчика давления (Резьба Ду15) | C41: шт. | D41: 2 | E41: 17.08 | F41: =D41*E41 -> 34.16 | H41: =G41*E41 -> 0 | I41: 2 | J41: =I41*E41 -> 34.16 | L41: =K41*E41 -> 0 | O41: =G41+I41+K41+M41 -> 2 | P41: =H41+J41+L41+N41 -> 34.16 | Q41: =D41-O41 -> 0 | R41: =F41-P41 -> 0
...

Sheet ИТП У
E1: Фасонные изделия | F1: клапан | K1: Фасонные изделия (резьба стальная нерж., гильза из стальной трубы, теплоизоляция Термафлекс толщ.13мм, муфта соединительная и переходная ППН ТЕВО, заглушка, тройники ППН ТЕВО в тч переходной и стальные нерж., угольник ППН ТЕВО, переходы ППН, гильза в тч из стальной трубы, Фланец стальной нерж., Отвод стальной нерж,фланец штампованный, муфты ППН, бурт под фланец, фланец стальной расточенный, фланец с раструбом, Муфта ППН комб. в тч под ключ TEBO, Бурт под фланец, сгон) | L1: %
E2: Расходные материалы | K2: Расходные материалы (Шуруп с шестигранной головкой, дюбель распорный пластиковый, Хомут для трубы стальной, Траверса монтажная, Анкер распорный лат, Шпилька оцинкованная резьбовая, Гайка оцинкованная, шайба усиленная, клей термафлекс, скотч, асбестовый шнур, электроды по нерж., диски отрезные по металлу, шайба оцинкованная резьбовая, гель сантехнический, П-образный элемент индивидуального изготовления в комплекте с креплением, грунтовка ГФ-021) | L2: %
A3: Локальный сметный расчет
A5: № | E5: Наименование | F5: Ед. | G5: Кол-во | H5: Цена | I5: Сумма | J5: Примечание
A6: 11 | E6: Внутренние инженерные сети
B7: 11.05. | E7: ИТП
C8: 11.05.01. | E8: Монтаж ИТП (разборного типа)
D9: 11.05.01.00 | E9: Монтаж ИТП (разборного типа) | I9: =I10+I14 -> 4834662.8
E10: Работа: | I10: =SUM(I11:I13) -> 1098800
E11: Монтажные работы | F11: комплекс | G11: 1 | H11: 846000 | I11: =H11*G11 -> 846000
E12: Пробивка отверстий Д 100 | F12: шт | G12: 20 | H12: 540 | I12: =H12*G12 -> 10800
E13: Электромонтажные работы | F13: комплекс | G13: 1 | H13: 242000 | I13: =H13*G13 -> 242000
E14: Материалы: | I14: =SUM(I15:I113) -> 3735862.8
E15: Регулятор перепада давления VFG 2 Ридан Ду65 | F15: шт. | G15: 1 | H15: 153424.8 | I15: =G15*H15 -> 153424.8
E16: Регулирующий блок AFP Ридан с имп. трубкой | F16: шт. | G16: 1 | H16: 87974.1 | I16: =G16*H16 -> 87974.1
E17: Регулирующий клапан двухходовой Ду40 с эл. VFM-2R+ARV-1000R | F17: шт. | G17: 3 | H17: 40343.4 | I17: =G17*H17 -> 121030.2
E18: Регулирующий (балансировочный) клапан, Ду80, Навал | F18: шт. | G18: 1 | H18: 87974.1 | I18: =G18*H18 -> 87974.1
E19: Регулирующий клапан двухходовой Ду20 с эл. приводом VFM-2R + ARV-1000R | F19: шт | G19: 2 | H19: 28448.1 | I19: =H19*G19 -> 56896.2
E20: Реле давления KPI-35, Ридан | F20: шт | G20: 4 | H20: 4200 | I20: =G20*H20 -> 16800
E21: Реле перепада давления ДР-ДД-02 | F21: шт | G21: 2 | H21: 4200 | I21: =G21*H21 -> 8400
E22: Распределительный коллектор на 2 вых. из трубы стальной Д-159х4,5, L=1,2 м | F22: шт | G22: 2 | H22: 8038.8 | I22: =G22*H22 -> 16077.6
E23: Распределительный коллектор на 2 вых. из трубы стальной Д-76х3,5, L=1,2 м | F23: шт | G23: 2 | H23: 3465 | I23: =G23*H23 -> 6930
E24: Бак расширительный 1000л, Flexcon R 1000 3/10 бар | F24: шт. | G24: 1 | H24: 88139.11 | I24: =G24*H24 -> 88139.11
E25: Бак расширительный 750л, Flexcon R 800 3/10 бар | F25: шт. | G25: 1 | H25: 63340.19 | I25: =G25*H25 -> 63340.19
E26: Бак расширительный 80л, Flexcon R 110 3/10 бар | F26: шт | G26: 1 | H26: 8618.28 | I26: =H26*G26 -> 8618.28
E27: Балансировочный клапан, Ду65, Навал | F27: шт. | G27: 1 | I27: =G27*H27 -> 0
E28: Балансировочный клапан, Ду50, Навал | F28: шт. | G28: 2 | I28: =G28*H28 -> 0
E29: Балансировочный клапан, Ду32, Навал | F29: шт. | G29: 2 | I29: =G29*H29 -> 0
E30: Клапан балансировочный, Ду25 Ридан, MVT-R | F30: шт | G30: 1 | I30: =G30*H30 -> 0
E31: Клапан балансировочный, Ду32 Ридан, MVT-R | F31: шт | G31: 1 | I31: =H31*G31 -> 0
E32: Затвор дисковый поворотный м/ф, Ду80 ADL | F32: шт. | G32: 1 | H32: 3638.48 | I32: =G32*H32 -> 3638.48
E33: Затвор дисковый поворотный м/ф, Ду100 ADL | F33: шт. | G33: 10 | H33: 3638.48 | I33: =G33*H33 -> 36384.8
E34: Кран шаровый под приварку, Ду80 LD | F34: шт. | G34: 2 | H34: 3021.58 | I34: =G34*H34 -> 6043.16
E35: Кран шаровый под приварку, Ду50 LD | F35: шт. | G35: 2 | H35: 1856.26 | I35: =G35*H35 -> 3712.52
E36: Кран шаровый стальной, Ду50 LD Стриж | F36: шт. | G36: 2 | H36: 1708 | I36: =G36*H36 -> 3416
E37: Кран шаровый стальной, Ду40 LD Стриж | F37: шт. | G37: 2 | H37: 1500 | I37: =G37*H37 -> 3000
E38: Кран шаровый под приварку, Ду32 LD | F38: шт. | G38: 12 | H38: 1384.7 | I38: =G38*H38 -> 16616.4
E39: Кран шаровый под приварку, Ду15 LD | F39: шт. | G39: 1 | H39: 1007.58 | I39: =G39*H39 -> 1007.58
E40: Кран шаровый под приварку, Ду125 LD | F40: шт. | G40: 4 | H40: 8308.19 | I40: =G40*H40 -> 33232.76
E41: Кран шаровый под приварку, Ду40 LD | F41: шт. | G41: 5 | H41: 1510.79 | I41: =G41*H41 -> 7553.95
...

Sheet ЛСР 11.05
I1: Приложение №
I2: к Договору подряда №
B4: ПОДРЯДЧИК: | E4: ТЕХНИЧЕСКИЙ ЗАКАЗЧИК: | H4: ЗАКАЗЧИК:
E5: ООО "ТЗ "ЭНКО" | H5: ООО "ЭНКО ИНВЕСТ"
B7: ______________/
A9: Локальный сметный расчет №1
A10: ГП-72.110 дом
A12: № | B12: Наименование | C12: Марка | D12: Характеристика | E12: Ед.изм. | F12: Кол-во | G12: Цена за ед.изм.,руб. | H12: Сумма, руб | I12: Примечание
A13: 11 | B13: Внутренние инженерные сети
A14: 11.05. | B14: ИТП
A15: 11.05.01. | B15: Монтаж ИТП (разборного типа)
A16: 11.05.01.00 | B16: Монтаж ИТП (разборного типа) | H16: =H17+H21 -> #N/A
B17: Работа: | H17: =SUM(H18:H20) -> 0
B18: Монтажные работы | E18: комплекс | F18: 1 | G18: =работа!E6 -> 0 | H18: =G18*F18 -> 0 | I18: в т.ч. 1. Монтаж и обвязка трубопроводов включая подключение к тепловым сетям и вывод трубопроводов с теплообменников в пределах помещения ИТП 2. Изоляционные работы трубопроводов 3. Изоляционные работы теплообменников 4. Манометрические испытания блоков и трубопроводов. 5. Частичная разборка для транспортировки в помещение
B19: Пробивка отверстий Д 100 | E19: шт | F19: 10 | G19: =работа!E7 -> 0 | H19: =G19*F19 -> 0
B20: Электромонтажные работы | E20: комплекс | F20: 1 | G20: =работа!E8 -> 0 | H20: =G20*F20 -> 0
B21: Материалы: | H21: =SUM(H22:H174) -> #N/A
B22: БТП Ридан N2212250583-1
B23: Шкаф УУТЭ, ТепловычислительТВ7-04М (RS232+RS485) (+ блок питания) | E23: шт. | F23: 1 | G23: =VLOOKUP(B23,материалы!$B$6:$G$162,6,0) -> #N/A | H23: =F23*G23 -> #N/A
B24: Монтажный комплект для расходомера Ду80 | E24: шт. | F24: 2 | G24: =VLOOKUP(B24,материалы!$B$6:$G$162,6,0) -> #N/A | H24: =F24*G24 -> #N/A
B25: Монтажная вставка для расходомера Ду80 | E25: шт. | F25: 2 | G25: =VLOOKUP(B25,материалы!$B$6:$G$162,6,0) -> #N/A | H25: =F25*G25 -> #N/A
B26: Расходомер Питерфлоу Dy80/Межфланцевый/Qmax 90/Tmax150/PN16 | C26: Термотроник | E26: шт. | F26: 2 | G26: =VLOOKUP(B26,материалы!$B$6:$G$162,6,0) -> #N/A | H26: =F26*G26 -> #N/A
B27: Регулятор перепада давлений VFG-2R/Dy80/Kvs80/Tmax150/Pmax16 сталь ф/ф (настройка 0,6449 bar) | C27: Ридан | E27: шт. | F27: 1 | G27: =VLOOKUP(B27,материалы!$B$6:$G$162,6,0) -> 0 | H27: =F27*G27 -> 0
B28: Регулирующий блок AFP-R с имп. трубкой | C28: Ридан | E28: шт. | F28: 1 | G28: =VLOOKUP(B28,материалы!$B$6:$G$162,6,0) -> 0 | H28: =F28*G28 -> 0
B29: Кран шаровый под приварку, Ду32 PN16 | C29: LD | E29: шт. | F29: 2 | G29: =VLOOKUP(B29,материалы!$B$6:$G$162,6,0) -> 0 | H29: =F29*G29 -> 0
B30: Кран шаровый под приварку, Ду15 PN16 воздушник | C30: LD | E30: шт. | F30: 2 | G30: =VLOOKUP(B30,материалы!$B$6:$G$162,6,0) -> 0 | H30: =F30*G30 -> 0
B31: Кран шаровый Ду15 PN16 латунь В/В резьба воздушник | C31: LD | E31: шт. | F31: 2 | G31: =VLOOKUP(B31,материалы!$B$6:$G$162,6,0) -> 0 | H31: =F31*G31 -> 0
B32: Кран шаровый под приварку, Ду25 PN16 Спускник | C32: LD | E32: шт. | F32: 5 | G32: =VLOOKUP(B32,материалы!$B$6:$G$162,6,0) -> 0 | H32: =F32*G32 -> 0
B33: Кран шаровый под приварку, Ду125 PN16 | C33: LD | E33: шт. | F33: 4 | G33: =VLOOKUP(B33,материалы!$B$6:$G$162,6,0) -> #N/A | H33: =F33*G33 -> #N/A
B34: Грязевик, Ду125 PN16 Ст20 RAL 7016 сталь ф/ф | E34: шт. | F34: 2 | G34: =VLOOKUP(B34,материалы!$B$6:$G$162,6,0) -> #N/A | H34: =F34*G34 -> #N/A
B35: Фильтр, ФСФ Dу125/Py16/Tmax200 чугун ф/ф | C35: ADL | E35: шт. | F35: 2 | G35: =VLOOKUP(B35,материалы!$B$6:$G$162,6,0) -> #N/A | H35: =F35*G35 -> #N/A
B36: Клапан предохранительный 3/4" OR 1832.020 латунь р/р | C36: Прегран КПП 095 | E36: шт. | F36: 1 | G36: =VLOOKUP(B36,материалы!$B$6:$G$162,6,0) -> 0 | H36: =F36*G36 -> 0
B37: Фильтр сетчатый Dу32/Py25/Tmax200 латунь В/В резьба | C37: Валтек | E37: шт. | F37: 1 | G37: =VLOOKUP(B37,материалы!$B$6:$G$162,6,0) -> #N/A | H37: =F37*G37 -> #N/A
B38: Расходомер Питерфлоу Dy20/Межфланцевый/Qmax 12/Tmax150/PN16 | C38: Термотроник | E38: шт. | F38: 1 | G38: =VLOOKUP(B38,материалы!$B$6:$G$162,6,0) -> 0 | H38: =F38*G38 -> 0
B39: КИП
B40: Манометр Ру=1,6 МПа d-100мм М20х1.5, | C40: "ROSMA" | E40: шт. | F40: 12 | G40: =VLOOKUP(B40,материалы!$B$6:$G$162,6,0) -> 0 | H40: =F40*G40 -> 0
B41: Термометр биметалличсеский 0-120С 080мм кл. точности 1,5 | C41: "ROSMA" | E41: шт. | F41: 2 | G41: =VLOOKUP(B41,материалы!$B$6:$G$162,6,0) -> 0 | H41: =F41*G41 -> 0
B42: Преобразователь давления СДВ-И 4-20 мА/0-16 бар | E42: шт. | F42: 2 | G42: =VLOOKUP(B42,материалы!$B$6:$G$162,6,0) -> 0 | H42: =F42*G42 -> 0
B43: Термометр сопротивления КТС-Б-Рт100-В-х4-П-3-120/6-50-Е | C43: Термопоинт | E43: шт. | F43: 4 | G43: =VLOOKUP(B43,материалы!$B$6:$G$162,6,0) -> #N/A | H43: =F43*G43 -> #N/A
B44: Импульсная трубка | C44: Ридан | E44: шт. | F44: 1 | G44: =VLOOKUP(B44,материалы!$B$6:$G$162,6,0) -> 0 | H44: =F44*G44 -> 0
...

Sheet работа
A1: Свод по работам
A3: № | B3: Наименование | C3: Ед.изм. | D3: Кол-во | E3: Цена за ед.изм.,руб. | F3: Сумма, руб | G3: Примечание
A4: 11 | B4: Внутренние инженерные сети
A5: 11.05. | B5: ИТП
B6: Монтажные работы | C6: комплекс | D6: ='ЛСР 11.05'!F18 -> 1 | F6: =E6*D6 -> 0 | G6: в т.ч. 1. Монтаж и обвязка трубопроводов включая подключение к тепловым сетям и вывод трубопроводов с теплообменников в пределах помещения ИТП 2. Изоляционные работы трубопроводов 3. Изоляционные работы теплообменников 4. Манометрические испытания блоков и трубопроводов. 5. Частичная разборка для транспортировки в помещение
B7: Пробивка отверстий Д 100 | C7: шт | D7: ='ЛСР 11.05'!F19 -> 10 | F7: =E7*D7 -> 0
B8: Электромонтажные работы | C8: комплекс | D8: ='ЛСР 11.05'!F20 -> 1 | F8: =E8*D8 -> 0
B9: Пусконаладочные работы | C9: комплекс | D9: ='ЛСР 11.05'!F178 -> 1 | F9: =E9*D9 -> 0
E10: Итого стоимость работ: | F10: =SUM(F6:F9) -> 0
E11: проверка: | F11: =F10-'ЛСР 11.05'!H182 -> 0
B13: Примечание:
A14: - | B14: Монтажные работы включают в себя:
B15: 1. Монтаж и обвязка трубопроводов включая подключение к тепловым сетям и вывод трубопроводов с теплообменников в пределах помещения ИТП
B16: 2. Изоляционные работы трубопроводов
B17: 3. Изоляционные работы теплообменников
B18: 4. Манометрические испытания блоков и трубопроводов
B19: 5. Частичная разборка для транспортировки в помещение
A20: - | B20: Стоимость СМР учитывает - затраты на все второстепенные материалы и работы необходимые для осуществления полного комплекса работ, включая затраты: обеспечение технической водой для производства работ и бытовых целей; на мобилизацию, аренду и эксплуатацию всех необходимых механизмов, оборудования и инструментов, бытовых помещений и биотуалетов; на подъем материалов и разноску по этажам к местам производства работ; выполнение сопутствующих работ; вывоз мусора; накладные расходы, прибыль организации, налоги и иные издержки Подрядчика.
A21: - | B21: В случае, если один из перечисленных расходных материалов не был использован по факту при производстве работ, заказчик вправе откорректировать процент расходных материалов в актах выполненных работ (формы КС-2, КС-3), уменьшив на сумму исключенного материала.
A22: - | B22: Стоимость материалов учитывает доставку

Sheet материалы
A1: Свод по материалам
A3: № | B3: Наименование | C3: Марка | D3: Характеристика | E3: Ед.изм. | F3: Кол-во | G3: Цена за ед.изм.,руб. | H3: Сумма, руб | I3: Примечание
A4: 11 | B4: Внутренние инженерные сети
A5: 11.05. | B5: ИТП
B6: BNST2012236447 | E6: шт. | F6: =SUMIF('ЛСР 11.05'!$B$22:$B$180,VLOOKUP(B6,$B$6:$B$162,1,0),'ЛСР 11.05'!$F$22:$F$180) -> 0 | H6: =F6*G6 -> 0
B7: BNST2012238161 | E7: шт. | F7: =SUMIF('ЛСР 11.05'!$B$22:$B$180,VLOOKUP(B7,$B$7:$B$162,1,0),'ЛСР 11.05'!$F$22:$F$180) -> 0 | H7: =F7*G7 -> 0
B8: Бак расширительный R150, 10бар | E8: шт. | F8: =SUMIF('ЛСР 11.05'!$B$22:$B$180,VLOOKUP(B8,$B$7:$B$162,1,0),'ЛСР 11.05'!$F$22:$F$180) -> 0 | H8: =F8*G8 -> 0
B9: Бобышка приварная L35 мм М20х1,5 прямая | E9: шт. | F9: =SUMIF('ЛСР 11.05'!$B$22:$B$180,VLOOKUP(B9,$B$7:$B$162,1,0),'ЛСР 11.05'!$F$22:$F$180) -> 31 | H9: =F9*G9 -> 0
B10: Вибровставка ZKV EPDM PN16 DN125 | E10: шт. | F10: =SUMIF('ЛСР 11.05'!$B$22:$B$180,VLOOKUP(B10,$B$7:$B$162,1,0),'ЛСР 11.05'!$F$22:$F$180) -> 0 | H10: =F10*G10 -> 0
B11: Вибровставка ZKV EPDM PN16 DN32 | E11: шт. | F11: =SUMIF('ЛСР 11.05'!$B$22:$B$180,VLOOKUP(B11,$B$7:$B$162,1,0),'ЛСР 11.05'!$F$22:$F$180) -> 8 | H11: =F11*G11 -> 0
B12: Вибровставка ZKV EPDM PN16 DN40 | E12: шт. | F12: =SUMIF('ЛСР 11.05'!$B$22:$B$180,VLOOKUP(B12,$B$7:$B$162,1,0),'ЛСР 11.05'!$F$22:$F$180) -> 8 | H12: =F12*G12 -> 0
B13: Вибровставка ZKV EPDM PN16 DN50 | E13: шт | F13: =SUMIF('ЛСР 11.05'!$B$22:$B$180,VLOOKUP(B13,$B$7:$B$162,1,0),'ЛСР 11.05'!$F$22:$F$180) -> 0 | H13: =F13*G13 -> 0
B14: Вибровставка ZKV EPDM PN16 DN65 | E14: шт. | F14: =SUMIF('ЛСР 11.05'!$B$22:$B$180,VLOOKUP(B14,$B$7:$B$162,1,0),'ЛСР 11.05'!$F$22:$F$180) -> 8 | H14: =F14*G14 -> 0
B15: Гильза для датчика температуры L120 резьба внутр. и наруж. М20х1,5 | E15: шт. | F15: =SUMIF('ЛСР 11.05'!$B$22:$B$180,VLOOKUP(B15,$B$7:$B$162,1,0),'ЛСР 11.05'!$F$22:$F$180) -> 0 | H15: =F15*G15 -> 0
B16: Гильза для датчика температуры, Ридан | E16: шт | F16: =SUMIF('ЛСР 11.05'!$B$22:$B$180,VLOOKUP(B16,$B$7:$B$162,1,0),'ЛСР 11.05'!$F$22:$F$180) -> 1 | H16: =F16*G16 -> 0
B17: Грязевик, Ду150 PN16 Ст20 RAL 7016 сталь ф/ф | E17: шт. | F17: =SUMIF('ЛСР 11.05'!$B$22:$B$180,VLOOKUP(B17,$B$7:$B$162,1,0),'ЛСР 11.05'!$F$22:$F$180) -> 0 | H17: =F17*G17 -> 0
B18: Датчик температуры наружный МВТ | E18: шт. | F18: =SUMIF('ЛСР 11.05'!$B$22:$B$180,VLOOKUP(B18,$B$7:$B$162,1,0),'ЛСР 11.05'!$F$22:$F$180) -> 0 | H18: =F18*G18 -> 0
B19: Датчик температуры наружный МВТ | C19: Ридан | E19: шт. | F19: =SUMIF('ЛСР 11.05'!$B$22:$B$180,VLOOKUP(B19,$B$7:$B$162,1,0),'ЛСР 11.05'!$F$22:$F$180) -> 0 | H19: =F19*G19 -> 0
B20: Датчик температуры погружной МВТ 5250 | C20: Ридан | E20: шт | F20: =SUMIF('ЛСР 11.05'!$B$22:$B$180,VLOOKUP(B20,$B$7:$B$162,1,0),'ЛСР 11.05'!$F$22:$F$180) -> 0 | H20: =F20*G20 -> 0
B21: Датчик температуры погружной МВТ 5250 | C21: Ридан | E21: шт. | F21: =SUMIF('ЛСР 11.05'!$B$22:$B$180,VLOOKUP(B21,$B$7:$B$162,1,0),'ЛСР 11.05'!$F$22:$F$180) -> 6 | H21: =F21*G21 -> 0
B22: Датчик температурый погружной MВТ5250 | C22: Ридан | E22: шт | F22: =SUMIF('ЛСР 11.05'!$B$22:$B$180,VLOOKUP(B22,$B$7:$B$162,1,0),'ЛСР 11.05'!$F$22:$F$180) -> 0 | H22: =F22*G22 -> 0
B23: Демпферная трубка | E23: шт | F23: =SUMIF('ЛСР 11.05'!$B$22:$B$180,VLOOKUP(B23,$B$7:$B$162,1,0),'ЛСР 11.05'!$F$22:$F$180) -> 0 | H23: =F23*G23 -> 0
B24: Демпферная трубка | E24: шт. | F24: =SUMIF('ЛСР 11.05'!$B$22:$B$180,VLOOKUP(B24,$B$7:$B$162,1,0),'ЛСР 11.05'!$F$22:$F$180) -> 2 | H24: =F24*G24 -> 0
B25: Демпферная трубка | E25: шт. | F25: =SUMIF('ЛСР 11.05'!$B$22:$B$180,VLOOKUP(B25,$B$7:$B$162,1,0),'ЛСР 11.05'!$F$22:$F$180) -> 4 | H25: =F25*G25 -> 0
B26: Затвор дисковый ЗДМ/Dy125/Py16/Tmax120 чугун м/ф | C26: РИДАН | E26: шт. | F26: =SUMIF('ЛСР 11.05'!$B$22:$B$180,VLOOKUP(B26,$B$7:$B$162,1,0),'ЛСР 11.05'!$F$22:$F$180) -> 0 | H26: =F26*G26 -> 0
B27: Затвор дисковый поворотный м/ф, Ду65 | C27: РИДАН | E27: шт. | F27: =SUMIF('ЛСР 11.05'!$B$22:$B$180,VLOOKUP(B27,$B$7:$B$162,1,0),'ЛСР 11.05'!$F$22:$F$180) -> 0 | H27: =F27*G27 -> 0
B28: Импульсная трубка | C28: Ридан | E28: шт. | F28: =SUMIF('ЛСР 11.05'!$B$22:$B$180,VLOOKUP(B28,$B$7:$B$162,1,0),'ЛСР 11.05'!$F$22:$F$180) -> 1 | H28: =F28*G28 -> 0
B29: Кабельно-проводниковая продукция, включая кабель для подключения шкафов УУТЭ, лотки, крепежные материалы, автоматы, выключатели, реле защиты. ДЛЯ АВТОМАТИЗАЦИИ | E29: компл. | F29: =SUMIF('ЛСР 11.05'!$B$22:$B$180,VLOOKUP(B29,$B$7:$B$162,1,0),'ЛСР 11.05'!$F$22:$F$180) -> 1 | H29: =F29*G29 -> 0
B30: Клапан запорно-регулирующий с фланцами JIP BaBV3 FF DN100, CV25, Tmax 150 ø100 | C30: РИДАН | E30: шт. | F30: =SUMIF('ЛСР 11.05'!$B$22:$B$180,VLOOKUP(B30,$B$7:$B$162,1,0),'ЛСР 11.05'!$F$22:$F$180) -> 0 | H30: =F30*G30 -> 0
B31: Клапан обратный NRV-R EF/Dy20/Py16/Tmax110 латунь р/р | C31: Valtec | E31: шт | F31: =SUMIF('ЛСР 11.05'!$B$22:$B$180,VLOOKUP(B31,$B$7:$B$162,1,0),'ЛСР 11.05'!$F$22:$F$180) -> 0 | H31: =F31*G31 -> 0
B32: Клапан обратный NRV-R EF/Dy25/Py25/Tmax110 латунь р/р | C32: Валтек | E32: шт. | F32: =SUMIF('ЛСР 11.05'!$B$22:$B$180,VLOOKUP(B32,$B$7:$B$162,1,0),'ЛСР 11.05'!$F$22:$F$180) -> 0 | H32: =F32*G32 -> 0
B33: Клапан обратный NRV-R EF/Dy32/Py16/Tmax110 латунь р/р | C33: Valtec | E33: шт. | F33: =SUMIF('ЛСР 11.05'!$B$22:$B$180,VLOOKUP(B33,$B$7:$B$162,1,0),'ЛСР 11.05'!$F$22:$F$180) -> 2 | H33: =F33*G33 -> 0
B34: Клапан обратный NRV-R EF/Dy25/Py16/Tmax110 латунь р/р | C34: Valtec | E34: шт | F34: =SUMIF('ЛСР 11.05'!$B$22:$B$180,VLOOKUP(B34,$B$7:$B$162,1,0),'ЛСР 11.05'!$F$22:$F$180) -> 0 | H34: =F34*G34 -> 0
B35: Клапан обратный ЗОД/Ду125/Ру16/Тмаx120 чугун м/ф | C35: РИДАН | E35: шт. | F35: =SUMIF('ЛСР 11.05'!$B$22:$B$180,VLOOKUP(B35,$B$7:$B$162,1,0),'ЛСР 11.05'!$F$22:$F$180) -> 0 | H35: =F35*G35 -> 0
B36: Клапан обратный ЗОД/Ду65/Ру16/Тмаx120 чугун м/ф | C36: ADL | E36: шт. | F36: =SUMIF('ЛСР 11.05'!$B$22:$B$180,VLOOKUP(B36,$B$7:$B$162,1,0),'ЛСР 11.05'!$F$22:$F$180) -> 2 | H36: =F36*G36 -> 0
B37: Клапан обратный , Ду20 (3/4") Вр-Вр, латунь В/В резьба | C37: Valtec | E37: шт. | F37: =SUMIF('ЛСР 11.05'!$B$22:$B$180,VLOOKUP(B37,$B$7:$B$162,1,0),'ЛСР 11.05'!$F$22:$F$180) -> 0 | H37: =F37*G37 -> 0
B38: Клапан обратный NRV-R EF/Dy40/Py16/Tmax110 латунь р/р | C38: РИДАН | E38: шт. | F38: =SUMIF('ЛСР 11.05'!$B$22:$B$180,VLOOKUP(B38,$B$7:$B$162,1,0),'ЛСР 11.05'!$F$22:$F$180) -> 0 | H38: =F38*G38 -> 0
B39: Клапан предохранительный 1/2" OR 1832.015 | E39: шт. | F39: =SUMIF('ЛСР 11.05'!$B$22:$B$180,VLOOKUP(B39,$B$7:$B$162,1,0),'ЛСР 11.05'!$F$22:$F$180) -> 0 | H39: =F39*G39 -> 0
B40: Клапан предохранительный 1/2" OR 1832.015 | E40: шт. | F40: =SUMIF('ЛСР 11.05'!$B$22:$B$180,VLOOKUP(B40,$B$7:$B$162,1,0),'ЛСР 11.05'!$F$22:$F$180) -> 0 | H40: =F40*G40 -> 0
B41: Клапан предохранительный 3/4" OR 1832.020 латунь р/р | C41: Прегран КПП 095 | E41: шт. | F41: =SUMIF('ЛСР 11.05'!$B$22:$B$180,VLOOKUP(B41,$B$7:$B$162,1,0),'ЛСР 11.05'!$F$22:$F$180) -> 2 | H41: =F41*G41 -> 0
...

Sheet ИТП (2)
A4: Сметный расчет №1
A6: № | B6: Наименование | D6: Ед. | E6: Кол-во | F6: Цена | G6: Сумма | H6: Примечание
A7: Раздел 1. Устройство системы ИТП
B8: БТП Ридан №1506238119-1
B9: Регулятор перепада давлений VFG-2R/Dy100/Kvs125/Tmax150/Pmax16 сталь ф/ф (настройка 0,6449 bar) | C9: Ридан | D9: шт. | E9: 1
B10: Регулирующий блок AFP-R с имп. трубкой | C10: Ридан | D10: шт. | E10: 1
B11: Клапан регулирующий VFM-2R/Dy20/Kvs6,3/Tmax150/Pmax25 чугунный | C11: Ридан | D11: шт. | E11: 1
B12: Клапан регулирующий VFM-2R/Dy32/Kvs16/Tmax150/Pmax25 чугунный | C12: Ридан | D12: шт. | E12: 2
B13: Клапан регулирующий VFM-2R/Dy40/Kvs25/Tmax150//Pmax16 чугун | C13: Ридан | D13: шт. | E13: 1
B14: Клапан регулирующий VFM-2R/Dy50/Kvs40/Tmax150//Pmax16 чугун | C14: Ридан | D14: шт. | E14: 1
B15: Клапан регулирующий VFM-2R/Dy65/Kvs40/Tmax150/Pmax25 чугунный | C15: Ридан | D15: шт. | E15: 1
B16: Реле разности давлений RT262R | D16: шт. | E16: 3
B17: Коллектор Ф250мм на 3 выхода, диаметр подключения 150мм | C17: Ридан | D17: шт | E17: 2
B18: Расширительный бак R500, 10бар | D18: шт. | E18: 1
B19: Расширительный бак R750, 10бар | D19: шт. | E19: 1
B20: Расширительный бак R900, 10бар | D20: шт. | E20: 1
B21: Расширительный бак (подобрать объем и количество) | D21: шт. | E21: 2 | H21: бтп Ридан N2906238603-2
B22: Клапан ручной балансировочный MNT-R, Dy40/Kvs19,27 | C22: Ридан | D22: шт. | E22: 1
B23: Клапан ручной балансировочный MNT-R, Dy50/ | C23: Ридан | D23: шт. | E23: 1
B24: Затвор дисковый ЗДМ/Dy50/Py16/Tmax120 чугун м/ф | C24: Ридан | D24: шт. | E24: 5
B25: Затвор дисковый ЗДМ/Dy80/Py16/Tmax120 чугун м/ф | C25: Ридан | D25: шт. | E25: 6
B26: Затвор дисковый ЗДМ/Dy100/Py16/Tmax120 чугун м/ф | C26: Ридан | D26: шт. | E26: 10
B27: Затвор дисковый ЗДМ/Dy150/Py16/Tmax120 чугун м/ф | C27: Ридан | D27: шт. | E27: 10
B28: Кран шаровый Ду15 (1/2")/Ру16/Tmax130 В/В резьба | C28: Валтек | D28: шт. | E28: 20
B29: Кран шаровый Ду20/Ру16/Tmax130 В/В резьба | C29: Валтек | D29: шт. | E29: 11
B30: Кран шаровый Ду25/Ру16/Tmax130 В/В резьба | C30: Валтек | D30: шт. | E30: 35
B31: Кран шаровый Ду25/Py25/Tmax130 В/В резьба | C31: Валтек | D31: шт | E31: 5
B32: Кран шаровый Ду25 PN16 латунь В/В резьба | C32: LD | D32: шт. | E32: 2
B33: Кран шаровый Ду32/Ру16/Tmax130 В/В резьба | C33: Валтек | D33: шт. | E33: 3
B34: Кран шаровый Ду40/Ру16/Tmax130 В/В резьба | C34: Валтек | D34: шт. | E34: =5+7 -> 12
B35: Кран шаровый Ду50/Ру16/Tmax130 В/В резьба | C35: Валтек | D35: шт. | E35: 13
B36: Кран шаровый под приварку, Ду15 PN16 | C36: LD | D36: шт. | E36: 16
B37: Кран шаровый под приварку, Ду25 PN16 | C37: LD | D37: шт. | E37: 17
B38: Кран шаровый под приварку, Ду32 PN16 | C38: LD | D38: шт. | E38: 6
B39: Кран шаровый под приварку, Ду50 PN16 | C39: LD | D39: шт. | E39: 2
B40: Кран шаровый под приварку, Ду65 PN16 | C40: LD | D40: шт. | E40: 16
B41: Кран шаровый под приварку, Ду100 PN16 | C41: LD | D41: шт. | E41: 8
B42: Кран шаровый под приварку, Ду150 PN16 | C42: LD | D42: шт | E42: 2
B43: Кран шаровый под приварку, Ду200 PN16 | C43: LD | D43: шт. | E43: 4
B44: Кран шаровый фланцевый, Ду65 PN16 | C44: LD | D44: шт. | E44: 5
...

Sheet ИТП
B1: Фасонные изделия | G1: Фасонные изделия (резьба стальная нерж., гильза из стальной трубы, теплоизоляция Термафлекс толщ.13мм, муфта соединительная и переходная ППН ТЕВО, заглушка, тройники ППН ТЕВО в тч переходной и стальные нерж., угольник ППН ТЕВО, переходы ППН, гильза в тч из стальной трубы, Фланец стальной нерж., Отвод стальной нерж,фланец штампованный, муфты ППН, бурт под фланец, фланец стальной расточенный, фланец с раструбом, Муфта ППН комб. в тч под ключ TEBO, Бурт под фланец, сгон) | H1: %
B2: Расходные материалы | G2: Расходные материалы (Шуруп с шестигранной головкой, дюбель распорный пластиковый, Хомут для трубы стальной, Траверса монтажная, Анкер распорный лат, Шпилька оцинкованная резьбовая, Гайка оцинкованная, шайба усиленная, клей термафлекс, скотч, асбестовый шнур, электроды по нерж., диски отрезные по металлу, шайба оцинкованная резьбовая, гель сантехнический, П-образный элемент индивидуального изготовления в комплекте с креплением, грунтовка ГФ-021) | H2: %
A3: Сметный расчет №4
A5: № | B5: Наименование | C5: Ед. | D5: Кол-во | E5: Цена | F5: Сумма
A6: Раздел 1. Устройство системы ИТП
A7: 1 | B7: Узел ввода
B8: Регулятор перепада давления VFG 2 Ридан Ду65 | C8: шт. | D8: 1 | F8: =D8*E8 -> 0
B9: Регулирующий блок AFP Ридан с имп. трубкой | C9: шт. | D9: 1 | F9: =D9*E9 -> 0
B10: Кран шаровый под приварку, Ду32 LD | C10: шт. | D10: 1 | F10: =D10*E10 -> 0
B11: Кран шаровый под приварку, Ду15 LD | C11: шт. | D11: 1 | F11: =D11*E11 -> 0
B12: Кран шаровый под приварку, Ду125 LD | C12: шт. | D12: 2 | F12: =D12*E12 -> 0
B13: Кран шаровый под приварку, Ду125 LD | C13: шт. | D13: 2 | F13: =D13*E13 -> 0
B14: Грязевик, Ду125 ТС -569 | C14: шт. | D14: 1 | F14: =D14*E14 -> 0
B15: Фильтр, Ду125 F12516M | C15: шт. | D15: 2 | F15: =D15*E15 -> 0
B16: Кран шаровый под приварку, Ду40 LD | C16: шт. | D16: 2 | F16: =D16*E16 -> 0
B17: КИП
B18: Манометр Ру=1,6 МПа d-100мм М20х1.5, "ROSMA" | C18: шт. | D18: 3 | F18: =D18*E18 -> 0
B19: Манометр Ру=1,6 МПа d-100мм М20х1.5, "ROSMA" | C19: шт. | D19: 2 | F19: =D19*E19 -> 0
B20: Импульсная трубка, Ридан | C20: шт. | D20: 2 | F20: =D20*E20 -> 0
B21: Трубка Перкинса | C21: шт. | D21: 5 | F21: =D21*E21 -> 0
B22: Кран трехходовой для манометра, Ру=1,6 Мпа, Ду=15 мм | C22: шт. | D22: 7 | F22: =D22*E22 -> 0
B23: Узел учета
B24: Шкаф УУТЭ, ТепловычислительТВ7-04 Амперус (+ блок питания) | C24: шт. | D24: 1 | F24: =D24*E24 -> 0
B25: Преобразователь расхода Питерфлоу Ду80, | C25: шт. | D25: 2 | F25: =D25*E25 -> 0
B26: Преобразователь расхода Питерфлоу Ду20, | C26: шт. | D26: 1 | F26: =D26*E26 -> 0
B27: Кран шаровый под приварку, Ду25 LD | C27: шт. | D27: 2 | F27: =D27*E27 -> 0
B28: Кран шаровый муфтовый Ду15 (1/2") Вр-Вр Valtec | C28: шт. | D28: 2 | F28: =D28*E28 -> 0
B29: Кран шаровый муфтовый Ду25 (1") Вр-Вр Valtec | C29: шт. | D29: 2 | F29: =D29*E29 -> 0
B30: Фильтр Ду25 (1") Вр-Вр, Valtec | C30: шт. | D30: 1 | F30: =D30*E30 -> 0
B31: Монтажный комплект Ду80 | C31: шт. | D31: 2 | F31: =D31*E31 -> 0
B32: Монтажная вставка Ду80 | C32: шт. | D32: 2 | F32: =D32*E32 -> 0
B33: КИП
B34: Датчик температуры КТСП (Комплект термометров КТПТР-01-1-100П-А4-120) | C34: компл. | D34: 1 | F34: =D34*E34 -> 0
B35: Гильза для датчика температуры L120 резьба внутр. и наруж. М20х1,5 | C35: шт. | D35: 2 | F35: =D35*E35 -> 0
B36: Термометр биметалличсеский | C36: шт. | D36: 1 | F36: =D36*E36 -> 0
B37: Термометр биметалличсеский | C37: шт. | D37: 1 | F37: =D37*E37 -> 0
B38: Манометр Ру=1,6 МПа d-100мм М20х1.5, "ROSMA" | C38: шт. | D38: 2 | F38: =D38*E38 -> 0
B39: Манометр Ру=1,6 МПа d-100мм М20х1.5, "ROSMA" | C39: шт. | D39: 4 | F39: =D39*E39 -> 0
B40: Датчик давления СДВ-И-2,5-1,6-1,0М(1,6)-4-20мА-DA422-0605-3 с блоком питания 10ВР220-24Д | C40: шт. | D40: 1 | F40: =D40*E40 -> 0
B41: Бобышка приварная L35 мм М20х1,5 прямая | C41: шт. | D41: 2 | F41: =D41*E41 -> 0
...

Sheet Свод
B4: Водопровод | C4: =#REF! -> #REF!
B5: Канализация | C5: =#REF! -> #REF!
B6: Отопление | C6: =#REF! -> #REF!
B7: ИТП | C7: =ИТП!F259 -> 0
B8: Сумма | C8: =SUM(C4:C7) -> #REF!

Sheet Материалы Водопровод 
A2: Сметный расчет №1
A4: № п/п | B4: Наименование | C4: Ед. изм. | D4: V | E4: Цена за ед.изм
A5: 1 | B5: Анкер распорный лат. М10 | C5: шт | E5: 15
A6: =A5+1 -> 2 | B6: Антивибрационный компенсатор Д-65
A7: =A6+1 -> 3 | B7: Асбестовый шнур | C7: кг | E7: 420
A8: =A7+1 -> 4 | B8: Балансировочный клапан Баллорекс Броен DN25S Kvs9,94 | C8: шт | E8: 4080
A9: =A8+1 -> 5 | B9: Балансировочный клапан Баллрекс Броен DN32S | C9: шт | E9: 5872
A10: =A9+1 -> 6 | B10: Балансировочный клапан Баоорекс броен DN32S Kvs13,3 | C10: шт | E10: 5872
A11: =A10+1 -> 7 | B11: Бобышка 1/2" | C11: шт | E11: 12
A12: =A11+1 -> 8 | B12: Бурт под фланец ППН DN63 | C12: шт | E12: 274.6
A13: =A12+1 -> 9 | B13: Вентиль латунный пожарный прямой Ду-50 Г/Ц | C13: шт | E13: 1060
A14: =A13+1 -> 10 | B14: Винт-шуруп М8х120 | C14: шт | E14: 9.85
A15: =A14+1 -> 11 | B15: Воздухоотводчик автоматический Нр 1/2" Валтек | C15: шт | E15: 370
A16: =A15+1 -> 12 | B16: Гайка оцинкованная М10 | C16: шт | E16: 2
A17: =A16+1 -> 13 | B17: Гайка оцинкованная М8 | C17: шт | E17: 1.5
A18: =A17+1 -> 14 | B18: Гайка оцинкованная М8 (для соед. хомутов с траверсой) | C18: шт | E18: 1.5
A19: =A18+1 -> 15 | B19: Гель сантехнический | C19: тюб | E19: 150
A20: =A19+1 -> 16 | B20: Гидропневмобак V-100 л | C20: шт | E20: =6900 -> 6900
A21: =A20+1 -> 17 | B21: Гильза из стальной трубы Д-57 L-330мм / нерж. Д-42,4х3,5 | C21: шт | E21: 181.5
A22: =A21+1 -> 18 | B22: Гильза из стальной трубы Д-76 L-330мм / нерж. Д-60,3х3,5 | C22: шт | E22: 240.9
A23: =A22+1 -> 19 | B23: Гильза из стальной трубы Д-76 L-330мм / ст. Д-57 | C23: шт | E23: 101
A24: =A23+1 -> 20 | B24: Гильза из стальной трубы Д-89 L-330мм / РР Д-75 | C24: шт | E24: 119.97
A25: =A24+1 -> 21 | B25: Гильза из теплоизоляции K-flex ST тощиной s-9мм Д-42 L-330мм / РР DN40 | C25: м | E25: 21
A26: =A25+1 -> 22 | B26: Головка соединительная муфтовая напорная ГМ-80 (для передвиж. пож. техники) | C26: шт | E26: 229
A27: =A26+1 -> 23 | B27: Головка соединительная напорная ГМ-50 | C27: шт | E27: 110
A28: =A27+1 -> 24 | B28: Головка-заглушка соединительная напорная ГЗ-80 (для передвиж. пож. техники) | C28: шт | E28: 156
A29: =A28+1 -> 25 | B29: Грунтовка ГФ-021 | C29: кг | E29: 85
A30: =A29+1 -> 26 | B30: Грунтовка ГФ-021 / огрнунтовка гильз | C30: кг | E30: 85
A31: =A30+1 -> 27 | B31: Диски отрезные | C31: шт
A32: =A31+1 -> 28 | B32: Дюбель гвоздь 6х40мм | C32: шт | E32: 0.55
A33: =A32+1 -> 29 | B33: Дюбель гвоздь 6х40мм / крепление к стене | C33: шт | E33: 0.55
A34: =A33+1 -> 30 | B34: Дюбель распорный пластиковый М12 | C34: шт | E34: 5.6
A35: =A34+1 -> 31 | B35: Дюбель распорный пластиковый М14 | C35: шт | E35: 6.2
A36: =A35+1 -> 32 | B36: Заглушка ППН DN40 | C36: шт | E36: 46
A37: =A36+1 -> 33 | B37: Затвор поворотный дисковый м/ф ∅100, Ру16 | C37: шт | E37: 3638.48
A38: =A37+1 -> 34 | B38: Затвор поворотный дисковый м/ф ∅150, Ру16 | C38: шт | E38: 5359.96
A39: =A38+1 -> 35 | B39: Затвор поворотный дисковый м/ф ∅150, Ру16 с электроприводом 380В | C39: шт | E39: 44337.13
A40: =A39+1 -> 36 | B40: Затвор поворотный дисковый м/ф ∅50, Ру16 | C40: шт | E40: 2146.19
A41: =A40+1 -> 37 | B41: Затвор поворотный дисковый м/ф ∅65, Ру16 | C41: шт | E41: 2449.84
A42: =A41+1 -> 38 | B42: Затвор поворотный дисковый м/ф ∅80, Ру16 | C42: шт | E42: 2895.7
...
