Workbook

Sheet ЛСР
B2: Локальный сметный расчет (ЛСР) №5
B3: Объект: «Комплексная застройка территории, расположенной в границах улиц: Тобольский тракт - Обход города Тюмени (мкр. Губернаторский). Многоэтажный жилой дом ГП-72.105» Секция 1
B4: Ведомость объемов работ и расхода материалов по работе: Устройство системы отопления и сопутствующим работам (согласно проекту шифр ОВ, стадия Р)
A6: № | B6: Наименование | C6: Артикул, марка, производитель | D6: Характеристика | E6: Ед. изм. | F6: Норма расхода | G6: Секция 1 | H6: Количество | I6: Цена за ед., руб | J6: Сумма, руб | K6: Примечание | L6: Форма закупа материала
A8: 11 | B8: Внутренние инженерные сети
A9: 11.04 | B9: Устройство системы отопления | J9: =SUM($J$239,$J$249,$J$79,$J$10) -> 0
A10: 11.04.02 | B10: Устройство стояка для горизонтальной системы отопления | J10: =SUM($J$11) -> 0
A11: 11.04.02.00 | B11: Устройство стояка для горизонтальной системы отопления | J11: =SUM(,$J$75,$J$73,$J$68,$J$66,$J$64,$J$62,$J$60,$J$52,$J$50,$J$46,$J$44,$J$40,$J$38,$J$34,$J$32,$J$28,$J$26,$J$24,$J$22,$J$20,$J$18,$J$16,$J$14,$J$12) -> 0
B12: Работы: | J12: =SUM($J$13) -> 0
B13: Бурение отверстий Ø60 | E13: шт | G13: 6 | H13: =SUM($G$13:$G$13) -> 6 | I13: {=INDEX(Р[Цена за ед., руб],MATCH(1,IF(($B13=Р[Наименование])*($K13=Р[Примечание]),{1},($B13=Р[Наименование])*($K13=Р[Примечание])),0))} -> 0 | J13: =ROUND($H$13*$I$13,2) -> 0
B14: Работы: | J14: =SUM($J$15) -> 0
B15: Бурение отверстий до 120мм | E15: шт | G15: 133 | H15: =SUM($G$15:$G$15) -> 133 | I15: {=INDEX(Р[Цена за ед., руб],MATCH(1,IF(($B15=Р[Наименование])*($K15=Р[Примечание]),{1},($B15=Р[Наименование])*($K15=Р[Примечание])),0))} -> 0 | J15: =ROUND($H$15*$I$15,2) -> 0
B16: Работы: | J16: =SUM($J$17) -> 0
B17: Бурение отверстий до 80мм | E17: шт | G17: 41 | H17: =SUM($G$17:$G$17) -> 41 | I17: {=INDEX(Р[Цена за ед., руб],MATCH(1,IF(($B17=Р[Наименование])*($K17=Р[Примечание]),{1},($B17=Р[Наименование])*($K17=Р[Примечание])),0))} -> 0 | J17: =ROUND($H$17*$I$17,2) -> 0
B18: Работы: | J18: =SUM($J$19) -> 0
B19: Монтаж автоматического воздухоотводчика | E19: шт | G19: 11 | H19: =SUM($G$19:$G$19) -> 11 | I19: {=INDEX(Р[Цена за ед., руб],MATCH(1,IF(($B19=Р[Наименование])*($K19=Р[Примечание]),{1},($B19=Р[Наименование])*($K19=Р[Примечание])),0))} -> 0 | J19: =ROUND($H$19*$I$19,2) -> 0
B20: Материалы: | J20: =SUM($J$21) -> 0
A21: 1 | B21: Воздухоотводчик | C21: Valtec | D21: автоматический Ду-15 10bar | E21: шт | G21: 11 | H21: =SUM($G$21:$G$21) -> 11 | I21: {=INDEX(М[Цена за ед., руб],MATCH(1,IF(($B21=М[Наим.])*($C21=М[Артикул, марка, произв.])*($D21=М[Хар-ка])*($K21=М[Прим.]),{1},($B21=М[Наим.])*($C21=М[Артикул, марка, произв.])*($D21=М[Хар-ка])*($K21=М[Прим.])),0))} -> 0 | J21: =ROUND($H$21*$I$21,2) -> 0 | L21: {=INDEX(М[Форма закупа],MATCH(1,IF(($B21=М[Наим.])*($C21=М[Артикул, марка, произв.])*($D21=М[Хар-ка])*($K21=М[Прим.]),{1},($B21=М[Наим.])*($C21=М[Артикул, марка, произв.])*($D21=М[Хар-ка])*($K21=М[Прим.])),0))} -> 0
B22: Работы: | J22: =SUM($J$23) -> 0
B23: Монтаж клапана (фланцевые, резьбовые) до 32 мм | E23: шт | G23: 3 | H23: =SUM($G$23:$G$23) -> 3 | I23: {=INDEX(Р[Цена за ед., руб],MATCH(1,IF(($B23=Р[Наименование])*($K23=Р[Примечание]),{1},($B23=Р[Наименование])*($K23=Р[Примечание])),0))} -> 0 | J23: =ROUND($H$23*$I$23,2) -> 0
B24: Материалы: | J24: =SUM($J$25) -> 0
A25: 1 | B25: Клапан запорный | C25: РИДАН | D25: D-15 RLV прямой | E25: шт | G25: 3 | H25: =SUM($G$25:$G$25) -> 3 | I25: {=INDEX(М[Цена за ед., руб],MATCH(1,IF(($B25=М[Наим.])*($C25=М[Артикул, марка, произв.])*($D25=М[Хар-ка])*($K25=М[Прим.]),{1},($B25=М[Наим.])*($C25=М[Артикул, марка, произв.])*($D25=М[Хар-ка])*($K25=М[Прим.])),0))} -> 0 | J25: =ROUND($H$25*$I$25,2) -> 0 | L25: {=INDEX(М[Форма закупа],MATCH(1,IF(($B25=М[Наим.])*($C25=М[Артикул, марка, произв.])*($D25=М[Хар-ка])*($K25=М[Прим.]),{1},($B25=М[Наим.])*($C25=М[Артикул, марка, произв.])*($D25=М[Хар-ка])*($K25=М[Прим.])),0))} -> 0
B26: Работы: | J26: =SUM($J$27) -> 0
B27: Монтаж компенсатора сильфонного | E27: шт | G27: 24 | H27: =SUM($G$27:$G$27) -> 24 | I27: {=INDEX(Р[Цена за ед., руб],MATCH(1,IF(($B27=Р[Наименование])*($K27=Р[Примечание]),{1},($B27=Р[Наименование])*($K27=Р[Примечание])),0))} -> 0 | J27: =ROUND($H$27*$I$27,2) -> 0
B28: Материалы: | J28: =SUM($J$29:$J$31) -> 0
A29: 1 | B29: Компенсатор сильфонный | D29: с защитной гильзой под приварку с внутренней направляющей Ду-40 | E29: шт | G29: 6 | H29: =SUM($G$29:$G$29) -> 6 | I29: {=INDEX(М[Цена за ед., руб],MATCH(1,IF(($B29=М[Наим.])*($C29=М[Артикул, марка, произв.])*($D29=М[Хар-ка])*($K29=М[Прим.]),{1},($B29=М[Наим.])*($C29=М[Артикул, марка, произв.])*($D29=М[Хар-ка])*($K29=М[Прим.])),0))} -> 0 | J29: =ROUND($H$29*$I$29,2) -> 0 | L29: {=INDEX(М[Форма закупа],MATCH(1,IF(($B29=М[Наим.])*($C29=М[Артикул, марка, произв.])*($D29=М[Хар-ка])*($K29=М[Прим.]),{1},($B29=М[Наим.])*($C29=М[Артикул, марка, произв.])*($D29=М[Хар-ка])*($K29=М[Прим.])),0))} -> 0
A30: 2 | B30: Компенсатор сильфонный | D30: с защитной гильзой под приварку с внутренней направляющей Ду-50 | E30: шт | G30: 6 | H30: =SUM($G$30:$G$30) -> 6 | I30: {=INDEX(М[Цена за ед., руб],MATCH(1,IF(($B30=М[Наим.])*($C30=М[Артикул, марка, произв.])*($D30=М[Хар-ка])*($K30=М[Прим.]),{1},($B30=М[Наим.])*($C30=М[Артикул, марка, произв.])*($D30=М[Хар-ка])*($K30=М[Прим.])),0))} -> 0 | J30: =ROUND($H$30*$I$30,2) -> 0 | L30: {=INDEX(М[Форма закупа],MATCH(1,IF(($B30=М[Наим.])*($C30=М[Артикул, марка, произв.])*($D30=М[Хар-ка])*($K30=М[Прим.]),{1},($B30=М[Наим.])*($C30=М[Артикул, марка, произв.])*($D30=М[Хар-ка])*($K30=М[Прим.])),0))} -> 0
A31: 3 | B31: Компенсатор сильфонный | D31: с защитной гильзой под приварку с внутренней направляющей Ду-65 | E31: шт | G31: 12 | H31: =SUM($G$31:$G$31) -> 12 | I31: {=INDEX(М[Цена за ед., руб],MATCH(1,IF(($B31=М[Наим.])*($C31=М[Артикул, марка, произв.])*($D31=М[Хар-ка])*($K31=М[Прим.]),{1},($B31=М[Наим.])*($C31=М[Артикул, марка, произв.])*($D31=М[Хар-ка])*($K31=М[Прим.])),0))} -> 0 | J31: =ROUND($H$31*$I$31,2) -> 0 | L31: {=INDEX(М[Форма закупа],MATCH(1,IF(($B31=М[Наим.])*($C31=М[Артикул, марка, произв.])*($D31=М[Хар-ка])*($K31=М[Прим.]),{1},($B31=М[Наим.])*($C31=М[Артикул, марка, произв.])*($D31=М[Хар-ка])*($K31=М[Прим.])),0))} -> 0
B32: Работы: | J32: =SUM($J$33) -> 0
B33: Монтаж кранов (фланцевые, резьбовые) до 32 мм | E33: шт | G33: 18 | H33: =SUM($G$33:$G$33) -> 18 | I33: {=INDEX(Р[Цена за ед., руб],MATCH(1,IF(($B33=Р[Наименование])*($K33=Р[Примечание]),{1},($B33=Р[Наименование])*($K33=Р[Примечание])),0))} -> 0 | J33: =ROUND($H$33*$I$33,2) -> 0
B34: Материалы: | J34: =SUM($J$35:$J$37) -> 0
A35: 1 | B35: Кран шаровой | C35: Valtec | D35: Ду-15 полнопроходный с НГ | E35: шт | G35: 3 | H35: =SUM($G$35:$G$35) -> 3 | I35: {=INDEX(М[Цена за ед., руб],MATCH(1,IF(($B35=М[Наим.])*($C35=М[Артикул, марка, произв.])*($D35=М[Хар-ка])*($K35=М[Прим.]),{1},($B35=М[Наим.])*($C35=М[Артикул, марка, произв.])*($D35=М[Хар-ка])*($K35=М[Прим.])),0))} -> 0 | J35: =ROUND($H$35*$I$35,2) -> 0 | L35: {=INDEX(М[Форма закупа],MATCH(1,IF(($B35=М[Наим.])*($C35=М[Артикул, марка, произв.])*($D35=М[Хар-ка])*($K35=М[Прим.]),{1},($B35=М[Наим.])*($C35=М[Артикул, марка, произв.])*($D35=М[Хар-ка])*($K35=М[Прим.])),0))} -> 0
A36: 2 | B36: Кран шаровой | C36: Valtec | D36: Ду-25 полнопроходный с НГ | E36: шт | G36: 4 | H36: =SUM($G$36:$G$36) -> 4 | I36: {=INDEX(М[Цена за ед., руб],MATCH(1,IF(($B36=М[Наим.])*($C36=М[Артикул, марка, произв.])*($D36=М[Хар-ка])*($K36=М[Прим.]),{1},($B36=М[Наим.])*($C36=М[Артикул, марка, произв.])*($D36=М[Хар-ка])*($K36=М[Прим.])),0))} -> 0 | J36: =ROUND($H$36*$I$36,2) -> 0 | L36: {=INDEX(М[Форма закупа],MATCH(1,IF(($B36=М[Наим.])*($C36=М[Артикул, марка, произв.])*($D36=М[Хар-ка])*($K36=М[Прим.]),{1},($B36=М[Наим.])*($C36=М[Артикул, марка, произв.])*($D36=М[Хар-ка])*($K36=М[Прим.])),0))} -> 0
A37: 3 | B37: Кран шаровой | C37: Valtec | D37: ВР-ВР Ду-15 полнопроходной | E37: шт | G37: 11 | H37: =SUM($G$37:$G$37) -> 11 | I37: {=INDEX(М[Цена за ед., руб],MATCH(1,IF(($B37=М[Наим.])*($C37=М[Артикул, марка, произв.])*($D37=М[Хар-ка])*($K37=М[Прим.]),{1},($B37=М[Наим.])*($C37=М[Артикул, марка, произв.])*($D37=М[Хар-ка])*($K37=М[Прим.])),0))} -> 0 | J37: =ROUND($H$37*$I$37,2) -> 0 | L37: {=INDEX(М[Форма закупа],MATCH(1,IF(($B37=М[Наим.])*($C37=М[Артикул, марка, произв.])*($D37=М[Хар-ка])*($K37=М[Прим.]),{1},($B37=М[Наим.])*($C37=М[Артикул, марка, произв.])*($D37=М[Хар-ка])*($K37=М[Прим.])),0))} -> 0
B38: Работы: | J38: =SUM($J$39) -> 0
B39: Монтаж неподвижных опор | E39: шт | G39: 64 | H39: =SUM($G$39:$G$39) -> 64 | I39: {=INDEX(Р[Цена за ед., руб],MATCH(1,IF(($B39=Р[Наименование])*($K39=Р[Примечание]),{1},($B39=Р[Наименование])*($K39=Р[Примечание])),0))} -> 0 | J39: =ROUND($H$39*$I$39,2) -> 0
B40: Материалы: | J40: =SUM($J$41:$J$43) -> 0
A41: 1 | B41: Опора неподвижная | D41: стальная для стояков отопления Ду-76 | E41: шт | G41: 40 | H41: =SUM($G$41:$G$41) -> 40 | I41: {=INDEX(М[Цена за ед., руб],MATCH(1,IF(($B41=М[Наим.])*($C41=М[Артикул, марка, произв.])*($D41=М[Хар-ка])*($K41=М[Прим.]),{1},($B41=М[Наим.])*($C41=М[Артикул, марка, произв.])*($D41=М[Хар-ка])*($K41=М[Прим.])),0))} -> 0 | J41: =ROUND($H$41*$I$41,2) -> 0 | L41: {=INDEX(М[Форма закупа],MATCH(1,IF(($B41=М[Наим.])*($C41=М[Артикул, марка, произв.])*($D41=М[Хар-ка])*($K41=М[Прим.]),{1},($B41=М[Наим.])*($C41=М[Артикул, марка, произв.])*($D41=М[Хар-ка])*($K41=М[Прим.])),0))} -> 0
A42: 2 | B42: Опора неподвижная | D42: стальная для стояков отопления Ду-40 | E42: шт | G42: 12 | H42: =SUM($G$42:$G$42) -> 12 | I42: {=INDEX(М[Цена за ед., руб],MATCH(1,IF(($B42=М[Наим.])*($C42=М[Артикул, марка, произв.])*($D42=М[Хар-ка])*($K42=М[Прим.]),{1},($B42=М[Наим.])*($C42=М[Артикул, марка, произв.])*($D42=М[Хар-ка])*($K42=М[Прим.])),0))} -> 0 | J42: =ROUND($H$42*$I$42,2) -> 0 | L42: {=INDEX(М[Форма закупа],MATCH(1,IF(($B42=М[Наим.])*($C42=М[Артикул, марка, произв.])*($D42=М[Хар-ка])*($K42=М[Прим.]),{1},($B42=М[Наим.])*($C42=М[Артикул, марка, произв.])*($D42=М[Хар-ка])*($K42=М[Прим.])),0))} -> 0
A43: 3 | B43: Опора неподвижная | D43: стальная для стояков отопления Ду-57 | E43: шт | G43: 12 | H43: =SUM($G$43:$G$43) -> 12 | I43: {=INDEX(М[Цена за ед., руб],MATCH(1,IF(($B43=М[Наим.])*($C43=М[Артикул, марка, произв.])*($D43=М[Хар-ка])*($K43=М[Прим.]),{1},($B43=М[Наим.])*($C43=М[Артикул, марка, произв.])*($D43=М[Хар-ка])*($K43=М[Прим.])),0))} -> 0 | J43: =ROUND($H$43*$I$43,2) -> 0 | L43: {=INDEX(М[Форма закупа],MATCH(1,IF(($B43=М[Наим.])*($C43=М[Артикул, марка, произв.])*($D43=М[Хар-ка])*($K43=М[Прим.]),{1},($B43=М[Наим.])*($C43=М[Артикул, марка, произв.])*($D43=М[Хар-ка])*($K43=М[Прим.])),0))} -> 0
...

Sheet Работы
A1: Сводная ведомость объемов работ
A3: Наименование | B3: Ед. изм. | C3: Количество | D3: Цена за ед., руб | E3: Сумма, руб | F3: Примечание
A4: Бурение отверстий Ø60 | B4: шт | C4: 6 | E4: =ROUND(Р[[#This Row],[Количество]]*Р[[#This Row],[Цена за ед., руб]],2) -> 0
A5: Бурение отверстий до 120мм | B5: шт | C5: 151 | E5: =ROUND(Р[[#This Row],[Количество]]*Р[[#This Row],[Цена за ед., руб]],2) -> 0
A6: Бурение отверстий до 80мм | B6: шт | C6: 41 | E6: =ROUND(Р[[#This Row],[Количество]]*Р[[#This Row],[Цена за ед., руб]],2) -> 0
A7: Монтаж автоматического воздухоотводчика | B7: шт | C7: 45 | E7: =ROUND(Р[[#This Row],[Количество]]*Р[[#This Row],[Цена за ед., руб]],2) -> 0
A8: Монтаж клапана (фланцевые, резьбовые) до 32 мм | B8: шт | C8: 20 | E8: =ROUND(Р[[#This Row],[Количество]]*Р[[#This Row],[Цена за ед., руб]],2) -> 0
A9: Монтаж компенсатора сильфонного | B9: шт | C9: 24 | E9: =ROUND(Р[[#This Row],[Количество]]*Р[[#This Row],[Цена за ед., руб]],2) -> 0
A10: Монтаж кранов (фланцевые, резьбовые) до 32 мм | B10: шт | C10: 146 | E10: =ROUND(Р[[#This Row],[Количество]]*Р[[#This Row],[Цена за ед., руб]],2) -> 0
A11: Монтаж неподвижных опор | B11: шт | C11: 64 | E11: =ROUND(Р[[#This Row],[Количество]]*Р[[#This Row],[Цена за ед., руб]],2) -> 0
A12: Монтаж счетчика | B12: шт | C12: 189 | E12: =ROUND(Р[[#This Row],[Количество]]*Р[[#This Row],[Цена за ед., руб]],2) -> 0
A13: Монтаж трубной изоляции | B13: м | C13: 14329 | E13: =ROUND(Р[[#This Row],[Количество]]*Р[[#This Row],[Цена за ед., руб]],2) -> 0
A14: Монтаж фильтра | B14: шт | C14: 2 | E14: =ROUND(Р[[#This Row],[Количество]]*Р[[#This Row],[Цена за ед., руб]],2) -> 0
A15: Пробивка отверстий Ø70 | B15: шт | C15: 317 | E15: =ROUND(Р[[#This Row],[Количество]]*Р[[#This Row],[Цена за ед., руб]],2) -> 0
... A32: Прочие работы (навигация) | B32: компл. | C32: 1 | E32: =ROUND(Р[[#This Row],[Количество]]*Р[[#This Row],[Цена за ед., руб]],2) -> 0
A33: Итог | E33: =SUBTOTAL(109,Р[Сумма, руб]) -> 0
D35: Проверка: | E35: =ЛСР!J254-Р[[#Totals],[Сумма, руб]] -> 0

Sheet Материалы
A1: Сводная ведомость объемов материала
A3: Наим. | B3: Артикул, марка, произв. | C3: Хар-ка | D3: Ед. изм. | E3: Количество | F3: Цена за ед., руб | G3: Сумма, руб | H3: Прим. | I3: Форма закупа
A4: Запорно-регулирующая арматура | C4: в комплекте с нипелями Ф3/4*1/2 | D4: шт | E4: 618 | G4: =ROUND(М[[#This Row],[Количество]]*М[[#This Row],[Цена за ед., руб]],2) -> 0
A5: Уголок для сшитого полиэтилена | C5: радиальный 16 PPSU | D5: шт | E5: 1236 | G5: =ROUND(М[[#This Row],[Количество]]*М[[#This Row],[Цена за ед., руб]],2) -> 0
A6: Евроконус | C6: сшитый полиэтилен 3/4x16 | D6: шт | E6: 1236 | G6: =ROUND(М[[#This Row],[Количество]]*М[[#This Row],[Цена за ед., руб]],2) -> 0
A7: Термостатический элемент | C7: TR-84 | D7: шт | E7: 618 | G7: =ROUND(М[[#This Row],[Количество]]*М[[#This Row],[Цена за ед., руб]],2) -> 0
A8: Регистр отопления | C8: стальной панельный с нижним подключением 22 500х900 | D8: шт | E8: 2 | G8: =ROUND(М[[#This Row],[Количество]]*М[[#This Row],[Цена за ед., руб]],2) -> 0
A9: Регистр отопления | C9: из 4 гладких труб Ф100 длина 2500 | D9: шт | E9: 1 | G9: =ROUND(М[[#This Row],[Количество]]*М[[#This Row],[Цена за ед., руб]],2) -> 0
A10: Регистр отопления | C10: из 4 гладких труб Ф100 длина 2000 | D10: шт | E10: 1 | G10: =ROUND(М[[#This Row],[Количество]]*М[[#This Row],[Цена за ед., руб]],2) -> 0
A11: Регистр отопления | C11: из 4 гладких труб Ф100мм длина 1500м | D11: шт | E11: 2 | G11: =ROUND(М[[#This Row],[Количество]]*М[[#This Row],[Цена за ед., руб]],2) -> 0
A12: Труба гофрированная защитная | C12: Ø22 | D12: пог. м | E12: 765 | G12: =ROUND(М[[#This Row],[Количество]]*М[[#This Row],[Цена за ед., руб]],2) -> 0
A13: Труба гофрированная защитная | C13: Ø28 | D13: пог. м | E13: 120 | G13: =ROUND(М[[#This Row],[Количество]]*М[[#This Row],[Цена за ед., руб]],2) -> 0
A14: Труба гофрированная защитная | C14: Ø35 | D14: пог. м | E14: 90 | G14: =ROUND(М[[#This Row],[Количество]]*М[[#This Row],[Цена за ед., руб]],2) -> 0
A15: Клапан запорный | B15: РИДАН | C15: D-15 RLV прямой | D15: шт | E15: 3 | G15: =ROUND(М[[#This Row],[Количество]]*М[[#This Row],[Цена за ед., руб]],2) -> 0
A16: Присоединительные фитинги | C16: APT-R DN20 | D16: компл. | E16: 5 | G16: =ROUND(М[[#This Row],[Количество]]*М[[#This Row],[Цена за ед., руб]],2) -> 0
A17: Присоединители для счетчика | D17: компл. | E17: 189 | G17: =ROUND(М[[#This Row],[Количество]]*М[[#This Row],[Цена за ед., руб]],2) -> 0
A18: Плита для теплого пола полистирольная с фиксаторам | D18: м2 | E18: 80 | G18: =ROUND(М[[#This Row],[Количество]]*М[[#This Row],[Цена за ед., руб]],2) -> 0
A19: Вставка ремонтная | C19: для счетчика Ду15 мм | D19: шт | E19: 189 | G19: =ROUND(М[[#This Row],[Количество]]*М[[#This Row],[Цена за ед., руб]],2) -> 0
A20: Электроконвектор | C20: 2,0 кВт | D20: шт | E20: 1 | G20: =ROUND(М[[#This Row],[Количество]]*М[[#This Row],[Цена за ед., руб]],2) -> 0
A21: Электроконвектор | C21: 0.5 кВт | D21: шт | E21: 1 | G21: =ROUND(М[[#This Row],[Количество]]*М[[#This Row],[Цена за ед., руб]],2) -> 0
A22: Радиатор отопления | C22: стальной панельный с нижним подключением 22 500х1000 | D22: шт | E22: 18 | G22: =ROUND(М[[#This Row],[Количество]]*М[[#This Row],[Цена за ед., руб]],2) -> 0
A23: Радиатор отопления | C23: стальной панельный с нижним подключением 22 300х700 | D23: шт | E23: 1 | G23: =ROUND(М[[#This Row],[Количество]]*М[[#This Row],[Цена за ед., руб]],2) -> 0
A24: Радиатор отопления | C24: стальной панельный с нижним подключением 22 300х800 | D24: шт | E24: 1 | G24: =ROUND(М[[#This Row],[Количество]]*М[[#This Row],[Цена за ед., руб]],2) -> 0
A25: Радиатор отопления | C25: стальной панельный с нижним подключением 22 300х1000 | D25: шт | E25: 2 | G25: =ROUND(М[[#This Row],[Количество]]*М[[#This Row],[Цена за ед., руб]],2) -> 0
A26: Радиатор отопления | C26: стальной панельный с нижним подключением 21 400х800 | D26: шт | E26: 21 | G26: =ROUND(М[[#This Row],[Количество]]*М[[#This Row],[Цена за ед., руб]],2) -> 0
A27: Радиатор отопления | C27: стальной панельный с нижним подключением 21 400х1300 | D27: шт | E27: 4 | G27: =ROUND(М[[#This Row],[Количество]]*М[[#This Row],[Цена за ед., руб]],2) -> 0
A28: Радиатор отопления | C28: стальной панельный с нижним подключением 22 300х400 | D28: шт | E28: 1 | G28: =ROUND(М[[#This Row],[Количество]]*М[[#This Row],[Цена за ед., руб]],2) -> 0
A29: Радиатор отопления | C29: стальной панельный с нижним подключением 22 300х1200 | D29: шт | E29: 5 | G29: =ROUND(М[[#This Row],[Количество]]*М[[#This Row],[Цена за ед., руб]],2) -> 0
A30: Радиатор отопления | C30: стальной панельный с нижним подключением 22 300х1300 | D30: шт | E30: 1 | G30: =ROUND(М[[#This Row],[Количество]]*М[[#This Row],[Цена за ед., руб]],2) -> 0
... A79: Опора неподвижная | C79: стальная для стояков отопления Ду-57 | D79: шт | E79: 12 | G79: =ROUND(М[[#This Row],[Количество]]*М[[#This Row],[Цена за ед., руб]],2) -> 0
A80: Кран шаровой | B80: Valtec | C80: Ду-15 полнопроходный с НГ | D80: шт | E80: 3 | G80: =ROUND(М[[#This Row],[Количество]]*М[[#This Row],[Цена за ед., руб]],2) -> 0
A81: Кран шаровой | B81: Valtec | C81: Ду-20 полнопроходный с НГ | D81: шт | E81: 28 | G81: =ROUND(М[[#This Row],[Количество]]*М[[#This Row],[Цена за ед., руб]],2) -> 0
A82: Кран шаровой | B82: Valtec | C82: Ду-25 полнопроходный с НГ | D82: шт | E82: 8 | G82: =ROUND(М[[#This Row],[Количество]]*М[[#This Row],[Цена за ед., руб]],2) -> 0
A83: Кран шаровой | B83: LD | C83: вварной Ду-65 стальной | D83: шт | E83: 8 | G83: =ROUND(М[[#This Row],[Количество]]*М[[#This Row],[Цена за ед., руб]],2) -> 0
A84: Кран шаровой | B84: LD | C84: фланцевый Регула Ду-65 | D84: шт | E84: 4 | G84: =ROUND(М[[#This Row],[Количество]]*М[[#This Row],[Цена за ед., руб]],2) -> 0
A85: Кран шаровой | B85: Valtec | C85: ВР-ВР Ду-15 полнопроходной | D85: шт | E85: 91 | G85: =ROUND(М[[#This Row],[Количество]]*М[[#This Row],[Цена за ед., руб]],2) -> 0
A86: Кран шаровой | B86: Valtec | C86: ВР-ВР Ду-20 полнопроходной | D86: шт | E86: 16 | G86: =ROUND(М[[#This Row],[Количество]]*М[[#This Row],[Цена за ед., руб]],2) -> 0
A87: Воздухоотводчик | B87: Valtec | C87: автоматический Ду-15 10bar | D87: шт | E87: 45 | G87: =ROUND(М[[#This Row],[Количество]]*М[[#This Row],[Цена за ед., руб]],2) -> 0
A88: Труба сшитый полиэтилен | C88: DN-26х3,0 PN-10bar PEXа | D88: пог. м | E88: 1311 | G88: =ROUND(М[[#This Row],[Количество]]*М[[#This Row],[Цена за ед., руб]],2) -> 0
A89: Труба сшитый полиэтилен | C89: DN-16х2,0 PEXа | D89: пог. м | E89: 140 | G89: =ROUND(М[[#This Row],[Количество]]*М[[#This Row],[Цена за ед., руб]],2) -> 0
...

Sheet ПараметрыЗагрузки
A1: ЛСР | B1: ЛСРГуид
A2: 72.105.01.11.04 Секция 1_Устройство системы отопления №1 | B2: 6ff6dce6-5268-11f0-8b58-a036bcbd010b
