Workbook

Sheet ЛСР
B2: Локальный сметный расчет (ЛСР) №6
B3: Объект: «Комплексная застройка территории, расположенной в границах улиц: Тобольский тракт - Обход города Тюмени (мкр. Губернаторский). Многоэтажный жилой дом с подземным паркингом ГП-72.106» Секция 0, 1, 2, 3, 4
B4: Ведомость объемов работ и расхода материалов по работе: Устройство системы отопления и сопутствующим работам (согласно проекту шифр ОВ, стадия Р)
A6: № | B6: Наименование | C6: Артикул, марка, производитель | D6: Характеристика | E6: Ед. изм. | F6: Норма расхода | G6: Секция 0 | H6: Секция 1 | I6: Секция 2 | J6: Секция 3 | K6: Секция 4 | L6: Количество | M6: Цена за ед., руб | N6: Сумма, руб | O6: Примечание | P6: Форма закупа материала
A8: 11 | B8: Внутренние инженерные сети
A9: 11.04 | B9: Устройство системы отопления | N9: =SUM($N$343,$N$353,$N$94,$N$10) -> 0
A10: 11.04.02 | B10: Устройство стояка для горизонтальной системы отопления | N10: =SUM($N$11) -> 0
A11: 11.04.02.00 | B11: Устройство стояка для горизонтальной системы отопления | N11: =SUM($N$90,$N$88,$N$82,$N$80,$N$78,$N$75,$N$73,$N$64,$N$62,$N$58,$N$56,$N$48,$N$46,$N$41,$N$39,$N$32,$N$30,$N$28,$N$26,$N$24,$N$22,$N$20,$N$18,$N$16,$N$14,$N$12) -> 0
B12: Работы: | N12: =SUM($N$13) -> 0
B13: Бурение отверстий Ø60 | E13: шт | H13: 4 | I13: 4 | J13: 4 | K13: 4 | L13: =SUM($G$13:$K$13) -> 16 | M13: {=INDEX(Р[Цена за ед., руб],MATCH(1,IF(($B13=Р[Наименование])*($O13=Р[Примечание]),{1},($B13=Р[Наименование])*($O13=Р[Примечание])),0))} -> 0 | N13: =ROUND($L$13*$M$13,2) -> 0
B14: Работы: | N14: =SUM($N$15) -> 0
B15: Бурение отверстий до 120мм | E15: шт | H15: 20 | I15: 19 | J15: 19 | K15: 17 | L15: =SUM($G$15:$K$15) -> 75 | M15: {=INDEX(Р[Цена за ед., руб],MATCH(1,IF(($B15=Р[Наименование])*($O15=Р[Примечание]),{1},($B15=Р[Наименование])*($O15=Р[Примечание])),0))} -> 0 | N15: =ROUND($L$15*$M$15,2) -> 0
B16: Работы: | N16: =SUM($N$17) -> 0
B17: Бурение отверстий до 80мм | E17: шт | H17: 64 | I17: 83 | J17: 67 | K17: 95 | L17: =SUM($G$17:$K$17) -> 309 | M17: {=INDEX(Р[Цена за ед., руб],MATCH(1,IF(($B17=Р[Наименование])*($O17=Р[Примечание]),{1},($B17=Р[Наименование])*($O17=Р[Примечание])),0))} -> 0 | N17: =ROUND($L$17*$M$17,2) -> 0
B18: Работы: | N18: =SUM($N$19) -> 0
B19: Монтаж автоматического воздухоотводчика | E19: шт | H19: 10 | I19: 10 | J19: 12 | K19: 12 | L19: =SUM($G$19:$K$19) -> 44 | M19: {=INDEX(Р[Цена за ед., руб],MATCH(1,IF(($B19=Р[Наименование])*($O19=Р[Примечание]),{1},($B19=Р[Наименование])*($O19=Р[Примечание])),0))} -> 0 | N19: =ROUND($L$19*$M$19,2) -> 0
B20: Материалы: | N20: =SUM($N$21) -> 0
A21: 1 | B21: Воздухоотводчик | C21: Valtec | D21: автоматический Ду-15 10bar | E21: шт | H21: 10 | I21: 10 | J21: 12 | K21: 12 | L21: =SUM($G$21:$K$21) -> 44 | M21: {=INDEX(М[Цена за ед., руб],MATCH(1,IF(($B21=М[Наим.])*($C21=М[Артикул, марка, произв.])*($D21=М[Хар-ка])*($O21=М[Прим.]),{1},($B21=М[Наим.])*($C21=М[Артикул, марка, произв.])*($D21=М[Хар-ка])*($O21=М[Прим.])),0))} -> 0 | N21: =ROUND($L$21*$M$21,2) -> 0 | P21: {=INDEX(М[Форма закупа],MATCH(1,IF(($B21=М[Наим.])*($C21=М[Артикул, марка, произв.])*($D21=М[Хар-ка])*($O21=М[Прим.]),{1},($B21=М[Наим.])*($C21=М[Артикул, марка, произв.])*($D21=М[Хар-ка])*($O21=М[Прим.])),0))} -> 0
B22: Работы: | N22: =SUM($N$23) -> 0
B23: Монтаж воздушно-отопительного агрегата | E23: шт | H23: 2 | I23: 2 | J23: 4 | K23: 4 | L23: =SUM($G$23:$K$23) -> 12 | M23: {=INDEX(Р[Цена за ед., руб],MATCH(1,IF(($B23=Р[Наименование])*($O23=Р[Примечание]),{1},($B23=Р[Наименование])*($O23=Р[Примечание])),0))} -> 0 | N23: =ROUND($L$23*$M$23,2) -> 0
B24: Материалы: | N24: =SUM($N$25) -> 0
A25: 1 | B25: Агрегат воздушно-отопительный | D25: Электрическая тепловая завеса | E25: шт | H25: 2 | I25: 2 | J25: 4 | K25: 4 | L25: =SUM($G$25:$K$25) -> 12 | M25: {=INDEX(М[Цена за ед., руб],MATCH(1,IF(($B25=М[Наим.])*($C25=М[Артикул, марка, произв.])*($D25=М[Хар-ка])*($O25=М[Прим.]),{1},($B25=М[Наим.])*($C25=М[Артикул, марка, произв.])*($D25=М[Хар-ка])*($O25=М[Прим.])),0))} -> 0 | N25: =ROUND($L$25*$M$25,2) -> 0 | P25: {=INDEX(М[Форма закупа],MATCH(1,IF(($B25=М[Наим.])*($C25=М[Артикул, марка, произв.])*($D25=М[Хар-ка])*($O25=М[Прим.]),{1},($B25=М[Наим.])*($C25=М[Артикул, марка, произв.])*($D25=М[Хар-ка])*($O25=М[Прим.])),0))} -> 0
B26: Работы: | N26: =SUM($N$27) -> 0
B27: Монтаж клапана (фланцевые, резьбовые) от 40 мм | E27: шт | H27: 24 | I27: 33 | J27: 31 | K27: 40 | L27: =SUM($G$27:$K$27) -> 128 | M27: {=INDEX(Р[Цена за ед., руб],MATCH(1,IF(($B27=Р[Наименование])*($O27=Р[Примечание]),{1},($B27=Р[Наименование])*($O27=Р[Примечание])),0))} -> 0 | N27: =ROUND($L$27*$M$27,2) -> 0
B28: Материалы: | N28: =SUM($N$29) -> 0
A29: 1 | B29: Клапан запорный | C29: WESER | D29: D-15 RLV прямой | E29: шт | H29: 24 | I29: 33 | J29: 31 | K29: 40 | L29: =SUM($G$29:$K$29) -> 128 | M29: {=INDEX(М[Цена за ед., руб],MATCH(1,IF(($B29=М[Наим.])*($C29=М[Артикул, марка, произв.])*($D29=М[Хар-ка])*($O29=М[Прим.]),{1},($B29=М[Наим.])*($C29=М[Артикул, марка, произв.])*($D29=М[Хар-ка])*($O29=М[Прим.])),0))} -> 0 | N29: =ROUND($L$29*$M$29,2) -> 0 | P29: {=INDEX(М[Форма закупа],MATCH(1,IF(($B29=М[Наим.])*($C29=М[Артикул, марка, произв.])*($D29=М[Хар-ка])*($O29=М[Прим.]),{1},($B29=М[Наим.])*($C29=М[Артикул, марка, произв.])*($D29=М[Хар-ка])*($O29=М[Прим.])),0))} -> 0
B30: Работы: | N30: =SUM($N$31) -> 0
B31: Монтаж компенсатора сильфонного | E31: шт | H31: 6 | I31: 12 | J31: 6 | K31: 14 | L31: =SUM($G$31:$K$31) -> 38 | M31: {=INDEX(Р[Цена за ед., руб],MATCH(1,IF(($B31=Р[Наименование])*($O31=Р[Примечание]),{1},($B31=Р[Наименование])*($O31=Р[Примечание])),0))} -> 0 | N31: =ROUND($L$31*$M$31,2) -> 0
B32: Материалы: | N32: =SUM($N$33:$N$38) -> 0
A33: 1 | B33: Компенсатор сильфонный | C33: Ayvaz | D33: с защитной гильзой под приварку с внутренней направляющей Ду-40 | E33: шт | I33: 2 | K33: 2 | L33: =SUM($G$33:$K$33) -> 4 | M33: {=INDEX(М[Цена за ед., руб],MATCH(1,IF(($B33=М[Наим.])*($C33=М[Артикул, марка, произв.])*($D33=М[Хар-ка])*($O33=М[Прим.]),{1},($B33=М[Наим.])*($C33=М[Артикул, марка, произв.])*($D33=М[Хар-ка])*($O33=М[Прим.])),0))} -> 0 | N33: =ROUND($L$33*$M$33,2) -> 0 | P33: {=INDEX(М[Форма закупа],MATCH(1,IF(($B33=М[Наим.])*($C33=М[Артикул, марка, произв.])*($D33=М[Хар-ка])*($O33=М[Прим.]),{1},($B33=М[Наим.])*($C33=М[Артикул, марка, произв.])*($D33=М[Хар-ка])*($O33=М[Прим.])),0))} -> 0
A34: 2 | B34: Компенсатор сильфонный | C34: Ayvaz | D34: с защитной гильзой под приварку с внутренней направляющей Ду-50 | E34: шт | H34: 2 | J34: 2 | L34: =SUM($G$34:$K$34) -> 4 | M34: {=INDEX(М[Цена за ед., руб],MATCH(1,IF(($B34=М[Наим.])*($C34=М[Артикул, марка, произв.])*($D34=М[Хар-ка])*($O34=М[Прим.]),{1},($B34=М[Наим.])*($C34=М[Артикул, марка, произв.])*($D34=М[Хар-ка])*($O34=М[Прим.])),0))} -> 0 | N34: =ROUND($L$34*$M$34,2) -> 0 | P34: {=INDEX(М[Форма закупа],MATCH(1,IF(($B34=М[Наим.])*($C34=М[Артикул, марка, произв.])*($D34=М[Хар-ка])*($O34=М[Прим.]),{1},($B34=М[Наим.])*($C34=М[Артикул, марка, произв.])*($D34=М[Хар-ка])*($O34=М[Прим.])),0))} -> 0
A35: 3 | B35: Компенсатор сильфонный | C35: Ayvaz | D35: с защитной гильзой под приварку с внутренней направляющей Ду-65 | E35: шт | H35: 2 | I35: 4 | J35: 2 | K35: 2 | L35: =SUM($G$35:$K$35) -> 10 | M35: {=INDEX(М[Цена за ед., руб],MATCH(1,IF(($B35=М[Наим.])*($C35=М[Артикул, марка, произв.])*($D35=М[Хар-ка])*($O35=М[Прим.]),{1},($B35=М[Наим.])*($C35=М[Артикул, марка, произв.])*($D35=М[Хар-ка])*($O35=М[Прим.])),0))} -> 0 | N35: =ROUND($L$35*$M$35,2) -> 0 | P35: {=INDEX(М[Форма закупа],MATCH(1,IF(($B35=М[Наим.])*($C35=М[Артикул, марка, произв.])*($D35=М[Хар-ка])*($O35=М[Прим.]),{1},($B35=М[Наим.])*($C35=М[Артикул, марка, произв.])*($D35=М[Хар-ка])*($O35=М[Прим.])),0))} -> 0
A36: 4 | B36: Компенсатор сильфонный | C36: Ayvaz | D36: с защитной гильзой под приварку с внутренней направляющей Ду-80 | E36: шт | K36: 2 | L36: =SUM($G$36:$K$36) -> 2 | M36: {=INDEX(М[Цена за ед., руб],MATCH(1,IF(($B36=М[Наим.])*($C36=М[Артикул, марка, произв.])*($D36=М[Хар-ка])*($O36=М[Прим.]),{1},($B36=М[Наим.])*($C36=М[Артикул, марка, произв.])*($D36=М[Хар-ка])*($O36=М[Прим.])),0))} -> 0 | N36: =ROUND($L$36*$M$36,2) -> 0 | P36: {=INDEX(М[Форма закупа],MATCH(1,IF(($B36=М[Наим.])*($C36=М[Артикул, марка, произв.])*($D36=М[Хар-ка])*($O36=М[Прим.]),{1},($B36=М[Наим.])*($C36=М[Артикул, марка, произв.])*($D36=М[Хар-ка])*($O36=М[Прим.])),0))} -> 0
A37: 5 | B37: Компенсатор сильфонный | C37: Ayvaz | D37: с защитной гильзой под приварку с внутренней направляющей Ду-20 | E37: шт | H37: 2 | I37: 2 | J37: 2 | K37: 2 | L37: =SUM($G$37:$K$37) -> 8 | M37: {=INDEX(М[Цена за ед., руб],MATCH(1,IF(($B37=М[Наим.])*($C37=М[Артикул, марка, произв.])*($D37=М[Хар-ка])*($O37=М[Прим.]),{1},($B37=М[Наим.])*($C37=М[Артикул, марка, произв.])*($D37=М[Хар-ка])*($O37=М[Прим.])),0))} -> 0 | N37: =ROUND($L$37*$M$37,2) -> 0 | P37: {=INDEX(М[Форма закупа],MATCH(1,IF(($B37=М[Наим.])*($C37=М[Артикул, марка, произв.])*($D37=М[Хар-ка])*($O37=М[Прим.]),{1},($B37=М[Наим.])*($C37=М[Артикул, марка, произв.])*($D37=М[Хар-ка])*($O37=М[Прим.])),0))} -> 0
A38: 6 | B38: Компенсатор сильфонный | C38: Ayvaz | D38: с защитной гильзой под приварку с внутренней направляющей Ду-15 | E38: шт | I38: 4 | K38: 6 | L38: =SUM($G$38:$K$38) -> 10 | M38: {=INDEX(М[Цена за ед., руб],MATCH(1,IF(($B38=М[Наим.])*($C38=М[Артикул, марка, произв.])*($D38=М[Хар-ка])*($O38=М[Прим.]),{1},($B38=М[Наим.])*($C38=М[Артикул, марка, произв.])*($D38=М[Хар-ка])*($O38=М[Прим.])),0))} -> 0 | N38: =ROUND($L$38*$M$38,2) -> 0 | P38: {=INDEX(М[Форма закупа],MATCH(1,IF(($B38=М[Наим.])*($C38=М[Артикул, марка, произв.])*($D38=М[Хар-ка])*($O38=М[Прим.]),{1},($B38=М[Наим.])*($C38=М[Артикул, марка, произв.])*($D38=М[Хар-ка])*($O38=М[Прим.])),0))} -> 0
B39: Работы: | N39: =SUM($N$40) -> 0
B40: Монтаж кранов (фланцевые, резьбовые) до 32 мм | E40: шт | H40: 42 | I40: 47 | J40: 51 | K40: 58 | L40: =SUM($G$40:$K$40) -> 198 | M40: {=INDEX(Р[Цена за ед., руб],MATCH(1,IF(($B40=Р[Наименование])*($O40=Р[Примечание]),{1},($B40=Р[Наименование])*($O40=Р[Примечание])),0))} -> 0 | N40: =ROUND($L$40*$M$40,2) -> 0
B41: Материалы: | N41: =SUM($N$42:$N$45) -> 0
A42: 1 | B42: Кран шаровой | C42: Valtec | D42: Ду-15 полнопроходный с НГ | E42: шт | H42: 24 | I42: 33 | J42: 33 | K42: 40 | L42: =SUM($G$42:$K$42) -> 130 | M42: {=INDEX(М[Цена за ед., руб],MATCH(1,IF(($B42=М[Наим.])*($C42=М[Артикул, марка, произв.])*($D42=М[Хар-ка])*($O42=М[Прим.]),{1},($B42=М[Наим.])*($C42=М[Артикул, марка, произв.])*($D42=М[Хар-ка])*($O42=М[Прим.])),0))} -> 0 | N42: =ROUND($L$42*$M$42,2) -> 0 | P42: {=INDEX(М[Форма закупа],MATCH(1,IF(($B42=М[Наим.])*($C42=М[Артикул, марка, произв.])*($D42=М[Хар-ка])*($O42=М[Прим.]),{1},($B42=М[Наим.])*($C42=М[Артикул, марка, произв.])*($D42=М[Хар-ка])*($O42=М[Прим.])),0))} -> 0
A43: 2 | B43: Кран шаровой | C43: Valtec | D43: Ду-20 полнопроходный с НГ | E43: шт | H43: 4 | J43: 4 | K43: 4 | L43: =SUM($G$43:$K$43) -> 12 | M43: {=INDEX(М[Цена за ед., руб],MATCH(1,IF(($B43=М[Наим.])*($C43=М[Артикул, марка, произв.])*($D43=М[Хар-ка])*($O43=М[Прим.]),{1},($B43=М[Наим.])*($C43=М[Артикул, марка, произв.])*($D43=М[Хар-ка])*($O43=М[Прим.])),0))} -> 0 | N43: =ROUND($L$43*$M$43,2) -> 0 | P43: {=INDEX(М[Форма закупа],MATCH(1,IF(($B43=М[Наим.])*($C43=М[Артикул, марка, произв.])*($D43=М[Хар-ка])*($O43=М[Прим.]),{1},($B43=М[Наим.])*($C43=М[Артикул, марка, произв.])*($D43=М[Хар-ка])*($O43=М[Прим.])),0))} -> 0
...

Sheet Работы
A1: Сводная ведомость объемов работ
A3: Наименование | B3: Ед. изм. | C3: Количество | D3: Цена за ед., руб | E3: Сумма, руб | F3: Примечание
A4: Бурение отверстий Ø60 | B4: шт | C4: 16 | E4: =ROUND(Р[[#This Row],[Количество]]*Р[[#This Row],[Цена за ед., руб]],2) -> 0
A5: Бурение отверстий до 120мм | B5: шт | C5: 107 | E5: =ROUND(Р[[#This Row],[Количество]]*Р[[#This Row],[Цена за ед., руб]],2) -> 0
A6: Бурение отверстий до 80мм | B6: шт | C6: 309 | E6: =ROUND(Р[[#This Row],[Количество]]*Р[[#This Row],[Цена за ед., руб]],2) -> 0
A7: Монтаж автоматического воздухоотводчика | B7: шт | C7: 152 | E7: =ROUND(Р[[#This Row],[Количество]]*Р[[#This Row],[Цена за ед., руб]],2) -> 0
A8: Монтаж воздушно-отопительного агрегата | B8: шт | C8: 12 | E8: =ROUND(Р[[#This Row],[Количество]]*Р[[#This Row],[Цена за ед., руб]],2) -> 0
A9: Монтаж клапана (фланцевые, резьбовые) от 40 мм | B9: шт | C9: 128 | E9: =ROUND(Р[[#This Row],[Количество]]*Р[[#This Row],[Цена за ед., руб]],2) -> 0
A10: Монтаж компенсатора сильфонного | B10: шт | C10: 38 | E10: =ROUND(Р[[#This Row],[Количество]]*Р[[#This Row],[Цена за ед., руб]],2) -> 0
A11: Монтаж кранов (фланцевые, резьбовые) до 32 мм | B11: шт | C11: 718 | E11: =ROUND(Р[[#This Row],[Количество]]*Р[[#This Row],[Цена за ед., руб]],2) -> 0
A12: Монтаж неподвижных опор | B12: шт | C12: 112 | E12: =ROUND(Р[[#This Row],[Количество]]*Р[[#This Row],[Цена за ед., руб]],2) -> 0
A13: Монтаж счетчика | B13: шт | C13: 319 | E13: =ROUND(Р[[#This Row],[Количество]]*Р[[#This Row],[Цена за ед., руб]],2) -> 0
A14: Монтаж трубной изоляции | B14: м | C14: 26351 | E14: =ROUND(Р[[#This Row],[Количество]]*Р[[#This Row],[Цена за ед., руб]],2) -> 0
A15: Монтаж фильтра | B15: шт | C15: 7 | E15: =ROUND(Р[[#This Row],[Количество]]*Р[[#This Row],[Цена за ед., руб]],2) -> 0
... A34: Прочие работы | B34: компл. | C34: 4 | E34: =ROUND(Р[[#This Row],[Количество]]*Р[[#This Row],[Цена за ед., руб]],2) -> 0
A35: Итог | E35: =SUBTOTAL(109,Р[Сумма, руб]) -> 0
D37: Проверка: | E37: =ЛСР!N358-Р[[#Totals],[Сумма, руб]] -> 0

Sheet Материалы
A1: Сводная ведомость объемов материала
A3: Наим. | B3: Артикул, марка, произв. | C3: Хар-ка | D3: Ед. изм. | E3: Количество | F3: Цена за ед., руб | G3: Сумма, руб | H3: Прим. | I3: Форма закупа
A4: Запорно-регулирующая арматура | C4: в комплекте с нипелями Ф3/4*1/2 | D4: шт | E4: 1232 | G4: =ROUND(М[[#This Row],[Количество]]*М[[#This Row],[Цена за ед., руб]],2) -> 0
A5: Уголок для сшитого полиэтилена | C5: PPSU | D5: шт | E5: 2464 | G5: =ROUND(М[[#This Row],[Количество]]*М[[#This Row],[Цена за ед., руб]],2) -> 0
A6: Евроконус | C6: сшитый полиэтилен 3/4x20 | D6: шт | E6: 2464 | G6: =ROUND(М[[#This Row],[Количество]]*М[[#This Row],[Цена за ед., руб]],2) -> 0
A7: Термостатический элемент | C7: TR-84 | D7: шт | E7: 1233 | G7: =ROUND(М[[#This Row],[Количество]]*М[[#This Row],[Цена за ед., руб]],2) -> 0
A8: Труба гофрированная защитная | C8: Ø22 | D8: пог. м | E8: 2552 | G8: =ROUND(М[[#This Row],[Количество]]*М[[#This Row],[Цена за ед., руб]],2) -> 0
A9: Труба гофрированная защитная | C9: Ø28 | D9: пог. м | E9: 259 | G9: =ROUND(М[[#This Row],[Количество]]*М[[#This Row],[Цена за ед., руб]],2) -> 0
A10: Труба гофрированная защитная | C10: Ø35 | D10: пог. м | E10: 150 | G10: =ROUND(М[[#This Row],[Количество]]*М[[#This Row],[Цена за ед., руб]],2) -> 0
A11: Клапан запорный | B11: WESER | C11: D-15 RLV прямой | D11: шт | E11: 128 | G11: =ROUND(М[[#This Row],[Количество]]*М[[#This Row],[Цена за ед., руб]],2) -> 0
A12: Присоединительные фитинги | C12: APT-R DN15 | D12: компл. | E12: 14 | G12: =ROUND(М[[#This Row],[Количество]]*М[[#This Row],[Цена за ед., руб]],2) -> 0
A13: Присоединительные фитинги | C13: APT-R DN20 | D13: компл. | E13: 20 | G13: =ROUND(М[[#This Row],[Количество]]*М[[#This Row],[Цена за ед., руб]],2) -> 0
A14: Присоединители для счетчика | D14: компл. | E14: 319 | G14: =ROUND(М[[#This Row],[Количество]]*М[[#This Row],[Цена за ед., руб]],2) -> 0
A15: Плита для теплого пола полистирольная с фиксаторам | D15: м2 | E15: 334 | G15: =ROUND(М[[#This Row],[Количество]]*М[[#This Row],[Цена за ед., руб]],2) -> 0
A16: Вставка ремонтная | C16: для счетчика Ду15 мм | D16: шт | E16: 319 | G16: =ROUND(М[[#This Row],[Количество]]*М[[#This Row],[Цена за ед., руб]],2) -> 0
A17: Агрегат воздушно-отопительный | C17: Электрическая тепловая завеса | D17: шт | E17: 12 | G17: =ROUND(М[[#This Row],[Количество]]*М[[#This Row],[Цена за ед., руб]],2) -> 0
A18: Радиатор отопления | C18: стальной панельный с боковым подключением 21 500х700 | D18: шт | E18: 1 | G18: =ROUND(М[[#This Row],[Количество]]*М[[#This Row],[Цена за ед., руб]],2) -> 0
A19: Радиатор отопления | C19: стальной панельный с нижним подключением 21 300х700 | D19: шт | E19: 7 | G19: =ROUND(М[[#This Row],[Количество]]*М[[#This Row],[Цена за ед., руб]],2) -> 0
A20: Радиатор отопления | C20: стальной панельный с нижним подключением 22 300х700 | D20: шт | E20: 9 | G20: =ROUND(М[[#This Row],[Количество]]*М[[#This Row],[Цена за ед., руб]],2) -> 0
A21: Радиатор отопления | C21: стальной панельный с нижним подключением 22 300х800 | D21: шт | E21: 17 | G21: =ROUND(М[[#This Row],[Количество]]*М[[#This Row],[Цена за ед., руб]],2) -> 0
A22: Радиатор отопления | C22: стальной панельный с нижним подключением 22 300х900 | D22: шт | E22: 6 | G22: =ROUND(М[[#This Row],[Количество]]*М[[#This Row],[Цена за ед., руб]],2) -> 0
A23: Радиатор отопления | C23: стальной панельный с нижним подключением 22 300х1100 | D23: шт | E23: 20 | G23: =ROUND(М[[#This Row],[Количество]]*М[[#This Row],[Цена за ед., руб]],2) -> 0
A24: Радиатор отопления | C24: стальной панельный с нижним подключением 21 400х1100 | D24: шт | E24: 32 | G24: =ROUND(М[[#This Row],[Количество]]*М[[#This Row],[Цена за ед., руб]],2) -> 0
A25: Радиатор отопления | B25: KERMY | C25: стальной панельный с нижним подключением 21 400х1100 | D25: шт | E25: 3 | G25: =ROUND(М[[#This Row],[Количество]]*М[[#This Row],[Цена за ед., руб]],2) -> 0
A26: Радиатор отопления | C26: стальной панельный с нижним подключением 21 400х1300 | D26: шт | E26: 109 | G26: =ROUND(М[[#This Row],[Количество]]*М[[#This Row],[Цена за ед., руб]],2) -> 0
A27: Радиатор отопления | C27: стальной панельный с нижним подключением 22 300х1200 | D27: шт | E27: 9 | G27: =ROUND(М[[#This Row],[Количество]]*М[[#This Row],[Цена за ед., руб]],2) -> 0
A28: Радиатор отопления | C28: стальной панельный с нижним подключением 22 300х1300 | D28: шт | E28: 3 | G28: =ROUND(М[[#This Row],[Количество]]*М[[#This Row],[Цена за ед., руб]],2) -> 0
A29: Радиатор отопления | C29: стальной панельный с нижним подключением 22 300х1400 | D29: шт | E29: 3 | G29: =ROUND(М[[#This Row],[Количество]]*М[[#This Row],[Цена за ед., руб]],2) -> 0
A30: Радиатор отопления | C30: стальной панельный с нижним подключением 22 300х2000 | D30: шт | E30: 1 | G30: =ROUND(М[[#This Row],[Количество]]*М[[#This Row],[Цена за ед., руб]],2) -> 0
A31: Радиатор отопления | C31: стальной панельный с нижним подключением 22 400х1300 | D31: шт | E31: 86 | G31: =ROUND(М[[#This Row],[Количество]]*М[[#This Row],[Цена за ед., руб]],2) -> 0
A32: Радиатор отопления | C32: стальной панельный с нижним подключением 21 300х600 | D32: шт | E32: 1 | G32: =ROUND(М[[#This Row],[Количество]]*М[[#This Row],[Цена за ед., руб]],2) -> 0
A33: Радиатор отопления | C33: стальной панельный с нижним подключением 33 300х800 | D33: шт | E33: 3 | G33: =ROUND(М[[#This Row],[Количество]]*М[[#This Row],[Цена за ед., руб]],2) -> 0
A34: Радиатор отопления | C34: стальной панельный с нижним подключением 22 300х500 | D34: шт | E34: 6 | G34: =ROUND(М[[#This Row],[Количество]]*М[[#This Row],[Цена за ед., руб]],2) -> 0
A35: Радиатор отопления | C35: стальной панельный с нижним подключением 22 300х600 | D35: шт | E35: 8 | G35: =ROUND(М[[#This Row],[Количество]]*М[[#This Row],[Цена за ед., руб]],2) -> 0
A36: Радиатор отопления | C36: стальной панельный с нижним подключением 33 300х400 | D36: шт | E36: 5 | G36: =ROUND(М[[#This Row],[Количество]]*М[[#This Row],[Цена за ед., руб]],2) -> 0
A37: Радиатор отопления | C37: стальной панельный с нижним подключением 33 300х1000 | D37: шт | E37: 2 | G37: =ROUND(М[[#This Row],[Количество]]*М[[#This Row],[Цена за ед., руб]],2) -> 0
... A42: Радиатор отопления | C42: стальной панельный с нижним подключением 33 300х500 | D42: шт | E42: 6 | G42: =ROUND(М[[#This Row],[Количество]]*М[[#This Row],[Цена за ед., руб]],2) -> 0
A43: Радиатор отопления | B43: KERMY | C43: стальной панельный с нижним подключением 33 300х500 | D43: шт | E43: 2 | G43: =ROUND(М[[#This Row],[Количество]]*М[[#This Row],[Цена за ед., руб]],2) -> 0
A44: Радиатор отопления | C44: стальной панельный с нижним подключением 21 300х500 | D44: шт | E44: 2 | G44: =ROUND(М[[#This Row],[Количество]]*М[[#This Row],[Цена за ед., руб]],2) -> 0
A45: Радиатор отопления | C45: стальной панельный с нижним подключением 21 400х1200 | D45: шт | E45: 9 | G45: =ROUND(М[[#This Row],[Количество]]*М[[#This Row],[Цена за ед., руб]],2) -> 0
...

Sheet ПараметрыЗагрузки
A1: ЛСР | B1: ЛСРГуид
A2: ГП-72.106.01.11.04 Подвал_Устройство системы отопления №1 | B2: b6c413fe-ba00-11f0-8b59-a036bcbd010b
A3: ГП-72.106.01.11.04 Секция 1_Устройство системы отопления №2 | B3: a00be64d-bbd4-11f0-8b59-a036bcbd010b
A4: ГП-72.106.02.11.04 Секция 2_Устройство системы отопления №1 | B4: c9a16f7b-ba01-11f0-8b59-a036bcbd010b
A5: ГП-72.106.03.11.04 Секция 3_Устройство системы отопления №1 | B5: 5682f546-bb10-11f0-8b59-a036bcbd010b
A6: ГП-72.106.04.11.04 Секция 4_Устройство системы отопления №1 | B6: 9ddc3ebc-bbc2-11f0-8b59-a036bcbd010b
