Workbook

Sheet ЛСР
B2: Локальный сметный расчет (ЛСР) №7
B3: Объект: «Комплексная застройка территории, расположенной в границах улиц: Тобольский тракт - Обход города Тюмени (мкр. Губернаторский). Многоэтажный жилой дом ГП-72.107» Секция 0, 1, 2
B4: Ведомость объемов работ и расхода материалов по работе: Устройство системы водоснабжения и сопутствующим работам (согласно проекту шифр ВК, стадия Р)
A6: № | B6: Наименование | C6: Артикул, марка, производитель | D6: Характеристика | E6: Ед. изм. | F6: Норма расхода | G6: Секция 0 | H6: Секция 1 | I6: Секция 2 | J6: Количество | K6: Цена за ед., руб | L6: Сумма, руб | M6: Примечание | N6: Форма закупа материала
A8: 11 | B8: Внутренние инженерные сети
A9: 11.02 | B9: Устройство системы водоснабжения | L9: =SUM($L$256,$L$147,$L$270,$L$10) -> 0
A10: 11.02.02 | B10: Устройство водоснабжения (горизонтальная разводка) | L10: =SUM($L$139,$L$11) -> 0
A11: 11.02.02.00 | B11: Устройство водоснабжения (горизонтальная разводка) | L11: =SUM($L$132,$L$130,$L$126,$L$124,$L$122,$L$120,$L$113,$L$111,$L$108,$L$106,$L$104,$L$102,$L$98,$L$96,$L$94,$L$92,$L$90,$L$88,$L$81,$L$79,$L$67,$L$65,$L$63,$L$61,$L$53,$L$51,$L$44,$L$42,$L$38,$L$36,$L$34,$L$32,$L$30,$L$28,$L$16,$L$14,$L$12) -> 0
B12: Работы: | L12: =SUM($L$13) -> 0
B13: Бурение отверстий до 100мм | E13: шт | G13: 24 | J13: =SUM($G$13:$I$13) -> 24 | K13: {=INDEX(Р[Цена за ед., руб],MATCH(1,IF(($B13=Р[Наименование])*($M13=Р[Примечание]),{1},($B13=Р[Наименование])*($M13=Р[Примечание])),0))} -> 0 | L13: =ROUND($J$13*$K$13,2) -> 0
B14: Работы: | L14: =SUM($L$15) -> 0
B15: Изоляция трубопровода | E15: м | G15: 798 | H15: 2616 | I15: 5944 | J15: =SUM($G$15:$I$15) -> 9358 | K15: {=INDEX(Р[Цена за ед., руб],MATCH(1,IF(($B15=Р[Наименование])*($M15=Р[Примечание]),{1},($B15=Р[Наименование])*($M15=Р[Примечание])),0))} -> 0 | L15: =ROUND($J$15*$K$15,2) -> 0
B16: Материалы: | L16: =SUM($L$17:$L$27) -> 0
A17: 1 | B17: Теплоизоляция трубная | C17: K-FLEX | D17: 64х13мм вспененный полиэтилен | E17: пог. м | G17: 136 | J17: =SUM($G$17:$I$17) -> 136 | K17: {=INDEX(М[Цена за ед., руб],MATCH(1,IF(($B17=М[Наим.])*($C17=М[Артикул, марка, произв.])*($D17=М[Хар-ка])*($M17=М[Прим.]),{1},($B17=М[Наим.])*($C17=М[Артикул, марка, произв.])*($D17=М[Хар-ка])*($M17=М[Прим.])),0))} -> 0 | L17: =ROUND($J$17*$K$17,2) -> 0 | N17: {=INDEX(М[Форма закупа],MATCH(1,IF(($B17=М[Наим.])*($C17=М[Артикул, марка, произв.])*($D17=М[Хар-ка])*($M17=М[Прим.]),{1},($B17=М[Наим.])*($C17=М[Артикул, марка, произв.])*($D17=М[Хар-ка])*($M17=М[Прим.])),0))} -> 0
A18: 2 | B18: Теплоизоляция трубная | C18: K-FLEX | D18: 76х13мм вспененный полиэтилен | E18: пог. м | G18: 117 | J18: =SUM($G$18:$I$18) -> 117 | K18: {=INDEX(М[Цена за ед., руб],MATCH(1,IF(($B18=М[Наим.])*($C18=М[Артикул, марка, произв.])*($D18=М[Хар-ка])*($M18=М[Прим.]),{1},($B18=М[Наим.])*($C18=М[Артикул, марка, произв.])*($D18=М[Хар-ка])*($M18=М[Прим.])),0))} -> 0 | L18: =ROUND($J$18*$K$18,2) -> 0 | N18: {=INDEX(М[Форма закупа],MATCH(1,IF(($B18=М[Наим.])*($C18=М[Артикул, марка, произв.])*($D18=М[Хар-ка])*($M18=М[Прим.]),{1},($B18=М[Наим.])*($C18=М[Артикул, марка, произв.])*($D18=М[Хар-ка])*($M18=М[Прим.])),0))} -> 0
A19: 3 | B19: Теплоизоляция трубная | C19: K-FLEX | D19: 89х13мм вспененный полиэтилен | E19: пог. м | G19: 20 | J19: =SUM($G$19:$I$19) -> 20 | K19: {=INDEX(М[Цена за ед., руб],MATCH(1,IF(($B19=М[Наим.])*($C19=М[Артикул, марка, произв.])*($D19=М[Хар-ка])*($M19=М[Прим.]),{1},($B19=М[Наим.])*($C19=М[Артикул, марка, произв.])*($D19=М[Хар-ка])*($M19=М[Прим.])),0))} -> 0 | L19: =ROUND($J$19*$K$19,2) -> 0 | N19: {=INDEX(М[Форма закупа],MATCH(1,IF(($B19=М[Наим.])*($C19=М[Артикул, марка, произв.])*($D19=М[Хар-ка])*($M19=М[Прим.]),{1},($B19=М[Наим.])*($C19=М[Артикул, марка, произв.])*($D19=М[Хар-ка])*($M19=М[Прим.])),0))} -> 0
A20: 4 | B20: Теплоизоляция трубная | C20: K-FLEX | D20: 48х13мм вспененный полиэтилен | E20: пог. м | G20: 30 | J20: =SUM($G$20:$I$20) -> 30 | K20: {=INDEX(М[Цена за ед., руб],MATCH(1,IF(($B20=М[Наим.])*($C20=М[Артикул, марка, произв.])*($D20=М[Хар-ка])*($M20=М[Прим.]),{1},($B20=М[Наим.])*($C20=М[Артикул, марка, произв.])*($D20=М[Хар-ка])*($M20=М[Прим.])),0))} -> 0 | L20: =ROUND($J$20*$K$20,2) -> 0 | N20: {=INDEX(М[Форма закупа],MATCH(1,IF(($B20=М[Наим.])*($C20=М[Артикул, марка, произв.])*($D20=М[Хар-ка])*($M20=М[Прим.]),{1},($B20=М[Наим.])*($C20=М[Артикул, марка, произв.])*($D20=М[Хар-ка])*($M20=М[Прим.])),0))} -> 0
A21: 5 | B21: Теплоизоляция трубная | C21: K-FLEX | D21: 57х13мм вспененный полиэтилен | E21: пог. м | G21: 1 | J21: =SUM($G$21:$I$21) -> 1 | K21: {=INDEX(М[Цена за ед., руб],MATCH(1,IF(($B21=М[Наим.])*($C21=М[Артикул, марка, произв.])*($D21=М[Хар-ка])*($M21=М[Прим.]),{1},($B21=М[Наим.])*($C21=М[Артикул, марка, произв.])*($D21=М[Хар-ка])*($M21=М[Прим.])),0))} -> 0 | L21: =ROUND($J$21*$K$21,2) -> 0 | N21: {=INDEX(М[Форма закупа],MATCH(1,IF(($B21=М[Наим.])*($C21=М[Артикул, марка, произв.])*($D21=М[Хар-ка])*($M21=М[Прим.]),{1},($B21=М[Наим.])*($C21=М[Артикул, марка, произв.])*($D21=М[Хар-ка])*($M21=М[Прим.])),0))} -> 0
A22: 6 | B22: Теплоизоляция трубная | C22: K-FLEX | D22: 50х13мм вспененный полиэтилен | E22: пог. м | G22: 41 | J22: =SUM($G$22:$I$22) -> 41 | K22: {=INDEX(М[Цена за ед., руб],MATCH(1,IF(($B22=М[Наим.])*($C22=М[Артикул, марка, произв.])*($D22=М[Хар-ка])*($M22=М[Прим.]),{1},($B22=М[Наим.])*($C22=М[Артикул, марка, произв.])*($D22=М[Хар-ка])*($M22=М[Прим.])),0))} -> 0 | L22: =ROUND($J$22*$K$22,2) -> 0 | N22: {=INDEX(М[Форма закупа],MATCH(1,IF(($B22=М[Наим.])*($C22=М[Артикул, марка, произв.])*($D22=М[Хар-ка])*($M22=М[Прим.]),{1},($B22=М[Наим.])*($C22=М[Артикул, марка, произв.])*($D22=М[Хар-ка])*($M22=М[Прим.])),0))} -> 0
A23: 7 | B23: Теплоизоляция трубная | C23: K-FLEX | D23: 110х13мм вспененный полиэтилен | E23: пог. м | G23: 23 | J23: =SUM($G$23:$I$23) -> 23 | K23: {=INDEX(М[Цена за ед., руб],MATCH(1,IF(($B23=М[Наим.])*($C23=М[Артикул, марка, произв.])*($D23=М[Хар-ка])*($M23=М[Прим.]),{1},($B23=М[Наим.])*($C23=М[Артикул, марка, произв.])*($D23=М[Хар-ка])*($M23=М[Прим.])),0))} -> 0 | L23: =ROUND($J$23*$K$23,2) -> 0 | N23: {=INDEX(М[Форма закупа],MATCH(1,IF(($B23=М[Наим.])*($C23=М[Артикул, марка, произв.])*($D23=М[Хар-ка])*($M23=М[Прим.]),{1},($B23=М[Наим.])*($C23=М[Артикул, марка, произв.])*($D23=М[Хар-ка])*($M23=М[Прим.])),0))} -> 0
A24: 8 | B24: Теплоизоляция трубная | C24: K-FLEX | D24: 22х13мм вспененный полиэтилен | E24: пог. м | H24: 2600 | I24: 5928 | J24: =SUM($G$24:$I$24) -> 8528 | K24: {=INDEX(М[Цена за ед., руб],MATCH(1,IF(($B24=М[Наим.])*($C24=М[Артикул, марка, произв.])*($D24=М[Хар-ка])*($M24=М[Прим.]),{1},($B24=М[Наим.])*($C24=М[Артикул, марка, произв.])*($D24=М[Хар-ка])*($M24=М[Прим.])),0))} -> 0 | L24: =ROUND($J$24*$K$24,2) -> 0 | N24: {=INDEX(М[Форма закупа],MATCH(1,IF(($B24=М[Наим.])*($C24=М[Артикул, марка, произв.])*($D24=М[Хар-ка])*($M24=М[Прим.]),{1},($B24=М[Наим.])*($C24=М[Артикул, марка, произв.])*($D24=М[Хар-ка])*($M24=М[Прим.])),0))} -> 0
A25: 9 | B25: Теплоизоляция трубная | C25: K-FLEX | D25: 28х13мм вспененный полиэтилен | E25: пог. м | G25: 240 | H25: 16 | I25: 16 | J25: =SUM($G$25:$I$25) -> 272 | K25: {=INDEX(М[Цена за ед., руб],MATCH(1,IF(($B25=М[Наим.])*($C25=М[Артикул, марка, произв.])*($D25=М[Хар-ка])*($M25=М[Прим.]),{1},($B25=М[Наим.])*($C25=М[Артикул, марка, произв.])*($D25=М[Хар-ка])*($M25=М[Прим.])),0))} -> 0 | L25: =ROUND($J$25*$K$25,2) -> 0 | N25: {=INDEX(М[Форма закупа],MATCH(1,IF(($B25=М[Наим.])*($C25=М[Артикул, марка, произв.])*($D25=М[Хар-ка])*($M25=М[Прим.]),{1},($B25=М[Наим.])*($C25=М[Артикул, марка, произв.])*($D25=М[Хар-ка])*($M25=М[Прим.])),0))} -> 0
A26: 10 | B26: Теплоизоляция трубная | C26: K-FLEX | D26: 35х13мм вспененный полиэтилен | E26: пог. м | G26: 170 | J26: =SUM($G$26:$I$26) -> 170 | K26: {=INDEX(М[Цена за ед., руб],MATCH(1,IF(($B26=М[Наим.])*($C26=М[Артикул, марка, произв.])*($D26=М[Хар-ка])*($M26=М[Прим.]),{1},($B26=М[Наим.])*($C26=М[Артикул, марка, произв.])*($D26=М[Хар-ка])*($M26=М[Прим.])),0))} -> 0 | L26: =ROUND($J$26*$K$26,2) -> 0 | N26: {=INDEX(М[Форма закупа],MATCH(1,IF(($B26=М[Наим.])*($C26=М[Артикул, марка, произв.])*($D26=М[Хар-ка])*($M26=М[Прим.]),{1},($B26=М[Наим.])*($C26=М[Артикул, марка, произв.])*($D26=М[Хар-ка])*($M26=М[Прим.])),0))} -> 0
A27: 11 | B27: Теплоизоляция трубная | C27: K-FLEX | D27: 42х13мм вспененный полиэтилен | E27: пог. м | G27: 20 | J27: =SUM($G$27:$I$27) -> 20 | K27: {=INDEX(М[Цена за ед., руб],MATCH(1,IF(($B27=М[Наим.])*($C27=М[Артикул, марка, произв.])*($D27=М[Хар-ка])*($M27=М[Прим.]),{1},($B27=М[Наим.])*($C27=М[Артикул, марка, произв.])*($D27=М[Хар-ка])*($M27=М[Прим.])),0))} -> 0 | L27: =ROUND($J$27*$K$27,2) -> 0 | N27: {=INDEX(М[Форма закупа],MATCH(1,IF(($B27=М[Наим.])*($C27=М[Артикул, марка, произв.])*($D27=М[Хар-ка])*($M27=М[Прим.]),{1},($B27=М[Наим.])*($C27=М[Артикул, марка, произв.])*($D27=М[Хар-ка])*($M27=М[Прим.])),0))} -> 0
B28: Работы: | L28: =SUM($L$29) -> 0
B29: Монтаж автоматического воздухоотводчика | E29: шт | H29: 8 | I29: 8 | J29: =SUM($G$29:$I$29) -> 16 | K29: {=INDEX(Р[Цена за ед., руб],MATCH(1,IF(($B29=Р[Наименование])*($M29=Р[Примечание]),{1},($B29=Р[Наименование])*($M29=Р[Примечание])),0))} -> 0 | L29: =ROUND($J$29*$K$29,2) -> 0
B30: Материалы: | L30: =SUM($L$31) -> 0
A31: 1 | B31: Воздухоотводчик | C31: Valtec | D31: автоматический Ду-15 10bar | E31: шт | H31: 8 | I31: 8 | J31: =SUM($G$31:$I$31) -> 16 | K31: {=INDEX(М[Цена за ед., руб],MATCH(1,IF(($B31=М[Наим.])*($C31=М[Артикул, марка, произв.])*($D31=М[Хар-ка])*($M31=М[Прим.]),{1},($B31=М[Наим.])*($C31=М[Артикул, марка, произв.])*($D31=М[Хар-ка])*($M31=М[Прим.])),0))} -> 0 | L31: =ROUND($J$31*$K$31,2) -> 0 | N31: {=INDEX(М[Форма закупа],MATCH(1,IF(($B31=М[Наим.])*($C31=М[Артикул, марка, произв.])*($D31=М[Хар-ка])*($M31=М[Прим.]),{1},($B31=М[Наим.])*($C31=М[Артикул, марка, произв.])*($D31=М[Хар-ка])*($M31=М[Прим.])),0))} -> 0
B32: Работы: | L32: =SUM($L$33) -> 0
B33: Монтаж затвора | E33: шт | G33: 2 | J33: =SUM($G$33:$I$33) -> 2 | K33: {=INDEX(Р[Цена за ед., руб],MATCH(1,IF(($B33=Р[Наименование])*($M33=Р[Примечание]),{1},($B33=Р[Наименование])*($M33=Р[Примечание])),0))} -> 0 | L33: =ROUND($J$33*$K$33,2) -> 0
B34: Материалы: | L34: =SUM($L$35) -> 0
A35: 1 | B35: Затвор поворотный дисковый | C35: REON | D35: межфланцевый Ду-80 Py-16bar ручной с контролем положения | E35: шт | G35: 2 | J35: =SUM($G$35:$I$35) -> 2 | K35: {=INDEX(М[Цена за ед., руб],MATCH(1,IF(($B35=М[Наим.])*($C35=М[Артикул, марка, произв.])*($D35=М[Хар-ка])*($M35=М[Прим.]),{1},($B35=М[Наим.])*($C35=М[Артикул, марка, произв.])*($D35=М[Хар-ка])*($M35=М[Прим.])),0))} -> 0 | L35: =ROUND($J$35*$K$35,2) -> 0 | N35: {=INDEX(М[Форма закупа],MATCH(1,IF(($B35=М[Наим.])*($C35=М[Артикул, марка, произв.])*($D35=М[Хар-ка])*($M35=М[Прим.]),{1},($B35=М[Наим.])*($C35=М[Артикул, марка, произв.])*($D35=М[Хар-ка])*($M35=М[Прим.])),0))} -> 0
B36: Работы: | L36: =SUM($L$37) -> 0
B37: Монтаж клапана (фланцевые, резьбовые) до 32 мм | E37: шт | G37: 6 | H37: 8 | I37: 8 | J37: =SUM($G$37:$I$37) -> 22 | K37: {=INDEX(Р[Цена за ед., руб],MATCH(1,IF(($B37=Р[Наименование])*($M37=Р[Примечание]),{1},($B37=Р[Наименование])*($M37=Р[Примечание])),0))} -> 0 | L37: =ROUND($J$37*$K$37,2) -> 0
B38: Материалы: | L38: =SUM($L$39:$L$41) -> 0
A39: 1 | B39: Клапан балансировочный | C39: Weser | D39: ручной MVT-R Ду-25 Ру-16бар | E39: шт | G39: 4 | J39: =SUM($G$39:$I$39) -> 4 | K39: {=INDEX(М[Цена за ед., руб],MATCH(1,IF(($B39=М[Наим.])*($C39=М[Артикул, марка, произв.])*($D39=М[Хар-ка])*($M39=М[Прим.]),{1},($B39=М[Наим.])*($C39=М[Артикул, марка, произв.])*($D39=М[Хар-ка])*($M39=М[Прим.])),0))} -> 0 | L39: =ROUND($J$39*$K$39,2) -> 0 | N39: {=INDEX(М[Форма закупа],MATCH(1,IF(($B39=М[Наим.])*($C39=М[Артикул, марка, произв.])*($D39=М[Хар-ка])*($M39=М[Прим.]),{1},($B39=М[Наим.])*($C39=М[Артикул, марка, произв.])*($D39=М[Хар-ка])*($M39=М[Прим.])),0))} -> 0
A40: 2 | B40: Клапан обратный | C40: Valtec | D40: муфтовый Ду-20 Ру-16бар | E40: шт | G40: 2 | J40: =SUM($G$40:$I$40) -> 2 | K40: {=INDEX(М[Цена за ед., руб],MATCH(1,IF(($B40=М[Наим.])*($C40=М[Артикул, марка, произв.])*($D40=М[Хар-ка])*($M40=М[Прим.]),{1},($B40=М[Наим.])*($C40=М[Артикул, марка, произв.])*($D40=М[Хар-ка])*($M40=М[Прим.])),0))} -> 0 | L40: =ROUND($J$40*$K$40,2) -> 0 | N40: {=INDEX(М[Форма закупа],MATCH(1,IF(($B40=М[Наим.])*($C40=М[Артикул, марка, произв.])*($D40=М[Хар-ка])*($M40=М[Прим.]),{1},($B40=М[Наим.])*($C40=М[Артикул, марка, произв.])*($D40=М[Хар-ка])*($M40=М[Прим.])),0))} -> 0
A41: 3 | B41: Клапан регулирующий | C41: Valtec | D41: понижения давления резьбовой Ду-15Ру-10 бар | E41: шт | H41: 8 | I41: 8 | J41: =SUM($G$41:$I$41) -> 16 | K41: {=INDEX(М[Цена за ед., руб],MATCH(1,IF(($B41=М[Наим.])*($C41=М[Артикул, марка, произв.])*($D41=М[Хар-ка])*($M41=М[Прим.]),{1},($B41=М[Наим.])*($C41=М[Артикул, марка, произв.])*($D41=М[Хар-ка])*($M41=М[Прим.])),0))} -> 0 | L41: =ROUND($J$41*$K$41,2) -> 0 | N41: {=INDEX(М[Форма закупа],MATCH(1,IF(($B41=М[Наим.])*($C41=М[Артикул, марка, произв.])*($D41=М[Хар-ка])*($M41=М[Прим.]),{1},($B41=М[Наим.])*($C41=М[Артикул, марка, произв.])*($D41=М[Хар-ка])*($M41=М[Прим.])),0))} -> 0
B42: Работы: | L42: =SUM($L$43) -> 0
B43: Монтаж клапана (фланцевые, резьбовые) от 40 мм | E43: шт | G43: 11 | J43: =SUM($G$43:$I$43) -> 11 | K43: {=INDEX(Р[Цена за ед., руб],MATCH(1,IF(($B43=Р[Наименование])*($M43=Р[Примечание]),{1},($B43=Р[Наименование])*($M43=Р[Примечание])),0))} -> 0 | L43: =ROUND($J$43*$K$43,2) -> 0
...

Sheet Работы
A1: Сводная ведомость объемов работ
A3: Наименование | B3: Ед. изм. | C3: Количество | D3: Цена за ед., руб | E3: Сумма, руб | F3: Примечание
A4: Бурение отверстий до 100мм | B4: шт | C4: 24 | E4: =ROUND(Р[[#This Row],[Количество]]*Р[[#This Row],[Цена за ед., руб]],2) -> 0
A5: Изоляция трубопровода | B5: м | C5: 9862 | E5: =ROUND(Р[[#This Row],[Количество]]*Р[[#This Row],[Цена за ед., руб]],2) -> 0
A6: Монтаж автоматического воздухоотводчика | B6: шт | C6: 24 | E6: =ROUND(Р[[#This Row],[Количество]]*Р[[#This Row],[Цена за ед., руб]],2) -> 0
A7: Монтаж затвора | B7: шт | C7: 2 | E7: =ROUND(Р[[#This Row],[Количество]]*Р[[#This Row],[Цена за ед., руб]],2) -> 0
A8: Монтаж клапана (фланцевые, резьбовые) до 32 мм | B8: шт | C8: 22 | E8: =ROUND(Р[[#This Row],[Количество]]*Р[[#This Row],[Цена за ед., руб]],2) -> 0
A9: Монтаж клапана (фланцевые, резьбовые) от 40 мм | B9: шт | C9: 11 | E9: =ROUND(Р[[#This Row],[Количество]]*Р[[#This Row],[Цена за ед., руб]],2) -> 0
A10: Монтаж коллектора | B10: шт | C10: 114 | E10: =ROUND(Р[[#This Row],[Количество]]*Р[[#This Row],[Цена за ед., руб]],2) -> 0
A11: Монтаж крана с электроприводом | B11: шт | C11: 412 | E11: =ROUND(Р[[#This Row],[Количество]]*Р[[#This Row],[Цена за ед., руб]],2) -> 0
A12: Монтаж кранов (фланцевые, резьбовые) до 32 мм | B12: шт | C12: 399 | E12: =ROUND(Р[[#This Row],[Количество]]*Р[[#This Row],[Цена за ед., руб]],2) -> 0
A13: Монтаж кранов (фланцевые, резьбовые) от 40 мм | B13: шт | C13: 27 | E13: =ROUND(Р[[#This Row],[Количество]]*Р[[#This Row],[Цена за ед., руб]],2) -> 0
A14: Монтаж насосной установки повышения давления | B14: шт | C14: 1 | E14: =ROUND(Р[[#This Row],[Количество]]*Р[[#This Row],[Цена за ед., руб]],2) -> 0
A15: Монтаж НСПС | B15: шт | C15: 2 | E15: =ROUND(Р[[#This Row],[Количество]]*Р[[#This Row],[Цена за ед., руб]],2) -> 0
... A30: Прочие работы (навигация) | B30: компл. | C30: 2 | E30: =ROUND(Р[[#This Row],[Количество]]*Р[[#This Row],[Цена за ед., руб]],2) -> 0
A31: Итог | E31: =SUBTOTAL(109,Р[Сумма, руб]) -> 0
D33: Проверка: | E33: =ЛСР!L275-Р[[#Totals],[Сумма, руб]] -> 0

Sheet Материалы
A1: Сводная ведомость объемов материала
A3: Наим. | B3: Артикул, марка, произв. | C3: Хар-ка | D3: Ед. изм. | E3: Количество | F3: Цена за ед., руб | G3: Сумма, руб | H3: Прим. | I3: Форма закупа
A4: Окожушка | C4: оцинк. сталь 0,5мм | D4: м2 | E4: 18 | G4: =ROUND(М[[#This Row],[Количество]]*М[[#This Row],[Цена за ед., руб]],2) -> 0 | H4: гильзы
A5: Труба стальная | C5: 12Х18Н10Т сварка D-26x2.5 | D5: м | E5: 30 | G5: =ROUND(М[[#This Row],[Количество]]*М[[#This Row],[Цена за ед., руб]],2) -> 0
A6: Труба стальная | C6: 12Х18Н10Т сварка D-108x4.0 | D6: м | E6: 23 | G6: =ROUND(М[[#This Row],[Количество]]*М[[#This Row],[Цена за ед., руб]],2) -> 0
A7: Труба стальная | C7: 12Х18Н10Т сварка D-48x3.5 | D7: м | E7: 30 | G7: =ROUND(М[[#This Row],[Количество]]*М[[#This Row],[Цена за ед., руб]],2) -> 0
A8: Труба стальная | C8: 12Х18Н10Т сварка D-57x3.5 | D8: м | E8: 1 | G8: =ROUND(М[[#This Row],[Количество]]*М[[#This Row],[Цена за ед., руб]],2) -> 0
A9: Труба стальная | C9: 12Х18Н10Т сварка D-89x4.5 | D9: м | E9: 45 | G9: =ROUND(М[[#This Row],[Количество]]*М[[#This Row],[Цена за ед., руб]],2) -> 0
A10: Труба стальная | C10: 12Х18Н10Т сварка D-22x3 | D10: м | E10: 0.5 | G10: =ROUND(М[[#This Row],[Количество]]*М[[#This Row],[Цена за ед., руб]],2) -> 0
A11: Труба стальная | C11: 12Х18Н10Т сварка D-76x3.5 | D11: м | E11: 34 | G11: =ROUND(М[[#This Row],[Количество]]*М[[#This Row],[Цена за ед., руб]],2) -> 0
A12: Присоединители для счетчика | D12: компл. | E12: 432 | G12: =ROUND(М[[#This Row],[Количество]]*М[[#This Row],[Цена за ед., руб]],2) -> 0 | H12: с обратным клапаном
A13: Вставка ремонтная | C13: для счетчика Ду50 мм | D13: шт | E13: 1 | G13: =ROUND(М[[#This Row],[Количество]]*М[[#This Row],[Цена за ед., руб]],2) -> 0
A14: Вставка ремонтная | C14: для счетчика Ду15 мм | D14: шт | E14: 432 | G14: =ROUND(М[[#This Row],[Количество]]*М[[#This Row],[Цена за ед., руб]],2) -> 0
A15: Переход | C15: сварной Д125/108 ПЭ / Сталь | D15: шт | E15: 2 | G15: =ROUND(М[[#This Row],[Количество]]*М[[#This Row],[Цена за ед., руб]],2) -> 0
A16: УВП | C16: в сумке | D16: шт | E16: 206 | G16: =ROUND(М[[#This Row],[Количество]]*М[[#This Row],[Цена за ед., руб]],2) -> 0
A17: Счетчик воды | B17: Пульсар | C17: с импульсным выходом Ду-50 Qn- L- | D17: шт | E17: 1 | G17: =ROUND(М[[#This Row],[Количество]]*М[[#This Row],[Цена за ед., руб]],2) -> 0 | H17: Счетчик с импульсным выходом и системой передачи показаний по RS-485 Ду 50 Qn=40 м3/ч , Qmin=0,45 м3/ч , IP68
A18: Счетчик воды | B18: Пульсар | C18: с импульсным выходом Ду-15 Qn-1,5м3/час L-110мм | D18: шт | E18: 432 | G18: =ROUND(М[[#This Row],[Количество]]*М[[#This Row],[Цена за ед., руб]],2) -> 0
A19: Затвор поворотный дисковый | B19: REON | C19: межфланцевый Ду-80 Py-16bar ручной с контролем положения | D19: шт | E19: 2 | G19: =ROUND(М[[#This Row],[Количество]]*М[[#This Row],[Цена за ед., руб]],2) -> 0
A20: Труба полипропиленовая | C20: PPH PN20 DN50х8,3 арм.стекловолокно | D20: пог. м | E20: 231 | G20: =ROUND(М[[#This Row],[Количество]]*М[[#This Row],[Цена за ед., руб]],2) -> 0
A21: Труба полипропиленовая | C21: PPH PN25 DN25х4,2 арм.стекловолокно | D21: пог. м | E21: 450 | G21: =ROUND(М[[#This Row],[Количество]]*М[[#This Row],[Цена за ед., руб]],2) -> 0
A22: Труба полипропиленовая | C22: PPH PN20 DN32х5,4 арм.стекловолокно | D22: пог. м | E22: 265 | G22: =ROUND(М[[#This Row],[Количество]]*М[[#This Row],[Цена за ед., руб]],2) -> 0
A23: Труба полипропиленовая | C23: PPH PN20 DN40х6,7 арм.стекловолокно | D23: пог. м | E23: 249 | G23: =ROUND(М[[#This Row],[Количество]]*М[[#This Row],[Цена за ед., руб]],2) -> 0
A24: Труба полипропиленовая | C24: PPH PN20 DN63х10,5 арм.стекловолокно | D24: пог. м | E24: 350 | G24: =ROUND(М[[#This Row],[Количество]]*М[[#This Row],[Цена за ед., руб]],2) -> 0
A25: Труба полипропиленовая | C25: PPH PN20 DN75х12,5 арм.стекловолокно | D25: пог. м | E25: 83 | G25: =ROUND(М[[#This Row],[Количество]]*М[[#This Row],[Цена за ед., руб]],2) -> 0
A26: Труба электросварная (пог.м.) | C26: стальная D-89х4,0 | D26: пог. м | E26: 8 | G26: =ROUND(М[[#This Row],[Количество]]*М[[#This Row],[Цена за ед., руб]],2) -> 0
A27: Труба электросварная (пог.м.) | C27: стальная D-108х4,0 | D27: пог. м | E27: 8 | G27: =ROUND(М[[#This Row],[Количество]]*М[[#This Row],[Цена за ед., руб]],2) -> 0
A28: Труба электросварная (пог.м.) | C28: стальная D-76х3,5 | D28: пог. м | E28: 12 | G28: =ROUND(М[[#This Row],[Количество]]*М[[#This Row],[Цена за ед., руб]],2) -> 0 | H28: гильзы
A29: Кран шаровой | B29: Valtec | C29: Ду-15 полнопроходный с НГ | D29: шт | E29: 25 | G29: =ROUND(М[[#This Row],[Количество]]*М[[#This Row],[Цена за ед., руб]],2) -> 0
A30: Кран шаровой | B30: Valtec | C30: Ду-20 полнопроходный с НГ | D30: шт | E30: 12 | G30: =ROUND(М[[#This Row],[Количество]]*М[[#This Row],[Цена за ед., руб]],2) -> 0
A31: Кран шаровой | B31: Valtec | C31: Ду-25 полнопроходный с НГ | D31: шт | E31: 8 | G31: =ROUND(М[[#This Row],[Количество]]*М[[#This Row],[Цена за ед., руб]],2) -> 0
A32: Кран шаровой | B32: Valtec | C32: Ду-32 полнопроходный с НГ | D32: шт | E32: 2 | G32: =ROUND(М[[#This Row],[Количество]]*М[[#This Row],[Цена за ед., руб]],2) -> 0
A33: Кран шаровой | B33: Gidrolock | C33: муфтовый с электроприводом В/В Ду-15 полнопроходной | D33: шт | E33: 412 | G33: =ROUND(М[[#This Row],[Количество]]*М[[#This Row],[Цена за ед., руб]],2) -> 0
A34: Кран шаровой | B34: Valtec | C34: c НГ Ду-50 полнопроходной | D34: шт | E34: 8 | G34: =ROUND(М[[#This Row],[Количество]]*М[[#This Row],[Цена за ед., руб]],2) -> 0
A35: Кран шаровой | B35: Valtec | C35: муфтовый со штуцером Ду-20 | D35: шт | E35: 4 | G35: =ROUND(М[[#This Row],[Количество]]*М[[#This Row],[Цена за ед., руб]],2) -> 0
A36: Кран шаровой | B36: LD | C36: фланцевый Ду-100 PN1,6 с электроприводом | D36: шт | E36: 1 | G36: =ROUND(М[[#This Row],[Количество]]*М[[#This Row],[Цена за ед., руб]],2) -> 0
A37: Кран шаровой | B37: LD | C37: межфланцевый СТРИЖ Ду-50 PN1,6 | D37: шт | E37: 3 | G37: =ROUND(М[[#This Row],[Количество]]*М[[#This Row],[Цена за ед., руб]],2) -> 0
A38: Кран шаровой | B38: LD | C38: межфланцевый СТРИЖ Ду-65 PN1,6 | D38: шт | E38: 1 | G38: =ROUND(М[[#This Row],[Количество]]*М[[#This Row],[Цена за ед., руб]],2) -> 0
A39: Кран шаровой | B39: Valtec | C39: ВР-ВР Ду-15 полнопроходной | D39: шт | E39: 119 | G39: =ROUND(М[[#This Row],[Количество]]*М[[#This Row],[Цена за ед., руб]],2) -> 0
A40: Кран шаровой | B40: Valtec | C40: ВР-ВР Ду-20 полнопроходной | D40: шт | E40: 4 | G40: =ROUND(М[[#This Row],[Количество]]*М[[#This Row],[Цена за ед., руб]],2) -> 0
A41: Кран шаровой | B41: LD | C41: фланцевый Ду-80 | D41: шт | E41: 9 | G41: =ROUND(М[[#This Row],[Количество]]*М[[#This Row],[Цена за ед., руб]],2) -> 0
...

Sheet ПараметрыЗагрузки
A1: ЛСР | B1: ЛСРГуид
A2: ГП-72.107.01.11.02 Подвал_Устройство системы водоснабжения №1 | B2: 7518ebe8-ba01-11f0-8b59-a036bcbd010b
A3: ГП-72.107.01.11.02 Секция 1_Устройство системы водоснабжения №2 | B3: 39c021e3-c0f5-11f0-8b59-a036bcbd010b
A4: ГП-72.107.02.11.02 Секция 2_Устройство системы водоснабжения №1 | B4: f6da4107-c106-11f0-8b59-a036bcbd010b
