Workbook

Sheet ЛСР
B2: Локальный сметный расчет (ЛСР) №5
B3: Объект: «Комплексная застройка территории, расположенной в границах улиц: Тобольский тракт - Обход города Тюмени (мкр. Губернаторский). Многоэтажный жилой дом ГП-72.105» Секция 1
B4: Ведомость объемов работ и расхода материалов по работе: Устройство системы водоснабжения и сопутствующим работам (согласно проекту шифр ВК, стадия Р)
A6: № | B6: Наименование | C6: Артикул, марка, производитель | D6: Характеристика | E6: Ед. изм. | F6: Норма расхода | G6: Секция 1 | H6: Количество | I6: Цена за ед., руб | J6: Сумма, руб | K6: Примечание | L6: Форма закупа материала
A8: 11 | B8: Внутренние инженерные сети
A9: 11.02 | B9: Устройство системы водоснабжения | J9: =SUM($J$225,$J$129,$J$239,$J$10) -> 0
A10: 11.02.02 | B10: Устройство водоснабжения (горизонтальная разводка) | J10: =SUM($J$121,$J$11) -> 0
A11: 11.02.02.00 | B11: Устройство водоснабжения (горизонтальная разводка) | J11: =SUM($J$237,$J$114,$J$112,$J$108,$J$106,$J$103,$J$101,$J$96,$J$94,$J$91,$J$89,$J$87,$J$85,$J$81,$J$79,$J$77,$J$75,$J$72,$J$70,$J$64,$J$62,$J$53,$J$51,$J$49,$J$47,$J$45,$J$43,$J$40,$J$38,$J$33,$J$31,$J$29,$J$27,$J$16,$J$14,$J$12) -> 0
B12: Работы: | J12: =SUM($J$13) -> 0
B13: Бурение отверстий до 100мм | E13: шт | G13: 12 | H13: =SUM($G$13:$G$13) -> 12 | I13: {=INDEX(Р[Цена за ед., руб],MATCH(1,IF(($B13=Р[Наименование])*($K13=Р[Примечание]),{1},($B13=Р[Наименование])*($K13=Р[Примечание])),0))} -> 0 | J13: =ROUND($H$13*$I$13,2) -> 0
B14: Работы: | J14: =SUM($J$15) -> 0
B15: Изоляция трубопровода | E15: м | G15: 6797 | H15: =SUM($G$15:$G$15) -> 6797 | I15: {=INDEX(Р[Цена за ед., руб],MATCH(1,IF(($B15=Р[Наименование])*($K15=Р[Примечание]),{1},($B15=Р[Наименование])*($K15=Р[Примечание])),0))} -> 0 | J15: =ROUND($H$15*$I$15,2) -> 0
B16: Материалы: | J16: =SUM($J$17:$J$26) -> 0
A17: 1 | B17: Теплоизоляция трубная | C17: K-FLEX | D17: 64х13мм вспененный полиэтилен | E17: пог. м | G17: 48 | H17: =SUM($G$17:$G$17) -> 48 | I17: {=INDEX(М[Цена за ед., руб],MATCH(1,IF(($B17=М[Наим.])*($C17=М[Артикул, марка, произв.])*($D17=М[Хар-ка])*($K17=М[Прим.]),{1},($B17=М[Наим.])*($C17=М[Артикул, марка, произв.])*($D17=М[Хар-ка])*($K17=М[Прим.])),0))} -> 0 | J17: =ROUND($H$17*$I$17,2) -> 0 | L17: {=INDEX(М[Форма закупа],MATCH(1,IF(($B17=М[Наим.])*($C17=М[Артикул, марка, произв.])*($D17=М[Хар-ка])*($K17=М[Прим.]),{1},($B17=М[Наим.])*($C17=М[Артикул, марка, произв.])*($D17=М[Хар-ка])*($K17=М[Прим.])),0))} -> 0
A18: 2 | B18: Теплоизоляция трубная | C18: K-FLEX | D18: 76х13мм вспененный полиэтилен | E18: пог. м | G18: 5 | H18: =SUM($G$18:$G$18) -> 5 | I18: {=INDEX(М[Цена за ед., руб],MATCH(1,IF(($B18=М[Наим.])*($C18=М[Артикул, марка, произв.])*($D18=М[Хар-ка])*($K18=М[Прим.]),{1},($B18=М[Наим.])*($C18=М[Артикул, марка, произв.])*($D18=М[Хар-ка])*($K18=М[Прим.])),0))} -> 0 | J18: =ROUND($H$18*$I$18,2) -> 0 | L18: {=INDEX(М[Форма закупа],MATCH(1,IF(($B18=М[Наим.])*($C18=М[Артикул, марка, произв.])*($D18=М[Хар-ка])*($K18=М[Прим.]),{1},($B18=М[Наим.])*($C18=М[Артикул, марка, произв.])*($D18=М[Хар-ка])*($K18=М[Прим.])),0))} -> 0
A19: 3 | B19: Теплоизоляция трубная | C19: K-FLEX | D19: 89х13мм вспененный полиэтилен | E19: пог. м | G19: 20 | H19: =SUM($G$19:$G$19) -> 20 | I19: {=INDEX(М[Цена за ед., руб],MATCH(1,IF(($B19=М[Наим.])*($C19=М[Артикул, марка, произв.])*($D19=М[Хар-ка])*($K19=М[Прим.]),{1},($B19=М[Наим.])*($C19=М[Артикул, марка, произв.])*($D19=М[Хар-ка])*($K19=М[Прим.])),0))} -> 0 | J19: =ROUND($H$19*$I$19,2) -> 0 | L19: {=INDEX(М[Форма закупа],MATCH(1,IF(($B19=М[Наим.])*($C19=М[Артикул, марка, произв.])*($D19=М[Хар-ка])*($K19=М[Прим.]),{1},($B19=М[Наим.])*($C19=М[Артикул, марка, произв.])*($D19=М[Хар-ка])*($K19=М[Прим.])),0))} -> 0
A20: 4 | B20: Теплоизоляция трубная | C20: K-FLEX | D20: 48х13мм вспененный полиэтилен | E20: пог. м | G20: 12 | H20: =SUM($G$20:$G$20) -> 12 | I20: {=INDEX(М[Цена за ед., руб],MATCH(1,IF(($B20=М[Наим.])*($C20=М[Артикул, марка, произв.])*($D20=М[Хар-ка])*($K20=М[Прим.]),{1},($B20=М[Наим.])*($C20=М[Артикул, марка, произв.])*($D20=М[Хар-ка])*($K20=М[Прим.])),0))} -> 0 | J20: =ROUND($H$20*$I$20,2) -> 0 | L20: {=INDEX(М[Форма закупа],MATCH(1,IF(($B20=М[Наим.])*($C20=М[Артикул, марка, произв.])*($D20=М[Хар-ка])*($K20=М[Прим.]),{1},($B20=М[Наим.])*($C20=М[Артикул, марка, произв.])*($D20=М[Хар-ка])*($K20=М[Прим.])),0))} -> 0
A21: 5 | B21: Теплоизоляция трубная | C21: K-FLEX | D21: 57х13мм вспененный полиэтилен | E21: пог. м | G21: 40 | H21: =SUM($G$21:$G$21) -> 40 | I21: {=INDEX(М[Цена за ед., руб],MATCH(1,IF(($B21=М[Наим.])*($C21=М[Артикул, марка, произв.])*($D21=М[Хар-ка])*($K21=М[Прим.]),{1},($B21=М[Наим.])*($C21=М[Артикул, марка, произв.])*($D21=М[Хар-ка])*($K21=М[Прим.])),0))} -> 0 | J21: =ROUND($H$21*$I$21,2) -> 0 | L21: {=INDEX(М[Форма закупа],MATCH(1,IF(($B21=М[Наим.])*($C21=М[Артикул, марка, произв.])*($D21=М[Хар-ка])*($K21=М[Прим.]),{1},($B21=М[Наим.])*($C21=М[Артикул, марка, произв.])*($D21=М[Хар-ка])*($K21=М[Прим.])),0))} -> 0
A22: 6 | B22: Теплоизоляция трубная | C22: K-FLEX | D22: 50х13мм вспененный полиэтилен | E22: пог. м | G22: 111 | H22: =SUM($G$22:$G$22) -> 111 | I22: {=INDEX(М[Цена за ед., руб],MATCH(1,IF(($B22=М[Наим.])*($C22=М[Артикул, марка, произв.])*($D22=М[Хар-ка])*($K22=М[Прим.]),{1},($B22=М[Наим.])*($C22=М[Артикул, марка, произв.])*($D22=М[Хар-ка])*($K22=М[Прим.])),0))} -> 0 | J22: =ROUND($H$22*$I$22,2) -> 0 | L22: {=INDEX(М[Форма закупа],MATCH(1,IF(($B22=М[Наим.])*($C22=М[Артикул, марка, произв.])*($D22=М[Хар-ка])*($K22=М[Прим.]),{1},($B22=М[Наим.])*($C22=М[Артикул, марка, произв.])*($D22=М[Хар-ка])*($K22=М[Прим.])),0))} -> 0
A23: 7 | B23: Теплоизоляция трубная | C23: K-FLEX | D23: 22х9мм вспененный полиэтилен | E23: пог. м | G23: 6279 | H23: =SUM($G$23:$G$23) -> 6279 | I23: {=INDEX(М[Цена за ед., руб],MATCH(1,IF(($B23=М[Наим.])*($C23=М[Артикул, марка, произв.])*($D23=М[Хар-ка])*($K23=М[Прим.]),{1},($B23=М[Наим.])*($C23=М[Артикул, марка, произв.])*($D23=М[Хар-ка])*($K23=М[Прим.])),0))} -> 0 | J23: =ROUND($H$23*$I$23,2) -> 0 | L23: {=INDEX(М[Форма закупа],MATCH(1,IF(($B23=М[Наим.])*($C23=М[Артикул, марка, произв.])*($D23=М[Хар-ка])*($K23=М[Прим.]),{1},($B23=М[Наим.])*($C23=М[Артикул, марка, произв.])*($D23=М[Хар-ка])*($K23=М[Прим.])),0))} -> 0
A24: 8 | B24: Теплоизоляция трубная | C24: K-FLEX | D24: 110х13мм вспененный полиэтилен | E24: пог. м | G24: 8 | H24: =SUM($G$24:$G$24) -> 8 | I24: {=INDEX(М[Цена за ед., руб],MATCH(1,IF(($B24=М[Наим.])*($C24=М[Артикул, марка, произв.])*($D24=М[Хар-ка])*($K24=М[Прим.]),{1},($B24=М[Наим.])*($C24=М[Артикул, марка, произв.])*($D24=М[Хар-ка])*($K24=М[Прим.])),0))} -> 0 | J24: =ROUND($H$24*$I$24,2) -> 0 | L24: {=INDEX(М[Форма закупа],MATCH(1,IF(($B24=М[Наим.])*($C24=М[Артикул, марка, произв.])*($D24=М[Хар-ка])*($K24=М[Прим.]),{1},($B24=М[Наим.])*($C24=М[Артикул, марка, произв.])*($D24=М[Хар-ка])*($K24=М[Прим.])),0))} -> 0
A25: 9 | B25: Теплоизоляция трубная | C25: K-FLEX | D25: 28х13мм вспененный полиэтилен | E25: пог. м | G25: 170 | H25: =SUM($G$25:$G$25) -> 170 | I25: {=INDEX(М[Цена за ед., руб],MATCH(1,IF(($B25=М[Наим.])*($C25=М[Артикул, марка, произв.])*($D25=М[Хар-ка])*($K25=М[Прим.]),{1},($B25=М[Наим.])*($C25=М[Артикул, марка, произв.])*($D25=М[Хар-ка])*($K25=М[Прим.])),0))} -> 0 | J25: =ROUND($H$25*$I$25,2) -> 0 | L25: {=INDEX(М[Форма закупа],MATCH(1,IF(($B25=М[Наим.])*($C25=М[Артикул, марка, произв.])*($D25=М[Хар-ка])*($K25=М[Прим.]),{1},($B25=М[Наим.])*($C25=М[Артикул, марка, произв.])*($D25=М[Хар-ка])*($K25=М[Прим.])),0))} -> 0
A26: 10 | B26: Теплоизоляция трубная | C26: K-FLEX | D26: 35х13мм вспененный полиэтилен | E26: пог. м | G26: 104 | H26: =SUM($G$26:$G$26) -> 104 | I26: {=INDEX(М[Цена за ед., руб],MATCH(1,IF(($B26=М[Наим.])*($C26=М[Артикул, марка, произв.])*($D26=М[Хар-ка])*($K26=М[Прим.]),{1},($B26=М[Наим.])*($C26=М[Артикул, марка, произв.])*($D26=М[Хар-ка])*($K26=М[Прим.])),0))} -> 0 | J26: =ROUND($H$26*$I$26,2) -> 0 | L26: {=INDEX(М[Форма закупа],MATCH(1,IF(($B26=М[Наим.])*($C26=М[Артикул, марка, произв.])*($D26=М[Хар-ка])*($K26=М[Прим.]),{1},($B26=М[Наим.])*($C26=М[Артикул, марка, произв.])*($D26=М[Хар-ка])*($K26=М[Прим.])),0))} -> 0
B27: Работы: | J27: =SUM($J$28) -> 0
B28: Монтаж автоматического воздухоотводчика | E28: шт | G28: 10 | H28: =SUM($G$28:$G$28) -> 10 | I28: {=INDEX(Р[Цена за ед., руб],MATCH(1,IF(($B28=Р[Наименование])*($K28=Р[Примечание]),{1},($B28=Р[Наименование])*($K28=Р[Примечание])),0))} -> 0 | J28: =ROUND($H$28*$I$28,2) -> 0
B29: Материалы: | J29: =SUM($J$30) -> 0
A30: 1 | B30: Воздухоотводчик | C30: Valtec | D30: автоматический Ду-15 10bar | E30: шт | G30: 10 | H30: =SUM($G$30:$G$30) -> 10 | I30: {=INDEX(М[Цена за ед., руб],MATCH(1,IF(($B30=М[Наим.])*($C30=М[Артикул, марка, произв.])*($D30=М[Хар-ка])*($K30=М[Прим.]),{1},($B30=М[Наим.])*($C30=М[Артикул, марка, произв.])*($D30=М[Хар-ка])*($K30=М[Прим.])),0))} -> 0 | J30: =ROUND($H$30*$I$30,2) -> 0 | L30: {=INDEX(М[Форма закупа],MATCH(1,IF(($B30=М[Наим.])*($C30=М[Артикул, марка, произв.])*($D30=М[Хар-ка])*($K30=М[Прим.]),{1},($B30=М[Наим.])*($C30=М[Артикул, марка, произв.])*($D30=М[Хар-ка])*($K30=М[Прим.])),0))} -> 0
B31: Работы: | J31: =SUM($J$32) -> 0
B32: Монтаж клапана (фланцевые, резьбовые) до 32 мм | E32: шт | G32: 20 | H32: =SUM($G$32:$G$32) -> 20 | I32: {=INDEX(Р[Цена за ед., руб],MATCH(1,IF(($B32=Р[Наименование])*($K32=Р[Примечание]),{1},($B32=Р[Наименование])*($K32=Р[Примечание])),0))} -> 0 | J32: =ROUND($H$32*$I$32,2) -> 0
B33: Материалы: | J33: =SUM($J$34:$J$37) -> 0
A34: 1 | B34: Клапан балансировочный | C34: Weser | D34: ручной MVT-R Ду-15 Ру-16бар | E34: шт | G34: 4 | H34: =SUM($G$34:$G$34) -> 4 | I34: {=INDEX(М[Цена за ед., руб],MATCH(1,IF(($B34=М[Наим.])*($C34=М[Артикул, марка, произв.])*($D34=М[Хар-ка])*($K34=М[Прим.]),{1},($B34=М[Наим.])*($C34=М[Артикул, марка, произв.])*($D34=М[Хар-ка])*($K34=М[Прим.])),0))} -> 0 | J34: =ROUND($H$34*$I$34,2) -> 0 | L34: {=INDEX(М[Форма закупа],MATCH(1,IF(($B34=М[Наим.])*($C34=М[Артикул, марка, произв.])*($D34=М[Хар-ка])*($K34=М[Прим.]),{1},($B34=М[Наим.])*($C34=М[Артикул, марка, произв.])*($D34=М[Хар-ка])*($K34=М[Прим.])),0))} -> 0
A35: 2 | B35: Клапан балансировочный | C35: Weser | D35: ручной MVT-R Ду-20 Ру-16бар | E35: шт | G35: 4 | H35: =SUM($G$35:$G$35) -> 4 | I35: {=INDEX(М[Цена за ед., руб],MATCH(1,IF(($B35=М[Наим.])*($C35=М[Артикул, марка, произв.])*($D35=М[Хар-ка])*($K35=М[Прим.]),{1},($B35=М[Наим.])*($C35=М[Артикул, марка, произв.])*($D35=М[Хар-ка])*($K35=М[Прим.])),0))} -> 0 | J35: =ROUND($H$35*$I$35,2) -> 0 | L35: {=INDEX(М[Форма закупа],MATCH(1,IF(($B35=М[Наим.])*($C35=М[Артикул, марка, произв.])*($D35=М[Хар-ка])*($K35=М[Прим.]),{1},($B35=М[Наим.])*($C35=М[Артикул, марка, произв.])*($D35=М[Хар-ка])*($K35=М[Прим.])),0))} -> 0
A36: 3 | B36: Клапан обратный | C36: Valtec | D36: муфтовый Ду-20 Ру-16бар | E36: шт | G36: 2 | H36: =SUM($G$36:$G$36) -> 2 | I36: {=INDEX(М[Цена за ед., руб],MATCH(1,IF(($B36=М[Наим.])*($C36=М[Артикул, марка, произв.])*($D36=М[Хар-ка])*($K36=М[Прим.]),{1},($B36=М[Наим.])*($C36=М[Артикул, марка, произв.])*($D36=М[Хар-ка])*($K36=М[Прим.])),0))} -> 0 | J36: =ROUND($H$36*$I$36,2) -> 0 | L36: {=INDEX(М[Форма закупа],MATCH(1,IF(($B36=М[Наим.])*($C36=М[Артикул, марка, произв.])*($D36=М[Хар-ка])*($K36=М[Прим.]),{1},($B36=М[Наим.])*($C36=М[Артикул, марка, произв.])*($D36=М[Хар-ка])*($K36=М[Прим.])),0))} -> 0
A37: 4 | B37: Клапан регулирующий | C37: Valtec | D37: понижения давления резьбовой Ду-15Ру-10 бар | E37: шт | G37: 10 | H37: =SUM($G$37:$G$37) -> 10 | I37: {=INDEX(М[Цена за ед., руб],MATCH(1,IF(($B37=М[Наим.])*($C37=М[Артикул, марка, произв.])*($D37=М[Хар-ка])*($K37=М[Прим.]),{1},($B37=М[Наим.])*($C37=М[Артикул, марка, произв.])*($D37=М[Хар-ка])*($K37=М[Прим.])),0))} -> 0 | J37: =ROUND($H$37*$I$37,2) -> 0 | L37: {=INDEX(М[Форма закупа],MATCH(1,IF(($B37=М[Наим.])*($C37=М[Артикул, марка, произв.])*($D37=М[Хар-ка])*($K37=М[Прим.]),{1},($B37=М[Наим.])*($C37=М[Артикул, марка, произв.])*($D37=М[Хар-ка])*($K37=М[Прим.])),0))} -> 0
B38: Работы: | J38: =SUM($J$39) -> 0
B39: Монтаж клапана (фланцевые, резьбовые) от 40 мм | E39: шт | G39: 5 | H39: =SUM($G$39:$G$39) -> 5 | I39: {=INDEX(Р[Цена за ед., руб],MATCH(1,IF(($B39=Р[Наименование])*($K39=Р[Примечание]),{1},($B39=Р[Наименование])*($K39=Р[Примечание])),0))} -> 0 | J39: =ROUND($H$39*$I$39,2) -> 0
B40: Материалы: | J40: =SUM($J$41:$J$42) -> 0
A41: 1 | B41: Клапан обратный | C41: REON | D41: Межфланцевый Ду-80 Ру-16бар | E41: шт | G41: 1 | H41: =SUM($G$41:$G$41) -> 1 | I41: {=INDEX(М[Цена за ед., руб],MATCH(1,IF(($B41=М[Наим.])*($C41=М[Артикул, марка, произв.])*($D41=М[Хар-ка])*($K41=М[Прим.]),{1},($B41=М[Наим.])*($C41=М[Артикул, марка, произв.])*($D41=М[Хар-ка])*($K41=М[Прим.])),0))} -> 0 | J41: =ROUND($H$41*$I$41,2) -> 0 | L41: {=INDEX(М[Форма закупа],MATCH(1,IF(($B41=М[Наим.])*($C41=М[Артикул, марка, произв.])*($D41=М[Хар-ка])*($K41=М[Прим.]),{1},($B41=М[Наим.])*($C41=М[Артикул, марка, произв.])*($D41=М[Хар-ка])*($K41=М[Прим.])),0))} -> 0
A42: 2 | B42: Клапан обратный | C42: REON | D42: Межфланцевый Ду-50 Ру-16бар | E42: шт | G42: 4 | H42: =SUM($G$42:$G$42) -> 4 | I42: {=INDEX(М[Цена за ед., руб],MATCH(1,IF(($B42=М[Наим.])*($C42=М[Артикул, марка, произв.])*($D42=М[Хар-ка])*($K42=М[Прим.]),{1},($B42=М[Наим.])*($C42=М[Артикул, марка, произв.])*($D42=М[Хар-ка])*($K42=М[Прим.])),0))} -> 0 | J42: =ROUND($H$42*$I$42,2) -> 0 | L42: {=INDEX(М[Форма закупа],MATCH(1,IF(($B42=М[Наим.])*($C42=М[Артикул, марка, произв.])*($D42=М[Хар-ка])*($K42=М[Прим.]),{1},($B42=М[Наим.])*($C42=М[Артикул, марка, произв.])*($D42=М[Хар-ка])*($K42=М[Прим.])),0))} -> 0
B43: Работы: | J43: =SUM($J$44) -> 0
...

Sheet Работы
A1: Сводная ведомость объемов работ
A3: Наименование | B3: Ед. изм. | C3: Количество | D3: Цена за ед., руб | E3: Сумма, руб | F3: Примечание
A4: Бурение отверстий до 100мм | B4: шт | C4: 12 | E4: =ROUND(Р[[#This Row],[Количество]]*Р[[#This Row],[Цена за ед., руб]],2) -> 0
A5: Изоляция трубопровода | B5: м | C5: 7413 | E5: =ROUND(Р[[#This Row],[Количество]]*Р[[#This Row],[Цена за ед., руб]],2) -> 0
A6: Монтаж автоматического воздухоотводчика | B6: шт | C6: 14 | E6: =ROUND(Р[[#This Row],[Количество]]*Р[[#This Row],[Цена за ед., руб]],2) -> 0
A7: Монтаж клапана (фланцевые, резьбовые) до 32 мм | B7: шт | C7: 20 | E7: =ROUND(Р[[#This Row],[Количество]]*Р[[#This Row],[Цена за ед., руб]],2) -> 0
A8: Монтаж клапана (фланцевые, резьбовые) от 40 мм | B8: шт | C8: 5 | E8: =ROUND(Р[[#This Row],[Количество]]*Р[[#This Row],[Цена за ед., руб]],2) -> 0
A9: Монтаж коллектора | B9: шт | C9: 46 | E9: =ROUND(Р[[#This Row],[Количество]]*Р[[#This Row],[Цена за ед., руб]],2) -> 0
A10: Монтаж крана с электроприводом | B10: шт | C10: 368 | E10: =ROUND(Р[[#This Row],[Количество]]*Р[[#This Row],[Цена за ед., руб]],2) -> 0
A11: Монтаж кранов (фланцевые, резьбовые) до 32 мм | B11: шт | C11: 306 | E11: =ROUND(Р[[#This Row],[Количество]]*Р[[#This Row],[Цена за ед., руб]],2) -> 0
A12: Монтаж кранов (фланцевые, резьбовые) от 40 мм | B12: шт | C12: 32 | E12: =ROUND(Р[[#This Row],[Количество]]*Р[[#This Row],[Цена за ед., руб]],2) -> 0
A13: Монтаж насосной установки повышения давления | B13: шт | C13: 2 | E13: =ROUND(Р[[#This Row],[Количество]]*Р[[#This Row],[Цена за ед., руб]],2) -> 0
A14: Монтаж НСПС | B14: шт | C14: 2 | E14: =ROUND(Р[[#This Row],[Количество]]*Р[[#This Row],[Цена за ед., руб]],2) -> 0
A15: Монтаж счетчика | B15: шт | C15: 381 | E15: =ROUND(Р[[#This Row],[Количество]]*Р[[#This Row],[Цена за ед., руб]],2) -> 0
... A29: Прочие работы (Навигация) | B29: компл. | C29: 1 | E29: =ROUND(Р[[#This Row],[Количество]]*Р[[#This Row],[Цена за ед., руб]],2) -> 0
A30: Итог | E30: =SUBTOTAL(109,Р[Сумма, руб]) -> 0
D32: проверка | E32: =Р[[#Totals],[Сумма, руб]]-ЛСР!J244 -> 0

Sheet Материалы
A1: Сводная ведомость объемов материала
A3: Наим. | B3: Артикул, марка, произв. | C3: Хар-ка | D3: Ед. изм. | E3: Количество | F3: Цена за ед., руб | G3: Сумма, руб | H3: Прим. | I3: Форма закупа
A4: Окожушка | C4: оцинк. сталь 0,5мм | D4: м2 | E4: 30 | G4: =ROUND(М[[#This Row],[Количество]]*М[[#This Row],[Цена за ед., руб]],2) -> 0 | H4: гильзы
A5: Труба стальная | C5: 12Х18Н10Т сварка D-76x4.5 | D5: м | E5: 4 | G5: =ROUND(М[[#This Row],[Количество]]*М[[#This Row],[Цена за ед., руб]],2) -> 0
A6: Труба стальная | C6: 12Х18Н10Т сварка D-108x4.0 | D6: м | E6: 4 | G6: =ROUND(М[[#This Row],[Количество]]*М[[#This Row],[Цена за ед., руб]],2) -> 0
A7: Труба стальная | C7: 12Х18Н10Т сварка D-48x3.5 | D7: м | E7: 12 | G7: =ROUND(М[[#This Row],[Количество]]*М[[#This Row],[Цена за ед., руб]],2) -> 0
A8: Труба стальная | C8: 12Х18Н10Т сварка D-57x3.5 | D8: м | E8: 41 | G8: =ROUND(М[[#This Row],[Количество]]*М[[#This Row],[Цена за ед., руб]],2) -> 0
A9: Труба стальная | C9: 12Х18Н10Т сварка D-89x4.5 | D9: м | E9: 24 | G9: =ROUND(М[[#This Row],[Количество]]*М[[#This Row],[Цена за ед., руб]],2) -> 0
A10: Труба стальная | C10: 12Х18Н10Т сварка D-20х2.5 | D10: м | E10: 0.5 | G10: =ROUND(М[[#This Row],[Количество]]*М[[#This Row],[Цена за ед., руб]],2) -> 0
A11: Труба стальная | C11: 12Х18Н10Т сварка D-22x3 | D11: м | E11: 2 | G11: =ROUND(М[[#This Row],[Количество]]*М[[#This Row],[Цена за ед., руб]],2) -> 0
A12: Присоединители для счетчика | D12: компл. | E12: 1 | G12: =ROUND(М[[#This Row],[Количество]]*М[[#This Row],[Цена за ед., руб]],2) -> 0 | H12: ответные фланцы+ прокладки
A13: Присоединители для счетчика | D13: компл. | E13: 380 | G13: =ROUND(М[[#This Row],[Количество]]*М[[#This Row],[Цена за ед., руб]],2) -> 0 | H13: С обратным клапаном
A14: Вставка ремонтная | C14: для счетчика Ду50 мм | D14: шт | E14: 1 | G14: =ROUND(М[[#This Row],[Количество]]*М[[#This Row],[Цена за ед., руб]],2) -> 0
A15: Вставка ремонтная | C15: для счетчика Ду15 мм | D15: шт | E15: 380 | G15: =ROUND(М[[#This Row],[Количество]]*М[[#This Row],[Цена за ед., руб]],2) -> 0
A16: Переход | C16: D 110x108 ПЭ/Сталь | D16: шт | E16: 2 | G16: =ROUND(М[[#This Row],[Количество]]*М[[#This Row],[Цена за ед., руб]],2) -> 0
A17: УВП | C17: в сумке | D17: шт | E17: 184 | G17: =ROUND(М[[#This Row],[Количество]]*М[[#This Row],[Цена за ед., руб]],2) -> 0
A18: Счетчик воды | B18: Пульсар | C18: с импульсным выходом Ду-50 Qn- L-ультразвуковой | D18: шт | E18: 1 | G18: =ROUND(М[[#This Row],[Количество]]*М[[#This Row],[Цена за ед., руб]],2) -> 0
A19: Счетчик воды | B19: Пульсар | C19: с импульсным выходом Ду-15 Qn-1,5м3/час L-110мм | D19: шт | E19: 380 | G19: =ROUND(М[[#This Row],[Количество]]*М[[#This Row],[Цена за ед., руб]],2) -> 0
A20: Труба полипропиленовая | C20: PPH PN20 DN63х8,6 арм.стекловолокно | D20: пог. м | E20: 101 | G20: =ROUND(М[[#This Row],[Количество]]*М[[#This Row],[Цена за ед., руб]],2) -> 0
A21: Труба полипропиленовая | C21: PPH PN20 DN25х5,4 арм.стекловолокно | D21: пог. м | E21: 191 | G21: =ROUND(М[[#This Row],[Количество]]*М[[#This Row],[Цена за ед., руб]],2) -> 0
A22: Труба полипропиленовая | C22: PPH PN20 DN32х5,4 арм.стекловолокно | D22: пог. м | E22: 384 | G22: =ROUND(М[[#This Row],[Количество]]*М[[#This Row],[Цена за ед., руб]],2) -> 0
A23: Труба полипропиленовая | C23: PPH PN20 DN40х6,7 арм.стекловолокно | D23: пог. м | E23: 40 | G23: =ROUND(М[[#This Row],[Количество]]*М[[#This Row],[Цена за ед., руб]],2) -> 0
A24: Труба полипропиленовая | C24: PPH PN20 DN50х8,4 арм.стекловолокно | D24: пог. м | E24: 650 | G24: =ROUND(М[[#This Row],[Количество]]*М[[#This Row],[Цена за ед., руб]],2) -> 0
A25: Труба электросварная (пог.м.) | C25: стальная D-89х4,0 | D25: пог. м | E25: 4 | G25: =ROUND(М[[#This Row],[Количество]]*М[[#This Row],[Цена за ед., руб]],2) -> 0
A26: Труба электросварная (пог.м.) | C26: стальная D-108х4,0 | D26: пог. м | E26: 4 | G26: =ROUND(М[[#This Row],[Количество]]*М[[#This Row],[Цена за ед., руб]],2) -> 0
A27: Кран шаровой | B27: Valtec | C27: Ду-15 полнопроходный с НГ | D27: шт | E27: 28 | G27: =ROUND(М[[#This Row],[Количество]]*М[[#This Row],[Цена за ед., руб]],2) -> 0
A28: Кран шаровой | B28: Valtec | C28: Ду-20 полнопроходный с НГ | D28: шт | E28: 10 | G28: =ROUND(М[[#This Row],[Количество]]*М[[#This Row],[Цена за ед., руб]],2) -> 0
A29: Кран шаровой | B29: Valtec | C29: Ду-25 полнопроходный с НГ | D29: шт | E29: 5 | G29: =ROUND(М[[#This Row],[Количество]]*М[[#This Row],[Цена за ед., руб]],2) -> 0
A30: Кран шаровой | B30: Gidrolock | C30: муфтовый с площадкой под электропривод В/В Ду-15 полнопроходной | D30: шт | E30: 368 | G30: =ROUND(М[[#This Row],[Количество]]*М[[#This Row],[Цена за ед., руб]],2) -> 0
A31: Кран шаровой | B31: Valtec | C31: муфтовый c НГ Ду-40 полнопроходной | D31: шт | E31: 8 | G31: =ROUND(М[[#This Row],[Количество]]*М[[#This Row],[Цена за ед., руб]],2) -> 0
A32: Кран шаровой | B32: Valtec | C32: муфтовый со штуцером Ду-20 | D32: шт | E32: 2 | G32: =ROUND(М[[#This Row],[Количество]]*М[[#This Row],[Цена за ед., руб]],2) -> 0
A33: Кран шаровой | B33: LD | C33: фланцевый Ду-80 с электроприводом | D33: шт | E33: 1 | G33: =ROUND(М[[#This Row],[Количество]]*М[[#This Row],[Цена за ед., руб]],2) -> 0
A34: Кран шаровой | B34: Valtec | C34: ВР-ВР Ду-15 полнопроходной | D34: шт | E34: 64 | G34: =ROUND(М[[#This Row],[Количество]]*М[[#This Row],[Цена за ед., руб]],2) -> 0
A35: Кран шаровой | B35: LD | C35: фланцевый Ду-80 | D35: шт | E35: 5 | G35: =ROUND(М[[#This Row],[Количество]]*М[[#This Row],[Цена за ед., руб]],2) -> 0
A36: Кран шаровой | B36: Valtec | C36: ВР-ВР Ду-40 полнопроходной | D36: шт | E36: 4 | G36: =ROUND(М[[#This Row],[Количество]]*М[[#This Row],[Цена за ед., руб]],2) -> 0
A37: Кран шаровой | B37: LD | C37: фланцевый Ду-50 | D37: шт | E37: 14 | G37: =ROUND(М[[#This Row],[Количество]]*М[[#This Row],[Цена за ед., руб]],2) -> 0
A38: Кран шаровой | B38: Valtec | C38: ВР-НР Ду-15 полнопроходной | D38: шт | E38: 15 | G38: =ROUND(М[[#This Row],[Количество]]*М[[#This Row],[Цена за ед., руб]],2) -> 0
A39: Кран шаровой | B39: Valtec | C39: ВР-НР Ду-15 полнопроходной | D39: шт | E39: 184 | G39: =ROUND(М[[#This Row],[Количество]]*М[[#This Row],[Цена за ед., руб]],2) -> 0 | H39: для пожаротушения
A40: Воздухоотводчик | B40: Valtec | C40: автоматический Ду-15 10bar | D40: шт | E40: 14 | G40: =ROUND(М[[#This Row],[Количество]]*М[[#This Row],[Цена за ед., руб]],2) -> 0
A41: Кран трехходовой для манометра | C41: Ду-15 Ру-16 G1/2-М20х1,5 латунь | D41: шт | E41: 3 | G41: =ROUND(М[[#This Row],[Количество]]*М[[#This Row],[Цена за ед., руб]],2) -> 0
...

Sheet ПараметрыЗагрузки
A1: ЛСР | B1: ЛСРГуид
A2: ГП-72.105.01.11.02 Секция 1_Устройство системы водоснабжения №1 | B2: 077622b2-b580-11f0-8b59-a036bcbd010b
