Workbook

Sheet ЛСР
B2: Локальный сметный расчет (ЛСР) №6
B3: Объект: «Комплексная застройка территории, расположенной в границах улиц: Тобольский тракт - Обход города Тюмени (мкр. Губернаторский). Многоэтажный жилой дом с подземным паркингом ГП-72.106» Секция 1, 2, 3, 4
B4: Ведомость объемов работ и расхода материалов по работе: Устройство системы водоснабжения и сопутствующим работам (согласно проекту шифр ВК, стадия Р)
A6: № | B6: Наименование | C6: Артикул, марка, производитель | D6: Характеристика | E6: Ед. изм. | F6: Норма расхода | G6: Секция 1 | H6: Секция 2 | I6: Секция 3 | J6: Секция 4 | K6: Количество | L6: Цена за ед., руб | M6: Сумма, руб | N6: Примечание | O6: Форма закупа материала
A8: 11 | B8: Внутренние инженерные сети
A9: 11.02 | B9: Устройство системы водоснабжения | M9: =SUM($M$163,$M$61,$M$175,$M$10) -> 0
A10: 11.02.02 | B10: Устройство водоснабжения (горизонтальная разводка) | M10: =SUM($M$53,$M$11) -> 0
A11: 11.02.02.00 | B11: Устройство водоснабжения (горизонтальная разводка) | M11: =SUM($M$173,$M$51,$M$49,$M$47,$M$45,$M$42,$M$40,$M$37,$M$35,$M$33,$M$31,$M$27,$M$25,$M$23,$M$21,$M$19,$M$17,$M$14,$M$12) -> 0
B12: Работы: | M12: =SUM($M$13) -> 0
B13: Изоляция трубопровода | E13: м | G13: 2648 | H13: 2948 | I13: 3542 | J13: 4051 | K13: =SUM($G$13:$J$13) -> 13189 | L13: {=INDEX(Р[Цена за ед., руб],MATCH(1,IF(($B13=Р[Наименование])*($N13=Р[Примечание]),{1},($B13=Р[Наименование])*($N13=Р[Примечание])),0))} -> 0 | M13: =ROUND($K$13*$L$13,2) -> 0
B14: Материалы: | M14: =SUM($M$15:$M$16) -> 0
A15: 1 | B15: Теплоизоляция трубная | C15: K-FLEX | D15: 22х13мм вспененный полиэтилен | E15: пог. м | G15: 2640 | H15: 2940 | I15: 3523 | J15: 4035 | K15: =SUM($G$15:$J$15) -> 13138 | L15: {=INDEX(М[Цена за ед., руб],MATCH(1,IF(($B15=М[Наим.])*($C15=М[Артикул, марка, произв.])*($D15=М[Хар-ка])*($N15=М[Прим.]),{1},($B15=М[Наим.])*($C15=М[Артикул, марка, произв.])*($D15=М[Хар-ка])*($N15=М[Прим.])),0))} -> 0 | M15: =ROUND($K$15*$L$15,2) -> 0 | O15: {=INDEX(М[Форма закупа],MATCH(1,IF(($B15=М[Наим.])*($C15=М[Артикул, марка, произв.])*($D15=М[Хар-ка])*($N15=М[Прим.]),{1},($B15=М[Наим.])*($C15=М[Артикул, марка, произв.])*($D15=М[Хар-ка])*($N15=М[Прим.])),0))} -> 0
A16: 2 | B16: Теплоизоляция трубная | C16: K-FLEX | D16: 28х13мм вспененный полиэтилен | E16: пог. м | G16: 8 | H16: 8 | I16: 19 | J16: 16 | K16: =SUM($G$16:$J$16) -> 51 | L16: {=INDEX(М[Цена за ед., руб],MATCH(1,IF(($B16=М[Наим.])*($C16=М[Артикул, марка, произв.])*($D16=М[Хар-ка])*($N16=М[Прим.]),{1},($B16=М[Наим.])*($C16=М[Артикул, марка, произв.])*($D16=М[Хар-ка])*($N16=М[Прим.])),0))} -> 0 | M16: =ROUND($K$16*$L$16,2) -> 0 | O16: {=INDEX(М[Форма закупа],MATCH(1,IF(($B16=М[Наим.])*($C16=М[Артикул, марка, произв.])*($D16=М[Хар-ка])*($N16=М[Прим.]),{1},($B16=М[Наим.])*($C16=М[Артикул, марка, произв.])*($D16=М[Хар-ка])*($N16=М[Прим.])),0))} -> 0
B17: Работы: | M17: =SUM($M$18) -> 0
B18: Монтаж автоматического воздухоотводчика | E18: шт | G18: 4 | H18: 4 | I18: 8 | J18: 8 | K18: =SUM($G$18:$J$18) -> 24 | L18: {=INDEX(Р[Цена за ед., руб],MATCH(1,IF(($B18=Р[Наименование])*($N18=Р[Примечание]),{1},($B18=Р[Наименование])*($N18=Р[Примечание])),0))} -> 0 | M18: =ROUND($K$18*$L$18,2) -> 0
B19: Материалы: | M19: =SUM($M$20) -> 0
A20: 1 | B20: Воздухоотводчик | C20: Valtec | D20: автоматический Ду-15 10bar | E20: шт | G20: 4 | H20: 4 | I20: 8 | J20: 8 | K20: =SUM($G$20:$J$20) -> 24 | L20: {=INDEX(М[Цена за ед., руб],MATCH(1,IF(($B20=М[Наим.])*($C20=М[Артикул, марка, произв.])*($D20=М[Хар-ка])*($N20=М[Прим.]),{1},($B20=М[Наим.])*($C20=М[Артикул, марка, произв.])*($D20=М[Хар-ка])*($N20=М[Прим.])),0))} -> 0 | M20: =ROUND($K$20*$L$20,2) -> 0 | O20: {=INDEX(М[Форма закупа],MATCH(1,IF(($B20=М[Наим.])*($C20=М[Артикул, марка, произв.])*($D20=М[Хар-ка])*($N20=М[Прим.]),{1},($B20=М[Наим.])*($C20=М[Артикул, марка, произв.])*($D20=М[Хар-ка])*($N20=М[Прим.])),0))} -> 0
B21: Работы: | M21: =SUM($M$22) -> 0
B22: Монтаж клапана (фланцевые, резьбовые) до 32 мм | E22: шт | G22: 4 | H22: 4 | I22: 8 | J22: 8 | K22: =SUM($G$22:$J$22) -> 24 | L22: {=INDEX(Р[Цена за ед., руб],MATCH(1,IF(($B22=Р[Наименование])*($N22=Р[Примечание]),{1},($B22=Р[Наименование])*($N22=Р[Примечание])),0))} -> 0 | M22: =ROUND($K$22*$L$22,2) -> 0
B23: Материалы: | M23: =SUM($M$24) -> 0
A24: 1 | B24: Клапан регулирующий | C24: Valtec | D24: понижения давления резьбовой Ду-15Ру-10 бар | E24: шт | G24: 4 | H24: 4 | I24: 8 | J24: 8 | K24: =SUM($G$24:$J$24) -> 24 | L24: {=INDEX(М[Цена за ед., руб],MATCH(1,IF(($B24=М[Наим.])*($C24=М[Артикул, марка, произв.])*($D24=М[Хар-ка])*($N24=М[Прим.]),{1},($B24=М[Наим.])*($C24=М[Артикул, марка, произв.])*($D24=М[Хар-ка])*($N24=М[Прим.])),0))} -> 0 | M24: =ROUND($K$24*$L$24,2) -> 0 | O24: {=INDEX(М[Форма закупа],MATCH(1,IF(($B24=М[Наим.])*($C24=М[Артикул, марка, произв.])*($D24=М[Хар-ка])*($N24=М[Прим.]),{1},($B24=М[Наим.])*($C24=М[Артикул, марка, произв.])*($D24=М[Хар-ка])*($N24=М[Прим.])),0))} -> 0
B25: Работы: | M25: =SUM($M$26) -> 0
B26: Монтаж коллектора | E26: шт | G26: 26 | H26: 32 | I26: 26 | J26: 30 | K26: =SUM($G$26:$J$26) -> 114 | L26: {=INDEX(Р[Цена за ед., руб],MATCH(1,IF(($B26=Р[Наименование])*($N26=Р[Примечание]),{1},($B26=Р[Наименование])*($N26=Р[Примечание])),0))} -> 0 | M26: =ROUND($K$26*$L$26,2) -> 0
B27: Материалы: | M27: =SUM($M$28:$M$30) -> 0
A28: 1 | B28: Коллектор (в сборе) распределительный | D28: Д-50 с 5-ю выходами (диаметр подключения Ду32) | E28: шт | G28: 24 | H28: 30 | K28: =SUM($G$28:$J$28) -> 54 | L28: {=INDEX(М[Цена за ед., руб],MATCH(1,IF(($B28=М[Наим.])*($C28=М[Артикул, марка, произв.])*($D28=М[Хар-ка])*($N28=М[Прим.]),{1},($B28=М[Наим.])*($C28=М[Артикул, марка, произв.])*($D28=М[Хар-ка])*($N28=М[Прим.])),0))} -> 0 | M28: =ROUND($K$28*$L$28,2) -> 0 | N28: В комплекте с кранами, фильтрами, редукторами давления, вставками под счетчик. | O28: {=INDEX(М[Форма закупа],MATCH(1,IF(($B28=М[Наим.])*($C28=М[Артикул, марка, произв.])*($D28=М[Хар-ка])*($N28=М[Прим.]),{1},($B28=М[Наим.])*($C28=М[Артикул, марка, произв.])*($D28=М[Хар-ка])*($N28=М[Прим.])),0))} -> 0
A29: 2 | B29: Коллектор (в сборе) распределительный | D29: Д-50 с 6-ю выходами (диаметр подключения Ду32) | E29: шт | I29: 26 | J29: 30 | K29: =SUM($G$29:$J$29) -> 56 | L29: {=INDEX(М[Цена за ед., руб],MATCH(1,IF(($B29=М[Наим.])*($C29=М[Артикул, марка, произв.])*($D29=М[Хар-ка])*($N29=М[Прим.]),{1},($B29=М[Наим.])*($C29=М[Артикул, марка, произв.])*($D29=М[Хар-ка])*($N29=М[Прим.])),0))} -> 0 | M29: =ROUND($K$29*$L$29,2) -> 0 | N29: В комплекте с кранами, фильтрами, редукторами давления, вставками под счетчик. | O29: {=INDEX(М[Форма закупа],MATCH(1,IF(($B29=М[Наим.])*($C29=М[Артикул, марка, произв.])*($D29=М[Хар-ка])*($N29=М[Прим.]),{1},($B29=М[Наим.])*($C29=М[Артикул, марка, произв.])*($D29=М[Хар-ка])*($N29=М[Прим.])),0))} -> 0
A30: 3 | B30: Коллектор (в сборе) распределительный | D30: Д-50 с 2-мя выходами (диаметр подключения Ду32) | E30: шт | G30: 2 | H30: 2 | K30: =SUM($G$30:$J$30) -> 4 | L30: {=INDEX(М[Цена за ед., руб],MATCH(1,IF(($B30=М[Наим.])*($C30=М[Артикул, марка, произв.])*($D30=М[Хар-ка])*($N30=М[Прим.]),{1},($B30=М[Наим.])*($C30=М[Артикул, марка, произв.])*($D30=М[Хар-ка])*($N30=М[Прим.])),0))} -> 0 | M30: =ROUND($K$30*$L$30,2) -> 0 | N30: В комплекте с кранами, фильтрами, редукторами давления, вставками под счетчик. | O30: {=INDEX(М[Форма закупа],MATCH(1,IF(($B30=М[Наим.])*($C30=М[Артикул, марка, произв.])*($D30=М[Хар-ка])*($N30=М[Прим.]),{1},($B30=М[Наим.])*($C30=М[Артикул, марка, произв.])*($D30=М[Хар-ка])*($N30=М[Прим.])),0))} -> 0
B31: Работы: | M31: =SUM($M$32) -> 0
B32: Монтаж крана с электроприводом | E32: шт | G32: 124 | H32: 154 | I32: 156 | J32: 180 | K32: =SUM($G$32:$J$32) -> 614 | L32: {=INDEX(Р[Цена за ед., руб],MATCH(1,IF(($B32=Р[Наименование])*($N32=Р[Примечание]),{1},($B32=Р[Наименование])*($N32=Р[Примечание])),0))} -> 0 | M32: =ROUND($K$32*$L$32,2) -> 0
B33: Материалы: | M33: =SUM($M$34) -> 0
A34: 1 | B34: Кран шаровой | C34: Gidrolock | D34: муфтовый с электроприводом В/В Ду-15 полнопроходной | E34: шт | G34: 124 | H34: 154 | I34: 156 | J34: 180 | K34: =SUM($G$34:$J$34) -> 614 | L34: {=INDEX(М[Цена за ед., руб],MATCH(1,IF(($B34=М[Наим.])*($C34=М[Артикул, марка, произв.])*($D34=М[Хар-ка])*($N34=М[Прим.]),{1},($B34=М[Наим.])*($C34=М[Артикул, марка, произв.])*($D34=М[Хар-ка])*($N34=М[Прим.])),0))} -> 0 | M34: =ROUND($K$34*$L$34,2) -> 0 | O34: {=INDEX(М[Форма закупа],MATCH(1,IF(($B34=М[Наим.])*($C34=М[Артикул, марка, произв.])*($D34=М[Хар-ка])*($N34=М[Прим.]),{1},($B34=М[Наим.])*($C34=М[Артикул, марка, произв.])*($D34=М[Хар-ка])*($N34=М[Прим.])),0))} -> 0
B35: Работы: | M35: =SUM($M$36) -> 0
B36: Монтаж кранов (фланцевые, резьбовые) до 32 мм | E36: шт | G36: 68 | H36: 83 | I36: 94 | J36: 106 | K36: =SUM($G$36:$J$36) -> 351 | L36: {=INDEX(Р[Цена за ед., руб],MATCH(1,IF(($B36=Р[Наименование])*($N36=Р[Примечание]),{1},($B36=Р[Наименование])*($N36=Р[Примечание])),0))} -> 0 | M36: =ROUND($K$36*$L$36,2) -> 0
B37: Материалы: | M37: =SUM($M$38:$M$39) -> 0
A38: 1 | B38: Кран шаровой | C38: Valtec | D38: ВР-ВР Ду-15 полнопроходной | E38: шт | G38: 4 | H38: 4 | I38: 8 | J38: 8 | K38: =SUM($G$38:$J$38) -> 24 | L38: {=INDEX(М[Цена за ед., руб],MATCH(1,IF(($B38=М[Наим.])*($C38=М[Артикул, марка, произв.])*($D38=М[Хар-ка])*($N38=М[Прим.]),{1},($B38=М[Наим.])*($C38=М[Артикул, марка, произв.])*($D38=М[Хар-ка])*($N38=М[Прим.])),0))} -> 0 | M38: =ROUND($K$38*$L$38,2) -> 0 | O38: {=INDEX(М[Форма закупа],MATCH(1,IF(($B38=М[Наим.])*($C38=М[Артикул, марка, произв.])*($D38=М[Хар-ка])*($N38=М[Прим.]),{1},($B38=М[Наим.])*($C38=М[Артикул, марка, произв.])*($D38=М[Хар-ка])*($N38=М[Прим.])),0))} -> 0
A39: 2 | B39: Кран шаровой | C39: Valtec | D39: ВР-НР Ду-15 полнопроходной | E39: шт | G39: 64 | H39: 79 | I39: 86 | J39: 98 | K39: =SUM($G$39:$J$39) -> 327 | L39: {=INDEX(М[Цена за ед., руб],MATCH(1,IF(($B39=М[Наим.])*($C39=М[Артикул, марка, произв.])*($D39=М[Хар-ка])*($N39=М[Прим.]),{1},($B39=М[Наим.])*($C39=М[Артикул, марка, произв.])*($D39=М[Хар-ка])*($N39=М[Прим.])),0))} -> 0 | M39: =ROUND($K$39*$L$39,2) -> 0 | O39: {=INDEX(М[Форма закупа],MATCH(1,IF(($B39=М[Наим.])*($C39=М[Артикул, марка, произв.])*($D39=М[Хар-ка])*($N39=М[Прим.]),{1},($B39=М[Наим.])*($C39=М[Артикул, марка, произв.])*($D39=М[Хар-ка])*($N39=М[Прим.])),0))} -> 0
B40: Работы: | M40: =SUM($M$41) -> 0
B41: Монтаж трубы из сшитого полиэтилена | E41: м | G41: 2700 | H41: 3000 | I41: 3523 | J41: 4035 | K41: =SUM($G$41:$J$41) -> 13258 | L41: {=INDEX(Р[Цена за ед., руб],MATCH(1,IF(($B41=Р[Наименование])*($N41=Р[Примечание]),{1},($B41=Р[Наименование])*($N41=Р[Примечание])),0))} -> 0 | M41: =ROUND($K$41*$L$41,2) -> 0
B42: Материалы: | M42: =SUM($M$43:$M$44) -> 0
A43: 1 | B43: Труба сшитый полиэтилен | D43: DN-20х2,8 PN-10bar PEXа | E43: пог. м | G43: 2700 | K43: =SUM($G$43:$J$43) -> 2700 | L43: {=INDEX(М[Цена за ед., руб],MATCH(1,IF(($B43=М[Наим.])*($C43=М[Артикул, марка, произв.])*($D43=М[Хар-ка])*($N43=М[Прим.]),{1},($B43=М[Наим.])*($C43=М[Артикул, марка, произв.])*($D43=М[Хар-ка])*($N43=М[Прим.])),0))} -> 0 | M43: =ROUND($K$43*$L$43,2) -> 0 | O43: {=INDEX(М[Форма закупа],MATCH(1,IF(($B43=М[Наим.])*($C43=М[Артикул, марка, произв.])*($D43=М[Хар-ка])*($N43=М[Прим.]),{1},($B43=М[Наим.])*($C43=М[Артикул, марка, произв.])*($D43=М[Хар-ка])*($N43=М[Прим.])),0))} -> 0
...

Sheet Работы
A1: Сводная ведомость объемов работ
A3: Наименование | B3: Ед. изм. | C3: Количество | D3: Цена за ед., руб | E3: Сумма, руб | F3: Примечание
A4: Изоляция трубопровода | B4: м | C4: 13751 | E4: =ROUND(Р[[#This Row],[Количество]]*Р[[#This Row],[Цена за ед., руб]],2) -> 0
A5: Монтаж автоматического воздухоотводчика | B5: шт | C5: 43 | E5: =ROUND(Р[[#This Row],[Количество]]*Р[[#This Row],[Цена за ед., руб]],2) -> 0
A6: Монтаж клапана (фланцевые, резьбовые) до 32 мм | B6: шт | C6: 24 | E6: =ROUND(Р[[#This Row],[Количество]]*Р[[#This Row],[Цена за ед., руб]],2) -> 0
A7: Монтаж коллектора | B7: шт | C7: 114 | E7: =ROUND(Р[[#This Row],[Количество]]*Р[[#This Row],[Цена за ед., руб]],2) -> 0
A8: Монтаж крана с электроприводом | B8: шт | C8: 614 | E8: =ROUND(Р[[#This Row],[Количество]]*Р[[#This Row],[Цена за ед., руб]],2) -> 0
A9: Монтаж кранов (фланцевые, резьбовые) до 32 мм | B9: шт | C9: 378 | E9: =ROUND(Р[[#This Row],[Количество]]*Р[[#This Row],[Цена за ед., руб]],2) -> 0
A10: Монтаж трубы из сшитого полиэтилена | B10: м | C10: 13258 | E10: =ROUND(Р[[#This Row],[Количество]]*Р[[#This Row],[Цена за ед., руб]],2) -> 0
A11: Монтаж фильтра | B11: шт | C11: 24 | E11: =ROUND(Р[[#This Row],[Количество]]*Р[[#This Row],[Цена за ед., руб]],2) -> 0
A12: Прокладка трубы ППН | B12: пог. м | C12: 1044 | E12: =ROUND(Р[[#This Row],[Количество]]*Р[[#This Row],[Цена за ед., руб]],2) -> 0
A13: Монтажные работы | B13: компл. | C13: 4 | E13: =ROUND(Р[[#This Row],[Количество]]*Р[[#This Row],[Цена за ед., руб]],2) -> 0
A14: Пусконаладочные работы системы водоснабжения: регулировка системы, манометрические испытания | B14: компл. | C14: 4 | E14: =ROUND(Р[[#This Row],[Количество]]*Р[[#This Row],[Цена за ед., руб]],2) -> 0
A15: Бурение отверстий до 80мм | B15: шт | C15: 273 | E15: =ROUND(Р[[#This Row],[Количество]]*Р[[#This Row],[Цена за ед., руб]],2) -> 0
... A21: Прочие работы (навигация) | B21: компл. | C21: 4 | E21: =ROUND(Р[[#This Row],[Количество]]*Р[[#This Row],[Цена за ед., руб]],2) -> 0
A22: Итог | E22: =SUBTOTAL(109,Р[Сумма, руб]) -> 0
D24: Проверка: | E24: =ЛСР!M180-Р[[#Totals],[Сумма, руб]] -> 0

Sheet Материалы
A1: Сводная ведомость объемов материала
A3: Наим. | B3: Артикул, марка, произв. | C3: Хар-ка | D3: Ед. изм. | E3: Количество | F3: Цена за ед., руб | G3: Сумма, руб | H3: Прим. | I3: Форма закупа
A4: Окожушка | C4: оцинк. сталь 0,5мм | D4: м2 | E4: 24 | G4: =ROUND(М[[#This Row],[Количество]]*М[[#This Row],[Цена за ед., руб]],2) -> 0 | H4: гильзы
A5: Присоединители для счетчика | D5: компл. | E5: 646 | G5: =ROUND(М[[#This Row],[Количество]]*М[[#This Row],[Цена за ед., руб]],2) -> 0
A6: Вставка ремонтная | C6: для счетчика Ду15 мм | D6: шт | E6: 646 | G6: =ROUND(М[[#This Row],[Количество]]*М[[#This Row],[Цена за ед., руб]],2) -> 0
A7: УВП | C7: в сумке | D7: шт | E7: 303 | G7: =ROUND(М[[#This Row],[Количество]]*М[[#This Row],[Цена за ед., руб]],2) -> 0
A8: Счетчик воды | B8: Пульсар | C8: с импульсным выходом Ду-15 Qn-1,5м3/час L-110мм | D8: шт | E8: 323 | G8: =ROUND(М[[#This Row],[Количество]]*М[[#This Row],[Цена за ед., руб]],2) -> 0
A9: Счетчик воды | B9: Пульсар | C9: с импульсным выходом Ду-15 Qn-1,5м3/час L-110мм | D9: шт | E9: 323 | G9: =ROUND(М[[#This Row],[Количество]]*М[[#This Row],[Цена за ед., руб]],2) -> 0 | H9: с обратным клапаном
A10: Труба полипропиленовая | C10: PPH PN20 DN25х5,4 арм.стекловолокно | D10: пог. м | E10: 293 | G10: =ROUND(М[[#This Row],[Количество]]*М[[#This Row],[Цена за ед., руб]],2) -> 0
A11: Труба полипропиленовая | C11: PPH PN20 DN32х5,4 арм.стекловолокно | D11: пог. м | E11: 229 | G11: =ROUND(М[[#This Row],[Количество]]*М[[#This Row],[Цена за ед., руб]],2) -> 0
A12: Труба полипропиленовая | C12: PPH PN20 DN40х6,7 арм.стекловолокно | D12: пог. м | E12: 118 | G12: =ROUND(М[[#This Row],[Количество]]*М[[#This Row],[Цена за ед., руб]],2) -> 0
A13: Труба полипропиленовая | C13: PPH PN20 DN63х10,5 арм.стекловолокно | D13: пог. м | E13: 452 | G13: =ROUND(М[[#This Row],[Количество]]*М[[#This Row],[Цена за ед., руб]],2) -> 0
A14: Кран шаровой | B14: Valtec | C14: Ду-25 полнопроходный с НГ | D14: шт | E14: 8 | G14: =ROUND(М[[#This Row],[Количество]]*М[[#This Row],[Цена за ед., руб]],2) -> 0
A15: Кран шаровой | B15: Gidrolock | C15: муфтовый с электроприводом В/В Ду-15 полнопроходной | D15: шт | E15: 614 | G15: =ROUND(М[[#This Row],[Количество]]*М[[#This Row],[Цена за ед., руб]],2) -> 0
A16: Кран шаровой | B16: Valtec | C16: ВР-ВР Ду-15 полнопроходной | D16: шт | E16: 43 | G16: =ROUND(М[[#This Row],[Количество]]*М[[#This Row],[Цена за ед., руб]],2) -> 0
A17: Кран шаровой | C17: ВР-НР Ду-15 полнопроходной | D17: шт | E17: 20 | G17: =ROUND(М[[#This Row],[Количество]]*М[[#This Row],[Цена за ед., руб]],2) -> 0
A18: Кран шаровой | B18: Valtec | C18: ВР-НР Ду-15 полнопроходной | D18: шт | E18: 327 | G18: =ROUND(М[[#This Row],[Количество]]*М[[#This Row],[Цена за ед., руб]],2) -> 0
A19: Воздухоотводчик | B19: Valtec | C19: автоматический Ду-15 10bar | D19: шт | E19: 43 | G19: =ROUND(М[[#This Row],[Количество]]*М[[#This Row],[Цена за ед., руб]],2) -> 0
A20: Труба сшитый полиэтилен | C20: DN-20х2,8 PN-10bar PEXа | D20: пог. м | E20: 2700 | G20: =ROUND(М[[#This Row],[Количество]]*М[[#This Row],[Цена за ед., руб]],2) -> 0
A21: Труба сшитый полиэтилен | B21: ONE PLUS | C21: DN-20х2,8 PN-10bar PEXа | D21: пог. м | E21: 10558 | G21: =ROUND(М[[#This Row],[Количество]]*М[[#This Row],[Цена за ед., руб]],2) -> 0
A22: Коллектор (в сборе) распределительный | C22: Д-50 с 5-ю выходами (диаметр подключения Ду32) | D22: шт | E22: 54 | G22: =ROUND(М[[#This Row],[Количество]]*М[[#This Row],[Цена за ед., руб]],2) -> 0 | H22: В комплекте с кранами, фильтрами, редукторами давления, вставками под счетчик.
A23: Коллектор (в сборе) распределительный | C23: Д-50 с 6-ю выходами (диаметр подключения Ду32) | D23: шт | E23: 56 | G23: =ROUND(М[[#This Row],[Количество]]*М[[#This Row],[Цена за ед., руб]],2) -> 0 | H23: В комплекте с кранами, фильтрами, редукторами давления, вставками под счетчик.
A24: Коллектор (в сборе) распределительный | C24: Д-50 с 2-мя выходами (диаметр подключения Ду32) | D24: шт | E24: 4 | G24: =ROUND(М[[#This Row],[Количество]]*М[[#This Row],[Цена за ед., руб]],2) -> 0 | H24: В комплекте с кранами, фильтрами, редукторами давления, вставками под счетчик.
A25: Фильтр сетчатый | C25: муфтовый ВР-ВР Ду-15 латунь | D25: шт | E25: 8 | G25: =ROUND(М[[#This Row],[Количество]]*М[[#This Row],[Цена за ед., руб]],2) -> 0
A26: Фильтр сетчатый | B26: Valtec | C26: муфтовый ВР-ВР Ду-15 латунь | D26: шт | E26: 24 | G26: =ROUND(М[[#This Row],[Количество]]*М[[#This Row],[Цена за ед., руб]],2) -> 0
A27: Эмаль (кг.) | C27: ПФ-115 | D27: кг | E27: 130 | G27: =ROUND(М[[#This Row],[Количество]]*М[[#This Row],[Цена за ед., руб]],2) -> 0 | H27: Для навигации
A28: Клапан регулирующий | C28: понижения давления резьбовой Ду-15Ру-10 бар | D28: шт | E28: 8 | G28: =ROUND(М[[#This Row],[Количество]]*М[[#This Row],[Цена за ед., руб]],2) -> 0
A29: Клапан регулирующий | B29: Valtec | C29: понижения давления резьбовой Ду-15Ру-10 бар | D29: шт | E29: 24 | G29: =ROUND(М[[#This Row],[Количество]]*М[[#This Row],[Цена за ед., руб]],2) -> 0
A30: Муфта противопожарная | C30: ПМ32 | D30: шт | E30: 38 | G30: =ROUND(М[[#This Row],[Количество]]*М[[#This Row],[Цена за ед., руб]],2) -> 0
A31: Муфта противопожарная | C31: ПМ-63 | D31: шт | E31: 127 | G31: =ROUND(М[[#This Row],[Количество]]*М[[#This Row],[Цена за ед., руб]],2) -> 0
A32: Теплоизоляция трубная | B32: K-FLEX | C32: 32х13мм вспененный полиэтилен | D32: пог. м | E32: 229 | G32: =ROUND(М[[#This Row],[Количество]]*М[[#This Row],[Цена за ед., руб]],2) -> 0
A33: Теплоизоляция трубная | C33: 63х13мм вспененный полиэтилен | D33: пог. м | E33: 60 | G33: =ROUND(М[[#This Row],[Количество]]*М[[#This Row],[Цена за ед., руб]],2) -> 0
A34: Теплоизоляция трубная | B34: K-FLEX | C34: 63х13мм вспененный полиэтилен | D34: пог. м | E34: 392 | G34: =ROUND(М[[#This Row],[Количество]]*М[[#This Row],[Цена за ед., руб]],2) -> 0
A35: Теплоизоляция трубная | B35: K-FLEX | C35: 22х13мм вспененный полиэтилен | D35: пог. м | E35: 13138 | G35: =ROUND(М[[#This Row],[Количество]]*М[[#This Row],[Цена за ед., руб]],2) -> 0
A36: Теплоизоляция трубная | B36: K-FLEX | C36: 28х13мм вспененный полиэтилен | D36: пог. м | E36: 67 | G36: =ROUND(М[[#This Row],[Количество]]*М[[#This Row],[Цена за ед., руб]],2) -> 0
A37: Теплоизоляция трубная | C37: 42х13мм вспененный полиэтилен | D37: пог. м | E37: 13 | G37: =ROUND(М[[#This Row],[Количество]]*М[[#This Row],[Цена за ед., руб]],2) -> 0
A38: Теплоизоляция трубная | B38: K-FLEX | C38: 42х13мм вспененный полиэтилен | D38: пог. м | E38: 105 | G38: =ROUND(М[[#This Row],[Количество]]*М[[#This Row],[Цена за ед., руб]],2) -> 0
A39: Фитинги для ПЭ (сшитый) трубы | D39: % | G39: =SUMIF(ЛСР!$B$6:$N$178,М[[#This Row],[Наим.]],ЛСР!$M$6:$M$178) -> 0 | H39: для всех разделов, расчитывается от стоимости материалов
A40: Фитинги для ППН трубы | D40: % | G40: =SUMIF(ЛСР!$B$6:$N$178,М[[#This Row],[Наим.]],ЛСР!$M$6:$M$178) -> 0 | H40: для всех разделов, расчитывается от стоимости материалов
A41: Прочие материалы | D41: % | G41: =SUMIF(ЛСР!$B$6:$N$178,М[[#This Row],[Наим.]],ЛСР!$M$6:$M$178) -> 0 | H41: для всех разделов, расчитывается от стоимости материалов
...

Sheet ПараметрыЗагрузки
A1: ЛСР | B1: ЛСРГуид
A2: ГП-72.106.01.11.02 Секция 1_Устройство системы водоснабжения №2 | B2: 0833a4c4-be1f-11f0-8b59-a036bcbd010b
A3: ГП-72.106.02.11.02 Секция 2_Устройство системы водоснабжения №1 | B3: a8b2e076-be34-11f0-8b59-a036bcbd010b
A4: ГП-72.106.03.11.02 Секция 3_Устройство системы водоснабжения №1 | B4: 64c2a1f5-bebf-11f0-8b59-a036bcbd010b
A5: ГП-72.106.04.11.02 Секция 4_Устройство системы водоснабжения №1 | B5: 44947a92-bec3-11f0-8b59-a036bcbd010b
