Workbook

Sheet ЛСР
B2: Локальный сметный расчет (ЛСР) №6
B3: Объект: «Комплексная застройка территории, расположенной в границах улиц: Тобольский тракт - Обход города Тюмени (мкр. Губернаторский). Многоэтажный жилой дом с подземным паркингом ГП-72.106» Секция 5
B4: Ведомость объемов работ и расхода материалов по работе: Устройство системы водоснабжения и сопутствующим работам (согласно проекту шифр ВК, стадия Р)
A6: № | B6: Наименование | C6: Артикул, марка, производитель | D6: Характеристика | E6: Ед. изм. | F6: Норма расхода | G6: Секция 5 | H6: Количество | I6: Цена за ед., руб | J6: Сумма, руб | K6: Примечание | L6: Форма закупа материала
A8: 11 | B8: Внутренние инженерные сети
A9: 11.02 | B9: Устройство системы водоснабжения | J9: =SUM($J$116,$J$10) -> 0
A10: 11.02.02 | B10: Устройство водоснабжения (горизонтальная разводка) | J10: =SUM($J$11) -> 0
A11: 11.02.02.00 | B11: Устройство водоснабжения (горизонтальная разводка) | J11: =SUM($J$102,$J$100,$J$96,$J$94,$J$92,$J$90,$J$82,$J$80,$J$78,$J$76,$J$74,$J$72,$J$70,$J$68,$J$66,$J$64,$J$56,$J$54,$J$47,$J$45,$J$41,$J$39,$J$33,$J$31,$J$29,$J$27,$J$16,$J$14,$J$12,J111) -> 0
B12: Работы: | J12: =SUM($J$13) -> 0
B13: Бурение отверстий до 100мм | E13: шт | G13: 30 | H13: =SUM($G$13:$G$13) -> 30 | I13: {=INDEX(Р[Цена за ед., руб],MATCH(1,IF(($B13=Р[Наименование])*($K13=Р[Примечание]),{1},($B13=Р[Наименование])*($K13=Р[Примечание])),0))} -> 0 | J13: =ROUND($H$13*$I$13,2) -> 0
B14: Работы: | J14: =SUM($J$15) -> 0
B15: Изоляция трубопровода | E15: м | G15: 1263 | H15: =SUM($G$15:$G$15) -> 1263 | I15: {=INDEX(Р[Цена за ед., руб],MATCH(1,IF(($B15=Р[Наименование])*($K15=Р[Примечание]),{1},($B15=Р[Наименование])*($K15=Р[Примечание])),0))} -> 0 | J15: =ROUND($H$15*$I$15,2) -> 0
B16: Материалы: | J16: =SUM($J$17:$J$26) -> 0
A17: 1 | B17: Теплоизоляция трубная | C17: K-FLEX | D17: 76х13мм вспененный полиэтилен | E17: пог. м | G17: 105 | H17: =SUM($G$17:$G$17) -> 105 | I17: {=INDEX(М[Цена за ед., руб],MATCH(1,IF(($B17=М[Наим.])*($C17=М[Артикул, марка, произв.])*($D17=М[Хар-ка])*($K17=М[Прим.]),{1},($B17=М[Наим.])*($C17=М[Артикул, марка, произв.])*($D17=М[Хар-ка])*($K17=М[Прим.])),0))} -> 0 | J17: =ROUND($H$17*$I$17,2) -> 0 | L17: {=INDEX(М[Форма закупа],MATCH(1,IF(($B17=М[Наим.])*($C17=М[Артикул, марка, произв.])*($D17=М[Хар-ка])*($K17=М[Прим.]),{1},($B17=М[Наим.])*($C17=М[Артикул, марка, произв.])*($D17=М[Хар-ка])*($K17=М[Прим.])),0))} -> 0
A18: 2 | B18: Теплоизоляция трубная | C18: K-FLEX | D18: 89х13мм вспененный полиэтилен | E18: пог. м | G18: 30 | H18: =SUM($G$18:$G$18) -> 30 | I18: {=INDEX(М[Цена за ед., руб],MATCH(1,IF(($B18=М[Наим.])*($C18=М[Артикул, марка, произв.])*($D18=М[Хар-ка])*($K18=М[Прим.]),{1},($B18=М[Наим.])*($C18=М[Артикул, марка, произв.])*($D18=М[Хар-ка])*($K18=М[Прим.])),0))} -> 0 | J18: =ROUND($H$18*$I$18,2) -> 0 | L18: {=INDEX(М[Форма закупа],MATCH(1,IF(($B18=М[Наим.])*($C18=М[Артикул, марка, произв.])*($D18=М[Хар-ка])*($K18=М[Прим.]),{1},($B18=М[Наим.])*($C18=М[Артикул, марка, произв.])*($D18=М[Хар-ка])*($K18=М[Прим.])),0))} -> 0
A19: 3 | B19: Теплоизоляция трубная | C19: K-FLEX | D19: 57х13мм вспененный полиэтилен | E19: пог. м | G19: 20 | H19: =SUM($G$19:$G$19) -> 20 | I19: {=INDEX(М[Цена за ед., руб],MATCH(1,IF(($B19=М[Наим.])*($C19=М[Артикул, марка, произв.])*($D19=М[Хар-ка])*($K19=М[Прим.]),{1},($B19=М[Наим.])*($C19=М[Артикул, марка, произв.])*($D19=М[Хар-ка])*($K19=М[Прим.])),0))} -> 0 | J19: =ROUND($H$19*$I$19,2) -> 0 | L19: {=INDEX(М[Форма закупа],MATCH(1,IF(($B19=М[Наим.])*($C19=М[Артикул, марка, произв.])*($D19=М[Хар-ка])*($K19=М[Прим.]),{1},($B19=М[Наим.])*($C19=М[Артикул, марка, произв.])*($D19=М[Хар-ка])*($K19=М[Прим.])),0))} -> 0
A20: 4 | B20: Теплоизоляция трубная | C20: K-FLEX | D20: 50х13мм вспененный полиэтилен | E20: пог. м | G20: 72 | H20: =SUM($G$20:$G$20) -> 72 | I20: {=INDEX(М[Цена за ед., руб],MATCH(1,IF(($B20=М[Наим.])*($C20=М[Артикул, марка, произв.])*($D20=М[Хар-ка])*($K20=М[Прим.]),{1},($B20=М[Наим.])*($C20=М[Артикул, марка, произв.])*($D20=М[Хар-ка])*($K20=М[Прим.])),0))} -> 0 | J20: =ROUND($H$20*$I$20,2) -> 0 | L20: {=INDEX(М[Форма закупа],MATCH(1,IF(($B20=М[Наим.])*($C20=М[Артикул, марка, произв.])*($D20=М[Хар-ка])*($K20=М[Прим.]),{1},($B20=М[Наим.])*($C20=М[Артикул, марка, произв.])*($D20=М[Хар-ка])*($K20=М[Прим.])),0))} -> 0
A21: 5 | B21: Теплоизоляция трубная | C21: K-FLEX | D21: 92х13мм вспененный полиэтилен | E21: пог. м | G21: 130 | H21: =SUM($G$21:$G$21) -> 130 | I21: {=INDEX(М[Цена за ед., руб],MATCH(1,IF(($B21=М[Наим.])*($C21=М[Артикул, марка, произв.])*($D21=М[Хар-ка])*($K21=М[Прим.]),{1},($B21=М[Наим.])*($C21=М[Артикул, марка, произв.])*($D21=М[Хар-ка])*($K21=М[Прим.])),0))} -> 0 | J21: =ROUND($H$21*$I$21,2) -> 0 | L21: {=INDEX(М[Форма закупа],MATCH(1,IF(($B21=М[Наим.])*($C21=М[Артикул, марка, произв.])*($D21=М[Хар-ка])*($K21=М[Прим.]),{1},($B21=М[Наим.])*($C21=М[Артикул, марка, произв.])*($D21=М[Хар-ка])*($K21=М[Прим.])),0))} -> 0
A22: 6 | B22: Теплоизоляция трубная | C22: K-FLEX | D22: 110х13мм вспененный полиэтилен | E22: пог. м | G22: 12 | H22: =SUM($G$22:$G$22) -> 12 | I22: {=INDEX(М[Цена за ед., руб],MATCH(1,IF(($B22=М[Наим.])*($C22=М[Артикул, марка, произв.])*($D22=М[Хар-ка])*($K22=М[Прим.]),{1},($B22=М[Наим.])*($C22=М[Артикул, марка, произв.])*($D22=М[Хар-ка])*($K22=М[Прим.])),0))} -> 0 | J22: =ROUND($H$22*$I$22,2) -> 0 | L22: {=INDEX(М[Форма закупа],MATCH(1,IF(($B22=М[Наим.])*($C22=М[Артикул, марка, произв.])*($D22=М[Хар-ка])*($K22=М[Прим.]),{1},($B22=М[Наим.])*($C22=М[Артикул, марка, произв.])*($D22=М[Хар-ка])*($K22=М[Прим.])),0))} -> 0
A23: 7 | B23: Теплоизоляция трубная | C23: K-FLEX | D23: 63х13мм вспененный полиэтилен | E23: пог. м | G23: 104 | H23: =SUM($G$23:$G$23) -> 104 | I23: {=INDEX(М[Цена за ед., руб],MATCH(1,IF(($B23=М[Наим.])*($C23=М[Артикул, марка, произв.])*($D23=М[Хар-ка])*($K23=М[Прим.]),{1},($B23=М[Наим.])*($C23=М[Артикул, марка, произв.])*($D23=М[Хар-ка])*($K23=М[Прим.])),0))} -> 0 | J23: =ROUND($H$23*$I$23,2) -> 0 | L23: {=INDEX(М[Форма закупа],MATCH(1,IF(($B23=М[Наим.])*($C23=М[Артикул, марка, произв.])*($D23=М[Хар-ка])*($K23=М[Прим.]),{1},($B23=М[Наим.])*($C23=М[Артикул, марка, произв.])*($D23=М[Хар-ка])*($K23=М[Прим.])),0))} -> 0
A24: 8 | B24: Теплоизоляция трубная | C24: K-FLEX | D24: 28х13мм вспененный полиэтилен | E24: пог. м | G24: 716 | H24: =SUM($G$24:$G$24) -> 716 | I24: {=INDEX(М[Цена за ед., руб],MATCH(1,IF(($B24=М[Наим.])*($C24=М[Артикул, марка, произв.])*($D24=М[Хар-ка])*($K24=М[Прим.]),{1},($B24=М[Наим.])*($C24=М[Артикул, марка, произв.])*($D24=М[Хар-ка])*($K24=М[Прим.])),0))} -> 0 | J24: =ROUND($H$24*$I$24,2) -> 0 | L24: {=INDEX(М[Форма закупа],MATCH(1,IF(($B24=М[Наим.])*($C24=М[Артикул, марка, произв.])*($D24=М[Хар-ка])*($K24=М[Прим.]),{1},($B24=М[Наим.])*($C24=М[Артикул, марка, произв.])*($D24=М[Хар-ка])*($K24=М[Прим.])),0))} -> 0
A25: 9 | B25: Теплоизоляция трубная | C25: K-FLEX | D25: 35х13мм вспененный полиэтилен | E25: пог. м | G25: 62 | H25: =SUM($G$25:$G$25) -> 62 | I25: {=INDEX(М[Цена за ед., руб],MATCH(1,IF(($B25=М[Наим.])*($C25=М[Артикул, марка, произв.])*($D25=М[Хар-ка])*($K25=М[Прим.]),{1},($B25=М[Наим.])*($C25=М[Артикул, марка, произв.])*($D25=М[Хар-ка])*($K25=М[Прим.])),0))} -> 0 | J25: =ROUND($H$25*$I$25,2) -> 0 | L25: {=INDEX(М[Форма закупа],MATCH(1,IF(($B25=М[Наим.])*($C25=М[Артикул, марка, произв.])*($D25=М[Хар-ка])*($K25=М[Прим.]),{1},($B25=М[Наим.])*($C25=М[Артикул, марка, произв.])*($D25=М[Хар-ка])*($K25=М[Прим.])),0))} -> 0
A26: 10 | B26: Теплоизоляция трубная | C26: K-FLEX | D26: 42х13мм вспененный полиэтилен | E26: пог. м | G26: 12 | H26: =SUM($G$26:$G$26) -> 12 | I26: {=INDEX(М[Цена за ед., руб],MATCH(1,IF(($B26=М[Наим.])*($C26=М[Артикул, марка, произв.])*($D26=М[Хар-ка])*($K26=М[Прим.]),{1},($B26=М[Наим.])*($C26=М[Артикул, марка, произв.])*($D26=М[Хар-ка])*($K26=М[Прим.])),0))} -> 0 | J26: =ROUND($H$26*$I$26,2) -> 0 | L26: {=INDEX(М[Форма закупа],MATCH(1,IF(($B26=М[Наим.])*($C26=М[Артикул, марка, произв.])*($D26=М[Хар-ка])*($K26=М[Прим.]),{1},($B26=М[Наим.])*($C26=М[Артикул, марка, произв.])*($D26=М[Хар-ка])*($K26=М[Прим.])),0))} -> 0
B27: Работы: | J27: =SUM($J$28) -> 0
B28: Монтаж затвора | E28: шт | G28: 2 | H28: =SUM($G$28:$G$28) -> 2 | I28: {=INDEX(Р[Цена за ед., руб],MATCH(1,IF(($B28=Р[Наименование])*($K28=Р[Примечание]),{1},($B28=Р[Наименование])*($K28=Р[Примечание])),0))} -> 0 | J28: =ROUND($H$28*$I$28,2) -> 0
B29: Материалы: | J29: =SUM($J$30) -> 0
A30: 1 | B30: Затвор поворотный дисковый | C30: REON | D30: межфланцевый Ду-80 Py-16bar ручной с контролем положения | E30: шт | G30: 2 | H30: =SUM($G$30:$G$30) -> 2 | I30: {=INDEX(М[Цена за ед., руб],MATCH(1,IF(($B30=М[Наим.])*($C30=М[Артикул, марка, произв.])*($D30=М[Хар-ка])*($K30=М[Прим.]),{1},($B30=М[Наим.])*($C30=М[Артикул, марка, произв.])*($D30=М[Хар-ка])*($K30=М[Прим.])),0))} -> 0 | J30: =ROUND($H$30*$I$30,2) -> 0 | L30: {=INDEX(М[Форма закупа],MATCH(1,IF(($B30=М[Наим.])*($C30=М[Артикул, марка, произв.])*($D30=М[Хар-ка])*($K30=М[Прим.]),{1},($B30=М[Наим.])*($C30=М[Артикул, марка, произв.])*($D30=М[Хар-ка])*($K30=М[Прим.])),0))} -> 0
B31: Работы: | J31: =SUM($J$32) -> 0
B32: Монтаж клапана (фланцевые, резьбовые) до 32 мм | E32: шт | G32: 11 | H32: =SUM($G$32:$G$32) -> 11 | I32: {=INDEX(Р[Цена за ед., руб],MATCH(1,IF(($B32=Р[Наименование])*($K32=Р[Примечание]),{1},($B32=Р[Наименование])*($K32=Р[Примечание])),0))} -> 0 | J32: =ROUND($H$32*$I$32,2) -> 0
B33: Материалы: | J33: =SUM($J$34:$J$38) -> 0
A34: 1 | B34: Клапан балансировочный | C34: Weser | D34: ручной MVT-R Ду-25 Ру-16бар | E34: шт | G34: 4 | H34: =SUM($G$34:$G$34) -> 4 | I34: {=INDEX(М[Цена за ед., руб],MATCH(1,IF(($B34=М[Наим.])*($C34=М[Артикул, марка, произв.])*($D34=М[Хар-ка])*($K34=М[Прим.]),{1},($B34=М[Наим.])*($C34=М[Артикул, марка, произв.])*($D34=М[Хар-ка])*($K34=М[Прим.])),0))} -> 0 | J34: =ROUND($H$34*$I$34,2) -> 0 | L34: {=INDEX(М[Форма закупа],MATCH(1,IF(($B34=М[Наим.])*($C34=М[Артикул, марка, произв.])*($D34=М[Хар-ка])*($K34=М[Прим.]),{1},($B34=М[Наим.])*($C34=М[Артикул, марка, произв.])*($D34=М[Хар-ка])*($K34=М[Прим.])),0))} -> 0
A35: 2 | B35: Клапан балансировочный | C35: Weser | D35: ручной MVT-R Ду-15 Ру-16бар | E35: шт | G35: 2 | H35: =SUM($G$35:$G$35) -> 2 | I35: {=INDEX(М[Цена за ед., руб],MATCH(1,IF(($B35=М[Наим.])*($C35=М[Артикул, марка, произв.])*($D35=М[Хар-ка])*($K35=М[Прим.]),{1},($B35=М[Наим.])*($C35=М[Артикул, марка, произв.])*($D35=М[Хар-ка])*($K35=М[Прим.])),0))} -> 0 | J35: =ROUND($H$35*$I$35,2) -> 0 | L35: {=INDEX(М[Форма закупа],MATCH(1,IF(($B35=М[Наим.])*($C35=М[Артикул, марка, произв.])*($D35=М[Хар-ка])*($K35=М[Прим.]),{1},($B35=М[Наим.])*($C35=М[Артикул, марка, произв.])*($D35=М[Хар-ка])*($K35=М[Прим.])),0))} -> 0
A36: 3 | B36: Клапан обратный | C36: Valtec | D36: муфтовый Ду-15 Ру-16бар | E36: шт | G36: 2 | H36: =SUM($G$36:$G$36) -> 2 | I36: {=INDEX(М[Цена за ед., руб],MATCH(1,IF(($B36=М[Наим.])*($C36=М[Артикул, марка, произв.])*($D36=М[Хар-ка])*($K36=М[Прим.]),{1},($B36=М[Наим.])*($C36=М[Артикул, марка, произв.])*($D36=М[Хар-ка])*($K36=М[Прим.])),0))} -> 0 | J36: =ROUND($H$36*$I$36,2) -> 0 | L36: {=INDEX(М[Форма закупа],MATCH(1,IF(($B36=М[Наим.])*($C36=М[Артикул, марка, произв.])*($D36=М[Хар-ка])*($K36=М[Прим.]),{1},($B36=М[Наим.])*($C36=М[Артикул, марка, произв.])*($D36=М[Хар-ка])*($K36=М[Прим.])),0))} -> 0
A37: 4 | B37: Клапан обратный | C37: Valtec | D37: муфтовый Ду-20 Ру-16бар | E37: шт | G37: 2 | H37: =SUM($G$37:$G$37) -> 2 | I37: {=INDEX(М[Цена за ед., руб],MATCH(1,IF(($B37=М[Наим.])*($C37=М[Артикул, марка, произв.])*($D37=М[Хар-ка])*($K37=М[Прим.]),{1},($B37=М[Наим.])*($C37=М[Артикул, марка, произв.])*($D37=М[Хар-ка])*($K37=М[Прим.])),0))} -> 0 | J37: =ROUND($H$37*$I$37,2) -> 0 | L37: {=INDEX(М[Форма закупа],MATCH(1,IF(($B37=М[Наим.])*($C37=М[Артикул, марка, произв.])*($D37=М[Хар-ка])*($K37=М[Прим.]),{1},($B37=М[Наим.])*($C37=М[Артикул, марка, произв.])*($D37=М[Хар-ка])*($K37=М[Прим.])),0))} -> 0
A38: 5 | B38: Клапан регулирующий | C38: Valtec | D38: понижения давления резьбовой Ду-20Ру-10 бар | E38: шт | G38: 1 | H38: =SUM($G$38:$G$38) -> 1 | I38: {=INDEX(М[Цена за ед., руб],MATCH(1,IF(($B38=М[Наим.])*($C38=М[Артикул, марка, произв.])*($D38=М[Хар-ка])*($K38=М[Прим.]),{1},($B38=М[Наим.])*($C38=М[Артикул, марка, произв.])*($D38=М[Хар-ка])*($K38=М[Прим.])),0))} -> 0 | J38: =ROUND($H$38*$I$38,2) -> 0 | L38: {=INDEX(М[Форма закупа],MATCH(1,IF(($B38=М[Наим.])*($C38=М[Артикул, марка, произв.])*($D38=М[Хар-ка])*($K38=М[Прим.]),{1},($B38=М[Наим.])*($C38=М[Артикул, марка, произв.])*($D38=М[Хар-ка])*($K38=М[Прим.])),0))} -> 0
B39: Работы: | J39: =SUM($J$40) -> 0
B40: Монтаж клапана (фланцевые, резьбовые) от 40 мм | E40: шт | G40: 7 | H40: =SUM($G$40:$G$40) -> 7 | I40: {=INDEX(Р[Цена за ед., руб],MATCH(1,IF(($B40=Р[Наименование])*($K40=Р[Примечание]),{1},($B40=Р[Наименование])*($K40=Р[Примечание])),0))} -> 0 | J40: =ROUND($H$40*$I$40,2) -> 0
B41: Материалы: | J41: =SUM($J$42:$J$44) -> 0
A42: 1 | B42: Клапан балансировочный | C42: Weser | D42: ручной MVT-R Ду-40 Ру-16бар | E42: шт | G42: 2 | H42: =SUM($G$42:$G$42) -> 2 | I42: {=INDEX(М[Цена за ед., руб],MATCH(1,IF(($B42=М[Наим.])*($C42=М[Артикул, марка, произв.])*($D42=М[Хар-ка])*($K42=М[Прим.]),{1},($B42=М[Наим.])*($C42=М[Артикул, марка, произв.])*($D42=М[Хар-ка])*($K42=М[Прим.])),0))} -> 0 | J42: =ROUND($H$42*$I$42,2) -> 0 | L42: {=INDEX(М[Форма закупа],MATCH(1,IF(($B42=М[Наим.])*($C42=М[Артикул, марка, произв.])*($D42=М[Хар-ка])*($K42=М[Прим.]),{1},($B42=М[Наим.])*($C42=М[Артикул, марка, произв.])*($D42=М[Хар-ка])*($K42=М[Прим.])),0))} -> 0
A43: 2 | B43: Клапан обратный | C43: REON | D43: Межфланцевый Ду-100 Ру-16бар | E43: шт | G43: 2 | H43: =SUM($G$43:$G$43) -> 2 | I43: {=INDEX(М[Цена за ед., руб],MATCH(1,IF(($B43=М[Наим.])*($C43=М[Артикул, марка, произв.])*($D43=М[Хар-ка])*($K43=М[Прим.]),{1},($B43=М[Наим.])*($C43=М[Артикул, марка, произв.])*($D43=М[Хар-ка])*($K43=М[Прим.])),0))} -> 0 | J43: =ROUND($H$43*$I$43,2) -> 0 | L43: {=INDEX(М[Форма закупа],MATCH(1,IF(($B43=М[Наим.])*($C43=М[Артикул, марка, произв.])*($D43=М[Хар-ка])*($K43=М[Прим.]),{1},($B43=М[Наим.])*($C43=М[Артикул, марка, произв.])*($D43=М[Хар-ка])*($K43=М[Прим.])),0))} -> 0
...

Sheet Работы
A1: Сводная ведомость объемов работ
A3: Наименование | B3: Ед. изм. | C3: Количество | D3: Цена за ед., руб | E3: Сумма, руб | F3: Примечание
A4: Бурение отверстий до 100мм | B4: шт | C4: 30 | E4: =ROUND(Р[[#This Row],[Количество]]*Р[[#This Row],[Цена за ед., руб]],2) -> 0
A5: Изоляция трубопровода | B5: м | C5: 1263 | E5: =ROUND(Р[[#This Row],[Количество]]*Р[[#This Row],[Цена за ед., руб]],2) -> 0
A6: Монтаж затвора | B6: шт | C6: 2 | E6: =ROUND(Р[[#This Row],[Количество]]*Р[[#This Row],[Цена за ед., руб]],2) -> 0
A7: Монтаж клапана (фланцевые, резьбовые) до 32 мм | B7: шт | C7: 11 | E7: =ROUND(Р[[#This Row],[Количество]]*Р[[#This Row],[Цена за ед., руб]],2) -> 0
A8: Монтаж клапана (фланцевые, резьбовые) от 40 мм | B8: шт | C8: 7 | E8: =ROUND(Р[[#This Row],[Количество]]*Р[[#This Row],[Цена за ед., руб]],2) -> 0
A9: Монтаж кранов (фланцевые, резьбовые) до 32 мм | B9: шт | C9: 214 | E9: =ROUND(Р[[#This Row],[Количество]]*Р[[#This Row],[Цена за ед., руб]],2) -> 0
A10: Монтаж кранов (фланцевые, резьбовые) от 40 мм | B10: шт | C10: 24 | E10: =ROUND(Р[[#This Row],[Количество]]*Р[[#This Row],[Цена за ед., руб]],2) -> 0
A11: Монтаж насосной установки повышения давления | B11: шт | C11: 1 | E11: =ROUND(Р[[#This Row],[Количество]]*Р[[#This Row],[Цена за ед., руб]],2) -> 0
A12: Монтаж НСПС | B12: шт | C12: 2 | E12: =ROUND(Р[[#This Row],[Количество]]*Р[[#This Row],[Цена за ед., руб]],2) -> 0
A13: Монтаж счетчика | B13: шт | C13: 1 | E13: =ROUND(Р[[#This Row],[Количество]]*Р[[#This Row],[Цена за ед., руб]],2) -> 0
A14: Монтаж фильтра | B14: шт | C14: 1 | E14: =ROUND(Р[[#This Row],[Количество]]*Р[[#This Row],[Цена за ед., руб]],2) -> 0
A15: Прокладка трубы ППН | B15: пог. м | C15: 1178 | E15: =ROUND(Р[[#This Row],[Количество]]*Р[[#This Row],[Цена за ед., руб]],2) -> 0
... A19: Пусконаладочные работы системы водоснабжения: регулировка системы, манометрические испытания | B19: компл. | C19: 1 | E19: =ROUND(Р[[#This Row],[Количество]]*Р[[#This Row],[Цена за ед., руб]],2) -> 0
A20: Итог | E20: =SUBTOTAL(109,Р[Сумма, руб]) -> 0
D22: Проверка: | E22: =ЛСР!J121-Р[[#Totals],[Сумма, руб]] -> 0

Sheet Материалы
A1: Сводная ведомость объемов материала
A3: Наим. | B3: Артикул, марка, произв. | C3: Хар-ка | D3: Ед. изм. | E3: Количество | F3: Цена за ед., руб | G3: Сумма, руб | H3: Прим. | I3: Форма закупа
A4: Труба стальная | C4: 12Х18Н10Т сварка D-26x2.5 | D4: м | E4: 162 | G4: =ROUND(М[[#This Row],[Количество]]*М[[#This Row],[Цена за ед., руб]],2) -> 0
A5: Труба стальная | C5: 12Х18Н10Т сварка D-108x4.0 | D5: м | E5: 12 | G5: =ROUND(М[[#This Row],[Количество]]*М[[#This Row],[Цена за ед., руб]],2) -> 0
A6: Труба стальная | C6: 12Х18Н10Т сварка D-219x9.5 | D6: м | E6: 12 | G6: =ROUND(М[[#This Row],[Количество]]*М[[#This Row],[Цена за ед., руб]],2) -> 0
A7: Труба стальная | C7: 12Х18Н10Т сварка D-48x3.5 | D7: м | E7: 42 | G7: =ROUND(М[[#This Row],[Количество]]*М[[#This Row],[Цена за ед., руб]],2) -> 0
A8: Труба стальная | C8: 12Х18Н10Т сварка D-57x3.5 | D8: м | E8: 20 | G8: =ROUND(М[[#This Row],[Количество]]*М[[#This Row],[Цена за ед., руб]],2) -> 0
A9: Труба стальная | C9: 12Х18Н10Т сварка D-89x4.5 | D9: м | E9: 30 | G9: =ROUND(М[[#This Row],[Количество]]*М[[#This Row],[Цена за ед., руб]],2) -> 0
A10: Труба стальная | C10: 12Х18Н10Т сварка D-22x3 | D10: м | E10: 0.5 | G10: =ROUND(М[[#This Row],[Количество]]*М[[#This Row],[Цена за ед., руб]],2) -> 0
A11: Труба стальная | C11: 12Х18Н10Т сварка D-76x3.5 | D11: м | E11: 101 | G11: =ROUND(М[[#This Row],[Количество]]*М[[#This Row],[Цена за ед., руб]],2) -> 0
A12: Переход | C12: сварной Д225/219 мм ПЭ/Сталь | D12: шт | E12: 2 | G12: =ROUND(М[[#This Row],[Количество]]*М[[#This Row],[Цена за ед., руб]],2) -> 0
A13: Счетчик воды | B13: Пульсар | C13: с импульсным выходом Ду-65 Qn- L- | D13: шт | E13: 1 | G13: =ROUND(М[[#This Row],[Количество]]*М[[#This Row],[Цена за ед., руб]],2) -> 0 | H13: Счетчик с импульсным выходом и системой передачи показаний по RS-485 Ду 65 Qn=63 м3/ч , Qmin=0,75 м3/ч , IP68
A14: Затвор поворотный дисковый | B14: REON | C14: межфланцевый Ду-80 Py-16bar ручной с контролем положения | D14: шт | E14: 2 | G14: =ROUND(М[[#This Row],[Количество]]*М[[#This Row],[Цена за ед., руб]],2) -> 0
A15: Труба полипропиленовая | C15: PPH PN20 DN90х15 арм.стекловолокно | D15: пог. м | E15: 130 | G15: =ROUND(М[[#This Row],[Количество]]*М[[#This Row],[Цена за ед., руб]],2) -> 0
A16: Труба полипропиленовая | C16: PPH PN20 DN25х5,4 арм.стекловолокно | D16: пог. м | E16: 716 | G16: =ROUND(М[[#This Row],[Количество]]*М[[#This Row],[Цена за ед., руб]],2) -> 0
A17: Труба полипропиленовая | C17: PPH PN20 DN32х5,4 арм.стекловолокно | D17: пог. м | E17: 62 | G17: =ROUND(М[[#This Row],[Количество]]*М[[#This Row],[Цена за ед., руб]],2) -> 0
A18: Труба полипропиленовая | C18: PPH PN20 DN40х6,7 арм.стекловолокно | D18: пог. м | E18: 12 | G18: =ROUND(М[[#This Row],[Количество]]*М[[#This Row],[Цена за ед., руб]],2) -> 0
A19: Труба полипропиленовая | C19: PPH PN20 DN50х8,4 арм.стекловолокно | D19: пог. м | E19: 70 | G19: =ROUND(М[[#This Row],[Количество]]*М[[#This Row],[Цена за ед., руб]],2) -> 0
A20: Труба полипропиленовая | C20: PPH PN20 DN63х10,5 арм.стекловолокно | D20: пог. м | E20: 104 | G20: =ROUND(М[[#This Row],[Количество]]*М[[#This Row],[Цена за ед., руб]],2) -> 0
A21: Труба полипропиленовая | C21: PPH PN20 DN75х12,5 арм.стекловолокно | D21: пог. м | E21: 84 | G21: =ROUND(М[[#This Row],[Количество]]*М[[#This Row],[Цена за ед., руб]],2) -> 0
A22: Труба электросварная (пог.м.) | C22: стальная D-89х4,0 | D22: пог. м | E22: 4 | G22: =ROUND(М[[#This Row],[Количество]]*М[[#This Row],[Цена за ед., руб]],2) -> 0
A23: Труба электросварная (пог.м.) | C23: стальная D-108х4,0 | D23: пог. м | E23: 4 | G23: =ROUND(М[[#This Row],[Количество]]*М[[#This Row],[Цена за ед., руб]],2) -> 0
A24: Труба электросварная (пог.м.) | C24: стальная D-133х5,0 | D24: пог. м | E24: 4 | G24: =ROUND(М[[#This Row],[Количество]]*М[[#This Row],[Цена за ед., руб]],2) -> 0
A25: Кран шаровой | B25: LD | C25: фланцевый Ду-200 | D25: шт | E25: 3 | G25: =ROUND(М[[#This Row],[Количество]]*М[[#This Row],[Цена за ед., руб]],2) -> 0
A26: Кран шаровой | B26: Valtec | C26: Ду-15 полнопроходный с НГ | D26: шт | E26: 42 | G26: =ROUND(М[[#This Row],[Количество]]*М[[#This Row],[Цена за ед., руб]],2) -> 0
A27: Кран шаровой | B27: Valtec | C27: Ду-20 полнопроходный с НГ | D27: шт | E27: 20 | G27: =ROUND(М[[#This Row],[Количество]]*М[[#This Row],[Цена за ед., руб]],2) -> 0
A28: Кран шаровой | B28: Valtec | C28: Ду-25 полнопроходный с НГ | D28: шт | E28: 4 | G28: =ROUND(М[[#This Row],[Количество]]*М[[#This Row],[Цена за ед., руб]],2) -> 0
A29: Кран шаровой | B29: Valtec | C29: c НГ Ду-40 полнопроходной | D29: шт | E29: 2 | G29: =ROUND(М[[#This Row],[Количество]]*М[[#This Row],[Цена за ед., руб]],2) -> 0
A30: Кран шаровой | B30: Valtec | C30: c НГ Ду-50 полнопроходной | D30: шт | E30: 8 | G30: =ROUND(М[[#This Row],[Количество]]*М[[#This Row],[Цена за ед., руб]],2) -> 0
A31: Кран шаровой | B31: Valtec | C31: муфтовый со штуцером Ду-20 | D31: шт | E31: 4 | G31: =ROUND(М[[#This Row],[Количество]]*М[[#This Row],[Цена за ед., руб]],2) -> 0
A32: Кран шаровой | B32: LD | C32: фланцевый Ду-100 PN1,6 с электроприводом | D32: шт | E32: 1 | G32: =ROUND(М[[#This Row],[Количество]]*М[[#This Row],[Цена за ед., руб]],2) -> 0
A33: Кран шаровой | B33: LD | C33: межфланцевый СТРИЖ Ду-80 PN1,6 | D33: шт | E33: 2 | G33: =ROUND(М[[#This Row],[Количество]]*М[[#This Row],[Цена за ед., руб]],2) -> 0
A34: Кран шаровой | B34: Valtec | C34: ВР-ВР Ду-15 полнопроходной | D34: шт | E34: 141 | G34: =ROUND(М[[#This Row],[Количество]]*М[[#This Row],[Цена за ед., руб]],2) -> 0
A35: Кран шаровой | B35: LD | C35: фланцевый Ду-80 | D35: шт | E35: 6 | G35: =ROUND(М[[#This Row],[Количество]]*М[[#This Row],[Цена за ед., руб]],2) -> 0
A36: Кран шаровой | B36: LD | C36: фланцевый Ду-100 | D36: шт | E36: 2 | G36: =ROUND(М[[#This Row],[Количество]]*М[[#This Row],[Цена за ед., руб]],2) -> 0
A37: Кран трехходовой для манометра | C37: Ду-15 Ру-16 G1/2-М20х1,5 латунь | D37: шт | E37: 3 | G37: =ROUND(М[[#This Row],[Количество]]*М[[#This Row],[Цена за ед., руб]],2) -> 0
A38: Фильтр сетчатый | B38: REON | C38: фланцевый Ду-100 | D38: шт | E38: 1 | G38: =ROUND(М[[#This Row],[Количество]]*М[[#This Row],[Цена за ед., руб]],2) -> 0
A39: Насосная установка повышения давления | B39: WILO либо аналог | C39: 16бар Q=21.83 м3/час Н=73,93 м | D39: шт | E39: 1 | G39: =ROUND(М[[#This Row],[Количество]]*М[[#This Row],[Цена за ед., руб]],2) -> 0 | H39: COR-3 MVL 810/SKw-EB-R (или аналог) в комплекте с фиброкомпенсаторами фланцевыми
A40: Клапан балансировочный | B40: Weser | C40: ручной MVT-R Ду-40 Ру-16бар | D40: шт | E40: 2 | G40: =ROUND(М[[#This Row],[Количество]]*М[[#This Row],[Цена за ед., руб]],2) -> 0
A41: Клапан балансировочный | B41: Weser | C41: ручной MVT-R Ду-25 Ру-16бар | D41: шт | E41: 4 | G41: =ROUND(М[[#This Row],[Количество]]*М[[#This Row],[Цена за ед., руб]],2) -> 0
...

Sheet ПараметрыЗагрузки
A1: ЛСР | B1: ЛСРГуид
A2: ГП-72.106.05.11.02 Секция 5_Устройство системы водоснабжения №1 | B2: 17ab6b8e-bec7-11f0-8b59-a036bcbd010b
