Workbook

Sheet ЛСР
B2: Локальный сметный расчет (ЛСР) №7
B3: Объект: «Комплексная застройка территории, расположенной в границах улиц: Тобольский тракт - Обход города Тюмени (мкр. Губернаторский). Многоэтажный жилой дом ГП-72.107» Секция 1, 2
B4: Ведомость объемов работ и расхода материалов по работе: Устройство системы канализации и сопутствующим работам (согласно проекту шифр ВК, стадия Р)
A6: № | B6: Наименование | C6: Артикул, марка, производитель | D6: Характеристика | E6: Ед. изм. | F6: Норма расхода | G6: Секция 1 | H6: Секция 2 | I6: Количество | J6: Цена за ед., руб | K6: Сумма, руб | L6: Примечание | M6: Форма закупа материала
A8: 11 | B8: Внутренние инженерные сети
A9: 11.03 | B9: Устройство системы канализации | K9: =SUM($K$174,$K$187,$K$148,$K$126,$K$92,$K$66,$K$10) -> 0
A10: 11.03.01 | B10: Устройство канализации К-1 | K10: =SUM($K$11) -> 0
A11: 11.03.01.00 | B11: Устройство канализации К-1 | K11: =SUM($K$64,$K$62,$K$60,$K$58,$K$54,$K$52,$K$50,$K$48,$K$45,$K$43,$K$40,$K$38,$K$36,$K$34,$K$32,$K$30,$K$28,$K$26,$K$24,$K$22,$K$18,$K$16,$K$14,$K$12) -> 0
B12: Работы: | K12: =SUM($K$13) -> 0
B13: Бурение отверстий до 130 мм | E13: шт | G13: 144 | H13: 308 | I13: =SUM($G$13:$H$13) -> 452 | J13: {=INDEX(Р[Цена за ед., руб],MATCH(1,IF(($B13=Р[Наименование])*($L13=Р[Примечание]),{1},($B13=Р[Наименование])*($L13=Р[Примечание])),0))} -> 0 | K13: =ROUND($I$13*$J$13,2) -> 0
B14: Работы: | K14: =SUM($K$15) -> 0
B15: Бурение отверстий до 80 мм | E15: шт | G15: 60 | H15: 68 | I15: =SUM($G$15:$H$15) -> 128 | J15: {=INDEX(Р[Цена за ед., руб],MATCH(1,IF(($B15=Р[Наименование])*($L15=Р[Примечание]),{1},($B15=Р[Наименование])*($L15=Р[Примечание])),0))} -> 0 | K15: =ROUND($I$15*$J$15,2) -> 0
B16: Работы: | K16: =SUM($K$17) -> 0
B17: Изоляция трубопровода | E17: м | G17: 69 | H17: 135 | I17: =SUM($G$17:$H$17) -> 204 | J17: {=INDEX(Р[Цена за ед., руб],MATCH(1,IF(($B17=Р[Наименование])*($L17=Р[Примечание]),{1},($B17=Р[Наименование])*($L17=Р[Примечание])),0))} -> 0 | K17: =ROUND($I$17*$J$17,2) -> 0
B18: Материалы: | K18: =SUM($K$19:$K$21) -> 0
A19: 1 | B19: Цилиндры фольгированные | C19: Rockwool | D19: 110x30 мм | E19: пог. м | G19: 61 | I19: =SUM($G$19:$H$19) -> 61 | J19: {=INDEX(М[Цена за ед., руб],MATCH(1,IF(($B19=М[Наим.])*($C19=М[Артикул, марка, произв.])*($D19=М[Хар-ка])*($L19=М[Прим.]),{1},($B19=М[Наим.])*($C19=М[Артикул, марка, произв.])*($D19=М[Хар-ка])*($L19=М[Прим.])),0))} -> 0 | K19: =ROUND($I$19*$J$19,2) -> 0 | M19: {=INDEX(М[Форма закупа],MATCH(1,IF(($B19=М[Наим.])*($C19=М[Артикул, марка, произв.])*($D19=М[Хар-ка])*($L19=М[Прим.]),{1},($B19=М[Наим.])*($C19=М[Артикул, марка, произв.])*($D19=М[Хар-ка])*($L19=М[Прим.])),0))} -> 0
A20: 2 | B20: Цилиндры фольгированные | C20: Rockwool | D20: 110x30 мм | E20: пог. м | H20: 127 | I20: =SUM($G$20:$H$20) -> 127 | J20: {=INDEX(М[Цена за ед., руб],MATCH(1,IF(($B20=М[Наим.])*($C20=М[Артикул, марка, произв.])*($D20=М[Хар-ка])*($L20=М[Прим.]),{1},($B20=М[Наим.])*($C20=М[Артикул, марка, произв.])*($D20=М[Хар-ка])*($L20=М[Прим.])),0))} -> 0 | K20: =ROUND($I$20*$J$20,2) -> 0 | L20: включая гильзы | M20: {=INDEX(М[Форма закупа],MATCH(1,IF(($B20=М[Наим.])*($C20=М[Артикул, марка, произв.])*($D20=М[Хар-ка])*($L20=М[Прим.]),{1},($B20=М[Наим.])*($C20=М[Артикул, марка, произв.])*($D20=М[Хар-ка])*($L20=М[Прим.])),0))} -> 0
A21: 3 | B21: Трубная изоляция | C21: K-FLEX | D21: из вспененного полиэтилена 13мм 42х13 | E21: пог. м | G21: 8 | H21: 8 | I21: =SUM($G$21:$H$21) -> 16 | J21: {=INDEX(М[Цена за ед., руб],MATCH(1,IF(($B21=М[Наим.])*($C21=М[Артикул, марка, произв.])*($D21=М[Хар-ка])*($L21=М[Прим.]),{1},($B21=М[Наим.])*($C21=М[Артикул, марка, произв.])*($D21=М[Хар-ка])*($L21=М[Прим.])),0))} -> 0 | K21: =ROUND($I$21*$J$21,2) -> 0 | M21: {=INDEX(М[Форма закупа],MATCH(1,IF(($B21=М[Наим.])*($C21=М[Артикул, марка, произв.])*($D21=М[Хар-ка])*($L21=М[Прим.]),{1},($B21=М[Наим.])*($C21=М[Артикул, марка, произв.])*($D21=М[Хар-ка])*($L21=М[Прим.])),0))} -> 0
B22: Работы: | K22: =SUM($K$23) -> 0
B23: Монтаж защитного кожуха | E23: м2 | G23: 32 | H23: 46 | I23: =SUM($G$23:$H$23) -> 78 | J23: {=INDEX(Р[Цена за ед., руб],MATCH(1,IF(($B23=Р[Наименование])*($L23=Р[Примечание]),{1},($B23=Р[Наименование])*($L23=Р[Примечание])),0))} -> 0 | K23: =ROUND($I$23*$J$23,2) -> 0
B24: Материалы: | K24: =SUM($K$25) -> 0
A25: 1 | B25: Окожушка | D25: оцинк. сталь 0,5мм | E25: м2 | G25: 32 | H25: 46 | I25: =SUM($G$25:$H$25) -> 78 | J25: {=INDEX(М[Цена за ед., руб],MATCH(1,IF(($B25=М[Наим.])*($C25=М[Артикул, марка, произв.])*($D25=М[Хар-ка])*($L25=М[Прим.]),{1},($B25=М[Наим.])*($C25=М[Артикул, марка, произв.])*($D25=М[Хар-ка])*($L25=М[Прим.])),0))} -> 0 | K25: =ROUND($I$25*$J$25,2) -> 0 | L25: гильзы | M25: {=INDEX(М[Форма закупа],MATCH(1,IF(($B25=М[Наим.])*($C25=М[Артикул, марка, произв.])*($D25=М[Хар-ка])*($L25=М[Прим.]),{1},($B25=М[Наим.])*($C25=М[Артикул, марка, произв.])*($D25=М[Хар-ка])*($L25=М[Прим.])),0))} -> 0
B26: Работы: | K26: =SUM($K$27) -> 0
B27: Монтаж клапана (фланцевые, резьбовые) до 32 мм | E27: шт | G27: 1 | H27: 1 | I27: =SUM($G$27:$H$27) -> 2 | J27: {=INDEX(Р[Цена за ед., руб],MATCH(1,IF(($B27=Р[Наименование])*($L27=Р[Примечание]),{1},($B27=Р[Наименование])*($L27=Р[Примечание])),0))} -> 0 | K27: =ROUND($I$27*$J$27,2) -> 0
B28: Материалы: | K28: =SUM($K$29) -> 0
A29: 1 | B29: Клапан обратный | C29: Valtec | D29: 1 1/4 Ду-32 Ру-16бар | E29: шт | G29: 1 | H29: 1 | I29: =SUM($G$29:$H$29) -> 2 | J29: {=INDEX(М[Цена за ед., руб],MATCH(1,IF(($B29=М[Наим.])*($C29=М[Артикул, марка, произв.])*($D29=М[Хар-ка])*($L29=М[Прим.]),{1},($B29=М[Наим.])*($C29=М[Артикул, марка, произв.])*($D29=М[Хар-ка])*($L29=М[Прим.])),0))} -> 0 | K29: =ROUND($I$29*$J$29,2) -> 0 | M29: {=INDEX(М[Форма закупа],MATCH(1,IF(($B29=М[Наим.])*($C29=М[Артикул, марка, произв.])*($D29=М[Хар-ка])*($L29=М[Прим.]),{1},($B29=М[Наим.])*($C29=М[Артикул, марка, произв.])*($D29=М[Хар-ка])*($L29=М[Прим.])),0))} -> 0
B30: Работы: | K30: =SUM($K$31) -> 0
B31: Монтаж клапана канализационного | E31: шт | G31: 4 | H31: 4 | I31: =SUM($G$31:$H$31) -> 8 | J31: {=INDEX(Р[Цена за ед., руб],MATCH(1,IF(($B31=Р[Наименование])*($L31=Р[Примечание]),{1},($B31=Р[Наименование])*($L31=Р[Примечание])),0))} -> 0 | K31: =ROUND($I$31*$J$31,2) -> 0
B32: Материалы: | K32: =SUM($K$33) -> 0
A33: 1 | B33: Клапан канализационный | D33: 110 вакуумный белый | E33: шт | G33: 4 | H33: 4 | I33: =SUM($G$33:$H$33) -> 8 | J33: {=INDEX(М[Цена за ед., руб],MATCH(1,IF(($B33=М[Наим.])*($C33=М[Артикул, марка, произв.])*($D33=М[Хар-ка])*($L33=М[Прим.]),{1},($B33=М[Наим.])*($C33=М[Артикул, марка, произв.])*($D33=М[Хар-ка])*($L33=М[Прим.])),0))} -> 0 | K33: =ROUND($I$33*$J$33,2) -> 0 | M33: {=INDEX(М[Форма закупа],MATCH(1,IF(($B33=М[Наим.])*($C33=М[Артикул, марка, произв.])*($D33=М[Хар-ка])*($L33=М[Прим.]),{1},($B33=М[Наим.])*($C33=М[Артикул, марка, произв.])*($D33=М[Хар-ка])*($L33=М[Прим.])),0))} -> 0
B34: Работы: | K34: =SUM($K$35) -> 0
B35: Монтаж кранов (фланцевые, резьбовые) до 32 мм | E35: шт | G35: 1 | H35: 1 | I35: =SUM($G$35:$H$35) -> 2 | J35: {=INDEX(Р[Цена за ед., руб],MATCH(1,IF(($B35=Р[Наименование])*($L35=Р[Примечание]),{1},($B35=Р[Наименование])*($L35=Р[Примечание])),0))} -> 0 | K35: =ROUND($I$35*$J$35,2) -> 0
B36: Материалы: | K36: =SUM($K$37) -> 0
A37: 1 | B37: Кран шаровой | C37: Valtec | D37: полнопроходной с НГ 1 1/4 | E37: шт | F37: 1 | G37: 1 | H37: 1 | I37: =SUM($G$37:$H$37) -> 2 | J37: {=INDEX(М[Цена за ед., руб],MATCH(1,IF(($B37=М[Наим.])*($C37=М[Артикул, марка, произв.])*($D37=М[Хар-ка])*($L37=М[Прим.]),{1},($B37=М[Наим.])*($C37=М[Артикул, марка, произв.])*($D37=М[Хар-ка])*($L37=М[Прим.])),0))} -> 0 | K37: =ROUND($I$37*$J$37,2) -> 0 | M37: {=INDEX(М[Форма закупа],MATCH(1,IF(($B37=М[Наим.])*($C37=М[Артикул, марка, произв.])*($D37=М[Хар-ка])*($L37=М[Прим.]),{1},($B37=М[Наим.])*($C37=М[Артикул, марка, произв.])*($D37=М[Хар-ка])*($L37=М[Прим.])),0))} -> 0
B38: Работы: | K38: =SUM($K$39) -> 0
B39: Монтаж муфты противопожарной | E39: шт | G39: 268 | H39: 457 | I39: =SUM($G$39:$H$39) -> 725 | J39: {=INDEX(Р[Цена за ед., руб],MATCH(1,IF(($B39=Р[Наименование])*($L39=Р[Примечание]),{1},($B39=Р[Наименование])*($L39=Р[Примечание])),0))} -> 0 | K39: =ROUND($I$39*$J$39,2) -> 0
B40: Материалы: | K40: =SUM($K$41:$K$42) -> 0
A41: 1 | B41: Муфта противопожарная | D41: ПМ-50/60 | E41: шт | G41: 114 | H41: 130 | I41: =SUM($G$41:$H$41) -> 244 | J41: {=INDEX(М[Цена за ед., руб],MATCH(1,IF(($B41=М[Наим.])*($C41=М[Артикул, марка, произв.])*($D41=М[Хар-ка])*($L41=М[Прим.]),{1},($B41=М[Наим.])*($C41=М[Артикул, марка, произв.])*($D41=М[Хар-ка])*($L41=М[Прим.])),0))} -> 0 | K41: =ROUND($I$41*$J$41,2) -> 0 | M41: {=INDEX(М[Форма закупа],MATCH(1,IF(($B41=М[Наим.])*($C41=М[Артикул, марка, произв.])*($D41=М[Хар-ка])*($L41=М[Прим.]),{1},($B41=М[Наим.])*($C41=М[Артикул, марка, произв.])*($D41=М[Хар-ка])*($L41=М[Прим.])),0))} -> 0
A42: 2 | B42: Муфта противопожарная | D42: ПМ-110/60 | E42: шт | G42: 154 | H42: 327 | I42: =SUM($G$42:$H$42) -> 481 | J42: {=INDEX(М[Цена за ед., руб],MATCH(1,IF(($B42=М[Наим.])*($C42=М[Артикул, марка, произв.])*($D42=М[Хар-ка])*($L42=М[Прим.]),{1},($B42=М[Наим.])*($C42=М[Артикул, марка, произв.])*($D42=М[Хар-ка])*($L42=М[Прим.])),0))} -> 0 | K42: =ROUND($I$42*$J$42,2) -> 0 | M42: {=INDEX(М[Форма закупа],MATCH(1,IF(($B42=М[Наим.])*($C42=М[Артикул, марка, произв.])*($D42=М[Хар-ка])*($L42=М[Прим.]),{1},($B42=М[Наим.])*($C42=М[Артикул, марка, произв.])*($D42=М[Хар-ка])*($L42=М[Прим.])),0))} -> 0
B43: Работы: | K43: =SUM($K$44) -> 0
...

Sheet Работы
A1: Сводная ведомость объемов работ
A3: Наименование | B3: Ед. изм. | C3: Количество | D3: Цена за ед., руб | E3: Сумма, руб | F3: Примечание
A4: Бурение отверстий до 130 мм | B4: шт | C4: 454 | E4: =ROUND(Р[[#This Row],[Количество]]*Р[[#This Row],[Цена за ед., руб]],2) -> 0
A5: Бурение отверстий до 80 мм | B5: шт | C5: 128 | E5: =ROUND(Р[[#This Row],[Количество]]*Р[[#This Row],[Цена за ед., руб]],2) -> 0
A6: Изоляция трубопровода | B6: м | C6: 3918 | E6: =ROUND(Р[[#This Row],[Количество]]*Р[[#This Row],[Цена за ед., руб]],2) -> 0
A7: Монтаж защитного кожуха | B7: м2 | C7: 132 | E7: =ROUND(Р[[#This Row],[Количество]]*Р[[#This Row],[Цена за ед., руб]],2) -> 0
A8: Монтаж клапана (фланцевые, резьбовые) до 32 мм | B8: шт | C8: 2 | E8: =ROUND(Р[[#This Row],[Количество]]*Р[[#This Row],[Цена за ед., руб]],2) -> 0
A9: Монтаж клапана канализационного | B9: шт | C9: 23 | E9: =ROUND(Р[[#This Row],[Количество]]*Р[[#This Row],[Цена за ед., руб]],2) -> 0
A10: Монтаж кранов (фланцевые, резьбовые) до 32 мм | B10: шт | C10: 2 | E10: =ROUND(Р[[#This Row],[Количество]]*Р[[#This Row],[Цена за ед., руб]],2) -> 0
A11: Монтаж муфты противопожарной | B11: шт | C11: 1027 | E11: =ROUND(Р[[#This Row],[Количество]]*Р[[#This Row],[Цена за ед., руб]],2) -> 0
A12: Монтаж ревизии | B12: шт | C12: 242 | E12: =ROUND(Р[[#This Row],[Количество]]*Р[[#This Row],[Цена за ед., руб]],2) -> 0
A13: Монтаж трапа | B13: шт | C13: 120 | E13: =ROUND(Р[[#This Row],[Количество]]*Р[[#This Row],[Цена за ед., руб]],2) -> 0
A14: Прокладка трубы канализационной (для внутренних работ) | B14: м | C14: 1911 | E14: =ROUND(Р[[#This Row],[Количество]]*Р[[#This Row],[Цена за ед., руб]],2) -> 0
A15: Прокладка трубы ППН | B15: м | C15: 921 | E15: =ROUND(Р[[#This Row],[Количество]]*Р[[#This Row],[Цена за ед., руб]],2) -> 0
... A29: Прочие работы (навигация) | B29: компл. | C29: 2 | E29: =ROUND(Р[[#This Row],[Количество]]*Р[[#This Row],[Цена за ед., руб]],2) -> 0
A30: Итог | E30: =SUBTOTAL(109,Р[Сумма, руб]) -> 0
D32: Проверка: | E32: =ЛСР!K192-Р[[#Totals],[Сумма, руб]] -> 0

Sheet Материалы
A1: Сводная ведомость объемов материала
A3: Наим. | B3: Артикул, марка, произв. | C3: Хар-ка | D3: Ед. изм. | E3: Количество | F3: Цена за ед., руб | G3: Сумма, руб | H3: Прим. | I3: Форма закупа
A4: Окожушка | C4: оцинк. сталь 0,5мм | D4: м2 | E4: 88 | G4: =ROUND(М[[#This Row],[Количество]]*М[[#This Row],[Цена за ед., руб]],2) -> 0 | H4: гильзы
A5: Окожушка | C5: оцинк. сталь 0,5мм | D5: м2 | E5: 44 | G5: =ROUND(М[[#This Row],[Количество]]*М[[#This Row],[Цена за ед., руб]],2) -> 0
A6: Трап | C6: с сухим затвором верикальный Ф50 | D6: шт | E6: 120 | G6: =ROUND(М[[#This Row],[Количество]]*М[[#This Row],[Цена за ед., руб]],2) -> 0
A7: Цилиндры фольгированные | B7: Rockwool | C7: 110x30 мм | D7: пог. м | E7: 61 | G7: =ROUND(М[[#This Row],[Количество]]*М[[#This Row],[Цена за ед., руб]],2) -> 0
A8: Цилиндры фольгированные | B8: Rockwool | C8: 110x30 мм | D8: пог. м | E8: 127 | G8: =ROUND(М[[#This Row],[Количество]]*М[[#This Row],[Цена за ед., руб]],2) -> 0 | H8: включая гильзы
A9: Трубная изоляция | B9: K-FLEX | C9: из вспененного полиэтилена 13мм 42х13 | D9: пог. м | E9: 16 | G9: =ROUND(М[[#This Row],[Количество]]*М[[#This Row],[Цена за ед., руб]],2) -> 0
A10: Клапан канализационный | C10: Ф50 вакуумный серый | D10: шт | E10: 15 | G10: =ROUND(М[[#This Row],[Количество]]*М[[#This Row],[Цена за ед., руб]],2) -> 0
A11: Клапан канализационный | C11: 110 вакуумный белый | D11: шт | E11: 8 | G11: =ROUND(М[[#This Row],[Количество]]*М[[#This Row],[Цена за ед., руб]],2) -> 0
A12: Труба НПВХ | B12: Aquaviva, либо аналог | C12: клеевая Ф110х4,2 PN10 L=3m | D12: пог. м | E12: 388 | G12: =ROUND(М[[#This Row],[Количество]]*М[[#This Row],[Цена за ед., руб]],2) -> 0
A13: Труба полипропиленовая | C13: PPH PN25 DN25х4,2 арм.стекловолокно | D13: пог. м | E13: 30 | G13: =ROUND(М[[#This Row],[Количество]]*М[[#This Row],[Цена за ед., руб]],2) -> 0
A14: Труба полипропиленовая | C14: PPH PN20 DN40х5,4 | D14: пог. м | E14: 16 | G14: =ROUND(М[[#This Row],[Количество]]*М[[#This Row],[Цена за ед., руб]],2) -> 0
A15: Труба полипропиленовая | C15: PPH PN20 DN40х6,7 арм.стекловолокно | D15: пог. м | E15: 875 | G15: =ROUND(М[[#This Row],[Количество]]*М[[#This Row],[Цена за ед., руб]],2) -> 0
A16: Кран шаровой | B16: Valtec | C16: Ду-32 полнопроходный с НГ | D16: шт | E16: 11 | G16: =ROUND(М[[#This Row],[Количество]]*М[[#This Row],[Цена за ед., руб]],2) -> 0
A17: Кран шаровой | B17: Valtec | C17: полнопроходной с НГ 1 1/4 | D17: шт | E17: 2 | G17: =ROUND(М[[#This Row],[Количество]]*М[[#This Row],[Цена за ед., руб]],2) -> 0
A18: Труба канализационная (пог.м.) | C18: бесшумная белая D-110х3,4 | D18: пог. м | E18: 1601 | G18: =ROUND(М[[#This Row],[Количество]]*М[[#This Row],[Цена за ед., руб]],2) -> 0
A19: Труба канализационная (пог.м.) | C19: бесшумная белая D-50х3,4 | D19: пог. м | E19: 50 | G19: =ROUND(М[[#This Row],[Количество]]*М[[#This Row],[Цена за ед., руб]],2) -> 0
A20: Труба канализационная (пог.м.) | C20: серая ПП D-50х3,4 | D20: пог. м | E20: 260 | G20: =ROUND(М[[#This Row],[Количество]]*М[[#This Row],[Цена за ед., руб]],2) -> 0
A21: Насос дренажный | C21: ГНОМ 7/7 | D21: шт | E21: 11 | G21: =ROUND(М[[#This Row],[Количество]]*М[[#This Row],[Цена за ед., руб]],2) -> 0
A22: Ревизия канализационная | C22: полипропиленовая Ду-50 бесшумная | D22: шт | E22: 4 | G22: =ROUND(М[[#This Row],[Количество]]*М[[#This Row],[Цена за ед., руб]],2) -> 0
A23: Ревизия канализационная | C23: НПВХ Ду-110 | D23: шт | E23: 12 | G23: =ROUND(М[[#This Row],[Количество]]*М[[#This Row],[Цена за ед., руб]],2) -> 0
A24: Ревизия канализационная | C24: полипропиленовая Ду-110 бесшумная | D24: шт | E24: 214 | G24: =ROUND(М[[#This Row],[Количество]]*М[[#This Row],[Цена за ед., руб]],2) -> 0
A25: Ревизия канализационная | B25: Оstendorf | C25: полипропиленовая Ду-110 бесшумная | D25: шт | E25: 12 | G25: =ROUND(М[[#This Row],[Количество]]*М[[#This Row],[Цена за ед., руб]],2) -> 0
A26: Труба сшитый полиэтилен | B26: ONE PLUS | C26: DN-20х2,8 PN-10bar PEXа | D26: пог. м | E26: 2884 | G26: =ROUND(М[[#This Row],[Количество]]*М[[#This Row],[Цена за ед., руб]],2) -> 0
A27: Унитаз | C27: компакт с косым выпуском | D27: шт | E27: 2 | G27: =ROUND(М[[#This Row],[Количество]]*М[[#This Row],[Цена за ед., руб]],2) -> 0
A28: Раковина | C28: с пьедесталом керамика | D28: шт | E28: 2 | G28: =ROUND(М[[#This Row],[Количество]]*М[[#This Row],[Цена за ед., руб]],2) -> 0
A29: Эмаль (кг.) | C29: ПФ-115 | D29: кг | E29: 53 | G29: =ROUND(М[[#This Row],[Количество]]*М[[#This Row],[Цена за ед., руб]],2) -> 0 | H29: Для навигации
A30: Клапан обратный | B30: Valtec | C30: 1 1/4 Ду-32 Ру-16бар | D30: шт | E30: 13 | G30: =ROUND(М[[#This Row],[Количество]]*М[[#This Row],[Цена за ед., руб]],2) -> 0
A31: Труба полиэтиленовая (пог.м.) | C31: ПЭ-100 SDR17,0 DN110 N-техническая | D31: пог. м | E31: 72.5 | G31: =ROUND(М[[#This Row],[Количество]]*М[[#This Row],[Цена за ед., руб]],2) -> 0
A32: Муфта противопожарная | C32: ПМ-50/60 | D32: шт | E32: 244 | G32: =ROUND(М[[#This Row],[Количество]]*М[[#This Row],[Цена за ед., руб]],2) -> 0
A33: Муфта противопожарная | C33: ПМ-40 | D33: шт | E33: 230 | G33: =ROUND(М[[#This Row],[Количество]]*М[[#This Row],[Цена за ед., руб]],2) -> 0
A34: Муфта противопожарная | C34: ПМ-110/60 | D34: шт | E34: 553 | G34: =ROUND(М[[#This Row],[Количество]]*М[[#This Row],[Цена за ед., руб]],2) -> 0
A35: Теплоизоляция трубная | C35: 110х13мм вспененный каучук | D35: пог. м | E35: 20 | G35: =ROUND(М[[#This Row],[Количество]]*М[[#This Row],[Цена за ед., руб]],2) -> 0
A36: Теплоизоляция трубная | B36: Rockwool | C36: 110х20мм Навивные цилидры из каменной ваты фольгированные | D36: пог. м | E36: 30 | G36: =ROUND(М[[#This Row],[Количество]]*М[[#This Row],[Цена за ед., руб]],2) -> 0 | H36: гильзы
A37: Теплоизоляция трубная | B37: K-FLEX | C37: 22х13мм вспененный полиэтилен | D37: пог. м | E37: 2884 | G37: =ROUND(М[[#This Row],[Количество]]*М[[#This Row],[Цена за ед., руб]],2) -> 0
A38: Теплоизоляция трубная | B38: K-FLEX | C38: 42х13мм вспененный полиэтилен | D38: пог. м | E38: 875 | G38: =ROUND(М[[#This Row],[Количество]]*М[[#This Row],[Цена за ед., руб]],2) -> 0
A39: Смеситель | C39: для раковины однорычажный хром | D39: шт | E39: 2 | G39: =ROUND(М[[#This Row],[Количество]]*М[[#This Row],[Цена за ед., руб]],2) -> 0
A40: Смеситель | C40: для ванны и душа двухвентильный хром | D40: шт | E40: 2 | G40: =ROUND(М[[#This Row],[Количество]]*М[[#This Row],[Цена за ед., руб]],2) -> 0
A41: Фасонные изделия и фитинги для ППН трубы | D41: % | G41: =SUMIF(ЛСР!$B$6:$L$190,М[[#This Row],[Наим.]],ЛСР!$K$6:$K$190) -> 0 | H41: для всех разделов, расчитывается от стоимости материалов
...

Sheet ПараметрыЗагрузки
A1: ЛСР | B1: ЛСРГуид
A2: ГП-72.107.02.11.03 Секция 2_Устройство системы канализации №1 | B2: 799928e5-c15b-11f0-8b59-a036bcbd010b
A3: ГП-72.107.01.11.03 Секция 1_Устройство системы канализации №1 | B3: ce62167a-c151-11f0-8b59-a036bcbd010b
