Workbook

Sheet №3
J1: Приложение №1
J2: к Договору подряда №
B4: ПОДРЯДЧИК: | E4: ТЕХНИЧЕСКИЙ ЗАКАЗЧИК: | H4: ЗАКАЗЧИК:
B5: ООО БИЛДИНГ КРАН | E5: ООО ТЗ ЭНКО | H5: ООО ЭНКО
B6: Директор | E6: Генеральный директор | H6: Генеральный директор
B8: ______________/А.В. Ковальчук | E8: _____________/Е.В. Низамова | H8: _________________/Е.В.Низамова
A10: Локальный сметный расчет №1
A11: Кран №3 (ГП-77.2 сек 2.1-2.2)
A13: № | B13: Наименование | C13: Марка/ Завод изготовитель | D13: Характеристика | E13: Ед. изм. | F13: Кол-во | G13: Цена за ед.изм. | H13: Сумма | I13: Примечание | J13: Форма закупа материала
A14: 03. | B14: Каркас
A15: 03.00. | B15: Башенный кран
A16: 03.00.02. | B16: Башенный кран стационарный
A17: 03.00.02.00 | B17: Башенный кран стационарный | H17: =H18+H27 -> 0
B18: Работа: | H18: =SUM(H19:H26) -> 0
B19: Услуга по подъему и перемещению грузов тип 1 | C19: Mitsuber MCT125FRB или аналог | E19: мес | F19: 18 | G19: =VLOOKUP(B19,Работа!$B$19:$I$34,6,0) -> 0 | H19: =G19*F19 -> 0 | I19: 01.02.2027-31.07.2028
B20: Услуга по подъему и перемещению грузов тип 2 | C20: Mitsuber MCT125FRB или аналог | E20: дн | F20: 30 | G20: =VLOOKUP(B20,Работа!$B$19:$I$34,6,0) -> 0 | H20: =G20*F20 -> 0
B21: Работа машиниста | E21: маш/час | F21: =18*(28+31+30+31+30+31+31+30+31+30+31+31+29+31+30+31+30+31) -> 9846 | G21: =VLOOKUP(B21,Работа!$B$19:$I$34,6,0) -> 0 | H21: =G21*F21 -> 0
B22: Монтаж, демонтаж крана | E22: шт | F22: 2 | G22: =VLOOKUP(B22,Работа!$B$19:$I$34,6,0) -> 0 | H22: =G22*F22 -> 0 | I22: монтаж - 1 шт демонтаж 1 шт.
B23: Монтаж, демонтаж пристежек | E23: шт | F23: 2 | G23: =VLOOKUP(B23,Работа!$B$19:$I$34,6,0) -> 0 | H23: =G23*F23 -> 0 | I23: монтаж - 1 шт демонтаж 1 шт.
B24: Аренда пристежек 1 уровень | E24: мес | F24: 8 | G24: =VLOOKUP(B24,Работа!$B$19:$I$34,6,0) -> 0 | H24: =G24*F24 -> 0
B25: Аренда пристежек 2 уровень | E25: мес | F25: 6 | G25: =VLOOKUP(B25,Работа!$B$19:$I$34,6,0) -> 0 | H25: =G25*F25 -> 0
B26: Доп секции башенного крана | E26: мес | F26: 12 | G26: =VLOOKUP(B26,Работа!$B$19:$I$34,6,0) -> 0 | H26: =G26*F26 -> 0
B27: Материалы: | H27: =SUM(H28) -> 0
B28: Анкерная группа | E28: комплект | F28: 1 | G28: =VLOOKUP(B28,Материалы!$B$19:$H$19,6,0) -> 0 | H28: =G28*F28 -> 0 | J28: закуп подрядчика
A29: 03.00.03. | B29: Перебазировка
A30: 03.00.03.00 | B30: Перебазировка | H30: =H31+H33 -> 0
B31: Работа: | H31: =SUM(H32:H32) -> 0
B32: Транспортировка башенного крана на объект и на место хранения | E32: шт | F32: 2 | G32: =VLOOKUP(B32,Работа!$B$19:$I$34,6,0) -> 0 | H32: =G32*F32 -> 0 | I32: транспортировка на объект - 1 шт транспортировка с объекта - 1 шт.
B33: Материалы: | H33: =SUM(H34) -> 0
B34: - | H34: =G34*F34 -> 0
A35: 03.00.04. | B35: Устройство подкрановых путей
A36: 03.00.04.00 | B36: Устройство подкрановых путей | H36: =H37+H39 -> 0
B37: Работа: | H37: =SUM(H38:H38) -> 0
B38: Разработка проекта | E38: комплекс | F38: 1 | G38: =VLOOKUP(B38,Работа!$B$19:$I$34,6,0) -> 0 | H38: =G38*F38 -> 0 | I38: ППРк, проекта фундамента для установки башенного крана
B39: Материалы: | H39: =SUM(H40) -> 0
B40: - | H40: =G40*F40 -> 0
B41: Итого по ЛСР, в т.ч. НДС: | H41: =H36+H30+H17 -> 0
B42: в тч стоимость работ: | H42: =H37+H31+H18 -> 0
B43: в тч стоимость материалов: | H43: =H39+H33+H27 -> 0
B44: в тч НДС: | H44: =H41*20/120 -> 0 | I44: указать НДС
...

Sheet Работа
J1: Приложение №1
J2: к Договору подряда №
B4: ПОДРЯДЧИК: | E4: ТЕХНИЧЕСКИЙ ЗАКАЗЧИК: | H4: ЗАКАЗЧИК:
B5: ООО БИЛДИНГ КРАН | E5: ООО ТЗ ЭНКО | H5: ООО ЭНКО
B6: Директор | E6: Генеральный директор | H6: Генеральный директор
B8: ______________/А.В. Ковальчук | E8: _____________/Е.В. Низамова | H8: _________________/Е.В.Низамова
A10: Ведомость работ
A11: Кран №3 (ГП-77.2 сек 2.1-2.2)
A13: № | B13: Наименование | C13: Марка/ Завод изготовитель | D13: Характеристика | E13: Ед. изм. | F13: Кол-во | G13: Цена за ед.изм. | H13: Сумма | I13: Примечание | J13: Форма закупа материала
A14: 03. | B14: Каркас
A15: 03.00. | B15: Башенный кран
A16: 03.00.02. | B16: Башенный кран стационарный
A17: 03.00.02.00 | B17: Башенный кран стационарный
B18: Работа:
B19: Услуга по подъему и перемещению грузов тип 1 | C19: Mitsuber MCT125FRB | E19: мес | F19: 18 | H19: =G19*F19 -> 0 | I19: 01.02.2027-31.07.2028
B20: Услуга по подъему и перемещению грузов тип 2 | C20: Mitsuber MCT125FRB | E20: дн | F20: 30 | H20: =G20*F20 -> 0
B21: Работа машиниста | E21: маш/час | F21: =18*(28+31+30+31+30+31+31+30+31+30+31+31+29+31+30+31+30+31) -> 9846 | H21: =G21*F21 -> 0
B22: Монтаж, демонтаж крана | E22: шт | F22: 2 | H22: =G22*F22 -> 0 | I22: монтаж - 1 шт демонтаж 1 шт.
B23: Монтаж, демонтаж пристежек | E23: шт | F23: 2 | H23: =G23*F23 -> 0 | I23: монтаж - 1 шт демонтаж 1 шт.
B24: Аренда пристежек 1 уровень | E24: мес | F24: 8 | H24: =G24*F24 -> 0
B25: Аренда пристежек 2 уровень | E25: мес | F25: 6 | H25: =G25*F25 -> 0
B26: Доп секции башенного крана | E26: мес | F26: 12 | H26: =G26*F26 -> 0
A27: 03.00.03. | B27: Перебазировка
A28: 03.00.03.00 | B28: Перебазировка
B29: Работа:
B30: Транспортировка башенного крана на объект и на место хранения | E30: шт | F30: 2 | H30: =G30*F30 -> 0 | I30: транспортировка на объект - 1 шт транспортировка с объекта - 1 шт.
A31: 03.00.04. | B31: Устройство подкрановых путей
A32: 03.00.04.00 | B32: Устройство подкрановых путей
B33: Работа:
B34: Разработка проекта | E34: комплекс | F34: 1 | H34: =G34*F34 -> 0 | I34: ППРк, проекта фундамента для установки башенного крана
B35: Итого по работам | H35: =SUM(H19:H34) -> 0
B37: Технические характеристики для подбора стационарного башенного грузоподъемного крана №3:
A38: 1. | B38: Длина стрелы - 45 м
A39: 2. | B39: Высота здания от уровня ч.п. - 76 м
A40: 3. | B40: Грузоподьемность на конце стрелы - 3,5 тн
B43: Примечание:
A44: - | B44: Стоимость СМР учитывает - затраты на все второстепенные материалы и работы необходимые для осуществления полного комплекса работ, включая затраты: обеспечение технической водой для производства работ и бытовых целей; на мобилизацию, аренду и эксплуатацию всех необходимых механизмов, оборудования и инструментов, бытовых помещений и биотуалетов; на подъем материалов и разноску по этажам к местам производства работ; выполнение сопутствующих работ; вывоз мусора; накладные расходы, прибыль организации, налоги и иные издержки Подрядчика.
A45: - | B45: В случае, если один из перечисленных прочих материалов не был использован по факту при производстве работ, заказчик вправе откорректировать процент прочих материалов в актах выполненных работ (формы КС-2, КС-3), уменьшив на сумму исключенного материала.
A46: - | B46: Стоимость материалов учитывает доставку

Sheet Материалы
J1: Приложение №1
J2: к Договору подряда №
B4: ПОДРЯДЧИК: | E4: ТЕХНИЧЕСКИЙ ЗАКАЗЧИК: | H4: ЗАКАЗЧИК:
B5: ООО БИЛДИНГ КРАН | E5: ООО ТЗ ЭНКО | H5: ООО ЭНКО
B6: Директор | E6: Генеральный директор | H6: Генеральный директор
B8: ______________/А.В. Ковальчук | E8: _____________/Е.В. Низамова | H8: _________________/Е.В.Низамова
A10: Ведомость материалов
A11: Кран №3 (ГП-77.2 сек 2.1-2.2)
A13: № | B13: Наименование | C13: Марка/ Завод изготовитель | D13: Характеристика | E13: Ед. изм. | F13: Кол-во | G13: Цена за ед.изм. | H13: Сумма | I13: Примечание | J13: Форма закупа материала
A14: 03. | B14: Каркас
A15: 03.00. | B15: Башенный кран
A16: 03.00.02. | B16: Башенный кран стационарный
A17: 03.00.02.00 | B17: Башенный кран стационарный
B18: Материалы:
B19: Анкерная группа | E19: комплект | F19: 1 | H19: =G19*F19 -> 0 | J19: закуп подрядчика
B20: Итого по материалам: | H20: =SUM(H19) -> 0
B23: Технические характеристики для подбора стационарного башенного грузоподъемного крана №3:
A24: 1. | B24: Длина стрелы - 45 м
A25: 2. | B25: Высота здания от уровня ч.п. - 76 м
A26: 3. | B26: Грузоподьемность на конце стрелы - 3,5 тн
B29: Примечание:
A30: - | B30: Стоимость СМР учитывает - затраты на все второстепенные материалы и работы необходимые для осуществления полного комплекса работ, включая затраты: обеспечение технической водой для производства работ и бытовых целей; на мобилизацию, аренду и эксплуатацию всех необходимых механизмов, оборудования и инструментов, бытовых помещений и биотуалетов; на подъем материалов и разноску по этажам к местам производства работ; выполнение сопутствующих работ; вывоз мусора; накладные расходы, прибыль организации, налоги и иные издержки Подрядчика.
A31: - | B31: В случае, если один из перечисленных прочих материалов не был использован по факту при производстве работ, заказчик вправе откорректировать процент прочих материалов в актах выполненных работ (формы КС-2, КС-3), уменьшив на сумму исключенного материала.
A32: - | B32: Стоимость материалов учитывает доставку
