Workbook

Sheet ГП-77.2
M1: Приложение №7
B4: ПОДРЯДЧИК: | D4: ТЕХНИЧЕСКИЙ ЗАКАЗЧИК: | J4: ЗАКАЗЧИК:
A10: Локальный сметный расчет №1 ГП-77.2
A12: № | B12: Наименование | C12: Характеристика | D12: Ед. изм. | E12: Секция 1 | F12: Секция 2 | G12: Секция 3 | H12: Секция 4 | I12: Кол-во | J12: Цена за ед.изм. | K12: Сумма | L12: Примечание | M12: Форма закупа материала
A13: 02 | B13: Фундамент
A14: 02.01 | B14: Испытания свай, грунтов
A15: 02.01.01 | B15: Забивка свай под испытания
A16: 02.01.01.00 | B16: Забивка свай под испытания | K16: =K17+K19 -> 0
B17: Работа: | K17: =SUM(K18:K18) -> 0
B18: Забивка свай (в т.ч. Выгрузка свай (работа автокрана, стропальщика)) | D18: м.п. | E18: 54 | F18: 54 | G18: 53 | H18: 52 | I18: =SUM(E18:H18) -> 213 | J18: =VLOOKUP(B18,работа!$B$9:$J$22,9,0) -> 0 | K18: =I18*J18 -> 0
B19: Материалы: | K19: =SUM(K20:K22) -> 0
B20: Свая тип 1 | C20: С80.30-НБ.4-F150-W6-B30 | D20: шт | E20: 3 | F20: 3 | G20: 3 | H20: 3 | I20: =SUM(E20:H20) -> 12 | J20: =VLOOKUP(B20,материалы!B8:$J$10,9,0) -> 0 | K20: =I20*J20 -> 0 | L20: серия 1.011.1-10 в.8 свая сплошного квадратного сечения 30х30см, длиной 8м, не ниже В30, F150, W6 | M20: Закуп ЭНКО
B21: Свая тип 2 | C21: С100.30-ВБ.4-F150-W6-B30 | D21: шт | E21: 3 | F21: 3 | G21: 2 | H21: 1 | I21: =SUM(E21:H21) -> 9 | J21: =VLOOKUP(B21,материалы!B9:$J$10,9,0) -> 0 | K21: =I21*J21 -> 0 | L21: серия 1.011.1-10 в.8 свая сплошного квадратного сечения 30х30см, длиной 10м, не ниже В30, F150, W6 | M21: Закуп ЭНКО
B22: Свая тип 3 | C22: С90.30-ВБ.4-F150-W6-B30 | D22: шт | G22: 1 | H22: 2 | I22: =SUM(E22:H22) -> 3 | J22: =VLOOKUP(B22,материалы!B10:$J$10,9,0) -> 0 | K22: =I22*J22 -> 0 | L22: серия 1.011.1-10 в.8 свая сплошного квадратного сечения 30х30см, длиной 9м, не ниже В30, F150, W6 | M22: Закуп ЭНКО
A23: 02.01.02 | B23: Перебазировка машин и механизмов на объект и обратно, монтаж, демонтаж, в т.ч. расходные материалы
A24: 02.01.02.00 | B24: Перебазировка машин и механизмов на объект и обратно, монтаж, демонтаж, в т.ч. расходные материалы | K24: =K25+K28 -> 0
B25: Работа: | K25: =SUM(K26:K27) -> 0
B26: Перебазировка машин и механизмов на объект, монтаж, в т.ч. расходные материалы | D26: комплект | I26: 1 | J26: =VLOOKUP(B26,работа!$B$9:$J$22,9,0) -> 0 | K26: =I26*J26 -> 0 | L26: кол-во комплектов = кол-во сваебоев
B27: Перебазировка машин и механизмов с объекта, демонтаж, в т.ч. расходные материалы | D27: комплект | I27: 1 | J27: =VLOOKUP(B27,работа!$B$9:$J$22,9,0) -> 0 | K27: =I27*J27 -> 0
B28: Материалы: | K28: =SUM(K29) -> 0
B29: - | K29: =I29*J29 -> 0
A30: 02.01.03 | B30: Лидерное бурение
A31: 02.01.03.00 | B31: Лидерное бурение | K31: =K32+K34 -> 0
B32: Работа: | K32: =SUM(K33) -> 0
B33: Лидерное бурение | D33: м.п. | E33: 3 | F33: 3 | G33: 3 | H33: 3 | I33: =SUM(E33:H33) -> 12 | J33: =работа!J18 -> 0 | K33: =I33*J33 -> 0 | L33: точный объем по факту выполненных работ
B34: Материалы: | K34: =SUM(K35) -> 0
B35: - | K35: =I35*J35 -> 0
A36: 02.01.99 | B36: Прочие работы
A37: 02.01.99.00 | B37: Прочие работы | K37: =K38+K40 -> 0
B38: Работа: | K38: =SUM(K39) -> 0
B39: Разгрузка свай | D39: маш/час | I39: =SUM(I20:I22)*0.08 -> 1.92 | J39: =VLOOKUP(B39,работа!$B$9:$J$22,9,0) -> 0 | K39: =I39*J39 -> 0 | L39: точное кол-во по факту выполненных работ
B40: Материалы: | K40: =SUM(K41) -> 0
B41: - | K41: =I41*J41 -> 0
B42: Итого по ЛСР, с НДС: | K42: =K24+K16+K31+K37 -> 0
B43: в т.ч. стоимость работ: | K43: =K17+K25+K32+K38 -> 0
B44: в т.ч. стоимость материалов: | K44: =K19+K28+K34+K40 -> 0
B45: в т.ч. НДС: | K45: нет
B47: Примечание:
A48: - | B48: Стоимость СМР учитывает: затраты на все второстепенные материалы и работы необходимые для осуществления полного комплекса работ, включая затраты: обеспечение технической водой для производства работ и бытовых целей; на мобилизацию, аренду и эксплуатацию всех необходимых механизмов, оборудования и инструментов, бытовых помещений и биотуалетов; на подъем материалов и разноску по этажам к местам производства работ; выполнение сопутствующих работ; вывоз мусора; накладные расходы, прибыль организации, налоги и иные издержки Подрядчика; Обеспечение безопасного производства труда.
A49: - | B49: В случае, если один из перечисленных прочих материалов не был использован по факту при производстве работ, заказчик вправе откорректировать процент прочих материалов в актах выполненных работ (формы КС-2, КС-3), уменьшив на сумму исключенного материала.
...

Sheet работа
A1: Ведомость работ №1 ГП-77.2
A3: № | B3: Наименование | C3: Характеристика | D3: Ед. изм. | E3: Секция 1 | F3: Секция 2 | G3: Секция 3 | H3: Секция 4 | I3: Кол-во | J3: Цена за ед.изм. | K3: Сумма | L3: Примечание | M3: Форма закупа материала
A4: 02 | B4: Фундамент
A5: 02.01 | B5: Испытания свай, грунтов
A6: 02.01.01 | B6: Забивка свай под испытания
A7: 02.01.01.00 | B7: Забивка свай под испытания
B8: Работа:
B9: Забивка свай (в т.ч. Выгрузка свай (работа автокрана, стропальщика)) | D9: м.п. | E9: 54 | F9: 54 | G9: 53 | H9: 52 | I9: =SUM(E9:H9) -> 213 | K9: =I9*J9 -> 0
A10: 02.01.02 | B10: Перебазировка машин и механизмов на объект и обратно, монтаж, демонтаж, в т.ч. расходные материалы
A11: 02.01.02.00 | B11: Перебазировка машин и механизмов на объект и обратно, монтаж, демонтаж, в т.ч. расходные материалы
B12: Работа:
B13: Перебазировка машин и механизмов на объект, монтаж, в т.ч. расходные материалы | D13: комплект | I13: 1 | K13: =I13*J13 -> 0 | L13: кол-во комплектов = кол-во сваебоев
B14: Перебазировка машин и механизмов с объекта, демонтаж, в т.ч. расходные материалы | D14: комплект | I14: 1 | K14: =I14*J14 -> 0
A15: 02.01.03 | B15: Лидерное бурение
A16: 02.01.03.00 | B16: Лидерное бурение
B17: Работа:
B18: Лидерное бурение | D18: м.п. | E18: 3 | F18: 3 | G18: 3 | H18: 3 | I18: =SUM(E18:H18) -> 12 | K18: =I18*J18 -> 0 | L18: точный объем по факту выполненных работ
A19: 02.01.99 | B19: Прочие работы
A20: 02.01.99.00 | B20: Прочие работы
B21: Работа:
B22: Разгрузка свай | D22: маш/час | I22: 1.92 | K22: =I22*J22 -> 0 | L22: точное кол-во по факту выполненных работ
B23: Итого по работам | K23: =SUM(K9:K22) -> 0
B25: Примечание:
A26: - | B26: Стоимость СМР учитывает: затраты на все второстепенные материалы и работы необходимые для осуществления полного комплекса работ, включая затраты: обеспечение технической водой для производства работ и бытовых целей; на мобилизацию, аренду и эксплуатацию всех необходимых механизмов, оборудования и инструментов, бытовых помещений и биотуалетов; на подъем материалов и разноску по этажам к местам производства работ; выполнение сопутствующих работ; вывоз мусора; накладные расходы, прибыль организации, налоги и иные издержки Подрядчика; Обеспечение безопасного производства труда.
A27: - | B27: В случае, если один из перечисленных прочих материалов не был использован по факту при производстве работ, заказчик вправе откорректировать процент прочих материалов в актах выполненных работ (формы КС-2, КС-3), уменьшив на сумму исключенного материала.
A28: - | B28: Стоимость материалов учитывает доставку.

Sheet материалы
A1: Ведомость материалов №1 ГП-77.2
A3: № | B3: Наименование | C3: Характеристика | D3: Ед. изм. | E3: Секция 1 | F3: Секция 2 | G3: Секция 3 | H3: Секция 4 | I3: Кол-во | J3: Цена за ед.изм. | K3: Сумма | L3: Примечание | M3: Форма закупа материала
A4: 02 | B4: Фундамент
A5: 02.01 | B5: Испытания свай, грунтов
A6: 02.01.01 | B6: Забивка свай под испытания
A7: 02.01.01.00 | B7: Забивка свай под испытания
B8: Свая тип 1 | C8: С80.30-НБ.4-F150-W6-B30 | D8: шт | E8: 3 | F8: 3 | G8: 3 | H8: 3 | I8: =SUM(E8:H8) -> 12 | K8: =I8*J8 -> 0 | M8: Закуп ЭНКО
B9: Свая тип 2 | C9: С100.30-ВБ.4-F150-W6-B30 | D9: шт | E9: 3 | F9: 3 | G9: 2 | H9: 1 | I9: =SUM(E9:H9) -> 9 | K9: =I9*J9 -> 0 | M9: Закуп ЭНКО
B10: Свая тип 3 | C10: С90.30-ВБ.4-F150-W6-B30 | D10: шт | G10: 1 | H10: 2 | I10: =SUM(E10:H10) -> 3 | K10: =I10*J10 -> 0 | M10: Закуп ЭНКО
B11: Итого по материалам | K11: =SUM(K8:K10) -> 0
B13: Примечание:
A14: - | B14: Стоимость СМР учитывает: затраты на все второстепенные материалы и работы необходимые для осуществления полного комплекса работ, включая затраты: обеспечение технической водой для производства работ и бытовых целей; на мобилизацию, аренду и эксплуатацию всех необходимых механизмов, оборудования и инструментов, бытовых помещений и биотуалетов; на подъем материалов и разноску по этажам к местам производства работ; выполнение сопутствующих работ; вывоз мусора; накладные расходы, прибыль организации, налоги и иные издержки Подрядчика; Обеспечение безопасного производства труда.
A15: - | B15: В случае, если один из перечисленных прочих материалов не был использован по факту при производстве работ, заказчик вправе откорректировать процент прочих материалов в актах выполненных работ (формы КС-2, КС-3), уменьшив на сумму исключенного материала.
A16: - | B16: Стоимость материалов учитывает доставку.
