Workbook

Sheet ГП-77.1
N1: Приложение №1
B5: ПОДРЯДЧИК: | E5: ТЕХНИЧЕСКИЙ ЗАКАЗЧИК: | K5: ЗАКАЗЧИК:
E6: ООО "ТЗ "ЭНКО" | K6: ООО ЭНКО
A11: Локальный сметный расчет №1 (ГП-77.1)
A13: № | B13: Наименование | C13: Характеристика | D13: Длина, (м) | E13: Ед. изм. | F13: Секция 1 | G13: Секция 2 | H13: Секция 3 | I13: Секция 4 | J13: Кол-во | K13: Цена за ед.изм. | L13: Сумма | M13: Примечание | N13: Форма закупа материала
A14: 02 | B14: Фундамент
A15: 02.03 | B15: Устройство свайного поля
A16: 02.03.01 | B16: Забивка свай
A17: 02.03.01.00 | B17: Забивка свай | L17: =L18+L20 -> 0
B18: Работа: | L18: =SUM(L19:L19) -> 0
B19: Забивка свай (в т.ч. Выгрузка свай (работа автокрана, стропальщика)) | E19: м.п. | F19: 1872 | G19: 5200 | H19: 4520 | I19: 7021 | J19: =SUM(F19:I19) -> 18613 | K19: =VLOOKUP(B19,работы!$B$9:$K$21,10,0) -> 0 | L19: =J19*K19 -> 0 | M19: учтены работы по добойнику (по необходимости)
B20: Материалы: | L20: =SUM(L21:L25) -> 0
B21: Свая тип 1 | C21: С80.30-НБ.4-F150-W6-B30 | D21: 8 | E21: шт | F21: 117 | J21: =SUM(F21:I21) -> 117 | K21: =VLOOKUP(B21,материалы!$B$9:$K$13,10,0) -> 0 | L21: =K21*J21 -> 0 | M21: серия 1.011.1-10 в.8 свая сплошного квадратного сечения 30х30см, длиной 8м, не ниже В30, F150, W6; в комплекте с метизами (болты, гайки, шайбы)
B22: Свая тип 2 | C22: С80.30-ВБ.4-F150-W6-B30 | D22: 8 | E22: шт | F22: 117 | G22: 260 | H22: 226 | J22: =SUM(F22:I22) -> 603 | K22: =VLOOKUP(B22,материалы!$B$9:$K$13,10,0) -> 0 | L22: =K22*J22 -> 0 | M22: серия 1.011.1-10 в.8 свая сплошного квадратного сечения 30х30см, длиной 8м, не ниже В30, F150, W6; в комплекте с метизами (болты, гайки, шайбы)
B23: Свая тип 3 | C23: С120.30-НБ.4-F150-W6-B30 | D23: 12 | E23: шт | G23: 260 | H23: 226 | I23: 413 | J23: =SUM(F23:I23) -> 899 | K23: =VLOOKUP(B23,материалы!$B$9:$K$13,10,0) -> 0 | L23: =K23*J23 -> 0 | M23: серия 1.011.1-10 в.8 свая сплошного квадратного сечения 30х30см, длиной 12м, не ниже В30, F150, W6; в комплекте с метизами (болты, гайки, шайбы)
B24: Свая тип 4 | C24: С50.30-ВБ.4-F150-W6-B30 | D24: 5 | E24: шт | I24: 413 | J24: =SUM(F24:I24) -> 413 | K24: =VLOOKUP(B24,материалы!$B$9:$K$13,10,0) -> 0 | L24: =K24*J24 -> 0 | M24: серия 1.011.1-10 в.8 свая сплошного квадратного сечения 30х30см, длиной 5м, не ниже В30, F150, W6; в комплекте с метизами (болты, гайки, шайбы)
B25: Брус | C25: 100х100х6000, профилированный с 4-х сторон | E25: шт | J25: 82 | K25: =VLOOKUP(B25,материалы!$B$9:$K$13,10,0) -> 0 | L25: =K25*J25 -> 0
A26: 02.03.02 | B26: Перебазировка машин и механизмов на объект и обратно, монтаж, демонтаж, в т.ч. расходные материалы
A27: 02.03.02.00 | B27: Перебазировка машин и механизмов на объект и обратно, монтаж, демонтаж, в т.ч. расходные материалы | L27: =L28+L30 -> 0
B28: Работа: | L28: =SUM(L29:L29) -> 0
B29: Перебазировка машин и механизмов на объект, монтаж, в т.ч. расходные материалы | E29: комплект | J29: 1 | K29: =VLOOKUP(B29,работы!$B$9:$K$21,10,0) -> 0 | L29: =J29*K29 -> 0 | M29: кол-во комплектов = кол-во сваебоев
B30: Материалы: | L30: =SUM(L31) -> 0
B31: - | L31: =J31*K31 -> 0
A32: 02.03.03 | B32: Лидерное бурение
A33: 02.03.03.00 | B33: Лидерное бурение | L33: =L34+L36 -> 0
B34: Работа: | L34: =SUM(L35) -> 0
B35: Лидерное бурение | E35: м.п. | F35: 117 | G35: 260 | H35: 226 | I35: 413 | J35: =SUM(F35:I35) -> 1016 | K35: =работы!K17 -> 0 | L35: =J35*K35 -> 0 | M35: По 1 метру на сваю, точное кол-во по факту выполненных работ
B36: Материалы: | L36: =SUM(L37) -> 0
B37: - | L37: =J37*K37 -> 0
A38: 02.03.99 | B38: Прочие работы
A39: 02.03.99.00 | B39: Прочие работы | L39: =L40+L42 -> 0
B40: Работа: | L40: =SUM(L41) -> 0
B41: Разгрузка свай | E41: маш/час | J41: =SUM(J21:J24)*0.08 -> 162.56 | K41: =VLOOKUP(B41,работы!$B$9:$K$21,10,0) -> 0 | L41: =J41*K41 -> 0 | M41: точное кол-во по факту выполненных работ
B42: Материалы: | L42: =SUM(L43) -> 0
B43: - | L43: =J43*K43 -> 0
B44: Итого по ЛСР с НДС : | L44: =L27+L17+L33+L39 -> 0
B45: в т.ч. стоимость работ: | L45: =L40+L34+L28+L18 -> 0
B46: в т.ч. стоимость материалов: | L46: =L42+L36+L30+L20 -> 0
B47: в т.ч. НДС: | L47: =L44*5/105 -> 0
B49: Примечание:
...

Sheet работы
A1: Ведомость работ (ГП-77.1)
A3: № | B3: Наименование | C3: Характеристика | D3: Длина, (м) | E3: Ед. изм. | F3: Секция 1 | G3: Секция 2 | H3: Секция 3 | I3: Секция 4 | J3: Кол-во | K3: Цена за ед.изм. | L3: Сумма | M3: Примечание | N3: Форма закупа материала
A4: 02 | B4: Фундамент
A5: 02.03 | B5: Устройство свайного поля
A6: 02.03.01 | B6: Забивка свай
A7: 02.03.01.00 | B7: Забивка свай
B8: Работа:
B9: Забивка свай (в т.ч. Выгрузка свай (работа автокрана, стропальщика)) | E9: м.п. | F9: 1872 | G9: 5200 | H9: 4520 | I9: 7021 | J9: =SUM(F9:I9) -> 18613 | L9: =J9*K9 -> 0 | M9: учтены работы по добойнику (по необходимости)
A10: 02.03.02 | B10: Перебазировка машин и механизмов на объект и обратно, монтаж, демонтаж, в т.ч. расходные материалы
A11: 02.03.02.00 | B11: Перебазировка машин и механизмов на объект и обратно, монтаж, демонтаж, в т.ч. расходные материалы
B12: Работа:
B13: Перебазировка машин и механизмов на объект, монтаж, в т.ч. расходные материалы | E13: комплект | J13: 1 | L13: =J13*K13 -> 0 | M13: кол-во комплектов = кол-во сваебоев
A14: 02.03.03 | B14: Лидерное бурение
A15: 02.03.03.00 | B15: Лидерное бурение
B16: Работа:
B17: Лидерное бурение | E17: м.п. | F17: 117 | G17: 260 | H17: 226 | I17: 413 | J17: =SUM(F17:I17) -> 1016 | L17: =J17*K17 -> 0 | M17: По 1 метру на сваю, точное кол-во по факту выполненных работ
A18: 02.03.99 | B18: Прочие работы
A19: 02.03.99.00 | B19: Прочие работы
B20: Работа:
B21: Разгрузка свай | E21: маш/час | J21: 162.56 | L21: =J21*K21 -> 0 | M21: точное кол-во по факту выполненных работ
B22: Итого по работам | L22: =SUM(L9:L21) -> 0
B24: Примечание:
A25: - | B25: Стоимость СМР учитывает: затраты на все второстепенные материалы и работы необходимые для осуществления полного комплекса работ, включая затраты: обеспечение технической водой для производства работ и бытовых целей; на мобилизацию, аренду и эксплуатацию всех необходимых механизмов, оборудования и инструментов, бытовых помещений и биотуалетов; на подъем материалов и разноску по этажам к местам производства работ; выполнение сопутствующих работ; вывоз мусора; накладные расходы, прибыль организации, налоги и иные издержки Подрядчика; Обеспечение безопасного производства труда.
A26: - | B26: В случае, если один из перечисленных прочих материалов не был использован по факту при производстве работ, заказчик вправе откорректировать процент прочих материалов в актах выполненных работ (формы КС-2, КС-3), уменьшив на сумму исключенного материала.
A27: - | B27: Стоимость материалов учитывает доставку.
A28: - | B28: В случае увеличения налоговой нагрузки подрядчика стоимость договора остается фиксированной и изменению не подлежит.

Sheet материалы
A1: Ведомость материалов (ГП-77.1)
A3: № | B3: Наименование | C3: Характеристика | D3: Длина, (м) | E3: Ед. изм. | F3: Секция 1 | G3: Секция 2 | H3: Секция 3 | I3: Секция 4 | J3: Кол-во | K3: Цена за ед.изм. | L3: Сумма | M3: Примечание | N3: Форма закупа материала
A4: 02 | B4: Фундамент
A5: 02.03 | B5: Устройство свайного поля
A6: 02.03.01 | B6: Забивка свай
A7: 02.03.01.00 | B7: Забивка свай
B8: Материалы:
B9: Свая тип 1 | C9: С80.30-НБ.4-F150-W6-B30 | D9: 8 | E9: шт | F9: 117 | J9: =SUM(F9:I9) -> 117 | L9: =K9*J9 -> 0 | M9: серия 1.011.1-10 в.8 свая сплошного квадратного сечения 30х30см, длиной 8м, не ниже В30, F150, W6; в комплекте с метизами (болты, гайки, шайбы)
B10: Свая тип 2 | C10: С80.30-ВБ.4-F150-W6-B30 | D10: 8 | E10: шт | F10: 117 | G10: 260 | H10: 226 | J10: =SUM(F10:I10) -> 603 | L10: =K10*J10 -> 0 | M10: серия 1.011.1-10 в.8 свая сплошного квадратного сечения 30х30см, длиной 8м, не ниже В30, F150, W6; в комплекте с метизами (болты, гайки, шайбы)
B11: Свая тип 3 | C11: С120.30-НБ.4-F150-W6-B30 | D11: 12 | E11: шт | G11: 260 | H11: 226 | I11: 413 | J11: =SUM(F11:I11) -> 899 | L11: =K11*J11 -> 0 | M11: серия 1.011.1-10 в.8 свая сплошного квадратного сечения 30х30см, длиной 12м, не ниже В30, F150, W6; в комплекте с метизами (болты, гайки, шайбы)
B12: Свая тип 4 | C12: С50.30-ВБ.4-F150-W6-B30 | D12: 5 | E12: шт | I12: 413 | J12: =SUM(F12:I12) -> 413 | L12: =K12*J12 -> 0 | M12: серия 1.011.1-10 в.8 свая сплошного квадратного сечения 30х30см, длиной 5м, не ниже В30, F150, W6; в комплекте с метизами (болты, гайки, шайбы)
B13: Брус | C13: 100х100х6000, профилированный с 4-х сторон | E13: шт | J13: 82 | L13: =K13*J13 -> 0
B14: Итого по материалам | L14: =SUM(L9:L13) -> 0
B16: Примечание:
A17: - | B17: Стоимость СМР учитывает: затраты на все второстепенные материалы и работы необходимые для осуществления полного комплекса работ, включая затраты: обеспечение технической водой для производства работ и бытовых целей; на мобилизацию, аренду и эксплуатацию всех необходимых механизмов, оборудования и инструментов, бытовых помещений и биотуалетов; на подъем материалов и разноску по этажам к местам производства работ; выполнение сопутствующих работ; вывоз мусора; накладные расходы, прибыль организации, налоги и иные издержки Подрядчика; Обеспечение безопасного производства труда.
A18: - | B18: В случае, если один из перечисленных прочих материалов не был использован по факту при производстве работ, заказчик вправе откорректировать процент прочих материалов в актах выполненных работ (формы КС-2, КС-3), уменьшив на сумму исключенного материала.
A19: - | B19: Стоимость материалов учитывает доставку.
A20: - | B20: В случае увеличения налоговой нагрузки подрядчика стоимость договора остается фиксированной и изменению не подлежит.
