Workbook

Sheet ЛСР
B2: Локальный сметный расчет (ЛСР) №6
B3: Объект: «Пятисекционный многоквартирный жилой дом со встроенно-пристроенными нежилыми помещениями общественного назначения (№ 1.1, 1.2, 1.3, 2, 3 по ПЗУ) и встроенно-пристроенной подземной автостоянкой» Секция 6
B4: Устройство системы пожаротушения и сопутствующим работам (согласно проекту шифр ПТ, стадия Р)
A6: № | B6: Наименование | C6: Артикул, марка, производитель | D6: Характеристика | E6: Ед. изм. | F6: Норма расхода | G6: Паркинг | H6: Количество | I6: Цена за ед., руб | J6: Сумма, руб | K6: Примечание | L6: Форма закупа материала
A8: 11 | B8: Внутренние инженерные сети
A9: 11.07 | B9: Устройство системы пожаротушения | J9: =SUM($J$120,$J$44,$J$10) -> 0
A10: 11.07.01 | B10: Устройство водопровода В2 | J10: =SUM($J$11) -> 0
A11: 11.07.01.00 | B11: Устройство водопровода В2 | J11: =SUM($J$40,$J$38,$J$36,$J$34,$J$31,$J$29,$J$26,$J$24,$J$22,$J$20,$J$16,$J$14,$J$12) -> 0
B12: Работы: | J12: =SUM($J$13) -> 0
B13: Бурение отверстий до 120мм | E13: шт | G13: 26 | H13: =SUM($G$13:$G$13) -> 26 | I13: {=INDEX(Р[Цена за ед., руб],MATCH(1,IF(($B13=Р[Наименование])*($K13=Р[Примечание]),{1},($B13=Р[Наименование])*($K13=Р[Примечание])),0))} -> 0 | J13: =ROUND($H$13*$I$13,2) -> 0
B14: Работы: | J14: =SUM($J$15) -> 0
B15: Монтаж клапана (с учетом пожарного рукава и ствола) | E15: шт | G15: 62 | H15: =SUM($G$15:$G$15) -> 62 | I15: {=INDEX(Р[Цена за ед., руб],MATCH(1,IF(($B15=Р[Наименование])*($K15=Р[Примечание]),{1},($B15=Р[Наименование])*($K15=Р[Примечание])),0))} -> 0 | J15: =ROUND($H$15*$I$15,2) -> 0
B16: Материалы: | J16: =SUM($J$17:$J$19) -> 0
A17: 1 | B17: Рукав пожарный | D17: Ду-50мм L-20м с головкой ГР-50 | E17: шт | G17: 62 | H17: =SUM($G$17:$G$17) -> 62 | I17: {=INDEX(М[Цена за ед., руб],MATCH(1,IF(($B17=М[Наим.])*($C17=М[Артикул, марка, произв.])*($D17=М[Хар-ка])*($K17=М[Прим.]),{1},($B17=М[Наим.])*($C17=М[Артикул, марка, произв.])*($D17=М[Хар-ка])*($K17=М[Прим.])),0))} -> 0 | J17: =ROUND($H$17*$I$17,2) -> 0 | L17: {=INDEX(М[Форма закупа],MATCH(1,IF(($B17=М[Наим.])*($C17=М[Артикул, марка, произв.])*($D17=М[Хар-ка])*($K17=М[Прим.]),{1},($B17=М[Наим.])*($C17=М[Артикул, марка, произв.])*($D17=М[Хар-ка])*($K17=М[Прим.])),0))} -> 0
A18: 2 | B18: Ствол пожарный | D18: РС-50А | E18: шт | G18: 62 | H18: =SUM($G$18:$G$18) -> 62 | I18: {=INDEX(М[Цена за ед., руб],MATCH(1,IF(($B18=М[Наим.])*($C18=М[Артикул, марка, произв.])*($D18=М[Хар-ка])*($K18=М[Прим.]),{1},($B18=М[Наим.])*($C18=М[Артикул, марка, произв.])*($D18=М[Хар-ка])*($K18=М[Прим.])),0))} -> 0 | J18: =ROUND($H$18*$I$18,2) -> 0 | L18: {=INDEX(М[Форма закупа],MATCH(1,IF(($B18=М[Наим.])*($C18=М[Артикул, марка, произв.])*($D18=М[Хар-ка])*($K18=М[Прим.]),{1},($B18=М[Наим.])*($C18=М[Артикул, марка, произв.])*($D18=М[Хар-ка])*($K18=М[Прим.])),0))} -> 0
A19: 3 | B19: Вентиль пожарный | D19: чугунный угловой Ду-50 муфта-цапка | E19: шт | G19: 62 | H19: =SUM($G$19:$G$19) -> 62 | I19: {=INDEX(М[Цена за ед., руб],MATCH(1,IF(($B19=М[Наим.])*($C19=М[Артикул, марка, произв.])*($D19=М[Хар-ка])*($K19=М[Прим.]),{1},($B19=М[Наим.])*($C19=М[Артикул, марка, произв.])*($D19=М[Хар-ка])*($K19=М[Прим.])),0))} -> 0 | J19: =ROUND($H$19*$I$19,2) -> 0 | K19: с ДППК | L19: {=INDEX(М[Форма закупа],MATCH(1,IF(($B19=М[Наим.])*($C19=М[Артикул, марка, произв.])*($D19=М[Хар-ка])*($K19=М[Прим.]),{1},($B19=М[Наим.])*($C19=М[Артикул, марка, произв.])*($D19=М[Хар-ка])*($K19=М[Прим.])),0))} -> 0
B20: Работы: | J20: =SUM($J$21) -> 0
B21: Монтаж кранов (фланцевые, резьбовые) от 40 мм | E21: шт | G21: 16 | H21: =SUM($G$21:$G$21) -> 16 | I21: {=INDEX(Р[Цена за ед., руб],MATCH(1,IF(($B21=Р[Наименование])*($K21=Р[Примечание]),{1},($B21=Р[Наименование])*($K21=Р[Примечание])),0))} -> 0 | J21: =ROUND($H$21*$I$21,2) -> 0
B22: Материалы: | J22: =SUM($J$23) -> 0
A23: 1 | B23: Кран шаровой | D23: ВР-ВР Ду-50 полнопроходной | E23: шт | G23: 16 | H23: =SUM($G$23:$G$23) -> 16 | I23: {=INDEX(М[Цена за ед., руб],MATCH(1,IF(($B23=М[Наим.])*($C23=М[Артикул, марка, произв.])*($D23=М[Хар-ка])*($K23=М[Прим.]),{1},($B23=М[Наим.])*($C23=М[Артикул, марка, произв.])*($D23=М[Хар-ка])*($K23=М[Прим.])),0))} -> 0 | J23: =ROUND($H$23*$I$23,2) -> 0 | L23: {=INDEX(М[Форма закупа],MATCH(1,IF(($B23=М[Наим.])*($C23=М[Артикул, марка, произв.])*($D23=М[Хар-ка])*($K23=М[Прим.]),{1},($B23=М[Наим.])*($C23=М[Артикул, марка, произв.])*($D23=М[Хар-ка])*($K23=М[Прим.])),0))} -> 0
B24: Работы: | J24: =SUM($J$25) -> 0
B25: Монтаж пожарного шкафа | E25: шт | G25: 31 | H25: =SUM($G$25:$G$25) -> 31 | I25: {=INDEX(Р[Цена за ед., руб],MATCH(1,IF(($B25=Р[Наименование])*($K25=Р[Примечание]),{1},($B25=Р[Наименование])*($K25=Р[Примечание])),0))} -> 0 | J25: =ROUND($H$25*$I$25,2) -> 0
B26: Материалы: | J26: =SUM($J$27:$J$28) -> 0
A27: 1 | B27: Шкаф пожарный | D27: ШПК-320-12 Н3 | E27: шт | G27: 31 | H27: =SUM($G$27:$G$27) -> 31 | I27: {=INDEX(М[Цена за ед., руб],MATCH(1,IF(($B27=М[Наим.])*($C27=М[Артикул, марка, произв.])*($D27=М[Хар-ка])*($K27=М[Прим.]),{1},($B27=М[Наим.])*($C27=М[Артикул, марка, произв.])*($D27=М[Хар-ка])*($K27=М[Прим.])),0))} -> 0 | J27: =ROUND($H$27*$I$27,2) -> 0 | L27: {=INDEX(М[Форма закупа],MATCH(1,IF(($B27=М[Наим.])*($C27=М[Артикул, марка, произв.])*($D27=М[Хар-ка])*($K27=М[Прим.]),{1},($B27=М[Наим.])*($C27=М[Артикул, марка, произв.])*($D27=М[Хар-ка])*($K27=М[Прим.])),0))} -> 0
A28: 2 | B28: Огнетушитель | D28: порошковый ОП-4 АВСЕ | E28: шт | G28: 62 | H28: =SUM($G$28:$G$28) -> 62 | I28: {=INDEX(М[Цена за ед., руб],MATCH(1,IF(($B28=М[Наим.])*($C28=М[Артикул, марка, произв.])*($D28=М[Хар-ка])*($K28=М[Прим.]),{1},($B28=М[Наим.])*($C28=М[Артикул, марка, произв.])*($D28=М[Хар-ка])*($K28=М[Прим.])),0))} -> 0 | J28: =ROUND($H$28*$I$28,2) -> 0 | L28: {=INDEX(М[Форма закупа],MATCH(1,IF(($B28=М[Наим.])*($C28=М[Артикул, марка, произв.])*($D28=М[Хар-ка])*($K28=М[Прим.]),{1},($B28=М[Наим.])*($C28=М[Артикул, марка, произв.])*($D28=М[Хар-ка])*($K28=М[Прим.])),0))} -> 0
B29: Работы: | J29: =SUM($J$30) -> 0
B30: Монтаж трубной изоляции | E30: м | G30: 532 | H30: =SUM($G$30:$G$30) -> 532 | I30: {=INDEX(Р[Цена за ед., руб],MATCH(1,IF(($B30=Р[Наименование])*($K30=Р[Примечание]),{1},($B30=Р[Наименование])*($K30=Р[Примечание])),0))} -> 0 | J30: =ROUND($H$30*$I$30,2) -> 0
B31: Материалы: | J31: =SUM($J$32:$J$33) -> 0
A32: 1 | B32: Теплоизоляция трубная | D32: 133х20мм навивные цилидры из каменной ваты | E32: пог. м | G32: 429 | H32: =SUM($G$32:$G$32) -> 429 | I32: {=INDEX(М[Цена за ед., руб],MATCH(1,IF(($B32=М[Наим.])*($C32=М[Артикул, марка, произв.])*($D32=М[Хар-ка])*($K32=М[Прим.]),{1},($B32=М[Наим.])*($C32=М[Артикул, марка, произв.])*($D32=М[Хар-ка])*($K32=М[Прим.])),0))} -> 0 | J32: =ROUND($H$32*$I$32,2) -> 0 | L32: {=INDEX(М[Форма закупа],MATCH(1,IF(($B32=М[Наим.])*($C32=М[Артикул, марка, произв.])*($D32=М[Хар-ка])*($K32=М[Прим.]),{1},($B32=М[Наим.])*($C32=М[Артикул, марка, произв.])*($D32=М[Хар-ка])*($K32=М[Прим.])),0))} -> 0
A33: 2 | B33: Теплоизоляция трубная | D33: 76х20мм навивные цилидры из каменной ваты | E33: пог. м | G33: 103 | H33: =SUM($G$33:$G$33) -> 103 | I33: {=INDEX(М[Цена за ед., руб],MATCH(1,IF(($B33=М[Наим.])*($C33=М[Артикул, марка, произв.])*($D33=М[Хар-ка])*($K33=М[Прим.]),{1},($B33=М[Наим.])*($C33=М[Артикул, марка, произв.])*($D33=М[Хар-ка])*($K33=М[Прим.])),0))} -> 0 | J33: =ROUND($H$33*$I$33,2) -> 0 | L33: {=INDEX(М[Форма закупа],MATCH(1,IF(($B33=М[Наим.])*($C33=М[Артикул, марка, произв.])*($D33=М[Хар-ка])*($K33=М[Прим.]),{1},($B33=М[Наим.])*($C33=М[Артикул, марка, произв.])*($D33=М[Хар-ка])*($K33=М[Прим.])),0))} -> 0
B34: Работы: | J34: =SUM($J$35) -> 0
B35: Покраска эмалью | E35: кг | G35: 172.25 | H35: =SUM($G$35:$G$35) -> 172.25 | I35: {=INDEX(Р[Цена за ед., руб],MATCH(1,IF(($B35=Р[Наименование])*($K35=Р[Примечание]),{1},($B35=Р[Наименование])*($K35=Р[Примечание])),0))} -> 0 | J35: =ROUND($H$35*$I$35,2) -> 0
B36: Материалы: | J36: =SUM($J$37) -> 0
A37: 1 | B37: Эмаль (кг.) | D37: ПФ-115 | E37: кг | G37: 172.25 | H37: =SUM($G$37:$G$37) -> 172.25 | I37: {=INDEX(М[Цена за ед., руб],MATCH(1,IF(($B37=М[Наим.])*($C37=М[Артикул, марка, произв.])*($D37=М[Хар-ка])*($K37=М[Прим.]),{1},($B37=М[Наим.])*($C37=М[Артикул, марка, произв.])*($D37=М[Хар-ка])*($K37=М[Прим.])),0))} -> 0 | J37: =ROUND($H$37*$I$37,2) -> 0 | K37: в 2 слоя | L37: {=INDEX(М[Форма закупа],MATCH(1,IF(($B37=М[Наим.])*($C37=М[Артикул, марка, произв.])*($D37=М[Хар-ка])*($K37=М[Прим.]),{1},($B37=М[Наим.])*($C37=М[Артикул, марка, произв.])*($D37=М[Хар-ка])*($K37=М[Прим.])),0))} -> 0
B38: Работы: | J38: =SUM($J$39) -> 0
B39: Прокладка трубы стальной от 57 мм | E39: пог. м | G39: 2067 | H39: =SUM($G$39:$G$39) -> 2067 | I39: {=INDEX(Р[Цена за ед., руб],MATCH(1,IF(($B39=Р[Наименование])*($K39=Р[Примечание]),{1},($B39=Р[Наименование])*($K39=Р[Примечание])),0))} -> 0 | J39: =ROUND($H$39*$I$39,2) -> 0
B40: Материалы: | J40: =SUM($J$41:$J$43) -> 0
A41: 1 | B41: Труба электросварная (пог.м.) | D41: стальная D-133х4,2 | E41: пог. м | G41: 429 | H41: =SUM($G$41:$G$41) -> 429 | I41: {=INDEX(М[Цена за ед., руб],MATCH(1,IF(($B41=М[Наим.])*($C41=М[Артикул, марка, произв.])*($D41=М[Хар-ка])*($K41=М[Прим.]),{1},($B41=М[Наим.])*($C41=М[Артикул, марка, произв.])*($D41=М[Хар-ка])*($K41=М[Прим.])),0))} -> 0 | J41: =ROUND($H$41*$I$41,2) -> 0 | L41: {=INDEX(М[Форма закупа],MATCH(1,IF(($B41=М[Наим.])*($C41=М[Артикул, марка, произв.])*($D41=М[Хар-ка])*($K41=М[Прим.]),{1},($B41=М[Наим.])*($C41=М[Артикул, марка, произв.])*($D41=М[Хар-ка])*($K41=М[Прим.])),0))} -> 0
A42: 2 | B42: Труба электросварная (пог.м.) | D42: стальная D-76х3,5 | E42: пог. м | G42: 103 | H42: =SUM($G$42:$G$42) -> 103 | I42: {=INDEX(М[Цена за ед., руб],MATCH(1,IF(($B42=М[Наим.])*($C42=М[Артикул, марка, произв.])*($D42=М[Хар-ка])*($K42=М[Прим.]),{1},($B42=М[Наим.])*($C42=М[Артикул, марка, произв.])*($D42=М[Хар-ка])*($K42=М[Прим.])),0))} -> 0 | J42: =ROUND($H$42*$I$42,2) -> 0 | L42: {=INDEX(М[Форма закупа],MATCH(1,IF(($B42=М[Наим.])*($C42=М[Артикул, марка, произв.])*($D42=М[Хар-ка])*($K42=М[Прим.]),{1},($B42=М[Наим.])*($C42=М[Артикул, марка, произв.])*($D42=М[Хар-ка])*($K42=М[Прим.])),0))} -> 0
A43: 3 | B43: Труба электросварная (пог.м.) | D43: стальная D-57х3,5 | E43: пог. м | G43: 1535 | H43: =SUM($G$43:$G$43) -> 1535 | I43: {=INDEX(М[Цена за ед., руб],MATCH(1,IF(($B43=М[Наим.])*($C43=М[Артикул, марка, произв.])*($D43=М[Хар-ка])*($K43=М[Прим.]),{1},($B43=М[Наим.])*($C43=М[Артикул, марка, произв.])*($D43=М[Хар-ка])*($K43=М[Прим.])),0))} -> 0 | J43: =ROUND($H$43*$I$43,2) -> 0 | L43: {=INDEX(М[Форма закупа],MATCH(1,IF(($B43=М[Наим.])*($C43=М[Артикул, марка, произв.])*($D43=М[Хар-ка])*($K43=М[Прим.]),{1},($B43=М[Наим.])*($C43=М[Артикул, марка, произв.])*($D43=М[Хар-ка])*($K43=М[Прим.])),0))} -> 0
...

Sheet Работы
A1: Сводная ведомость объемов работ
A3: Наименование | B3: Ед. изм. | C3: Количество | D3: Цена за ед., руб | E3: Сумма, руб | F3: Примечание
A4: Бурение отверстий до 120мм | B4: шт | C4: 26 | E4: =ROUND(Р[[#This Row],[Количество]]*Р[[#This Row],[Цена за ед., руб]],2) -> 0
A5: Монтаж клапана (с учетом пожарного рукава и ствола) | B5: шт | C5: 62 | E5: =ROUND(Р[[#This Row],[Количество]]*Р[[#This Row],[Цена за ед., руб]],2) -> 0
A6: Монтаж кранов (фланцевые, резьбовые) от 40 мм | B6: шт | C6: 63 | E6: =ROUND(Р[[#This Row],[Количество]]*Р[[#This Row],[Цена за ед., руб]],2) -> 0
A7: Монтаж пожарного шкафа | B7: шт | C7: 31 | E7: =ROUND(Р[[#This Row],[Количество]]*Р[[#This Row],[Цена за ед., руб]],2) -> 0
A8: Монтаж трубной изоляции | B8: м | C8: 532 | E8: =ROUND(Р[[#This Row],[Количество]]*Р[[#This Row],[Цена за ед., руб]],2) -> 0
A9: Покраска эмалью | B9: кг | C9: 697.2 | E9: =ROUND(Р[[#This Row],[Количество]]*Р[[#This Row],[Цена за ед., руб]],2) -> 0
A10: Прокладка трубы стальной от 57 мм | B10: пог. м | C10: 7905.39 | E10: =ROUND(Р[[#This Row],[Количество]]*Р[[#This Row],[Цена за ед., руб]],2) -> 0
A11: Бурение отверстий | B11: шт | C11: 10 | E11: =ROUND(Р[[#This Row],[Количество]]*Р[[#This Row],[Цена за ед., руб]],2) -> 0
A12: Монтаж затвора | B12: шт | C12: 29 | E12: =ROUND(Р[[#This Row],[Количество]]*Р[[#This Row],[Цена за ед., руб]],2) -> 0
A13: Монтаж оросителя | B13: шт | C13: 1791 | E13: =ROUND(Р[[#This Row],[Количество]]*Р[[#This Row],[Цена за ед., руб]],2) -> 0
A14: Монтаж эксгаустера | B14: шт | C14: 14 | E14: =ROUND(Р[[#This Row],[Количество]]*Р[[#This Row],[Цена за ед., руб]],2) -> 0
A15: Пусконаладочные работы системы пожаротушения: испытание пожарного крана, манометрические испытания | B15: компл. | C15: 1 | E15: =ROUND(Р[[#This Row],[Количество]]*Р[[#This Row],[Цена за ед., руб]],2) -> 0
... A23: Прокладка трубы стальной до 40 мм | B23: пог. м | C23: 8 | E23: =ROUND(Р[[#This Row],[Количество]]*Р[[#This Row],[Цена за ед., руб]],2) -> 0
A24: Итог | E24: =SUBTOTAL(109,Р[Сумма, руб]) -> 0
D25: Проверка: | E25: =ЛСР!J125-Р[[#Totals],[Сумма, руб]] -> 0
A27: Примечание:
A28: В стоимость пусконоладочных работ входит: ПНР насосной станции пожаротушения, Атоматизация насосов системы пожаротушения (кабельно проводниковая продукция, лотки итд) с учетом материалов
A29: Учитывать, что подрядчику необходимо предоставить Акт на инструментальный контроль противопожарного водопровода
A30: В случае, если один из перечисленных прочих/фасонных материалов не был использован по факту при производстве работ, заказчик вправе откорректировать процент расходных материалов в актах выполненных работ (формы КС-2, КС-3), уменьшив на сумму исключенного материала.
A31: Стоимость СМР учитывает - затраты на все второстепенные материалы и работы необходимые для осуществления полного комплекса работ, включая затраты: обеспечение технической водой для производства работ и бытовых целей; на мобилизацию, аренду и эксплуатацию всех необходимых механизмов, оборудования и инструментов, бытовых помещений и биотуалетов; на подъем материалов и разноску по этажам к местам производства работ; выполнение сопутствующих работ; вывоз мусора; накладные расходы, прибыль организации, налоги и иные издержки Подрядчика. Обеспечение безопасного производства работ на участке.
A32: Стоимость материалов учитывает стоимость доставки.
A33: В случае изменения системы налогообложения, риски увеличения стоимости договора относятся на сторону, чья система налогообложения изменяется
A34: Стоимость Работ по настоящему Договору является твердой и включает в себя все виды работ, необходимые для выполнения полного комплекса работ (в случае необходимости закрытия объема больше, чем предусмотрено ЛСР, расценки на работы подлежат корректировке в меньшую сторону с сохранением твердой стоимости работ)

Sheet Материалы
A1: Сводная ведомость объемов материала
A3: Наим. | B3: Артикул, марка, произв. | C3: Хар-ка | D3: Ед. изм. | E3: Количество | F3: Цена за ед., руб | G3: Сумма, руб | H3: Прим. | I3: Форма закупа
A4: Эксгаустер | C4: 50 1,2 12 ВМ.УЗ.1 | D4: шт | E4: 14 | G4: =ROUND(М[[#This Row],[Количество]]*М[[#This Row],[Цена за ед., руб]],2) -> 0
A5: Затвор поворотный дисковый | C5: межфланцевый Ду-100 Py-10bar ручной с контролем положения | D5: шт | E5: 3 | G5: =ROUND(М[[#This Row],[Количество]]*М[[#This Row],[Цена за ед., руб]],2) -> 0
A6: Затвор поворотный дисковый | C6: межфланцевый Ду-150 Py-16bar ручной с контролем положения | D6: шт | E6: 14 | G6: =ROUND(М[[#This Row],[Количество]]*М[[#This Row],[Цена за ед., руб]],2) -> 0
A7: Затвор поворотный дисковый | C7: межфланцевый Ду-50 Py- с электроприводом 380В | D7: шт | E7: 8 | G7: =ROUND(М[[#This Row],[Количество]]*М[[#This Row],[Цена за ед., руб]],2) -> 0
A8: Затвор поворотный дисковый | C8: межфланцевый Ду-125 Py-16bar ручной с контролем положения | D8: шт | E8: 4 | G8: =ROUND(М[[#This Row],[Количество]]*М[[#This Row],[Цена за ед., руб]],2) -> 0
A9: Труба электросварная (пог.м.) | C9: стальная D-108х4,0 | D9: пог. м | E9: 1855.35 | G9: =ROUND(М[[#This Row],[Количество]]*М[[#This Row],[Цена за ед., руб]],2) -> 0
A10: Труба электросварная (пог.м.) | C10: стальная D-133х4,2 | D10: пог. м | E10: 461 | G10: =ROUND(М[[#This Row],[Количество]]*М[[#This Row],[Цена за ед., руб]],2) -> 0
A11: Труба электросварная (пог.м.) | C11: стальная D-159х4,0 | D11: пог. м | E11: 252.3 | G11: =ROUND(М[[#This Row],[Количество]]*М[[#This Row],[Цена за ед., руб]],2) -> 0
A12: Труба электросварная (пог.м.) | C12: стальная D-76х3,5 | D12: пог. м | E12: 518.38 | G12: =ROUND(М[[#This Row],[Количество]]*М[[#This Row],[Цена за ед., руб]],2) -> 0
A13: Труба электросварная (пог.м.) | C13: стальная D-89х3,5 | D13: пог. м | E13: 29 | G13: =ROUND(М[[#This Row],[Количество]]*М[[#This Row],[Цена за ед., руб]],2) -> 0
A14: Труба электросварная (пог.м.) | C14: стальная D-57х3,5 | D14: пог. м | E14: 4789.36 | G14: =ROUND(М[[#This Row],[Количество]]*М[[#This Row],[Цена за ед., руб]],2) -> 0
A15: Кран шаровой | C15: ВР-ВР Ду-50 полнопроходной | D15: шт | E15: 62 | G15: =ROUND(М[[#This Row],[Количество]]*М[[#This Row],[Цена за ед., руб]],2) -> 0
... A17: Ствол пожарный | C17: РС-50А | D17: шт | E17: 62 | G17: =ROUND(М[[#This Row],[Количество]]*М[[#This Row],[Цена за ед., руб]],2) -> 0
A18: Вентиль пожарный | C18: чугунный угловой Ду-50 муфта-цапка | D18: шт | E18: 62 | G18: =ROUND(М[[#This Row],[Количество]]*М[[#This Row],[Цена за ед., руб]],2) -> 0 | H18: с ДППК
A19: Шкаф пожарный | C19: ШПК-320-12 Н3 | D19: шт | E19: 31 | G19: =ROUND(М[[#This Row],[Количество]]*М[[#This Row],[Цена за ед., руб]],2) -> 0
A20: Эмаль (кг.) | C20: ПФ-115 | D20: кг | E20: 697.2 | G20: =ROUND(М[[#This Row],[Количество]]*М[[#This Row],[Цена за ед., руб]],2) -> 0 | H20: в 2 слоя
A21: Ороситель | C21: спринклерный розеткой вверх t-57±3°С К-0,77 | D21: шт | E21: 1791 | G21: =ROUND(М[[#This Row],[Количество]]*М[[#This Row],[Цена за ед., руб]],2) -> 0 | H21: с запасом на ПНР
A22: Огнетушитель | C22: порошковый ОП-4 АВСЕ | D22: шт | E22: 62 | G22: =ROUND(М[[#This Row],[Количество]]*М[[#This Row],[Цена за ед., руб]],2) -> 0
A23: Теплоизоляция трубная | C23: 133х20мм навивные цилидры из каменной ваты | D23: пог. м | E23: 429 | G23: =ROUND(М[[#This Row],[Количество]]*М[[#This Row],[Цена за ед., руб]],2) -> 0
A24: Теплоизоляция трубная | C24: 76х20мм навивные цилидры из каменной ваты | D24: пог. м | E24: 103 | G24: =ROUND(М[[#This Row],[Количество]]*М[[#This Row],[Цена за ед., руб]],2) -> 0
A25: Клапан обратный | C25: муфтовый Ду-32 Ру-16бар | D25: шт | E25: 2 | G25: =ROUND(М[[#This Row],[Количество]]*М[[#This Row],[Цена за ед., руб]],2) -> 0
A26: Клапан обратный | C26: муфтовый Ду-40 Ру-16бар | D26: шт | E26: 1 | G26: =ROUND(М[[#This Row],[Количество]]*М[[#This Row],[Цена за ед., руб]],2) -> 0
A27: Клапан обратный | C27: Межфланцевый Ду-125 Ру-16бар | D27: шт | E27: 2 | G27: =ROUND(М[[#This Row],[Количество]]*М[[#This Row],[Цена за ед., руб]],2) -> 0
A28: Компрессор поршневой с осушителем воздуха | C28: Q=360л/мин 10 бар 2,2кВт | D28: шт | E28: 5 | G28: =ROUND(М[[#This Row],[Количество]]*М[[#This Row],[Цена за ед., руб]],2) -> 0
A29: Кран шаровой | C29: с накидной гайкой Ду-32 полнопроходный | D29: шт | E29: 2 | G29: =ROUND(М[[#This Row],[Количество]]*М[[#This Row],[Цена за ед., руб]],2) -> 0
A30: Кран шаровой | C30: с накидной гайкой Ду-40 полнопроходный | D30: шт | E30: 1 | G30: =ROUND(М[[#This Row],[Количество]]*М[[#This Row],[Цена за ед., руб]],2) -> 0
A31: Насосная станция пожаротушения | C31: Q-64,27 л/сН=62,06 м | D31: шт | E31: 1 | G31: =ROUND(М[[#This Row],[Количество]]*М[[#This Row],[Цена за ед., руб]],2) -> 0
A32: Жокей-насос | C32: Q-1,0 л/с H-65,3 м N-1,5 кВт V бака-50 л | D32: шт | E32: 1 | G32: =ROUND(М[[#This Row],[Количество]]*М[[#This Row],[Цена за ед., руб]],2) -> 0
A33: Счетчик воды | C33: электромагнитный Ду-100 Qn-150м3/час L-250мм | D33: шт | E33: 3 | G33: =ROUND(М[[#This Row],[Количество]]*М[[#This Row],[Цена за ед., руб]],2) -> 0
... A37: Труба водогазопроводная | C37: стальная D-40х3,5 СТ3 | D37: пог. м | E37: 3 | G37: =ROUND(М[[#This Row],[Количество]]*М[[#This Row],[Цена за ед., руб]],2) -> 0
A38: Фитинги для стальной трубы | D38: % | G38: =SUMIF(ЛСР!$B$6:$J$123,М[[#This Row],[Наим.]],ЛСР!$J$6:$J$123) -> 0 | H38: для всех разделов, расчитывается от стоимости материалов
A39: Прочие материалы | D39: % | G39: =SUMIF(ЛСР!$B$6:$J$123,М[[#This Row],[Наим.]],ЛСР!$J$6:$J$123) -> 0 | H39: для всех разделов, расчитывается от стоимости материалов
A40: Итог | G40: =SUBTOTAL(109,М[Сумма, руб]) -> 0
F41: Проверка: | G41: =ЛСР!J126-М[[#Totals],[Сумма, руб]] -> 0
A43: Примечание:
A44: В стоимость пусконоладочных работ входит: ПНР насосной станции пожаротушения, Атоматизация насосов системы пожаротушения (кабельно проводниковая продукция, лотки итд) с учетом материалов
A45: Учитывать, что подрядчику необходимо предоставить Акт на инструментальный контроль противопожарного водопровода
A46: В случае, если один из перечисленных прочих/фасонных материалов не был использован по факту при производстве работ, заказчик вправе откорректировать процент расходных материалов в актах выполненных работ (формы КС-2, КС-3), уменьшив на сумму исключенного материала.
...

Sheet ПараметрыЗагрузки
A1: ЛСР | B1: ЛСРГуид
A2: ГП Амундсмена Екатеринбург.06.11.07 Секция 6_Устройство системы пожаротушения №1 | B2: 6bed4775-96f5-11f1-9619-cc5d3c3b48f3
