Workbook

Sheet Смета
J1: Приложение №
J2: к Договору подряда №
B4: ПОДРЯДЧИК: | I4: ЗАКАЗЧИК:
I6: Генеральный директор
B8: ______________/ | I8: _________________/Е.В.Низамова
A10: Локальный сметный расчет №1
A12: № | B12: Наименование | C12: Марка/ Завод изготовитель | D12: Характеристика | E12: Ед. изм. | F12: Норма расхода | G12: Кол-во | H12: Цена за ед. | I12: Сумма | J12: Примечание
A13: 09 | B13: Внутренняя отделка
A14: 09.00. | B14: Чистовая отделка квартир (ремонт)
A15: 09.00.00. | B15: Чистовая отделка квартир (ремонт)
A16: 09.00.00.00 | B16: Чистовая отделка квартир (ремонт) | E16: м2 | I16: =I17+I45 -> 0
B17: Работа: | I17: =SUM(I19:I44) -> 0
B18: Устройство полусухой выравнивающей стяжки армированной фиброволокном с сан.узлах выше первого этажа | E18: м2 | H18: =СМР!C3 -> 1 | I18: =H18*G18 -> 0
B19: Укладка ламината | E19: м2 | H19: =СМР!C4 -> 1 | I19: =H19*G19 -> 0
B20: Монтаж плинтуса | E20: м.п. | H20: =СМР!C5 -> 1 | I20: =H20*G20 -> 0
B21: Монтаж подоконников | E21: м.п. | H21: =СМР!C6 -> 1 | I21: =H21*G21 -> 0
B22: Шпатлевание стен | E22: м2 | H22: =СМР!C7 -> 1 | I22: =H22*G22 -> 0
B23: Оклейка стен обоями | E23: м2 | H23: =СМР!C8 -> 1 | I23: =H23*G23 -> 0
B24: Покраска обоев | E24: м2 | H24: =СМР!C9 -> 1 | I24: =H24*G24 -> 0 | J24: на 2 слоя
B25: Облицовка пола керамогранитом тип 1 | E25: м2 | H25: =СМР!C10 -> 1 | I25: =H25*G25 -> 0
B26: Облицовка стен керамогранитом тип 1 | E26: м2 | H26: =СМР!C11 -> 1 | I26: =H26*G26 -> 0
B27: Облицовка стен керамогранитом тип 2 | E27: м2 | H27: =СМР!C12 -> 1 | I27: =H27*G27 -> 0
B28: Монтаж короба из ГКЛ | E28: м2 | H28: =СМР!C13 -> 1 | I28: =H28*G28 -> 0
B29: Установка вентилятора | E29: шт | H29: =СМР!C14 -> 1 | I29: =H29*G29 -> 0
B30: Установка вентиляционной решетки | E30: шт | H30: =СМР!C15 -> 1 | I30: =H30*G30 -> 0
B31: Монтаж ревизионного люка | E31: шт | H31: =СМР!C16 -> 1 | I31: =H31*G31 -> 0
B32: Установка дверного блока | E32: шт | H32: =СМР!C17 -> 1 | I32: =H32*G32 -> 0
B33: Монтаж электроточки | E33: шт | H33: =СМР!C18 -> 1 | I33: =H33*G33 -> 0 | J33: в т.ч. вывод хвоста под вытяжку в кухне
B34: Монтаж точечного светильника | E34: шт | H34: =СМР!C19 -> 1 | I34: =H34*G34 -> 0
B35: Разводка труб п/э | E35: комплекс | H35: =СМР!C20 -> 1 | I35: =H35*G35 -> 0 | J35: в т.ч. вывод для стиральной машины, выводы воды и канализации на кухню
B36: Установка ванны | E36: шт | H36: =СМР!C21 -> 1 | I36: =H36*G36 -> 0 | J36: в т.ч. Установка экрана
B37: Установка инсталляции | E37: шт | H37: =СМР!C22 -> 1 | I37: =H37*G37 -> 0 | J37: в т.ч. Установка унитаза, кнопки и крышки-сиденья
B38: Установка раковины | E38: шт | H38: =СМР!C23 -> 1 | I38: =H38*G38 -> 0 | J38: в т.ч. Установка и подключение, сифона
B39: Установка зеркала | E39: шт | H39: =СМР!C24 -> 1 | I39: =H39*G39 -> 0
B40: Установка эл. полотенцесушителя | E40: шт | H40: =СМР!C25 -> 1 | I40: =H40*G40 -> 0
B41: Установка смесителя | E41: шт | H41: =СМР!C26 -> 1 | I41: =H41*G41 -> 0
B42: Установка душевой системы | E42: шт | H42: =СМР!C27 -> 1 | I42: =H42*G42 -> 0
B43: Монтаж натяжного потолка | E43: м2 | H43: =СМР!C28 -> 1 | I43: =H43*G43 -> 0 | J43: в т.ч. Монтаж вставки для натяжного потолка
B44: Монтаж закладных | E44: м.п | H44: =СМР!C29 -> 1 | I44: =H44*G44 -> 0 | J44: в т.ч. Закладные под карниз, шкаф-купе, люстры
B45: Материалы: | I45: =SUM(I50:I83) -> 0
...

Sheet СМР
A1: Ведомость работ
A2: Наименование | B2: Ед. изм. | C2: Цена за ед.
A3: Устройство полусухой выравнивающей стяжки армированной фиброволокном с сан.узлах выше первого этажа | B3: м2 | C3: 1
A4: Укладка ламината | B4: м2 | C4: 1
A5: Монтаж плинтуса | B5: м.п. | C5: 1
A6: Монтаж подоконников | B6: м.п. | C6: 1
A7: Шпатлевание стен | B7: м2 | C7: 1
A8: Оклейка стен обоями | B8: м2 | C8: 1
A9: Покраска обоев | B9: м2 | C9: 1
A10: Облицовка пола керамогранитом тип 1 | B10: м2 | C10: 1
A11: Облицовка стен керамогранитом тип 1 | B11: м2 | C11: 1
A12: Облицовка стен керамогранитом тип 2 | B12: м2 | C12: 1
A13: Монтаж короба из ГКЛ | B13: м2 | C13: 1
A14: Установка вентилятора | B14: шт | C14: 1
... A29: Монтаж закладных | B29: м.п | C29: 1

Sheet Материалы
A1: Спецификация материалов
A2: Наименование | B2: Ед. изм. | C2: Цена за ед.
A3: Песок среднезернистый (или крупнозернистый) | B3: кг | C3: 1
A4: Цемент ПЦ400 | B4: кг | C4: 1
A5: Фиброволокно полипропиленовое l=12мм | B5: кг | C5: 1
A6: Пластификатор | B6: л | C6: 1
A7: Ламинат в соответствии с тех.заданием | B7: м2 | C7: 1
A8: Подложка Порилекс НПЭ 3мм под ламинат | B8: м2 | C8: 1
A9: Плинтус в соответствии с тех.заданием | B9: м.п. | C9: 1
A10: Подоконник ПВХ белый | B10: м.п | C10: 1
A11: Сэндвич-панель 300х3000х9-9,5мм | B11: м.п. | C11: 1
A12: Шпаклевка полимерная финишная Vetonit LR+, 20 кг | B12: кг | C12: 1
A13: Обои виниловые на флизелиновой основе Артекс под покраску арт. 50015 | B13: м2 | C13: 1
A14: Клей обойный КЛЕО винил для виниловых обоев | B14: кг | C14: 1
... A97: Вставка-заглушка, плинтус для натяжного потолка 50 м | B97: шт | C97: 1
