Workbook

Sheet ЛСР1
J1: Приложение №
J2: к Договору подряда №
B4: ПОДРЯДЧИК: | E4: ЗАКАЗЧИК: | I4: ТЕХНИЧЕСКИЙ ЗАКАЗЧИК:
I5: ООО "ТЗ "ЭНКО"
B8: ______________/ | E8: _________________/ С.И. Ярков | I8: _________________/ С.И. Ярков
A11: Локальный сметный расчет №1
A12: Устройство наружного освещения
A14: № п/п | B14: Наименование | C14: Марка | D14: Характеристика | E14: Ед. изм. | F14: Норма | G14: Кол-во | H14: Цена за ед. изм. | I14: Сумма | J14: Примечание
A15: 13 | B15: Наружные сети
A16: 13.11. | B16: Устройство наружных сетей электроосвещения
A17: 13.11.01. | B17: Прокладка кабеля, трубы для электроосвещения
A18: 13.11.01.00 | B18: Прокладка кабеля, трубы для электроосвещения | I18: =I19+I28 -> 0
B19: Работа: | I19: =SUM(I20:I27) -> 0
A20: ? | B20: Разработка грунта | E20: м3 | G20: =0.3*0.7*(G22+G23) -> 583.8 | H20: =VLOOKUP(B20,РАБ!B3:E30,4,0) -> 0 | I20: =H20*G20 -> 0
A21: ? | B21: Обратная засыпка | E21: м3 | G21: =0.3*0.7*(G22+G23) -> 583.8 | H21: =VLOOKUP(B21,РАБ!B4:E31,4,0) -> 0 | I21: =H21*G21 -> 0
B22: Прокладка трубы тип 1 | E22: м.п. | G22: =G29 -> 1935 | H22: =VLOOKUP(B22,РАБ!B5:E32,4,0) -> 0 | I22: =H22*G22 -> 0
B23: Прокладка трубы тип 2 | E23: м.п. | G23: =G30 -> 845 | H23: =VLOOKUP(B23,РАБ!B6:E33,4,0) -> 0 | I23: =H23*G23 -> 0
B24: Прокладка кабеля тип 1 | E24: м.п. | G24: =G31 -> 2025 | H24: =VLOOKUP(B24,РАБ!B7:E34,4,0) -> 0 | I24: =H24*G24 -> 0
B25: Прокладка кабеля тип 2 | E25: м.п. | G25: =G32 -> 845 | H25: =VLOOKUP(B25,РАБ!B8:E35,4,0) -> 0 | I25: =H25*G25 -> 0
B26: Прокладка кабеля тип 3 | E26: м.п. | G26: =G33 -> 517 | H26: =VLOOKUP(B26,РАБ!B9:E36,4,0) -> 0 | I26: =H26*G26 -> 0
B27: Прокладка кабеля тип 4 | E27: м.п. | G27: =G34 -> 60 | H27: =VLOOKUP(B27,РАБ!B10:E37,4,0) -> 0 | I27: =H27*G27 -> 0
B28: Материалы: | I28: =SUM(I29:I35) -> 0
B29: Труба двустенная гофротруба Ду= 63 | E29: м.п. | G29: 1935 | H29: =VLOOKUP(B29,МАТ!B3:F51,4,0) -> 0 | I29: =G29*H29 -> 0
B30: Труба двустенная гофротруба Ду= 32 | E30: м.п. | G30: 845 | H30: =VLOOKUP(B30,МАТ!B4:F52,4,0) -> 0 | I30: =G30*H30 -> 0
B31: Кабель тип 1 АВБШв 5х16 | C31: АВБШв | D31: 5х16 | E31: м.п. | G31: 2025 | H31: =VLOOKUP(B31,МАТ!B5:F53,4,0) -> 0 | I31: =G31*H31 -> 0
B32: Кабель тип 2 АВВГнг 3х4 | C32: АВВГнг | D32: 3х4 | E32: м.п. | G32: 845 | H32: =VLOOKUP(B32,МАТ!B6:F54,4,0) -> 0 | I32: =G32*H32 -> 0
B33: Кабель тип 3 КГ-ХЛ 3х1,5 | C33: КГ-ХЛ | D33: 3х1,5 | E33: м.п. | G33: 517 | H33: =VLOOKUP(B33,МАТ!B7:F55,4,0) -> 0 | I33: =G33*H33 -> 0
B34: Кабель тип 4 МГ 1х6 | C34: МГ | D34: 1х6 | E34: м.п. | G34: 60 | H34: =VLOOKUP(B34,МАТ!B8:F56,4,0) -> 0 | I34: =G34*H34 -> 0 | J34: заземление в опоре
B35: Прочие материалы ( лента сигнальная) | I35: =I36 -> 0
B36: Лента сигнальная "Осторожно кабель" 100 мм | D36: "Осторожно кабель" 100 мм | E36: м.п. | G36: 2100 | H36: =VLOOKUP(B36,МАТ!B10:F58,4,0) -> 0 | I36: =G36*H36 -> 0 | J36: в траншее
A37: 13.11.02. | B37: Установка опор освещеня, ШУО
A38: 13.11.02.00 | B38: Установка опор освещеня, ШУО | I38: =I39+I48 -> 0
B39: Работа: | I39: =SUM(I40:I47) -> 0
B40: Установка опор освещения тип 1 | E40: шт | G40: =G49+G50+G51+G52+G53 -> 55 | H40: =VLOOKUP(B40,РАБ!B3:E30,4,0) -> 0 | I40: =H40*G40 -> 0
B41: Установка опор освещения тип 2 | E41: шт | G41: =G54 -> 49 | H41: =VLOOKUP(B41,РАБ!B4:E31,4,0) -> 0 | I41: =H41*G41 -> 0
B42: Установка опор освещения тип 3 | E42: шт | G42: =G55 -> 6 | H42: =VLOOKUP(B42,РАБ!B5:E32,4,0) -> 0 | I42: =H42*G42 -> 0
B43: Установка опор освещения тип 4 | E43: шт | G43: =G56+G57 -> 29 | H43: =VLOOKUP(B43,РАБ!B6:E33,4,0) -> 0 | I43: =H43*G43 -> 0
B44: Установка опор освещения тип 5 | E44: шт | G44: =G58 -> 34 | H44: =VLOOKUP(B44,РАБ!B7:E34,4,0) -> 0 | I44: =H44*G44 -> 0
B45: Монтаж ШУО | E45: шт | G45: 1 | H45: =VLOOKUP(B45,РАБ!B8:E35,4,0) -> 0 | I45: =H45*G45 -> 0
B46: Бетонирование | E46: м3 | G46: =$G$66/$F$66 -> 30.49 | H46: =VLOOKUP(B46,РАБ!B9:E36,4,0) -> 0 | I46: =H46*G46 -> 0
...

Sheet ЛСР2
J1: Приложение №
J2: к Договору подряда №
B4: ПОДРЯДЧИК: | E4: ЗАКАЗЧИК: | I4: ТЕХНИЧЕСКИЙ ЗАКАЗЧИК:
I5: ООО "ТЗ "ЭНКО"
B8: ______________/ | E8: _________________/ С.И. Ярков | I8: _________________/ С.И. Ярков
A11: Локальный сметный расчет №2
A12: Наружные сети связи
A14: № п/п | B14: Наименование | C14: Марка | D14: Характеристика | E14: Ед. изм. | F14: Норма | G14: Кол-во | H14: Цена за ед. изм. | I14: Сумма | J14: Примечание
A15: 13 | B15: Наружные сети
A16: 13.08 | B16: Устройство наружных сетей связи
A17: 13.08.01 | B17: Прокладка наружных сетей связи
A18: 13.08.01.00 | B18: Прокладка наружных сетей связи | I18: =I19+I28 -> 0
B19: Работа: | I19: =SUM(I20:I27) -> 0
B20: Бурение алмазное Ду 200мм | E20: шт | G20: 2 | H20: =VLOOKUP(B20,РАБ!B3:E30,4,0) -> 0 | I20: =H20*G20 -> 0 | J20: ввод в здание
B21: Заделка отверстий 200мм | E21: шт | G21: 13 | H21: =VLOOKUP(B21,РАБ!B4:E31,4,0) -> 0 | I21: =H21*G21 -> 0
B22: Прокладка траншеи | E22: м.п. | G22: 220 | H22: =VLOOKUP(B22,РАБ!B5:E32,4,0) -> 0 | I22: =H22*G22 -> 0
B23: Прокладка навигатором | E23: м.п. | G23: 0 | H23: =VLOOKUP(B23,РАБ!B6:E33,4,0) -> 0 | I23: =H23*G23 -> 0
B24: Прокладка трубы | E24: м.п. | G24: 240 | H24: =VLOOKUP(B24,РАБ!B7:E34,4,0) -> 0 | I24: =H24*G24 -> 0
B25: Устройство люка | E25: комлект | G25: 5 | H25: =VLOOKUP(B25,РАБ!B8:E35,4,0) -> 0 | I25: =H25*G25 -> 0
B26: Устройство колодца связи | E26: шт | G26: 5 | H26: =VLOOKUP(B26,РАБ!B9:E36,4,0) -> 0 | I26: =H26*G26 -> 0
A27: ? | B27: Устройство приямка для колодца | E27: м3. | G27: 11.25 | H27: =VLOOKUP(B27,РАБ!B10:E37,4,0) -> 0 | I27: =H27*G27 -> 0 | J27: приямок под колодец
B28: Материалы: | I28: =SUM(I29:I37) -> 0
B29: Труба полиэтиленовая ПЭ 160х14,6 | D29: 160х14,6 | E29: м.п. | G29: 240 | H29: =VLOOKUP(B29,МАТ!B3:F51,4,0) -> 0 | I29: =H29*G29 -> 0
B30: Колодец КС 10-9 с дном | C30: ГОСТ 8020-2016 | D30: КС 10-9 с дном | E30: шт. | G30: 5 | H30: =VLOOKUP(B30,МАТ!B4:F52,4,0) -> 0 | I30: =H30*G30 -> 0
B31: Крышка ПП 10-1 | C31: ГОСТ 8020-2016 | D31: Плиту перекрытия ПП 10-1 | E31: шт. | G31: 1 | H31: =VLOOKUP(B31,МАТ!B5:F53,4,0) -> 0 | I31: =H31*G31 -> 0
B32: Крышка ПП 10-2 | C32: ГОСТ 8020-2016 | D32: Плиту перекрытия ПП 10-2 | E32: шт. | G32: 4 | H32: =VLOOKUP(B32,МАТ!B5:F54,4,0) -> 0 | I32: =H32*G32 -> 0
B33: Обойма+Люк (чугун), тип «Л» | C33: ГОСТ 3634-2019 | D33: Люк чугунный канализационный тип «Л» | E33: комлект | G33: 5 | H33: =VLOOKUP(B33,МАТ!B5:F55,4,0) -> 0 | I33: =H33*G33 -> 0
B34: Муфта соединительная электросварная для труб ПНД 160мм | E34: шт. | G34: 16 | H34: =VLOOKUP(B34,МАТ!B5:F56,4,0) -> 0 | I34: =H34*G34 -> 0
B35: Раствор бетонный М-150 | D35: М-150 | E35: м3. | G35: 0.7 | H35: =VLOOKUP(B35,МАТ!B5:F57,4,0) -> 0 | I35: =H35*G35 -> 0
B36: Битумная мастика ТехноНиколь МГТН-24 | D36: ТехноНиколь МГТН-24 | E36: кг. | G36: 30 | H36: =VLOOKUP(B36,МАТ!B5:F58,4,0) -> 0 | I36: =H36*G36 -> 0
B37: Расходные материалы (муфта соединительная для тех.трубы Ду160 мм, битумная мастика, цемент) | E37: % | G37: 16.75 | I37: =H37*G37 -> 0
A38: 13.08.02 | B38: ПНР
A39: 13.08.02.00 | B39: ПНР | I39: =I40+I42 -> 0
B40: Работа: | I40: =I41 -> 0
B41: Пусконаладочные работы сетей связи | E41: комплекс | G41: 1 | H41: =VLOOKUP(B41,РАБ!B24:E51,4,0) -> 0 | I41: =H41*G41 -> 0
B42: Материалы: | I42: =SUM(I43) -> 0
B43: -
B44: ИТОГО по ЛСР: | I44: =I45+I46 -> 0
B45: в т.ч. стоимость работ: | I45: =I19+I40 -> 0
B46: в т.ч. стоимость материалов: | I46: =I28+I42 -> 0
...

Sheet РАБ
A1: Сводная ведомость объемов работ
A3: № п/п | B3: Наименование | C3: Ед. изм. | D3: Кол-во | E3: Цена за ед. изм. | F3: Сумма
A4: 1 | B4: 2 | C4: 3 | D4: 4 | E4: 5 | F4: 6
A5: 1 | B5: Разработка грунта | C5: м3 | D5: 583.8 | F5: =E5*D5 -> 0
A6: 2 | B6: Обратная засыпка | C6: м3 | D6: 583.8 | F6: =E6*D6 -> 0
A7: 3 | B7: Прокладка трубы тип 1 | C7: м.п. | D7: 1935 | F7: =E7*D7 -> 0
A8: 4 | B8: Прокладка трубы тип 2 | C8: м.п. | D8: 845 | F8: =E8*D8 -> 0
A9: 5 | B9: Прокладка кабеля тип 1 | C9: м.п. | D9: 2025 | F9: =E9*D9 -> 0
A10: 6 | B10: Прокладка кабеля тип 2 | C10: м.п. | D10: 845 | F10: =E10*D10 -> 0
A11: 7 | B11: Прокладка кабеля тип 3 | C11: м.п. | D11: 517 | F11: =E11*D11 -> 0
A12: 8 | B12: Прокладка кабеля тип 4 | C12: м.п. | D12: 60 | F12: =E12*D12 -> 0
A13: 9 | B13: Установка опор освещения тип 1 | C13: шт | D13: 55 | F13: =E13*D13 -> 0
A14: 10 | B14: Установка опор освещения тип 2 | C14: шт | D14: 49 | F14: =E14*D14 -> 0
A15: 11 | B15: Установка опор освещения тип 3 | C15: шт | D15: 6 | F15: =E15*D15 -> 0
A16: 12 | B16: Установка опор освещения тип 4 | C16: шт | D16: 29 | F16: =E16*D16 -> 0
... A30: 26 | B30: Пусконаладочные работы сетей связи | C30: комплекс | D30: 1 | F30: =E30*D30 -> 0
B31: стоимость работ: | F31: =SUM(F5:F30) -> 0
F32: =ЛСР1!I89+ЛСР2!I45 -> 0
F33: =F32-F31 -> 0

Sheet МАТ
A1: Сводная ведомость объемов материала
A2: Прошу выдать цены на расходные материалы с целью формирования процентного соотношения
A3: № п/п | B3: Наименование | C3: Ед. изм. | D3: Кол-во | E3: Цена за ед. изм. | F3: Сумма | G3: Примечание
A4: 1 | B4: 2 | C4: 3 | D4: 4 | E4: 5 | F4: 6 | G4: 7
A5: 1 | B5: Труба двустенная гофротруба Ду= 63 | C5: м.п. | D5: 1935 | F5: =E5*D5 -> 0
A6: 2 | B6: Труба двустенная гофротруба Ду= 32 | C6: м.п. | D6: 845 | F6: =E6*D6 -> 0
A7: 3 | B7: Кабель тип 1 АВБШв 5х16 | C7: м.п. | D7: 2025 | F7: =E7*D7 -> 0
A8: 4 | B8: Кабель тип 2 АВВГнг 3х4 | C8: м.п. | D8: 845 | F8: =E8*D8 -> 0
A9: 5 | B9: Кабель тип 3 КГ-ХЛ 3х1,5 | C9: м.п. | D9: 517 | F9: =E9*D9 -> 0
A10: 6 | B10: Кабель тип 4 МГ 1х6 | C10: м.п. | D10: 60 | F10: =E10*D10 -> 0
A11: 7 | B11: Лента сигнальная "Осторожно кабель" 100 мм | C11: м.п. | D11: 2100 | F11: =E11*D11 -> 0
A12: 8 | B12: Светильник тип 1 односторонний 3500К, высота 6м, медь с фундаментом Sibilux.Pointer | C12: шт | D12: 6 | F12: =E12*D12 -> 0
A13: 9 | B13: Светильник тип 1 двусторонний 3500К, высота 6м, медь с фундаментом Sibilux.Pointer | C13: шт | D13: 1 | F13: =E13*D13 -> 0
A14: 10 | B14: Светильник тип 1 двусторонний 3500К, высота 4/6м, медь с фундаментом Sibilux.Pointer | C14: шт | D14: 22 | F14: =E14*D14 -> 0
A15: 11 | B15: Светильник тип 1 двусторонний 3500К, высота 4м, медь с фундаментом Sibilux.Pointer | C15: шт | D15: 5 | F15: =E15*D15 -> 0
A16: 12 | B16: Светильник тип 1 односторонний 3500К, высота 4м, медь с фундаментом Sibilux.Pointer | C16: шт | D16: 21 | F16: =E16*D16 -> 0
... A51: 47 | B51: Битумная мастика ТехноНиколь МГТН-24 | C51: кг. | D51: 30 | F51: =E51*D51 -> 0
B52: в т.ч. стоимость материалов: | F52: =SUM(F5:F51) -> 0
F53: =ЛСР2!I46+ЛСР1!I90 -> 0
F54: =F53-F52 -> 0
