Workbook

Sheet Лист1
F2: Приложение №10
F3: к договору подряда №11051-ТСК23 от 11.05.2023
B5: ПОДРЯДЧИК: | C5: ЗАКАЗЧИК: | E5: ТЕХ. ЗАКАЗЧИК:
C6: ООО "ЭНКОСТРОЙ" | E6: ООО "ТЗ "ЭНКО"
C7: Генеральный директор | E7: Генеральный директор
B9: ______________/ | C9: _______________/ | E9: _________________/
A11: Сметный расчет №3
A12: "Комплекс многоэтажных жилых домов с нежилыми помещениями, Многоэтажный жилой дом с нежилыми помещениями ГП-72.211-213"
A13: Устройство системы автополива
A15: № | B15: Наименование | C15: Ед.изм. | D15: Кол-во | E15: Цена за ед.изм. | F15: Стоимость
A16: 1 | B16: Пусковой комплект микроорошения XCZ-100-PRF, 1" | C16: шт | D16: 24
A17: 2 | B17: Высокопроизводительный дисковый фильтр 1 1/2 НР" (130 мкм) | C17: шт | D17: 2
A18: 3 | B18: Капельный шланг без капельниц 16 мм, бухта 100 м, коричневый | C18: шт | D18: 8
A19: 4 | B19: Шланг капельного полива компенсированный 16 мм, шаг капельниц 33 см, расход 2,2 л/ч (бухта 100 м) коричневый | C19: шт | D19: 128
A20: 5 | B20: Штуцер XFF соединительный 17 мм-17мм | C20: шт | D20: 300
A21: 6 | B21: Штуцер XFF угловой 17 мм- 17 мм | C21: шт | D21: 450
A22: 7 | B22: Штуцер XFF тройник 17 мм- 17 мм- 17 мм | C22: шт | D22: 2500
A23: 8 | B23: Переходник XFF прямой 1/2" НР - 17 мм | C23: шт | D23: 50
A24: 9 | B24: Тройник XFF переходной 17 мм-1/2" НР- 17 мм | C24: шт | D24: 250
A25: 10 | B25: Стойка держатель для шланга 12-16 мм | C25: шт | D25: 11500
A26: 11 | B26: Концевая заглушка 700-CF-22 | C26: шт | D26: 70
A27: 12 | B27: Микрокапельница, 4 л/час, зеленая Irritec | C27: шт | D27: 160
... A47: 32 | B47: Датчик дождя RSD-Bex | C47: шт | D47: 1
A48: Фитинг компрессионный ПНД
A49: 33 | B49: Муфта НР 40X1" | C49: шт | D49: 15
A50: 34 | B50: Муфта ВР 32X1" | C50: шт | D50: 15
A51: 35 | B51: Муфта НР 40X1-1/4" переход с ПП на ПНД | C51: шт | D51: 2
A52: 36 | B52: Тройник 90° 25 | C52: шт | D52: 90
A53: 37 | B53: Тройник 90° 32 | C53: шт | D53: 40
A54: 38 | B54: Тройник 90° 40 | C54: шт | D54: 12
A55: 39 | B55: Отвод 90° 25 | C55: шт | D55: 160
A56: 40 | B56: Отвод 90° 32 | C56: шт | D56: 54
A57: 41 | B57: Отвод 90° 40 | C57: шт | D57: 22
A58: 42 | B58: Тройник 90° ВР 25X1/2" | C58: шт | D58: 98
A59: 43 | B59: Тройник 90° НР 25X1" | C59: шт | D59: 30
A60: 44 | B60: Тройник 90° ВР 25X1" | C60: шт | D60: 21
... A83: 67 | B83: Ключ для фитинга от 16 до 63 D | C83: шт | D83: 3
A84: Трубы ПНД и электрокабель
A85: 68 | B85: Электрокабель ВВГ 3х1,5 (1m) ГОСТ * | C85: м.п. | D85: 400
A86: 69 | B86: Электрокабель ВВГ 5х1,5 (1m) ГОСТ * | C86: м.п. | D86: 1700
...

Sheet ЛСР 12.07
K1: Приложение №
K2: к Договору подряда №
B4: СОГЛАСОВАНО: | E4: УТВЕРЖДЕНО: | H4: СОГЛАСОВАНО:
E6: Генеральный директор | H6: Генеральный директор
B7: ______________/ | E7: _________________/ | H7: _________________/
A10: Локальный сметный расчет №1
A12: № | B12: Наименование | C12: Марка/ Завод изготовитель | D12: Характеристика | E12: Ед. изм. | F12: Толщина слоя, м/ Площадь, м2 | G12: Норма расхода | H12: Кол. | I12: Цена за ед. | J12: Сумма | K12: Примечание | L12: Форма закупа материала
A13: 12. | B13: Благоустройство
A14: 12.07. | B14: Монтаж автоматического полива
A15: 12.07.01 | B15: Прокладка кабеля, трубы
A16: 12.07.01.00 | B16: Прокладка кабеля, трубы | J16: =J17+J25 -> 0
B17: Работа: | J17: =SUM(J18:J24) -> 0
B18: Прокладка кабеля тип 1 | E18: м | H18: =H26 -> 300 | I18: =VLOOKUP(B18,Работы!B4:I32,7,0) -> 0 | J18: =I18*H18 -> 0
B19: Прокладка кабеля тип 2 | E19: м | H19: =H27 -> 1200 | I19: =VLOOKUP(B19,Работы!B5:I33,7,0) -> 0 | J19: =I19*H19 -> 0
B20: Прокладка трубы тип 1 | E20: м | H20: =H28 -> 40 | I20: =VLOOKUP(B20,Работы!B6:I34,7,0) -> 0 | J20: =I20*H20 -> 0
B21: Прокладка трубы тип 2 | E21: м | H21: =H29 -> 1000 | I21: =VLOOKUP(B21,Работы!B7:I35,7,0) -> 0 | J21: =I21*H21 -> 0
B22: Прокладка трубы тип 3 | E22: м | H22: =H30 -> 1900 | I22: =VLOOKUP(B22,Работы!B8:I36,7,0) -> 0 | J22: =I22*H22 -> 0
B23: Прокладка трубы тип 4 | E23: м | H23: =H31 -> 2800 | I23: =VLOOKUP(B23,Работы!B9:I37,7,0) -> 0 | J23: =I23*H23 -> 0
B24: Алмазное бурение | D24: отверстий диам. до 110 мм | E24: шт | H24: 8 | I24: =VLOOKUP(B24,Работы!B10:I38,7,0) -> 0 | J24: =I24*H24 -> 0
B25: Материалы: | J25: =SUM(J26:J31) -> 0
B26: Электрокабель тип 1 | D26: ВВГ/ПВС 3х1 (1m) ГОСТ | E26: м | H26: 300 | I26: =VLOOKUP(B26,Материалы!B5:I125,7,0) -> 0 | J26: =I26*H26 -> 0
B27: Электрокабель тип 2 | D27: ВВГ/ПВС 5х1 (1m) ГОСТ | E27: м | H27: 1200 | I27: =VLOOKUP(B27,Материалы!B6:I126,7,0) -> 0 | J27: =I27*H27 -> 0
B28: Труба тип 1 | D28: 50 ПП * | E28: м | H28: 40 | I28: =VLOOKUP(B28,Материалы!B7:I127,7,0) -> 0 | J28: =I28*H28 -> 0
B29: Труба тип 2 | D29: 40 (1m) SDR 13,6 | E29: м | H29: 1000 | I29: =VLOOKUP(B29,Материалы!B8:I128,7,0) -> 0 | J29: =I29*H29 -> 0
B30: Труба тип 3 | D30: 32 (1m) SDR 13,6 | E30: м | H30: 1900 | I30: =VLOOKUP(B30,Материалы!B9:I129,7,0) -> 0 | J30: =I30*H30 -> 0
B31: Труба тип 4 | D31: 25 (1m) SDR 13,6 | E31: м | H31: 2800 | I31: =VLOOKUP(B31,Материалы!B10:I130,7,0) -> 0 | J31: =I31*H31 -> 0
A32: 12.07.02 | B32: Установка оборудования
A33: 12.07.02.00 | B33: Установка оборудования | J33: =J34+J36 -> 0
B34: Работа: | J34: =SUM(J35:J35) -> 0
B35: Установка оборудования | E35: Комплекс | H35: 1 | I35: =VLOOKUP(B35,Работы!B4:I32,7,0) -> 0 | J35: =I35*H35 -> 0
B36: Материалы: | J36: =SUM(J37:J81) -> 0
B37: Пусковой комплект микроорошения | D37: XCZ-100-PRF, 1" | E37: шт. | H37: 9 | I37: =VLOOKUP(B37,Материалы!B16:I136,7,0) -> 0 | J37: =H37*I37 -> 0
B38: Капельный шланг тип 1 | D38: без капельниц 16 мм, бухта 100 м, коричневый | E38: шт. | H38: 3 | I38: =VLOOKUP(B38,Материалы!B18:I138,7,0) -> 0 | J38: =H38*I38 -> 0
B39: Капельный шланг тип 2 | D39: Шланг капельного полива компенсированный PC 16мм, шаг капельниц 33 см, расход 2,2 л/ч (бухта 100 м) коричневый | E39: шт. | H39: 47 | I39: =VLOOKUP(B39,Материалы!B19:I139,7,0) -> 0 | J39: =H39*I39 -> 0
B40: Стойка держатель для шланга | D40: Стойка держатель для шланга 12-16 мм IG | E40: шт. | H40: 4700 | I40: =VLOOKUP(B40,Материалы!B20:I140,7,0) -> 0 | J40: =H40*I40 -> 0
B41: Дождеватель тип 1 | D41: Дождеватель 1804 | E41: шт. | H41: 284 | I41: =VLOOKUP(B41,Материалы!B22:I142,7,0) -> 0 | J41: =H41*I41 -> 0
B42: Дождеватель тип 2 | D42: Дождеватель 1806 | E42: шт. | H42: 30 | I42: =VLOOKUP(B42,Материалы!B23:I143,7,0) -> 0 | J42: =H42*I42 -> 0
B43: Дождеватель тип 3 | D43: Дождеватель 1812 | E43: шт. | H43: 30 | I43: =VLOOKUP(B43,Материалы!B24:I144,7,0) -> 0 | J43: =H43*I43 -> 0
B44: Сверхгибкая ПЭ труба для отводов | D44: RU-FLEX (30 м) | E44: шт. | H44: 7 | I44: =VLOOKUP(B44,Материалы!B25:I145,7,0) -> 0 | J44: =H44*I44 -> 0
B45: Клапан электромагнитный | D45: 100-HVF 1" ВР с регуляцией потока | E45: шт. | H45: 17 | I45: =VLOOKUP(B45,Материалы!B26:I146,7,0) -> 0 | J45: =H45*I45 -> 0
...

Sheet Работы
A1: Ведомость объема работ
B2: Объект: «Жилой район «Преображенский» в г. Тюмени. Квартал 7. Участок 72:17:1313004:1019. Многоэтажный жилой дом с нежилыми помещениями ГП-72.211, ГП-72.212, ГП-72.213»
A4: № | B4: Наименование | C4: Марка/ Завод изготовитель | D4: Характеристика | E4: Ед. изм. | F4: Норма расхода | G4: Кол. | H4: Цена за ед. | I4: Сумма | J4: Примечание | K4: Форма закупа материала
A5: 12. | B5: Благоустройство
A6: 12.07. | B6: Монтаж автоматического полива
A7: 12.07.01 | B7: Прокладка кабеля, трубы
A8: 12.07.01.00 | B8: Прокладка кабеля, трубы | I8: =SUM(I9:I15) -> 0
B9: Прокладка кабеля тип 1 | E9: м | I9: =H9*G9 -> 0
B10: Прокладка кабеля тип 2 | E10: м | I10: =H10*G10 -> 0
B11: Прокладка трубы тип 1 | E11: м | I11: =H11*G11 -> 0
B12: Прокладка трубы тип 2 | E12: м | I12: =H12*G12 -> 0
B13: Прокладка трубы тип 3 | E13: м | I13: =H13*G13 -> 0
B14: Прокладка трубы тип 4 | E14: м | I14: =H14*G14 -> 0
B15: Алмазное бурение | D15: отверстий диам. до 110 мм | E15: шт | I15: =H15*G15 -> 0
A16: 12.07.02 | B16: Установка оборудования
A17: 12.07.02.00 | B17: Установка оборудования | I17: =SUM(I18) -> 0
B18: Установка оборудования | E18: Комплекс | I18: =H18*G18 -> 0
A19: 12.07.03 | B19: Оборудование водоподготовки
A20: 12.07.03.00 | B20: Оборудование водоподготовки | I20: =SUM(I21:I23) -> 0
B21: Врезка в магистральный трубопровод | E21: комплекс | I21: =H21*G21 -> 0
B22: Система защиты от протечек | E22: комплекс | I22: =H22*G22 -> 0
B23: Монтаж оборудования водоподготовки | E23: комплекс | I23: =H23*G23 -> 0
A24: 12.07.04 | B24: ПНР
A25: 12.07.04.00 | B25: ПНР | I25: =SUM(I26) -> 0
B26: Пусконаладочные работы | E26: комплекс | I26: =H26*G26 -> 0
A27: 12.07.99 | B27: Прочие работы
A28: 12.07.99.00 | B28: Прочие работы
B29: Работа: | I29: =I30+I31 -> 0
B30: Консервация | E30: комплекс | I30: =H30*G30 -> 0
B31: Расконсервация | E31: комплекс | I31: =H31*G31 -> 0
H32: ИТОГО стоимость работ | I32: =I20+I17+I8+I25+I29 -> 0
A33: ПРИМЕЧАНИЕ: | I33: =I32='[1]ЛСР 12.07'!I152 -> TRUE
A34: 1. В стоимость строительно-монтажных работ входит стоимость по получению акта на проверку пожарного водопровода на водоотдачу
A35: *Стоимость строительно-монтажных работ (СМР) учитывает прямые затраты, накладные расходы, сметную прибыль,затраты на все второстепенные, сопутсвующие (расходные) материалы и работы необходимые для осуществления полного комплекса работ, включая затраты: на мобилизацию, аренду и эксплуатацию всех необходимых механизмов, оборудования и инструментов, бытовых помещений и биотуалетов; выполнение сопутствующих работ; вывоз мусора; налоги и иные издержки Подрядчика.
A36: **Стоимость материалов учитывает стоимость доставки до объекта строительства

Sheet Материалы
A5: № | B5: Наименование | C5: Марка/ Завод изготовитель | D5: Характеристика | E5: Ед. изм. | F5: Норма расхода | G5: Кол. | H5: Цена за ед. | I5: Сумма | J5: Примечание | K5: Форма закупа материала
A6: 12. | B6: Благоустройство
A7: 12.07. | B7: Монтаж автоматического полива
A8: 12.07.01 | B8: Прокладка кабеля, трубы
A9: 12.07.01.00 | B9: Прокладка кабеля, трубы
B10: Материалы: | I10: =SUM(I11:I16) -> 0
B11: Электрокабель тип 1 | D11: ВВГ/ПВС 3х1 (1m) ГОСТ | E11: м | I11: =H11*G11 -> 0
B12: Электрокабель тип 2 | D12: ВВГ/ПВС 5х1 (1m) ГОСТ | E12: м | I12: =H12*G12 -> 0
B13: Труба тип 1 | D13: 50 ПП * | E13: м | I13: =H13*G13 -> 0
B14: Труба тип 2 | D14: 40 (1m) SDR 13,6 | E14: м | I14: =H14*G14 -> 0
B15: Труба тип 3 | D15: 32 (1m) SDR 13,6 | E15: м | I15: =H15*G15 -> 0
B16: Труба тип 4 | D16: 25 (1m) SDR 13,6 | E16: м | I16: =H16*G16 -> 0
A17: 12.07.02 | B17: Установка оборудования
A18: 12.07.02.00 | B18: Установка оборудования
B19: Материалы: | I19: =SUM(I20:I65) -> 0
B20: Пусковой комплект микроорошения | D20: XCZ-100-PRF, 1" | E20: шт. | I20: =G20*H20 -> 0
B21: Высокопроизводительный дисковый фильтр | D21: 1 1/2 НР" (130 мкм) | E21: шт. | I21: =G21*H21 -> 0
B22: Капельный шланг тип 1 | D22: без капельниц 16 мм, бухта 100 м, коричневый | E22: шт. | I22: =G22*H22 -> 0
B23: Капельный шланг тип 2 | D23: Шланг капельного полива компенсированный PC 16мм, шаг капельниц 33 см, расход 2,2 л/ч (бухта 100 м) коричневый | E23: шт. | I23: =G23*H23 -> 0
B24: Стойка держатель для шланга | D24: Стойка держатель для шланга 12-16 мм IG | E24: шт. | I24: =G24*H24 -> 0
B25: Распылитель | E25: шт. | I25: =G25*H25 -> 0
B26: Дождеватель тип 1 | D26: Дождеватель 1804 | E26: шт. | I26: =G26*H26 -> 0
B27: Дождеватель тип 2 | D27: Дождеватель 1806 | E27: шт. | I27: =G27*H27 -> 0
B28: Дождеватель тип 3 | D28: Дождеватель 1812 | E28: шт. | I28: =G28*H28 -> 0
B29: Сверхгибкая ПЭ труба для отводов | D29: RU-FLEX (30 м) | E29: шт. | I29: =G29*H29 -> 0
B30: Клапан электромагнитный | D30: 100-HVF 1" ВР с регуляцией потока | E30: шт. | I30: =G30*H30 -> 0
B31: Тройник для э/м клапанов | D31: MTT-100 (1"HP/1"HP/1"BP) | E31: шт. | I31: =G31*H31 -> 0
B32: Коннектор быстрого соединения | D32: SCOTCHLOK 314 | E32: шт. | I32: =G32*H32 -> 0
B33: Бокс со встроенным краном | E33: шт. | I33: =G33*H33 -> 0
B34: Бокс клапанный двухместный | E34: шт. | I34: =G34*H34 -> 0
B35: Бокс клапанный трехместный | E35: шт. | I35: =G35*H35 -> 0
B36: Контроллер | E36: шт. | I36: =G36*H36 -> 0
B37: Модуль расширения | E37: шт. | I37: =G37*H37 -> 0
B38: Микрокапельница тип 1 | E38: шт. | I38: =G38*H38 -> 0
B39: Микрокапельница тип 2 | E39: шт. | I39: =G39*H39 -> 0
B40: Короб тип 1 | D40: со встроенным метал. краном с наружной резьбой 3/4" | E40: шт. | I40: =G40*H40 -> 0
B41: Короб тип 2 | D41: LARGE JUNIOR Юниор | E41: шт. | I41: =G41*H41 -> 0
B42: Короб тип 3 | D42: STANDART Стандарт Ключ | E42: шт. | I42: =G42*H42 -> 0
B43: Контроллер | D43: Hunter I2C-800-PL \ серия ICC2 | E43: шт. | I43: =G43*H43 -> 0
B44: Модуль расширения | D44: Hunter ICM-2200 - на 22 станции | E44: шт. | I44: =G44*H44 -> 0
...
