Workbook

Sheet ЛСР
K1: Приложение №
K2: к Договору подряда №
B3: ПОДРЯДЧИК: | D3: ЗАКАЗЧИК: | I3: ТЕХНИЧЕСКИЙ ЗАКАЗЧИК:
D4: ООО "ЭНКО СТРОЙ" | I4: ООО "Технический заказчик "ЭНКО"
D6: ___________/С.И. Ярков | I6: ___________/С.И. Ярков
D8: Локальный сметный расчет №
D9: Устройство системы ПС и СОУЭ. ГП-215
A11: № | B11: Наименование | C11: Марка | D11: Характеристика | E11: Ед. изм. | F11: Секция 1 | G11: Кол-во | H11: Цена | I11: Сумма | J11: Примечание | K11: Форма закупа материала
A12: 11 | B12: Внутренние инженерные сети
A13: 11.10. | B13: Система пожарной сигнализации и система оповещения и управления эвакуацией людей при пожаре
A14: 11.10.01 | B14: Прокладка КПП, трубы
A15: 11.10.01.00 | B15: Прокладка КПП, трубы | I15: =I16+I20 -> 0
B16: Работа: | I16: =SUM(I17:I19) -> 0
B17: Прокладка КПП | E17: м | F17: =SUM(F21:F26) -> 13900 | G17: =SUM(F17:F17) -> 13900 | H17: =VLOOKUP(B17,СМР!$B$3:$F$7,5,0) -> 0 | I17: =H17*G17 -> 0
B18: Прокладка металлорукава | E18: м | F18: =F27 -> 650 | G18: =SUM(F18:F18) -> 650 | H18: =VLOOKUP(B18,СМР!$B$3:$F$7,5,0) -> 0 | I18: =H18*G18 -> 0
B19: Прокладка трубы | E19: м | F19: =SUM(F28:F31) -> 6812 | G19: =SUM(F19:F19) -> 6812 | H19: =VLOOKUP(B19,СМР!$B$3:$F$7,5,0) -> 0 | I19: =H19*G19 -> 0
B20: Материалы: | I20: =SUM(I21:I32) -> 0
B21: Кабель тип 1 | C21: КПСнг(А)-FRLS | D21: симметричной парной скрутки, сеч. 1х2х0,5 мм2 | E21: м | F21: 8900 | G21: =SUM(F21:F21) -> 8900 | H21: =VLOOKUP(B21,ТМЦ!$B$3:$J$68,6,0) -> 0 | I21: =H21*G21 -> 0 | K21: =VLOOKUP(B21,ТМЦ!$B$3:$J$68,9,0) -> 0
B22: Кабель тип 2 | C22: КПСнг(А)-FRLS | D22: симметричной парной скрутки, сеч. 1х2х1,5 мм2 | E22: м | F22: 3200 | G22: =SUM(F22:F22) -> 3200 | H22: =VLOOKUP(B22,ТМЦ!$B$3:$J$68,6,0) -> 0 | I22: =H22*G22 -> 0 | K22: =VLOOKUP(B22,ТМЦ!$B$3:$J$68,9,0) -> 0
B23: Кабель тип 3 | C23: КПСнг(А)-FRLS | D23: симметричной парной скрутки, сеч. 2х2х0,2 мм2 | E23: м | F23: 250 | G23: =SUM(F23:F23) -> 250 | H23: =VLOOKUP(B23,ТМЦ!$B$3:$J$68,6,0) -> 0 | I23: =H23*G23 -> 0 | K23: =VLOOKUP(B23,ТМЦ!$B$3:$J$68,9,0) -> 0
B24: Кабель тип 4 | C24: ВВГнг(А)-FRLS | D24: Кабель огнестойкий силовой, сеч. 5x1,5 мм2 | E24: м | F24: 90 | G24: =SUM(F24:F24) -> 90 | H24: =VLOOKUP(B24,ТМЦ!$B$3:$J$68,6,0) -> 0 | I24: =H24*G24 -> 0 | K24: =VLOOKUP(B24,ТМЦ!$B$3:$J$68,9,0) -> 0
B25: Кабель тип 5 | C25: ВВГнг(А)-FRLS | D25: огнестойкий силовой, сеч. 3x1,5 мм2 | E25: м | F25: 650 | G25: =SUM(F25:F25) -> 650 | H25: =VLOOKUP(B25,ТМЦ!$B$3:$J$68,6,0) -> 0 | I25: =H25*G25 -> 0 | K25: =VLOOKUP(B25,ТМЦ!$B$3:$J$68,9,0) -> 0
B26: Кабель тип 6 | C26: КПСнг(А)-FRLS | D26: симметричной парной скрутки, сеч. 2х2х0,5 мм2 | E26: м | F26: 810 | G26: =SUM(F26:F26) -> 810 | H26: =VLOOKUP(B26,ТМЦ!$B$3:$J$68,6,0) -> 0 | I26: =H26*G26 -> 0 | K26: =VLOOKUP(B26,ТМЦ!$B$3:$J$68,9,0) -> 0
B27: Металлорукав | D27: в ПВХ изоляции МРПИ НГ д20 морозостойкий черный, УХЛ1 | E27: м | F27: 650 | G27: =SUM(F27:F27) -> 650 | H27: =VLOOKUP(B27,ТМЦ!$B$3:$J$68,6,0) -> 0 | I27: =H27*G27 -> 0 | K27: =VLOOKUP(B27,ТМЦ!$B$3:$J$68,9,0) -> 0
B28: Труба тип 1 | D28: гофрированная самозатухающая ТГТ СЗ Ø 16 мм с зондом | E28: м | F28: 6200 | G28: =SUM(F28:F28) -> 6200 | H28: =VLOOKUP(B28,ТМЦ!$B$3:$J$68,6,0) -> 0 | I28: =H28*G28 -> 0 | K28: =VLOOKUP(B28,ТМЦ!$B$3:$J$68,9,0) -> 0
B29: Труба тип 2 | D29: гофрированная самозатухающая ТГТ СЗ Ø 25 мм с зондом | E29: м | F29: 480 | G29: =SUM(F29:F29) -> 480 | H29: =VLOOKUP(B29,ТМЦ!$B$3:$J$68,6,0) -> 0 | I29: =H29*G29 -> 0 | K29: =VLOOKUP(B29,ТМЦ!$B$3:$J$68,9,0) -> 0
B30: Труба тип 3 | D30: жесткая ПВХ д50 CTR10-063-K41-015I | E30: м | F30: 120 | G30: =SUM(F30:F30) -> 120 | H30: =VLOOKUP(B30,ТМЦ!$B$3:$J$68,6,0) -> 0 | I30: =H30*G30 -> 0 | K30: =VLOOKUP(B30,ТМЦ!$B$3:$J$68,9,0) -> 0
B31: Труба тип 4 | D31: Труба электросварная 76х3,5 | E31: м | F31: =F30*0.1 -> 12 | G31: =SUM(F31:F31) -> 12 | H31: =VLOOKUP(B31,ТМЦ!$B$3:$J$68,6,0) -> 0 | I31: =H31*G31 -> 0 | K31: =VLOOKUP(B31,ТМЦ!$B$3:$J$68,9,0) -> 0
B32: Прочие материалы (Кабель-канал 100х60, Наконечник кольцевой НКИ 5,5-6, Коробка распределительная 80х80х40, Коробка распределительная огнестойкая, Хомут трубный в комплекте, 1 1/2", 47-51 мм) | E32: % | G32: =I32*100/I16 -> #DIV/0! | I32: =SUM(I33:I39) -> 0
B33: Кабель-канал 100х60 | D33: CKK10-100-060-1-K01 | E33: м | F33: 20 | G33: =SUM(F33:F33) -> 20 | H33: =VLOOKUP(B33,ТМЦ!$B$3:$J$68,6,0) -> 0 | I33: =H33*G33 -> 0
B34: Монтажная пена Технониколь 240 PROFESSIONAL, огнестойкая, TN528380 | E34: шт | F34: =(F30/3)*0.1 -> 4 | G34: =SUM(F34:F34) -> 4 | H34: =VLOOKUP(B34,ТМЦ!$B$3:$J$68,6,0) -> 0 | I34: =H34*G34 -> 0
B35: Огнезащитный силиконовый герметик Огнетитан SN однокомпонентный, серый 310 мл ТУ 2513-004-03495485-2016 БП-00000536 | E35: шт | F35: =F34 -> 4 | G35: =SUM(F35:F35) -> 4 | H35: =VLOOKUP(B35,ТМЦ!$B$3:$J$68,6,0) -> 0 | I35: =H35*G35 -> 0
B36: Коробка распределительная огнестойкая | D36: КМ-О (4к)-IP41 | E36: шт | F36: 20 | G36: =SUM(F36:F36) -> 20 | H36: =VLOOKUP(B36,ТМЦ!$B$3:$J$68,6,0) -> 0 | I36: =H36*G36 -> 0
B37: Коробка распределительная 80х80х40 | C37: DKC | D37: 53700 | E37: шт | F37: 160 | G37: =SUM(F37:F37) -> 160 | H37: =VLOOKUP(B37,ТМЦ!$B$3:$J$68,6,0) -> 0 | I37: =H37*G37 -> 0
B38: Коробка распределительная огнестойкая | D38: КМ-О (8к)-IP41 | E38: шт | F38: 50 | G38: =SUM(F38:F38) -> 50 | H38: =VLOOKUP(B38,ТМЦ!$B$3:$J$68,6,0) -> 0 | I38: =H38*G38 -> 0
B39: Хомут трубный в комплекте, 1 1/2", 47-51 мм | D39: 47-51 мм | E39: шт | F39: =F30/3*2 -> 80 | G39: =SUM(F39:F39) -> 80 | H39: =VLOOKUP(B39,ТМЦ!$B$3:$J$68,6,0) -> 0 | I39: =H39*G39 -> 0
A40: 11.10.02. | B40: Установка оборудования
A41: 11.10.02.00 | B41: Установка оборудования | I41: =I42+I44 -> 0
B42: Работа: | I42: =SUM(I43:I43) -> 0
B43: Монтажные работы | E43: комплекс | F43: 1 | G43: =SUM(F43:F43) -> 1 | H43: =VLOOKUP(B43,СМР!$B$3:$F$7,5,0) -> 0 | I43: =H43*G43 -> 0
...

Sheet СМР
A1: Ведомость объемов работ
A2: № п/п | B2: Наименование | C2: Характеристика | D2: Ед. изм. | E2: Кол-во | F2: Цена | G2: Сумма | H2: Примечание
A3: =ROW()-2 -> 1 | B3: Прокладка КПП | D3: м | E3: =SUMIF(ЛСР!$B$12:$B$98,СМР!B3,ЛСР!$F$12:$F$98) -> 13900 | G3: =F3*E3 -> 0
A4: =ROW()-2 -> 2 | B4: Прокладка металлорукава | D4: м | E4: =SUMIF(ЛСР!$B$12:$B$98,СМР!B4,ЛСР!$F$12:$F$98) -> 650 | G4: =F4*E4 -> 0
A5: =ROW()-2 -> 3 | B5: Прокладка трубы | D5: м | E5: =SUMIF(ЛСР!$B$12:$B$98,СМР!B5,ЛСР!$F$12:$F$98) -> 6812 | G5: =F5*E5 -> 0
A6: =ROW()-2 -> 4 | B6: Монтажные работы | D6: комплекс | E6: =SUMIF(ЛСР!$B$12:$B$98,СМР!B6,ЛСР!$F$12:$F$98) -> 1 | G6: =F6*E6 -> 0
A7: =ROW()-2 -> 5 | B7: Пусконаладочные работы | D7: комплекс | E7: =SUMIF(ЛСР!$B$12:$B$98,СМР!B7,ЛСР!$F$12:$F$98) -> 1 | G7: =F7*E7 -> 0
F8: ИТОГО: | G8: =SUM(G3:G7) -> 0
F9: проверка: | G9: =G8-ЛСР!I100 -> 0
B11: Примечание:
A12: - | B12: В случае, если один из перечисленных прочих материалов не был использован по факту при производстве работ, заказчик вправе откорректировать процент расходных материалов в актах выполненных работ (формы КС-2, КС-3), уменьшив на сумму исключенного материала.
A13: - | B13: Стоимость СМР учитывает - затраты на все второстепенные материалы и работы необходимые для осуществления полного комплекса работ, включая затраты: обеспечение технической водой для производства работ и бытовых целей; на мобилизацию, аренду и эксплуатацию всех необходимых механизмов, оборудования и инструментов, бытовых помещений и биотуалетов; на подъем материалов и разноску по этажам к местам производства работ; выполнение сопутствующих работ; вывоз мусора; накладные расходы, прибыль организации, налоги и иные издержки Подрядчика. Обеспечение безопасного производства работ на участке.
A14: - | B14: Стоимость материалов учитывает стоимость доставки.

Sheet ТМЦ
A1: Спецификация материалов
A2: № п/п | B2: Наименование | C2: Марка | D2: Характеристика | E2: Ед. изм. | F2: Кол-во | G2: Цена | H2: Сумма | I2: Примечание | J2: Форма закупа материала
A3: =ROW()-2 -> 1 | B3: Кабель тип 1 | C3: КПСнг(А)-FRLS | D3: симметричной парной скрутки, сеч. 1х2х0,5 мм2 | E3: м | F3: =SUMIF(ЛСР!$B$12:$B$98,B3,ЛСР!$F$12:$F$98) -> 8900 | H3: =G3*F3 -> 0 | I3: =VLOOKUP(B3,ЛСР!$B$12:$J$98,9,0) -> 0
A4: =ROW()-2 -> 2 | B4: Кабель тип 2 | C4: КПСнг(А)-FRLS | D4: симметричной парной скрутки, сеч. 1х2х1,5 мм2 | E4: м | F4: =SUMIF(ЛСР!$B$12:$B$98,B4,ЛСР!$F$12:$F$98) -> 3200 | H4: =G4*F4 -> 0 | I4: =VLOOKUP(B4,ЛСР!$B$12:$J$98,9,0) -> 0
A5: =ROW()-2 -> 3 | B5: Кабель тип 3 | C5: КПСнг(А)-FRLS | D5: симметричной парной скрутки, сеч. 2х2х0,2 мм2 | E5: м | F5: =SUMIF(ЛСР!$B$12:$B$98,B5,ЛСР!$F$12:$F$98) -> 250 | H5: =G5*F5 -> 0 | I5: =VLOOKUP(B5,ЛСР!$B$12:$J$98,9,0) -> 0
A6: =ROW()-2 -> 4 | B6: Кабель тип 4 | C6: ВВГнг(А)-FRLS | D6: Кабель огнестойкий силовой, сеч. 5x1,5 мм2 | E6: м | F6: =SUMIF(ЛСР!$B$12:$B$98,B6,ЛСР!$F$12:$F$98) -> 90 | H6: =G6*F6 -> 0 | I6: =VLOOKUP(B6,ЛСР!$B$12:$J$98,9,0) -> 0
A7: =ROW()-2 -> 5 | B7: Кабель тип 5 | C7: ВВГнг(А)-FRLS | D7: огнестойкий силовой, сеч. 3x1,5 мм2 | E7: м | F7: =SUMIF(ЛСР!$B$12:$B$98,B7,ЛСР!$F$12:$F$98) -> 650 | H7: =G7*F7 -> 0 | I7: =VLOOKUP(B7,ЛСР!$B$12:$J$98,9,0) -> 0
A8: =ROW()-2 -> 6 | B8: Кабель тип 6 | C8: КПСнг(А)-FRLS | D8: симметричной парной скрутки, сеч. 2х2х0,5 мм2 | E8: м | F8: =SUMIF(ЛСР!$B$12:$B$98,B8,ЛСР!$F$12:$F$98) -> 810 | H8: =G8*F8 -> 0 | I8: =VLOOKUP(B8,ЛСР!$B$12:$J$98,9,0) -> 0
A9: =ROW()-2 -> 7 | B9: Металлорукав | D9: в ПВХ изоляции МРПИ НГ д20 морозостойкий черный, УХЛ1 | E9: м | F9: =SUMIF(ЛСР!$B$12:$B$98,B9,ЛСР!$F$12:$F$98) -> 650 | H9: =G9*F9 -> 0 | I9: =VLOOKUP(B9,ЛСР!$B$12:$J$98,9,0) -> 0
A10: =ROW()-2 -> 8 | B10: Труба тип 1 | D10: гофрированная самозатухающая ТГТ СЗ Ø 16 мм с зондом | E10: м | F10: =SUMIF(ЛСР!$B$12:$B$98,B10,ЛСР!$F$12:$F$98) -> 6200 | H10: =G10*F10 -> 0 | I10: =VLOOKUP(B10,ЛСР!$B$12:$J$98,9,0) -> 0
A11: =ROW()-2 -> 9 | B11: Труба тип 2 | D11: гофрированная самозатухающая ТГТ СЗ Ø 25 мм с зондом | E11: м | F11: =SUMIF(ЛСР!$B$12:$B$98,B11,ЛСР!$F$12:$F$98) -> 480 | H11: =G11*F11 -> 0 | I11: =VLOOKUP(B11,ЛСР!$B$12:$J$98,9,0) -> 0
A12: =ROW()-2 -> 10 | B12: Труба тип 3 | D12: жесткая ПВХ д50 CTR10-063-K41-015I | E12: м | F12: =SUMIF(ЛСР!$B$12:$B$98,B12,ЛСР!$F$12:$F$98) -> 120 | H12: =G12*F12 -> 0 | I12: =VLOOKUP(B12,ЛСР!$B$12:$J$98,9,0) -> 0
A13: =ROW()-2 -> 11 | B13: Труба тип 4 | D13: Труба электросварная 76х3,5 | E13: м | F13: =SUMIF(ЛСР!$B$12:$B$98,B13,ЛСР!$F$12:$F$98) -> 12 | H13: =G13*F13 -> 0 | I13: =VLOOKUP(B13,ЛСР!$B$12:$J$98,9,0) -> 0
A14: =ROW()-2 -> 12 | B14: Кабель-канал 100х60 | D14: CKK10-100-060-1-K01 | E14: м | F14: =SUMIF(ЛСР!$B$12:$B$98,B14,ЛСР!$F$12:$F$98) -> 20 | H14: =G14*F14 -> 0 | I14: =VLOOKUP(B14,ЛСР!$B$12:$J$98,9,0) -> 0
A15: =ROW()-2 -> 13 | B15: Монтажная пена Технониколь 240 PROFESSIONAL, огнестойкая, TN528380 | E15: шт | F15: =SUMIF(ЛСР!$B$12:$B$98,B15,ЛСР!$F$12:$F$98) -> 4 | H15: =G15*F15 -> 0 | I15: =VLOOKUP(B15,ЛСР!$B$12:$J$98,9,0) -> 0
A16: =ROW()-2 -> 14 | B16: Огнезащитный силиконовый герметик Огнетитан SN однокомпонентный, серый 310 мл ТУ 2513-004-03495485-2016 БП-00000536 | E16: шт | F16: =SUMIF(ЛСР!$B$12:$B$98,B16,ЛСР!$F$12:$F$98) -> 4 | H16: =G16*F16 -> 0 | I16: =VLOOKUP(B16,ЛСР!$B$12:$J$98,9,0) -> 0
A17: =ROW()-2 -> 15 | B17: Коробка распределительная огнестойкая | D17: КМ-О (4к)-IP41 | E17: шт | F17: =SUMIF(ЛСР!$B$12:$B$98,B17,ЛСР!$F$12:$F$98) -> 20 | H17: =G17*F17 -> 0 | I17: =VLOOKUP(B17,ЛСР!$B$12:$J$98,9,0) -> 0
A18: =ROW()-2 -> 16 | B18: Коробка распределительная 80х80х40 | C18: DKC | D18: 53700 | E18: шт | F18: =SUMIF(ЛСР!$B$12:$B$98,B18,ЛСР!$F$12:$F$98) -> 160 | H18: =G18*F18 -> 0 | I18: =VLOOKUP(B18,ЛСР!$B$12:$J$98,9,0) -> 0
A19: =ROW()-2 -> 17 | B19: Коробка распределительная огнестойкая | D19: КМ-О (8к)-IP41 | E19: шт | F19: =SUMIF(ЛСР!$B$12:$B$98,B19,ЛСР!$F$12:$F$98) -> 50 | H19: =G19*F19 -> 0 | I19: =VLOOKUP(B19,ЛСР!$B$12:$J$98,9,0) -> 0
A20: =ROW()-2 -> 18 | B20: Хомут трубный в комплекте, 1 1/2", 47-51 мм | D20: 47-51 мм | E20: шт | F20: =SUMIF(ЛСР!$B$12:$B$98,B20,ЛСР!$F$12:$F$98) -> 80 | H20: =G20*F20 -> 0 | I20: =VLOOKUP(B20,ЛСР!$B$12:$J$98,9,0) -> 0
A21: =ROW()-2 -> 19 | B21: Прибор приемно-контрольный и управления охранно-пожарный адресный | D21: R3-Рубеж-2ОП | E21: шт | F21: =SUMIF(ЛСР!$B$12:$B$98,B21,ЛСР!$F$12:$F$98) -> 5 | H21: =G21*F21 -> 0 | I21: =VLOOKUP(B21,ЛСР!$B$12:$J$98,9,0) -> 0
A22: =ROW()-2 -> 20 | B22: Прибор приемно-контрольный и управления охранно-пожарный адресный | D22: АМП-4-R3 | E22: шт | F22: =SUMIF(ЛСР!$B$12:$B$98,B22,ЛСР!$F$12:$F$98) -> 4 | H22: =G22*F22 -> 0 | I22: =VLOOKUP(B22,ЛСР!$B$12:$J$98,9,0) -> Встроенные помещения
A23: =ROW()-2 -> 21 | B23: Блок индикации и управления | D23: R3-Рубеж-БИУ | E23: шт | F23: =SUMIF(ЛСР!$B$12:$B$98,B23,ЛСР!$F$12:$F$98) -> 1 | H23: =G23*F23 -> 0 | I23: =VLOOKUP(B23,ЛСР!$B$12:$J$98,9,0) -> 0
A24: =ROW()-2 -> 22 | B24: Модуль связи | D24: R3-МС | E24: шт | F24: =SUMIF(ЛСР!$B$12:$B$98,B24,ЛСР!$F$12:$F$98) -> 1 | H24: =G24*F24 -> 0 | I24: =VLOOKUP(B24,ЛСР!$B$12:$J$98,9,0) -> 0
A25: =ROW()-2 -> 23 | B25: Модуль сопряжения | D25: R3-МС-E | E25: шт | F25: =SUMIF(ЛСР!$B$12:$B$98,B25,ЛСР!$F$12:$F$98) -> 1 | H25: =G25*F25 -> 0 | I25: =VLOOKUP(B25,ЛСР!$B$12:$J$98,9,0) -> 0
A26: =ROW()-2 -> 24 | B26: Настенный громкоговоритель | C26: Sonar | D26: SW-06-03 | E26: шт | F26: =SUMIF(ЛСР!$B$12:$B$98,B26,ЛСР!$F$12:$F$98) -> 99 | H26: =G26*F26 -> 0 | I26: =VLOOKUP(B26,ЛСР!$B$12:$J$98,9,0) -> 0
A27: =ROW()-2 -> 25 | B27: Фильтр оконечный для трансляционной линии | C27: Sonar | D27: SFT-2300-M | E27: шт | F27: =SUMIF(ЛСР!$B$12:$B$98,B27,ЛСР!$F$12:$F$98) -> 4 | H27: =G27*F27 -> 0 | I27: =VLOOKUP(B27,ЛСР!$B$12:$J$98,9,0) -> 0
A28: =ROW()-2 -> 26 | B28: Источник вторичного электропитания тип 1 | D28: ИВЭПР 12/3,5 RS-R3 исп. 2x12 БР | E28: шт | F28: =SUMIF(ЛСР!$B$12:$B$98,B28,ЛСР!$F$12:$F$98) -> 1 | H28: =G28*F28 -> 0 | I28: =VLOOKUP(B28,ЛСР!$B$12:$J$98,9,0) -> 0
A29: =ROW()-2 -> 27 | B29: Источник вторичного электропитания тип 2 | D29: ИВЭПР 12/5 RS-R3 исп. 2x40 БР | E29: шт | F29: =SUMIF(ЛСР!$B$12:$B$98,B29,ЛСР!$F$12:$F$98) -> 1 | H29: =G29*F29 -> 0 | I29: =VLOOKUP(B29,ЛСР!$B$12:$J$98,9,0) -> 0
A30: =ROW()-2 -> 28 | B30: Источник вторичного электропитания тип 3 | D30: ИВЭПР 12/2 RS-R3 исп. 2x7 БР | E30: шт | F30: =SUMIF(ЛСР!$B$12:$B$98,B30,ЛСР!$F$12:$F$98) -> 3 | H30: =G30*F30 -> 0 | I30: =VLOOKUP(B30,ЛСР!$B$12:$J$98,9,0) -> 0
A31: =ROW()-2 -> 29 | B31: Источник вторичного электропитания тип 4 | D31: РИП-12 исп.20 (РИП-12-1/7М2-Р) | E31: шт | F31: =SUMIF(ЛСР!$B$12:$B$98,B31,ЛСР!$F$12:$F$98) -> 4 | H31: =G31*F31 -> 0 | I31: =VLOOKUP(B31,ЛСР!$B$12:$J$98,9,0) -> Встроенные помещения
A32: =ROW()-2 -> 30 | B32: Прибор управления средствами оповещения пожарный | C32: Sonar | D32: "Sonar SPM-B20050-AW" | E32: шт | F32: =SUMIF(ЛСР!$B$12:$B$98,B32,ЛСР!$F$12:$F$98) -> 1 | H32: =G32*F32 -> 0 | I32: =VLOOKUP(B32,ЛСР!$B$12:$J$98,9,0) -> 0
A33: =ROW()-2 -> 31 | B33: Бокс под 2 АКБ 12В 40Ач | C33: Sonar | D33: Sonar "SPM-Bох" | E33: шт | F33: =SUMIF(ЛСР!$B$12:$B$98,B33,ЛСР!$F$12:$F$98) -> 2 | H33: =G33*F33 -> 0 | I33: =VLOOKUP(B33,ЛСР!$B$12:$J$98,9,0) -> 0
A34: =ROW()-2 -> 32 | B34: Кожух для моноблоков серии SPM настенного исполнения | C34: Sonar | D34: кожух | E34: шт | F34: =SUMIF(ЛСР!$B$12:$B$98,B34,ЛСР!$F$12:$F$98) -> 1 | H34: =G34*F34 -> 0 | I34: =VLOOKUP(B34,ЛСР!$B$12:$J$98,9,0) -> 0
A35: =ROW()-2 -> 33 | B35: Извещатель тип 1 | D35: пожарный дымовой оптико-электронный адресно-аналоговый ИП 212-64-R3 IP40 (новый корпус) | E35: шт | F35: =SUMIF(ЛСР!$B$12:$B$98,B35,ЛСР!$F$12:$F$98) -> 786 | H35: =G35*F35 -> 0 | I35: =VLOOKUP(B35,ЛСР!$B$12:$J$98,9,0) -> 0
A36: =ROW()-2 -> 34 | B36: Извещатель тип 2 | D36: пожарный ручной адресный с встроенным изолятором короткого замыкания ИПР 513-11 ИКЗ-А-R3 | E36: шт | F36: =SUMIF(ЛСР!$B$12:$B$98,B36,ЛСР!$F$12:$F$98) -> 61 | H36: =G36*F36 -> 0 | I36: =VLOOKUP(B36,ЛСР!$B$12:$J$98,9,0) -> 0
A37: =ROW()-2 -> 35 | B37: Извещатель тип 3 | D37: пожарный автономный ИП 212-50М2 | E37: шт | F37: =SUMIF(ЛСР!$B$12:$B$98,B37,ЛСР!$F$12:$F$98) -> 616 | H37: =G37*F37 -> 0 | I37: =VLOOKUP(B37,ЛСР!$B$12:$J$98,9,0) -> 0
A38: =ROW()-2 -> 36 | B38: Извещатель тип 4 | D38: охранный точечный магнитоконтактный ИО 102-26 | E38: шт | F38: =SUMIF(ЛСР!$B$12:$B$98,B38,ЛСР!$F$12:$F$98) -> 76 | H38: =G38*F38 -> 0 | I38: =VLOOKUP(B38,ЛСР!$B$12:$J$98,9,0) -> 0
A39: =ROW()-2 -> 37 | B39: Извещатель тип 5 | D39: пожарный дымовой оптико-электронный адресно- аналоговый IP40 (новый корпус) ИП 212-45 | E39: шт | F39: =SUMIF(ЛСР!$B$12:$B$98,B39,ЛСР!$F$12:$F$98) -> 17 | H39: =G39*F39 -> 0 | I39: =VLOOKUP(B39,ЛСР!$B$12:$J$98,9,0) -> Встроенные помещения
A40: =ROW()-2 -> 38 | B40: Извещатель тип 6 | D40: пожарный ручной адресный с встроенным изолятором короткого замыкания ИПР 513-10 | E40: шт | F40: =SUMIF(ЛСР!$B$12:$B$98,B40,ЛСР!$F$12:$F$98) -> 6 | H40: =G40*F40 -> 0 | I40: =VLOOKUP(B40,ЛСР!$B$12:$J$98,9,0) -> Встроенные помещения
...
