Workbook
Name Данные: [1]Тестовый!$F$10:$H$14

Sheet 11.11 Домофония
L1: Приложение №
L2: к Договору подряда №
B4: ПОДРЯДЧИК: | E4: ЗАКАЗЧИК: | J4: ТЕХНИЧЕСКИЙ ЗАКАЗЧИК:
E5: ООО "ЭНКО СТРОЙ" | J5: ООО "Технический заказчик "ЭНКО"
B7: _________________/ | E7: ___________/С.И. Ярков | J7: ___________/С.И. Ярков
A9: Локальный сметный расчет №
A10: Устройство системы Домофония. ГП-72.214
A12: № | B12: Наименование | C12: Марка | D12: Характеристика | E12: Ед. изм. | F12: 72.214.1 | G12: 72.214.2 | H12: Кол-во | I12: Цена | J12: Сумма | K12: Примечание | L12: Форма закупа материала
A13: 11 | B13: Внутренние инженерные сети
A14: 11.11 | B14: Устройство домофонии
A15: 11.11.01 | B15: Прокладка КПП, трубы
A16: 11.11.01.00. | B16: Прокладка КПП, трубы | J16: =J17+J20 -> 0
B17: Работа: | J17: =SUM(J18:J19) -> 0
B18: Прокладка КПП | E18: м | F18: =SUM(F21:F27) -> 2516 | G18: =SUM(G21:G27) -> 4519 | H18: =SUM(F18:G18) -> 7035 | I18: =VLOOKUP(B18,СМР!$B$3:$H$8,7,0) -> 0 | J18: =I18*H18 -> 0
B19: Прокладка трубы | E19: м | F19: =SUM(F28:F30) -> 2164 | G19: =SUM(G28:G30) -> 3890 | H19: =SUM(F19:G19) -> 6054 | I19: =VLOOKUP(B19,СМР!$B$3:$H$8,7,0) -> 0 | J19: =I19*H19 -> 0
B20: Материалы: | J20: =SUM(J21:J31) -> 0
B21: Кабель тип 1 | C21: EC-UU004-5E-PVC-GY | D21: NETLAN U/UTP 4 пары, категория 5e, внутренний, PVC, серый, 305м | E21: м. | F21: 290 | G21: 235 | H21: =SUM(F21:G21) -> 525 | I21: =VLOOKUP($B21,ТМЦ!$B$3:$L$83,8,0) -> 0 | J21: =I21*H21 -> 0 | L21: =VLOOKUP($B21,ТМЦ!$B$3:$L$83,11,0) -> 0
B22: Кабель тип 2 | D22: силовой ВВГнг(А)-LS 3х2.5 плоский ГОСТ | E22: м. | F22: 20 | G22: 20 | H22: =SUM(F22:G22) -> 40 | I22: =VLOOKUP($B22,ТМЦ!$B$3:$L$83,8,0) -> 0 | J22: =I22*H22 -> 0 | L22: =VLOOKUP($B22,ТМЦ!$B$3:$L$83,11,0) -> 0
B23: Кабель тип 3 | D23: UTP Внутренний 4*2*0.48 медь серый PVC | E23: м. | F23: 1936 | G23: 3744 | H23: =SUM(F23:G23) -> 5680 | I23: =VLOOKUP($B23,ТМЦ!$B$3:$L$83,8,0) -> 0 | J23: =I23*H23 -> 0 | L23: =VLOOKUP($B23,ТМЦ!$B$3:$L$83,11,0) -> 0
B24: Кабель тип 4 | D24: огнестойкий КПСнг(А)-FRHF 1х2х0,5 | E24: м. | F24: 40 | G24: 40 | H24: =SUM(F24:G24) -> 80 | I24: =VLOOKUP($B24,ТМЦ!$B$3:$L$83,8,0) -> 0 | J24: =I24*H24 -> 0 | K24: Состав коммутационного шкафа домофонии | L24: =VLOOKUP($B24,ТМЦ!$B$3:$L$83,11,0) -> 0
B25: Кабель тип 5 | D25: оптический негорючий для прокладки в канализацию 4 волокона | E25: м. | F25: 0 | G25: 250 | H25: =SUM(F25:G25) -> 250 | I25: =VLOOKUP($B25,ТМЦ!$B$3:$L$83,8,0) -> 0 | J25: =I25*H25 -> 0 | K25: Оптика между домами | L25: =VLOOKUP($B25,ТМЦ!$B$3:$L$83,11,0) -> 0
B26: Кабель тип 6 | D26: ШВВП 2х0,75 белый ГОСТ | E26: м. | F26: 190 | G26: 190 | H26: =SUM(F26:G26) -> 380 | I26: =VLOOKUP($B26,ТМЦ!$B$3:$L$83,8,0) -> 0 | J26: =I26*H26 -> 0 | L26: =VLOOKUP($B26,ТМЦ!$B$3:$L$83,11,0) -> 0
B27: Кабель тип 7 | D27: КСПВ 4х0,5 | E27: м. | F27: 40 | G27: 40 | H27: =SUM(F27:G27) -> 80 | I27: =VLOOKUP($B27,ТМЦ!$B$3:$L$83,8,0) -> 0 | J27: =I27*H27 -> 0 | L27: =VLOOKUP($B27,ТМЦ!$B$3:$L$83,11,0) -> 0
B28: Труба тип 1 | D28: гофрированная ПВХ 20мм с протяжкой | E28: м. | F28: 350 | G28: 370 | H28: =SUM(F28:G28) -> 720 | I28: =VLOOKUP($B28,ТМЦ!$B$3:$L$83,8,0) -> 0 | J28: =I28*H28 -> 0 | K28: 75 метров для оптики | L28: =VLOOKUP($B28,ТМЦ!$B$3:$L$83,11,0) -> 0
B29: Труба тип 2 | C29: ЭРА | D29: ПНД гладкая жесткая, черная, d 20 мм | E29: м. | F29: 10 | G29: 10 | H29: =SUM(F29:G29) -> 20 | I29: =VLOOKUP($B29,ТМЦ!$B$3:$L$83,8,0) -> 0 | J29: =I29*H29 -> 0 | L29: =VLOOKUP($B29,ТМЦ!$B$3:$L$83,11,0) -> 0
B30: Труба тип 3 | D30: гофрированная ПНД легкая безгалогенная (HF) зонд д16 | E30: м. | F30: 1804 | G30: 3510 | H30: =SUM(F30:G30) -> 5314 | I30: =VLOOKUP($B30,ТМЦ!$B$3:$L$83,8,0) -> 0 | J30: =I30*H30 -> 0 | L30: =VLOOKUP($B30,ТМЦ!$B$3:$L$83,11,0) -> 0
B31: Прочие материалы (Крепеж-клипса для труб для монтажного пистолета Промрукав серая D-20, Гвозди по бетону усиленные Toua 3.05x19 мм, под пистолет (1000шт. в пч.), INSTA 100х55 Короб с крышкой(80мм) 100х55мм, Устройство коммутационное УК-ВК/01, Промрукав Коробка распаячная под пистолет 80х80х40 IP66, Клемма DIY YOU PCT-213, быстрозажимной кабельный соединитель, Монтажная лента, Коннектор NETLAN RJ45/8P8C, категория 5e EC-UP8P8C-5E-003-TR-1000, Клей монтажный Peter Paul All in One, 290мл, Дюбель-хомут 5-10мм нейлон (100шт. в пч.)) | E31: % | H31: =J31*100/J17 -> #DIV/0! | J31: =SUM(J32:J44) -> 0
B32: Крепеж-клипса для труб для монтажного пистолета Промрукав серая D-20 | E32: шт. | F32: =F28*2 -> 700 | G32: =G28*2 -> 740 | H32: =SUM(F32:G32) -> 1440 | I32: =VLOOKUP($B32,ТМЦ!$B$3:$L$83,8,0) -> 0 | J32: =I32*H32 -> 0 | L32: =VLOOKUP($B32,ТМЦ!$B$3:$L$83,11,0) -> 0
B33: Гвозди по бетону усиленные Toua 3.05x19 мм, под пистолет (1000шт. в пч.) | E33: шт. | F33: =F32 -> 700 | G33: =G32 -> 740 | H33: =SUM(F33:G33) -> 1440 | I33: =VLOOKUP($B33,ТМЦ!$B$3:$L$83,8,0) -> 0 | J33: =I33*H33 -> 0 | L33: =VLOOKUP($B33,ТМЦ!$B$3:$L$83,11,0) -> 0
B34: INSTA 100х55 Короб с крышкой(80мм) 100х55мм | E34: м. | F34: 2 | G34: 4 | H34: =SUM(F34:G34) -> 6 | I34: =VLOOKUP($B34,ТМЦ!$B$3:$L$83,8,0) -> 0 | J34: =I34*H34 -> 0 | L34: =VLOOKUP($B34,ТМЦ!$B$3:$L$83,11,0) -> 0
B35: Промрукав Коробка распаячная под пистолет 80х80х40 IP66 | E35: шт. | F35: 1 | G35: 1 | H35: =SUM(F35:G35) -> 2 | I35: =VLOOKUP($B35,ТМЦ!$B$3:$L$83,8,0) -> 0 | J35: =I35*H35 -> 0 | L35: =VLOOKUP($B35,ТМЦ!$B$3:$L$83,11,0) -> 0
B36: Клемма DIY YOU PCT-213, быстрозажимной кабельный соединитель | E36: шт. | F36: 3 | G36: 3 | H36: =SUM(F36:G36) -> 6 | I36: =VLOOKUP($B36,ТМЦ!$B$3:$L$83,8,0) -> 0 | J36: =I36*H36 -> 0 | L36: =VLOOKUP($B36,ТМЦ!$B$3:$L$83,11,0) -> 0
B37: Монтажная лента Госкреп волна, 0,55х12 | E37: м. | F37: 3 | G37: 3 | H37: =SUM(F37:G37) -> 6 | I37: =VLOOKUP($B37,ТМЦ!$B$3:$L$83,8,0) -> 0 | J37: =I37*H37 -> 0 | L37: =VLOOKUP($B37,ТМЦ!$B$3:$L$83,11,0) -> 0
B38: Монтажная пена Технониколь 240 PROFESSIONAL, огнестойкая, TN528380 | E38: шт. | F38: 1 | G38: 2 | H38: =SUM(F38:G38) -> 3 | I38: =VLOOKUP($B38,ТМЦ!$B$3:$L$83,8,0) -> 0 | J38: =I38*H38 -> 0 | L38: =VLOOKUP($B38,ТМЦ!$B$3:$L$83,11,0) -> 0
B39: Монтажная лента текстильная под пистолет | E39: м. | F39: 451 | G39: 877 | H39: =SUM(F39:G39) -> 1328 | I39: =VLOOKUP($B39,ТМЦ!$B$3:$L$83,8,0) -> 0 | J39: =I39*H39 -> 0 | L39: =VLOOKUP($B39,ТМЦ!$B$3:$L$83,11,0) -> 0
B40: Гвозди по бетону усиленные Toua 3.05x19 мм, под пистолет. (1000шт. в пч.) | E40: шт. | F40: 8360 | G40: 15596 | H40: =SUM(F40:G40) -> 23956 | I40: =VLOOKUP($B40,ТМЦ!$B$3:$L$83,8,0) -> 0 | J40: =I40*H40 -> 0 | L40: =VLOOKUP($B40,ТМЦ!$B$3:$L$83,11,0) -> 0
B41: Дюбель-хомут 5-10мм нейлон (100шт. в пч.) | E41: шт. | F41: 608 | G41: 1016 | H41: =SUM(F41:G41) -> 1624 | I41: =VLOOKUP($B41,ТМЦ!$B$3:$L$83,8,0) -> 0 | J41: =I41*H41 -> 0 | L41: =VLOOKUP($B41,ТМЦ!$B$3:$L$83,11,0) -> 0
B42: Гофрированная труба REXANT ПП 4,6 мм, разрезная, бухтa 5 м/уп. 15-0505 | E42: м. | F42: 1.8 | G42: 1.2 | H42: =SUM(F42:G42) -> 3 | I42: =VLOOKUP($B42,ТМЦ!$B$3:$L$83,8,0) -> 0 | J42: =I42*H42 -> 0 | L42: =VLOOKUP($B42,ТМЦ!$B$3:$L$83,11,0) -> 0
B43: Шнур оптический переходной, OS2, SC/UPC-LC/UPC, одинарный, нг(А)-HF, 2мм, желтый, 1м NMF-PC1S2C2-SCU-LCU-001 | E43: шт. | G43: 2 | H43: =SUM(F43:G43) -> 2 | I43: =VLOOKUP($B43,ТМЦ!$B$3:$L$83,8,0) -> 0 | J43: =I43*H43 -> 0 | K43: Оптика между домами | L43: =VLOOKUP($B43,ТМЦ!$B$3:$L$83,11,0) -> 0
B44: Кабель прямого подключения SFP/SFP+ MikroTik XS+DA0001 | E44: шт. | G44: 1 | H44: =SUM(F44:G44) -> 1 | I44: =VLOOKUP($B44,ТМЦ!$B$3:$L$83,8,0) -> 0 | J44: =I44*H44 -> 0 | K44: Оптика между домами | L44: =VLOOKUP($B44,ТМЦ!$B$3:$L$83,11,0) -> 0
...

Sheet СМР
A1: Ведомость объемов работ
A2: № п/п | B2: Наименование | C2: Характеристика | D2: Ед. изм. | E2: ГП-214.1 | F2: ГП-214.2 | G2: Кол-во | H2: Цена | I2: Сумма | J2: Примечание
A3: =ROW()-2 -> 1 | B3: Прокладка КПП | D3: м | E3: =SUMIF('11.11 Домофония'!$B$13:$B$126,СМР!$B3,'11.11 Домофония'!F$13:F$126) -> 3005 | F3: =SUMIF('11.11 Домофония'!$B$13:$B$126,СМР!$B3,'11.11 Домофония'!G$13:G$126) -> 5894 | G3: =SUMIF('11.11 Домофония'!$B$13:$B$126,СМР!$B3,'11.11 Домофония'!H$13:H$126) -> 8899 | I3: =H3*G3 -> 0
A4: =ROW()-2 -> 2 | B4: Прокладка трубы | D4: м | E4: =SUMIF('11.11 Домофония'!$B$13:$B$126,СМР!$B4,'11.11 Домофония'!F$13:F$126) -> 2300.9 | F4: =SUMIF('11.11 Домофония'!$B$13:$B$126,СМР!$B4,'11.11 Домофония'!G$13:G$126) -> 4096.3 | G4: =SUMIF('11.11 Домофония'!$B$13:$B$126,СМР!$B4,'11.11 Домофония'!H$13:H$126) -> 6397.2 | I4: =H4*G4 -> 0
A5: =ROW()-2 -> 3 | B5: Монтажные работы секция 1 | D5: комплекс | E5: =SUMIF('11.11 Домофония'!$B$13:$B$126,СМР!$B5,'11.11 Домофония'!F$13:F$126) -> 1 | F5: =SUMIF('11.11 Домофония'!$B$13:$B$126,СМР!$B5,'11.11 Домофония'!G$13:G$126) -> 0 | G5: =SUMIF('11.11 Домофония'!$B$13:$B$126,СМР!$B5,'11.11 Домофония'!H$13:H$126) -> 1 | I5: =H5*G5 -> 0
A6: =ROW()-2 -> 4 | B6: Монтажные работы секция 2 | D6: комплекс | E6: =SUMIF('11.11 Домофония'!$B$13:$B$126,СМР!$B6,'11.11 Домофония'!F$13:F$126) -> 0 | F6: =SUMIF('11.11 Домофония'!$B$13:$B$126,СМР!$B6,'11.11 Домофония'!G$13:G$126) -> 1 | G6: =SUMIF('11.11 Домофония'!$B$13:$B$126,СМР!$B6,'11.11 Домофония'!H$13:H$126) -> 1 | I6: =H6*G6 -> 0
A7: =ROW()-2 -> 5 | B7: Пусконаладочные работы секция 1 | D7: комплекс | E7: =SUMIF('11.11 Домофония'!$B$13:$B$126,СМР!$B7,'11.11 Домофония'!F$13:F$126) -> 1 | F7: =SUMIF('11.11 Домофония'!$B$13:$B$126,СМР!$B7,'11.11 Домофония'!G$13:G$126) -> 0 | G7: =SUMIF('11.11 Домофония'!$B$13:$B$126,СМР!$B7,'11.11 Домофония'!H$13:H$126) -> 1 | I7: =H7*G7 -> 0
A8: =ROW()-2 -> 6 | B8: Пусконаладочные работы секция 2 | D8: комплекс | E8: =SUMIF('11.11 Домофония'!$B$13:$B$126,СМР!$B8,'11.11 Домофония'!F$13:F$126) -> 0 | F8: =SUMIF('11.11 Домофония'!$B$13:$B$126,СМР!$B8,'11.11 Домофония'!G$13:G$126) -> 1 | G8: =SUMIF('11.11 Домофония'!$B$13:$B$126,СМР!$B8,'11.11 Домофония'!H$13:H$126) -> 1 | I8: =H8*G8 -> 0
H9: ИТОГО: | I9: =SUM(I3:I8) -> 0
H10: проверка: | I10: =I9-'11.11 Домофония'!J128 -> 0
B12: Примечание:
A13: - | B13: В случае, если один из перечисленных прочих материалов не был использован по факту при производстве работ, заказчик вправе откорректировать процент расходных материалов в актах выполненных работ (формы КС-2, КС-3), уменьшив на сумму исключенного материала.
A14: - | B14: Стоимость СМР учитывает - затраты на все второстепенные материалы и работы необходимые для осуществления полного комплекса работ, включая затраты: обеспечение технической водой для производства работ и бытовых целей; на мобилизацию, аренду и эксплуатацию всех необходимых механизмов, оборудования и инструментов, бытовых помещений и биотуалетов; на подъем материалов и разноску по этажам к местам производства работ; выполнение сопутствующих работ; вывоз мусора; накладные расходы, прибыль организации, налоги и иные издержки Подрядчика. Обеспечение безопасного производства работ на участке.
A15: - | B15: Стоимость материалов учитывает стоимость доставки.

Sheet ТМЦ
A1: Спецификация материалов
A2: № п/п | B2: Наименование | C2: Марка | D2: Характеристика | E2: Ед. изм. | F2: ГП-214.1 | G2: ГП-214.2 | H2: Кол-во | I2: Цена | J2: Сумма | K2: Примечание | L2: Форма закупа материала
A3: =ROW()-2 -> 1 | B3: Camkeeper LINE 2.0 SHC-1-5 диагностика технического состояния IP-устройств | E3: шт. | F3: =SUMIF('11.11 Домофония'!$B$13:$B$126,$B3,'11.11 Домофония'!F$13:F$126) -> 0 | G3: =SUMIF('11.11 Домофония'!$B$13:$B$126,$B3,'11.11 Домофония'!G$13:G$126) -> 1 | H3: =SUMIF('11.11 Домофония'!$B$13:$B$126,$B3,'11.11 Домофония'!H$13:H$126) -> 1 | J3: =I3*H3 -> 0
A4: =ROW()-2 -> 2 | B4: INSTA 100х55 Короб с крышкой(80мм) 100х55мм | E4: м. | F4: =SUMIF('11.11 Домофония'!$B$13:$B$126,$B4,'11.11 Домофония'!F$13:F$126) -> 2 | G4: =SUMIF('11.11 Домофония'!$B$13:$B$126,$B4,'11.11 Домофония'!G$13:G$126) -> 4 | H4: =SUMIF('11.11 Домофония'!$B$13:$B$126,$B4,'11.11 Домофония'!H$13:H$126) -> 6 | J4: =I4*H4 -> 0
A5: =ROW()-2 -> 3 | B5: Автоматический выключатель 1P 16А (C) 4,5kA ВА 47-63 EKF PROxima | E5: шт. | F5: =SUMIF('11.11 Домофония'!$B$13:$B$126,$B5,'11.11 Домофония'!F$13:F$126) -> 1 | G5: =SUMIF('11.11 Домофония'!$B$13:$B$126,$B5,'11.11 Домофония'!G$13:G$126) -> 1 | H5: =SUMIF('11.11 Домофония'!$B$13:$B$126,$B5,'11.11 Домофония'!H$13:H$126) -> 2 | J5: =I5*H5 -> 0
A6: =ROW()-2 -> 4 | B6: Автоматический выключатель 1P 25А (C) 4,5kA ВА 47-63 EKF PROxima | E6: шт. | F6: =SUMIF('11.11 Домофония'!$B$13:$B$126,$B6,'11.11 Домофония'!F$13:F$126) -> 1 | G6: =SUMIF('11.11 Домофония'!$B$13:$B$126,$B6,'11.11 Домофония'!G$13:G$126) -> 1 | H6: =SUMIF('11.11 Домофония'!$B$13:$B$126,$B6,'11.11 Домофония'!H$13:H$126) -> 2 | J6: =I6*H6 -> 0 | K6: =VLOOKUP(B6,'11.11 Домофония'!$B$13:$K$126,10,0) -> Состав коммутационного шкафа домофонии
A7: =ROW()-2 -> 5 | B7: Автоматический выключатель 1P 5А (В) 4,5kA ВА 47-63 EKF PROxima | E7: шт. | F7: =SUMIF('11.11 Домофония'!$B$13:$B$126,$B7,'11.11 Домофония'!F$13:F$126) -> 5 | G7: =SUMIF('11.11 Домофония'!$B$13:$B$126,$B7,'11.11 Домофония'!G$13:G$126) -> 5 | H7: =SUMIF('11.11 Домофония'!$B$13:$B$126,$B7,'11.11 Домофония'!H$13:H$126) -> 10 | J7: =I7*H7 -> 0 | K7: =VLOOKUP(B7,'11.11 Домофония'!$B$13:$K$126,10,0) -> Состав коммутационного шкафа домофонии
A8: =ROW()-2 -> 6 | B8: Аккумулятор Delta DT 1207 (12V 7Аh) | E8: шт. | F8: =SUMIF('11.11 Домофония'!$B$13:$B$126,$B8,'11.11 Домофония'!F$13:F$126) -> 3 | G8: =SUMIF('11.11 Домофония'!$B$13:$B$126,$B8,'11.11 Домофония'!G$13:G$126) -> 3 | H8: =SUMIF('11.11 Домофония'!$B$13:$B$126,$B8,'11.11 Домофония'!H$13:H$126) -> 6 | J8: =I8*H8 -> 0 | K8: =VLOOKUP(B8,'11.11 Домофония'!$B$13:$K$126,10,0) -> Состав коммутационного шкафа домофонии
A9: =ROW()-2 -> 7 | B9: Бесконтактная-ИК кнопка выхода тип 1 | C9: - | D9: врезная DR-04 | E9: шт. | F9: =SUMIF('11.11 Домофония'!$B$13:$B$126,$B9,'11.11 Домофония'!F$13:F$126) -> 2 | G9: =SUMIF('11.11 Домофония'!$B$13:$B$126,$B9,'11.11 Домофония'!G$13:G$126) -> 2 | H9: =SUMIF('11.11 Домофония'!$B$13:$B$126,$B9,'11.11 Домофония'!H$13:H$126) -> 4 | J9: =I9*H9 -> 0 | K9: =VLOOKUP(B9,'11.11 Домофония'!$B$13:$K$126,10,0) -> 0
A10: =ROW()-2 -> 8 | B10: Бесконтактная-ИК кнопка выхода тип 2 | C10: - | D10: накладная DR-03 | F10: =SUMIF('11.11 Домофония'!$B$13:$B$126,$B10,'11.11 Домофония'!F$13:F$126) -> 3 | G10: =SUMIF('11.11 Домофония'!$B$13:$B$126,$B10,'11.11 Домофония'!G$13:G$126) -> 3 | H10: =SUMIF('11.11 Домофония'!$B$13:$B$126,$B10,'11.11 Домофония'!H$13:H$126) -> 6 | J10: =I10*H10 -> 0 | K10: =VLOOKUP(B10,'11.11 Домофония'!$B$13:$K$126,10,0) -> 0
A11: =ROW()-2 -> 9 | B11: Бесконтактный брендированный ключ | C11: "СТРАНА КАРТ" | D11: Чип SMARTTAG, кодировка для Akuvox, адаптация реестра UID и клиента для загрузки шаблоном в базу Akuvox, нумерация ключа строго по базе, стикер с номерацией квартиры на каждом ключе | E11: шт. | F11: =SUMIF('11.11 Домофония'!$B$13:$B$126,$B11,'11.11 Домофония'!F$13:F$126) -> 264 | G11: =SUMIF('11.11 Домофония'!$B$13:$B$126,$B11,'11.11 Домофония'!G$13:G$126) -> 468 | H11: =SUMIF('11.11 Домофония'!$B$13:$B$126,$B11,'11.11 Домофония'!H$13:H$126) -> 732 | J11: =I11*H11 -> 0 | K11: =VLOOKUP(B11,'11.11 Домофония'!$B$13:$K$126,10,0) -> на жилых этажах
A12: =ROW()-2 -> 10 | B12: Блок питания AC-DC DRC-60A, с функцией UPS, 60Вт, 13.8В | E12: шт. | F12: =SUMIF('11.11 Домофония'!$B$13:$B$126,$B12,'11.11 Домофония'!F$13:F$126) -> 3 | G12: =SUMIF('11.11 Домофония'!$B$13:$B$126,$B12,'11.11 Домофония'!G$13:G$126) -> 3 | H12: =SUMIF('11.11 Домофония'!$B$13:$B$126,$B12,'11.11 Домофония'!H$13:H$126) -> 6 | J12: =I12*H12 -> 0 | K12: =VLOOKUP(B12,'11.11 Домофония'!$B$13:$K$126,10,0) -> Состав коммутационного шкафа домофонии
A13: =ROW()-2 -> 11 | B13: Блок питания Mean-Well HDR-30-12 | E13: шт. | F13: =SUMIF('11.11 Домофония'!$B$13:$B$126,$B13,'11.11 Домофония'!F$13:F$126) -> 2 | G13: =SUMIF('11.11 Домофония'!$B$13:$B$126,$B13,'11.11 Домофония'!G$13:G$126) -> 2 | H13: =SUMIF('11.11 Домофония'!$B$13:$B$126,$B13,'11.11 Домофония'!H$13:H$126) -> 4 | J13: =I13*H13 -> 0 | K13: =VLOOKUP(B13,'11.11 Домофония'!$B$13:$K$126,10,0) -> Состав коммутационного шкафа домофонии
A14: =ROW()-2 -> 12 | B14: Блок электрических розеток | C14: TLK-RSC09-M-04-BK | D14: TLK, 19" на 9 гнезд "евророзетка", 16 A | E14: шт. | F14: =SUMIF('11.11 Домофония'!$B$13:$B$126,$B14,'11.11 Домофония'!F$13:F$126) -> 1 | G14: =SUMIF('11.11 Домофония'!$B$13:$B$126,$B14,'11.11 Домофония'!G$13:G$126) -> 1 | H14: =SUMIF('11.11 Домофония'!$B$13:$B$126,$B14,'11.11 Домофония'!H$13:H$126) -> 2 | J14: =I14*H14 -> 0 | K14: =VLOOKUP(B14,'11.11 Домофония'!$B$13:$K$126,10,0) -> Состав коммутационного шкафа домофонии
A15: =ROW()-2 -> 13 | B15: Болт М6х25 оцинкованный с внутренним шестигранником, класс прочности 8.8, DIN 912 | E15: шт. | F15: =SUMIF('11.11 Домофония'!$B$13:$B$126,$B15,'11.11 Домофония'!F$13:F$126) -> 10 | G15: =SUMIF('11.11 Домофония'!$B$13:$B$126,$B15,'11.11 Домофония'!G$13:G$126) -> 10 | H15: =SUMIF('11.11 Домофония'!$B$13:$B$126,$B15,'11.11 Домофония'!H$13:H$126) -> 20 | J15: =I15*H15 -> 0 | K15: =VLOOKUP(B15,'11.11 Домофония'!$B$13:$K$126,10,0) -> 0
A16: =ROW()-2 -> 14 | B16: Вызывная панель тип 1 | C16: Akuvox X912S | D16: - | E16: шт. | F16: =SUMIF('11.11 Домофония'!$B$13:$B$126,$B16,'11.11 Домофония'!F$13:F$126) -> 2 | G16: =SUMIF('11.11 Домофония'!$B$13:$B$126,$B16,'11.11 Домофония'!G$13:G$126) -> 2 | H16: =SUMIF('11.11 Домофония'!$B$13:$B$126,$B16,'11.11 Домофония'!H$13:H$126) -> 4 | J16: =I16*H16 -> 0 | K16: =VLOOKUP(B16,'11.11 Домофония'!$B$13:$K$126,10,0) -> 0
A17: =ROW()-2 -> 15 | B17: Гвозди по бетону усиленные Toua 3.05x19 мм, под пистолет (1000шт. в пч.) | E17: шт. | F17: =SUMIF('11.11 Домофония'!$B$13:$B$126,$B17,'11.11 Домофония'!F$13:F$126) -> 700 | G17: =SUMIF('11.11 Домофония'!$B$13:$B$126,$B17,'11.11 Домофония'!G$13:G$126) -> 740 | H17: =SUMIF('11.11 Домофония'!$B$13:$B$126,$B17,'11.11 Домофония'!H$13:H$126) -> 1440 | J17: =I17*H17 -> 0 | K17: =VLOOKUP(B17,'11.11 Домофония'!$B$13:$K$126,10,0) -> 0
A18: =ROW()-2 -> 16 | B18: Гвозди по бетону усиленные Toua 3.05x19 мм, под пистолет. (1000шт. в пч.) | E18: шт. | F18: =SUMIF('11.11 Домофония'!$B$13:$B$126,$B18,'11.11 Домофония'!F$13:F$126) -> 8360 | G18: =SUMIF('11.11 Домофония'!$B$13:$B$126,$B18,'11.11 Домофония'!G$13:G$126) -> 15596 | H18: =SUMIF('11.11 Домофония'!$B$13:$B$126,$B18,'11.11 Домофония'!H$13:H$126) -> 23956 | J18: =I18*H18 -> 0 | K18: =VLOOKUP(B18,'11.11 Домофония'!$B$13:$K$126,10,0) -> 0
A19: =ROW()-2 -> 17 | B19: Г-образный кронштейн REXANT для спутниковой антенны 34см 34-0861 | E19: шт. | F19: =SUMIF('11.11 Домофония'!$B$13:$B$126,$B19,'11.11 Домофония'!F$13:F$126) -> 0 | G19: =SUMIF('11.11 Домофония'!$B$13:$B$126,$B19,'11.11 Домофония'!G$13:G$126) -> 1 | H19: =SUMIF('11.11 Домофония'!$B$13:$B$126,$B19,'11.11 Домофония'!H$13:H$126) -> 1 | J19: =I19*H19 -> 0 | K19: =VLOOKUP(B19,'11.11 Домофония'!$B$13:$K$126,10,0) -> LTE комплект
A20: =ROW()-2 -> 18 | B20: Гофрированная труба REXANT ПП 4,6 мм, разрезная, бухтa 5 м/уп. 15-0505 | E20: м. | F20: =SUMIF('11.11 Домофония'!$B$13:$B$126,$B20,'11.11 Домофония'!F$13:F$126) -> 1.8 | G20: =SUMIF('11.11 Домофония'!$B$13:$B$126,$B20,'11.11 Домофония'!G$13:G$126) -> 1.2 | H20: =SUMIF('11.11 Домофония'!$B$13:$B$126,$B20,'11.11 Домофония'!H$13:H$126) -> 3 | J20: =I20*H20 -> 0 | K20: =VLOOKUP(B20,'11.11 Домофония'!$B$13:$K$126,10,0) -> 0
A21: =ROW()-2 -> 19 | B21: Дюбель-хомут 5-10мм нейлон (100шт. в пч.) | E21: шт. | F21: =SUMIF('11.11 Домофония'!$B$13:$B$126,$B21,'11.11 Домофония'!F$13:F$126) -> 608 | G21: =SUMIF('11.11 Домофония'!$B$13:$B$126,$B21,'11.11 Домофония'!G$13:G$126) -> 1016 | H21: =SUMIF('11.11 Домофония'!$B$13:$B$126,$B21,'11.11 Домофония'!H$13:H$126) -> 1624 | J21: =I21*H21 -> 0 | K21: =VLOOKUP(B21,'11.11 Домофония'!$B$13:$K$126,10,0) -> 0
A22: =ROW()-2 -> 20 | B22: Заклепка резьбовая шестигранная с плоским бортом М6 L15,0 | E22: шт. | F22: =SUMIF('11.11 Домофония'!$B$13:$B$126,$B22,'11.11 Домофония'!F$13:F$126) -> 10 | G22: =SUMIF('11.11 Домофония'!$B$13:$B$126,$B22,'11.11 Домофония'!G$13:G$126) -> 10 | H22: =SUMIF('11.11 Домофония'!$B$13:$B$126,$B22,'11.11 Домофония'!H$13:H$126) -> 20 | J22: =I22*H22 -> 0 | K22: =VLOOKUP(B22,'11.11 Домофония'!$B$13:$K$126,10,0) -> 0
A23: =ROW()-2 -> 21 | B23: Замок электромагнитный | C23: - | D23: М2-400 серый (ОЛЭВС) | E23: шт. | F23: =SUMIF('11.11 Домофония'!$B$13:$B$126,$B23,'11.11 Домофония'!F$13:F$126) -> 5 | G23: =SUMIF('11.11 Домофония'!$B$13:$B$126,$B23,'11.11 Домофония'!G$13:G$126) -> 5 | H23: =SUMIF('11.11 Домофония'!$B$13:$B$126,$B23,'11.11 Домофония'!H$13:H$126) -> 10 | J23: =I23*H23 -> 0 | K23: =VLOOKUP(B23,'11.11 Домофония'!$B$13:$K$126,10,0) -> 0
A24: =ROW()-2 -> 22 | B24: Кабель прямого подключения SFP/SFP+ MikroTik XS+DA0001 | E24: шт. | F24: =SUMIF('11.11 Домофония'!$B$13:$B$126,$B24,'11.11 Домофония'!F$13:F$126) -> 0 | G24: =SUMIF('11.11 Домофония'!$B$13:$B$126,$B24,'11.11 Домофония'!G$13:G$126) -> 1 | H24: =SUMIF('11.11 Домофония'!$B$13:$B$126,$B24,'11.11 Домофония'!H$13:H$126) -> 1 | J24: =I24*H24 -> 0 | K24: =VLOOKUP(B24,'11.11 Домофония'!$B$13:$K$126,10,0) -> Оптика между домами
A25: =ROW()-2 -> 23 | B25: Кабель тип 1 | C25: EC-UU004-5E-PVC-GY | D25: NETLAN U/UTP 4 пары, категория 5e, внутренний, PVC, серый, 305м | E25: м. | F25: =SUMIF('11.11 Домофония'!$B$13:$B$126,$B25,'11.11 Домофония'!F$13:F$126) -> 290 | G25: =SUMIF('11.11 Домофония'!$B$13:$B$126,$B25,'11.11 Домофония'!G$13:G$126) -> 235 | H25: =SUMIF('11.11 Домофония'!$B$13:$B$126,$B25,'11.11 Домофония'!H$13:H$126) -> 525 | J25: =I25*H25 -> 0 | K25: =VLOOKUP(B25,'11.11 Домофония'!$B$13:$K$126,10,0) -> 0
A26: =ROW()-2 -> 24 | B26: Кабель тип 2 | D26: силовой ВВГнг(А)-LS 3х2.5 плоский ГОСТ | E26: м. | F26: =SUMIF('11.11 Домофония'!$B$13:$B$126,$B26,'11.11 Домофония'!F$13:F$126) -> 20 | G26: =SUMIF('11.11 Домофония'!$B$13:$B$126,$B26,'11.11 Домофония'!G$13:G$126) -> 20 | H26: =SUMIF('11.11 Домофония'!$B$13:$B$126,$B26,'11.11 Домофония'!H$13:H$126) -> 40 | J26: =I26*H26 -> 0 | K26: =VLOOKUP(B26,'11.11 Домофония'!$B$13:$K$126,10,0) -> 0
A27: =ROW()-2 -> 25 | B27: Кабель тип 9 | D27: силовой ВВГнг(А)-LS 3х1.5 плоский ГОСТ | E27: м. | F27: =SUMIF('11.11 Домофония'!$B$13:$B$126,$B27,'11.11 Домофония'!F$13:F$126) -> 82 | G27: =SUMIF('11.11 Домофония'!$B$13:$B$126,$B27,'11.11 Домофония'!G$13:G$126) -> 125 | H27: =SUMIF('11.11 Домофония'!$B$13:$B$126,$B27,'11.11 Домофония'!H$13:H$126) -> 207 | J27: =I27*H27 -> 0 | K27: =VLOOKUP(B27,'11.11 Домофония'!$B$13:$K$126,10,0) -> 0
A28: =ROW()-2 -> 26 | B28: Кабель тип 3 | D28: UTP Внутренний 4*2*0.48 медь серый PVC | E28: м. | F28: =SUMIF('11.11 Домофония'!$B$13:$B$126,$B28,'11.11 Домофония'!F$13:F$126) -> 1936 | G28: =SUMIF('11.11 Домофония'!$B$13:$B$126,$B28,'11.11 Домофония'!G$13:G$126) -> 3744 | H28: =SUMIF('11.11 Домофония'!$B$13:$B$126,$B28,'11.11 Домофония'!H$13:H$126) -> 5680 | J28: =I28*H28 -> 0 | K28: =VLOOKUP(B28,'11.11 Домофония'!$B$13:$K$126,10,0) -> 0
A29: =ROW()-2 -> 27 | B29: Кабель тип 4 | D29: огнестойкий КПСнг(А)-FRHF 1х2х0,5 | E29: м. | F29: =SUMIF('11.11 Домофония'!$B$13:$B$126,$B29,'11.11 Домофония'!F$13:F$126) -> 40 | G29: =SUMIF('11.11 Домофония'!$B$13:$B$126,$B29,'11.11 Домофония'!G$13:G$126) -> 40 | H29: =SUMIF('11.11 Домофония'!$B$13:$B$126,$B29,'11.11 Домофония'!H$13:H$126) -> 80 | J29: =I29*H29 -> 0 | K29: =VLOOKUP(B29,'11.11 Домофония'!$B$13:$K$126,10,0) -> Состав коммутационного шкафа домофонии
A30: =ROW()-2 -> 28 | B30: Кабель тип 5 | D30: оптический негорючий для прокладки в канализацию 4 волокона | E30: м. | F30: =SUMIF('11.11 Домофония'!$B$13:$B$126,$B30,'11.11 Домофония'!F$13:F$126) -> 0 | G30: =SUMIF('11.11 Домофония'!$B$13:$B$126,$B30,'11.11 Домофония'!G$13:G$126) -> 250 | H30: =SUMIF('11.11 Домофония'!$B$13:$B$126,$B30,'11.11 Домофония'!H$13:H$126) -> 250 | J30: =I30*H30 -> 0 | K30: =VLOOKUP(B30,'11.11 Домофония'!$B$13:$K$126,10,0) -> Оптика между домами
A31: =ROW()-2 -> 29 | B31: Кабель тип 6 | D31: ШВВП 2х0,75 белый ГОСТ | E31: м. | F31: =SUMIF('11.11 Домофония'!$B$13:$B$126,$B31,'11.11 Домофония'!F$13:F$126) -> 190 | G31: =SUMIF('11.11 Домофония'!$B$13:$B$126,$B31,'11.11 Домофония'!G$13:G$126) -> 190 | H31: =SUMIF('11.11 Домофония'!$B$13:$B$126,$B31,'11.11 Домофония'!H$13:H$126) -> 380 | J31: =I31*H31 -> 0 | K31: =VLOOKUP(B31,'11.11 Домофония'!$B$13:$K$126,10,0) -> 0
A32: =ROW()-2 -> 30 | B32: Кабель тип 8 | D32: UTP внутренний LSZH 2*2*0.48 | E32: м. | F32: =SUMIF('11.11 Домофония'!$B$13:$B$126,$B32,'11.11 Домофония'!F$13:F$126) -> 407 | G32: =SUMIF('11.11 Домофония'!$B$13:$B$126,$B32,'11.11 Домофония'!G$13:G$126) -> 1250 | H32: =SUMIF('11.11 Домофония'!$B$13:$B$126,$B32,'11.11 Домофония'!H$13:H$126) -> 1657 | J32: =I32*H32 -> 0 | K32: =VLOOKUP(B32,'11.11 Домофония'!$B$13:$K$126,10,0) -> 100м - LTE комплект
A33: =ROW()-2 -> 31 | B33: Кабель тип 7 | D33: КСПВ 4х0,5 | E33: м. | F33: =SUMIF('11.11 Домофония'!$B$13:$B$126,$B33,'11.11 Домофония'!F$13:F$126) -> 40 | G33: =SUMIF('11.11 Домофония'!$B$13:$B$126,$B33,'11.11 Домофония'!G$13:G$126) -> 40 | H33: =SUMIF('11.11 Домофония'!$B$13:$B$126,$B33,'11.11 Домофония'!H$13:H$126) -> 80 | J33: =I33*H33 -> 0 | K33: =VLOOKUP(B33,'11.11 Домофония'!$B$13:$K$126,10,0) -> 0
A34: =ROW()-2 -> 32 | B34: Клемма DIY YOU PCT-213, быстрозажимной кабельный соединитель | E34: шт. | F34: =SUMIF('11.11 Домофония'!$B$13:$B$126,$B34,'11.11 Домофония'!F$13:F$126) -> 3 | G34: =SUMIF('11.11 Домофония'!$B$13:$B$126,$B34,'11.11 Домофония'!G$13:G$126) -> 3 | H34: =SUMIF('11.11 Домофония'!$B$13:$B$126,$B34,'11.11 Домофония'!H$13:H$126) -> 6 | J34: =I34*H34 -> 0 | K34: =VLOOKUP(B34,'11.11 Домофония'!$B$13:$K$126,10,0) -> 0
A35: =ROW()-2 -> 33 | B35: Клемма DIY YOU PCT-213, быстрозажимной кабельный соединитель, 3 общих проводника L | E35: шт. | F35: =SUMIF('11.11 Домофония'!$B$13:$B$126,$B35,'11.11 Домофония'!F$13:F$126) -> 39 | G35: =SUMIF('11.11 Домофония'!$B$13:$B$126,$B35,'11.11 Домофония'!G$13:G$126) -> 63 | H35: =SUMIF('11.11 Домофония'!$B$13:$B$126,$B35,'11.11 Домофония'!H$13:H$126) -> 102 | J35: =I35*H35 -> 0 | K35: =VLOOKUP(B35,'11.11 Домофония'!$B$13:$K$126,10,0) -> 0
A36: =ROW()-2 -> 34 | B36: Колодка реле PTF14A | E36: шт. | F36: =SUMIF('11.11 Домофония'!$B$13:$B$126,$B36,'11.11 Домофония'!F$13:F$126) -> 2 | G36: =SUMIF('11.11 Домофония'!$B$13:$B$126,$B36,'11.11 Домофония'!G$13:G$126) -> 2 | H36: =SUMIF('11.11 Домофония'!$B$13:$B$126,$B36,'11.11 Домофония'!H$13:H$126) -> 4 | J36: =I36*H36 -> 0 | K36: =VLOOKUP(B36,'11.11 Домофония'!$B$13:$K$126,10,0) -> Состав коммутационного шкафа домофонии
A37: =ROW()-2 -> 35 | B37: Коммутатор тип 1 | D37: Тюменский коммутатор Т1008 с защитой коммутации 8*10/100M PoE IEEE 802.3af/at,+2*10/100M uplink RJ45 | E37: шт. | F37: =SUMIF('11.11 Домофония'!$B$13:$B$126,$B37,'11.11 Домофония'!F$13:F$126) -> 11 | G37: =SUMIF('11.11 Домофония'!$B$13:$B$126,$B37,'11.11 Домофония'!G$13:G$126) -> 19 | H37: =SUMIF('11.11 Домофония'!$B$13:$B$126,$B37,'11.11 Домофония'!H$13:H$126) -> 30 | J37: =I37*H37 -> 0 | K37: =VLOOKUP(B37,'11.11 Домофония'!$B$13:$K$126,10,0) -> на жилых этажах
A38: =ROW()-2 -> 36 | B38: Коммутатор тип 2 | D38: Тюменский коммутатор Т1004 с защитой коммутации 4*10/100M PoE IEEE 802.3af/at,+2*10/100M uplink RJ45 | E38: шт. | F38: =SUMIF('11.11 Домофония'!$B$13:$B$126,$B38,'11.11 Домофония'!F$13:F$126) -> 0 | G38: =SUMIF('11.11 Домофония'!$B$13:$B$126,$B38,'11.11 Домофония'!G$13:G$126) -> 2 | H38: =SUMIF('11.11 Домофония'!$B$13:$B$126,$B38,'11.11 Домофония'!H$13:H$126) -> 2 | J38: =I38*H38 -> 0 | K38: =VLOOKUP(B38,'11.11 Домофония'!$B$13:$K$126,10,0) -> 1шт - на жилых этажах, 1шт - LTE комплект
A39: =ROW()-2 -> 37 | B39: Коммутатор тип 3 | C39: GL-SW-F005-04P | D39: сетевой PoE коммутатор 4 POE + Uplink | E39: шт. | F39: =SUMIF('11.11 Домофония'!$B$13:$B$126,$B39,'11.11 Домофония'!F$13:F$126) -> 1 | G39: =SUMIF('11.11 Домофония'!$B$13:$B$126,$B39,'11.11 Домофония'!G$13:G$126) -> 1 | H39: =SUMIF('11.11 Домофония'!$B$13:$B$126,$B39,'11.11 Домофония'!H$13:H$126) -> 2 | J39: =I39*H39 -> 0 | K39: =VLOOKUP(B39,'11.11 Домофония'!$B$13:$K$126,10,0) -> Состав коммутационного шкафа домофонии
A40: =ROW()-2 -> 38 | B40: Коммутационный шнур U/UTP 4-х парный cat.5e 1м LSZH | E40: шт. | F40: =SUMIF('11.11 Домофония'!$B$13:$B$126,$B40,'11.11 Домофония'!F$13:F$126) -> 0 | G40: =SUMIF('11.11 Домофония'!$B$13:$B$126,$B40,'11.11 Домофония'!G$13:G$126) -> 1 | H40: =SUMIF('11.11 Домофония'!$B$13:$B$126,$B40,'11.11 Домофония'!H$13:H$126) -> 1 | J40: =I40*H40 -> 0 | K40: =VLOOKUP(B40,'11.11 Домофония'!$B$13:$K$126,10,0) -> для Camkeeper
...
