Workbook
Name Данные: [1]Тестовый!$F$10:$H$14

Sheet 11.11 Домофония
K1: Приложение №
K2: к Договору подряда №
B4: ПОДРЯДЧИК: | E4: ЗАКАЗЧИК: | J4: ТЕХНИЧЕСКИЙ ЗАКАЗЧИК:
E5: ООО "ЭНКО СТРОЙ" | J5: ООО "Технический заказчик "ЭНКО"
B7: _________________/ | E7: ___________/С.И. Ярков | J7: ___________/С.И. Ярков
A9: Локальный сметный расчет №
A10: Устройство системы Домофония. ГП-72.215
A12: № | B12: Наименование | C12: Марка | D12: Характеристика | E12: Ед. изм. | F12: 72.215 | G12: Кол-во | H12: Цена | I12: Сумма | J12: Примечание | K12: Форма закупа материала
A13: 11 | B13: Внутренние инженерные сети
A14: 11.11 | B14: Устройство домофонии
A15: 11.11.01 | B15: Прокладка КПП, трубы
A16: 11.11.01.00. | B16: Прокладка КПП, трубы | I16: =I17+I20 -> 0
B17: Работа: | I17: =SUM(I18:I19) -> 0
B18: Прокладка КПП | E18: м | F18: =SUM(F21:F26) -> 4499 | G18: =SUM(F18:F18) -> 4499 | H18: =VLOOKUP(B18,СМР!$B$3:$F$6,5,0) -> 0 | I18: =H18*G18 -> 0
B19: Прокладка трубы | E19: м | F19: =SUM(F28:F30) -> 3977 | G19: =SUM(F19:F19) -> 3977 | H19: =VLOOKUP(B19,СМР!$B$3:$F$6,5,0) -> 0 | I19: =H19*G19 -> 0
B20: Материалы: | I20: =SUM(I21:I31) -> 0
B21: Кабель тип 1 | C21: EC-UU004-5E-PVC-GY | D21: NETLAN U/UTP 4 пары, категория 5e, внутренний, PVC, серый, 305м | E21: м. | F21: 270 | G21: =SUM(F21:F21) -> 270 | H21: =VLOOKUP($B21,ТМЦ!$B$3:$J$75,6,0) -> 0 | I21: =H21*G21 -> 0 | K21: =VLOOKUP($B21,ТМЦ!$B$3:$J$75,9,0) -> 0
B22: Кабель тип 2 | D22: силовой ВВГнг(А)-LS 3х2.5 плоский ГОСТ | E22: м. | F22: 38 | G22: =SUM(F22:F22) -> 38 | H22: =VLOOKUP($B22,ТМЦ!$B$3:$J$75,6,0) -> 0 | I22: =H22*G22 -> 0 | K22: =VLOOKUP($B22,ТМЦ!$B$3:$J$75,9,0) -> 0
B23: Кабель тип 3 | D23: UTP Внутренний 4*2*0.48 медь серый PVC | E23: м. | F23: 3773 | G23: =SUM(F23:F23) -> 3773 | H23: =VLOOKUP($B23,ТМЦ!$B$3:$J$75,6,0) -> 0 | I23: =H23*G23 -> 0 | K23: =VLOOKUP($B23,ТМЦ!$B$3:$J$75,9,0) -> 0
B24: Кабель тип 4 | D24: огнестойкий КПСнг(А)-FRHF 1х2х0,5 | E24: м. | F24: 40 | G24: =SUM(F24:F24) -> 40 | H24: =VLOOKUP($B24,ТМЦ!$B$3:$J$75,6,0) -> 0 | I24: =H24*G24 -> 0 | J24: Состав коммутационного шкафа домофонии | K24: =VLOOKUP($B24,ТМЦ!$B$3:$J$75,9,0) -> 0
B25: Кабель тип 5 | D25: оптический негорючий для прокладки в канализацию 4 волокона | E25: м. | F25: 150 | G25: =SUM(F25:F25) -> 150 | H25: =VLOOKUP($B25,ТМЦ!$B$3:$J$75,6,0) -> 0 | I25: =H25*G25 -> 0 | J25: Оптика между домами | K25: =VLOOKUP($B25,ТМЦ!$B$3:$J$75,9,0) -> 0
B26: Кабель тип 6 | D26: ШВВП 2х0,75 белый ГОСТ | E26: м. | F26: 228 | G26: =SUM(F26:F26) -> 228 | H26: =VLOOKUP($B26,ТМЦ!$B$3:$J$75,6,0) -> 0 | I26: =H26*G26 -> 0 | K26: =VLOOKUP($B26,ТМЦ!$B$3:$J$75,9,0) -> 0
B27: Кабель тип 7 | D27: КСПВ 4х0,5 | E27: м. | F27: 48 | G27: =SUM(F27:F27) -> 48 | H27: =VLOOKUP($B27,ТМЦ!$B$3:$J$75,6,0) -> 0 | I27: =H27*G27 -> 0 | K27: =VLOOKUP($B27,ТМЦ!$B$3:$J$75,9,0) -> 0
B28: Труба тип 1 | D28: гофрированная ПВХ 20мм с протяжкой | E28: м. | F28: 423 | G28: =SUM(F28:F28) -> 423 | H28: =VLOOKUP($B28,ТМЦ!$B$3:$J$75,6,0) -> 0 | I28: =H28*G28 -> 0 | J28: 75 метров для оптики | K28: =VLOOKUP($B28,ТМЦ!$B$3:$J$75,9,0) -> 0
B29: Труба тип 2 | C29: ЭРА | D29: ПНД гладкая жесткая, черная, d 20 мм | E29: м. | F29: 12 | G29: =SUM(F29:F29) -> 12 | H29: =VLOOKUP($B29,ТМЦ!$B$3:$J$75,6,0) -> 0 | I29: =H29*G29 -> 0 | K29: =VLOOKUP($B29,ТМЦ!$B$3:$J$75,9,0) -> 0
B30: Труба тип 3 | D30: гофрированная ПНД легкая безгалогенная (HF) зонд д16 | E30: м. | F30: 3542 | G30: =SUM(F30:F30) -> 3542 | H30: =VLOOKUP($B30,ТМЦ!$B$3:$J$75,6,0) -> 0 | I30: =H30*G30 -> 0 | K30: =VLOOKUP($B30,ТМЦ!$B$3:$J$75,9,0) -> 0
B31: Прочие материалы (Крепеж-клипса для труб для монтажного пистолета Промрукав серая D-20, Гвозди по бетону усиленные Toua 3.05x19 мм, под пистолет (1000шт. в пч.), INSTA 100х55 Короб с крышкой(80мм) 100х55мм, Устройство коммутационное УК-ВК/01, Промрукав Коробка распаячная под пистолет 80х80х40 IP66, Клемма DIY YOU PCT-213, быстрозажимной кабельный соединитель, Монтажная лента, Коннектор NETLAN RJ45/8P8C, категория 5e EC-UP8P8C-5E-003-TR-1000, Клей монтажный Peter Paul All in One, 290мл, Дюбель-хомут 5-10мм нейлон (100шт. в пч.)) | E31: % | G31: =I31*100/I17 -> #DIV/0! | I31: =SUM(I32:I44) -> 0
B32: Крепеж-клипса для труб для монтажного пистолета Промрукав серая D-20 | E32: шт. | F32: =F28*2 -> 846 | G32: =SUM(F32:F32) -> 846 | H32: =VLOOKUP($B32,ТМЦ!$B$3:$J$75,6,0) -> 0 | I32: =H32*G32 -> 0 | K32: =VLOOKUP($B32,ТМЦ!$B$3:$J$75,9,0) -> 0
B33: Гвозди по бетону усиленные Toua 3.05x19 мм, под пистолет (1000шт. в пч.) | E33: шт. | F33: =F32 -> 846 | G33: =SUM(F33:F33) -> 846 | H33: =VLOOKUP($B33,ТМЦ!$B$3:$J$75,6,0) -> 0 | I33: =H33*G33 -> 0 | K33: =VLOOKUP($B33,ТМЦ!$B$3:$J$75,9,0) -> 0
B34: INSTA 100х55 Короб с крышкой(80мм) 100х55мм | E34: м. | F34: 4 | G34: =SUM(F34:F34) -> 4 | H34: =VLOOKUP($B34,ТМЦ!$B$3:$J$75,6,0) -> 0 | I34: =H34*G34 -> 0 | K34: =VLOOKUP($B34,ТМЦ!$B$3:$J$75,9,0) -> 0
B35: Промрукав Коробка распаячная под пистолет 80х80х40 IP66 | E35: шт. | F35: 1 | G35: =SUM(F35:F35) -> 1 | H35: =VLOOKUP($B35,ТМЦ!$B$3:$J$75,6,0) -> 0 | I35: =H35*G35 -> 0 | K35: =VLOOKUP($B35,ТМЦ!$B$3:$J$75,9,0) -> 0
B36: Клемма DIY YOU PCT-213, быстрозажимной кабельный соединитель | E36: шт. | F36: 3 | G36: =SUM(F36:F36) -> 3 | H36: =VLOOKUP($B36,ТМЦ!$B$3:$J$75,6,0) -> 0 | I36: =H36*G36 -> 0 | K36: =VLOOKUP($B36,ТМЦ!$B$3:$J$75,9,0) -> 0
B37: Монтажная лента Госкреп волна, 0,55х12 | E37: м. | F37: 4 | G37: =SUM(F37:F37) -> 4 | H37: =VLOOKUP($B37,ТМЦ!$B$3:$J$75,6,0) -> 0 | I37: =H37*G37 -> 0 | K37: =VLOOKUP($B37,ТМЦ!$B$3:$J$75,9,0) -> 0
B38: Монтажная пена Технониколь 240 PROFESSIONAL, огнестойкая, TN528380 | E38: шт. | F38: 1 | G38: =SUM(F38:F38) -> 1 | H38: =VLOOKUP($B38,ТМЦ!$B$3:$J$75,6,0) -> 0 | I38: =H38*G38 -> 0 | K38: =VLOOKUP($B38,ТМЦ!$B$3:$J$75,9,0) -> 0
B39: Монтажная лента текстильная под пистолет | E39: м. | F39: 808 | G39: =SUM(F39:F39) -> 808 | H39: =VLOOKUP($B39,ТМЦ!$B$3:$J$75,6,0) -> 0 | I39: =H39*G39 -> 0 | K39: =VLOOKUP($B39,ТМЦ!$B$3:$J$75,9,0) -> 0
B40: Гвозди по бетону усиленные Toua 3.05x19 мм, под пистолет. (1000шт. в пч.) | E40: шт. | F40: 16553 | G40: =SUM(F40:F40) -> 16553 | H40: =VLOOKUP($B40,ТМЦ!$B$3:$J$75,6,0) -> 0 | I40: =H40*G40 -> 0 | K40: =VLOOKUP($B40,ТМЦ!$B$3:$J$75,9,0) -> 0
B41: Дюбель-хомут 5-10мм нейлон (100шт. в пч.) | E41: шт. | F41: 1020 | G41: =SUM(F41:F41) -> 1020 | H41: =VLOOKUP($B41,ТМЦ!$B$3:$J$75,6,0) -> 0 | I41: =H41*G41 -> 0 | K41: =VLOOKUP($B41,ТМЦ!$B$3:$J$75,9,0) -> 0
B42: Гофрированная труба REXANT ПП 4,6 мм, разрезная, бухтa 5 м/уп. 15-0505 | E42: м. | F42: 1.8 | G42: =SUM(F42:F42) -> 1.8 | H42: =VLOOKUP($B42,ТМЦ!$B$3:$J$75,6,0) -> 0 | I42: =H42*G42 -> 0 | K42: =VLOOKUP($B42,ТМЦ!$B$3:$J$75,9,0) -> 0
B43: Шнур оптический переходной, OS2, SC/UPC-LC/UPC, одинарный, нг(А)-HF, 2мм, желтый, 1м NMF-PC1S2C2-SCU-LCU-001 | E43: шт. | F43: 2 | G43: =SUM(F43:F43) -> 2 | H43: =VLOOKUP($B43,ТМЦ!$B$3:$J$75,6,0) -> 0 | I43: =H43*G43 -> 0 | J43: Оптика между домами | K43: =VLOOKUP($B43,ТМЦ!$B$3:$J$75,9,0) -> 0
B44: Кабель прямого подключения SFP/SFP+ MikroTik XS+DA0001 | E44: шт. | F44: 1 | G44: =SUM(F44:F44) -> 1 | H44: =VLOOKUP($B44,ТМЦ!$B$3:$J$75,6,0) -> 0 | I44: =H44*G44 -> 0 | J44: Оптика между домами | K44: =VLOOKUP($B44,ТМЦ!$B$3:$J$75,9,0) -> 0
...

Sheet СМР
A1: Ведомость объемов работ
A2: № п/п | B2: Наименование | C2: Характеристика | D2: Ед. изм. | E2: Кол-во | F2: Цена | G2: Сумма | H2: Примечание
A3: =ROW()-2 -> 1 | B3: Прокладка КПП | D3: м | E3: =SUMIF('11.11 Домофония'!$B$13:$B$116,СМР!B3,'11.11 Домофония'!$F$13:$F$116) -> 5921 | G3: =F3*E3 -> 0
A4: =ROW()-2 -> 2 | B4: Прокладка трубы | D4: м | E4: =SUMIF('11.11 Домофония'!$B$13:$B$116,СМР!B4,'11.11 Домофония'!$F$13:$F$116) -> 4184 | G4: =F4*E4 -> 0
A5: =ROW()-2 -> 3 | B5: Монтажные работы | D5: комплекс | E5: =SUMIF('11.11 Домофония'!$B$13:$B$116,СМР!B5,'11.11 Домофония'!$F$13:$F$116) -> 1 | G5: =F5*E5 -> 0
A6: =ROW()-2 -> 4 | B6: Пусконаладочные работы | D6: комплекс | E6: =SUMIF('11.11 Домофония'!$B$13:$B$116,СМР!B6,'11.11 Домофония'!$F$13:$F$116) -> 1 | G6: =F6*E6 -> 0
F7: ИТОГО: | G7: =SUM(G3:G6) -> 0
F8: проверка: | G8: =G7-'11.11 Домофония'!I118 -> 0
B10: Примечание:
A11: - | B11: В случае, если один из перечисленных прочих материалов не был использован по факту при производстве работ, заказчик вправе откорректировать процент расходных материалов в актах выполненных работ (формы КС-2, КС-3), уменьшив на сумму исключенного материала.
A12: - | B12: Стоимость СМР учитывает - затраты на все второстепенные материалы и работы необходимые для осуществления полного комплекса работ, включая затраты: обеспечение технической водой для производства работ и бытовых целей; на мобилизацию, аренду и эксплуатацию всех необходимых механизмов, оборудования и инструментов, бытовых помещений и биотуалетов; на подъем материалов и разноску по этажам к местам производства работ; выполнение сопутствующих работ; вывоз мусора; накладные расходы, прибыль организации, налоги и иные издержки Подрядчика. Обеспечение безопасного производства работ на участке.
A13: - | B13: Стоимость материалов учитывает стоимость доставки.

Sheet ТМЦ
A1: Спецификация материалов
A2: № п/п | B2: Наименование | C2: Марка | D2: Характеристика | E2: Ед. изм. | F2: Кол-во | G2: Цена | H2: Сумма | I2: Примечание | J2: Форма закупа материала
A3: =ROW()-2 -> 1 | B3: Труба электросварная 76х3,5 | E3: м | F3: =SUMIF('11.11 Домофония'!$B$13:$B$116,B3,'11.11 Домофония'!$F$13:$F$116) -> 6.3 | H3: =G3*F3 -> 0 | I3: =VLOOKUP(B3,'11.11 Домофония'!$B$13:$J$116,9,0) -> 0
A4: =ROW()-2 -> 2 | B4: Camkeeper LINE 2.0 SHC-1-5 диагностика технического состояния IP-устройств | E4: шт. | F4: =SUMIF('11.11 Домофония'!$B$13:$B$116,B4,'11.11 Домофония'!$F$13:$F$116) -> 1 | H4: =G4*F4 -> 0 | I4: =VLOOKUP(B4,'11.11 Домофония'!$B$13:$J$116,9,0) -> Состав коммутационного шкафа домофонии
A5: =ROW()-2 -> 3 | B5: INSTA 100х55 Короб с крышкой(80мм) 100х55мм | E5: м. | F5: =SUMIF('11.11 Домофония'!$B$13:$B$116,B5,'11.11 Домофония'!$F$13:$F$116) -> 4 | H5: =G5*F5 -> 0 | I5: =VLOOKUP(B5,'11.11 Домофония'!$B$13:$J$116,9,0) -> 0
A6: =ROW()-2 -> 4 | B6: Автоматический выключатель 1P 16А (C) 4,5kA ВА 47-63 EKF PROxima | E6: шт. | F6: =SUMIF('11.11 Домофония'!$B$13:$B$116,B6,'11.11 Домофония'!$F$13:$F$116) -> 1 | H6: =G6*F6 -> 0 | I6: =VLOOKUP(B6,'11.11 Домофония'!$B$13:$J$116,9,0) -> Состав коммутационного шкафа домофонии
A7: =ROW()-2 -> 5 | B7: Автоматический выключатель 1P 25А (C) 4,5kA ВА 47-63 EKF PROxima | E7: шт. | F7: =SUMIF('11.11 Домофония'!$B$13:$B$116,B7,'11.11 Домофония'!$F$13:$F$116) -> 1 | H7: =G7*F7 -> 0 | I7: =VLOOKUP(B7,'11.11 Домофония'!$B$13:$J$116,9,0) -> Состав коммутационного шкафа домофонии
A8: =ROW()-2 -> 6 | B8: Автоматический выключатель 1P 5А (В) 4,5kA ВА 47-63 EKF PROxima | E8: шт. | F8: =SUMIF('11.11 Домофония'!$B$13:$B$116,B8,'11.11 Домофония'!$F$13:$F$116) -> 5 | H8: =G8*F8 -> 0 | I8: =VLOOKUP(B8,'11.11 Домофония'!$B$13:$J$116,9,0) -> Состав коммутационного шкафа домофонии
A9: =ROW()-2 -> 7 | B9: Аккумулятор Delta DT 1207 (12V 7Аh) | E9: шт. | F9: =SUMIF('11.11 Домофония'!$B$13:$B$116,B9,'11.11 Домофония'!$F$13:$F$116) -> 3 | H9: =G9*F9 -> 0 | I9: =VLOOKUP(B9,'11.11 Домофония'!$B$13:$J$116,9,0) -> Состав коммутационного шкафа домофонии
A10: =ROW()-2 -> 8 | B10: Бесконтактная-ИК кнопка выхода тип 1 | C10: - | D10: врезная DR-04 | E10: шт. | F10: =SUMIF('11.11 Домофония'!$B$13:$B$116,B10,'11.11 Домофония'!$F$13:$F$116) -> 2 | H10: =G10*F10 -> 0 | I10: =VLOOKUP(B10,'11.11 Домофония'!$B$13:$J$116,9,0) -> 0
A11: =ROW()-2 -> 9 | B11: Бесконтактная-ИК кнопка выхода тип 2 | C11: - | D11: накладная DR-03 | F11: =SUMIF('11.11 Домофония'!$B$13:$B$116,B11,'11.11 Домофония'!$F$13:$F$116) -> 3 | H11: =G11*F11 -> 0 | I11: =VLOOKUP(B11,'11.11 Домофония'!$B$13:$J$116,9,0) -> 0
A12: =ROW()-2 -> 10 | B12: Бесконтактный брендированный ключ | C12: "СТРАНА КАРТ" | D12: Чип SMARTTAG, кодировка для Akuvox, адаптация реестра UID и клиента для загрузки шаблоном в базу Akuvox, нумерация ключа строго по базе, стикер с номерацией квартиры на каждом ключе | E12: шт. | F12: =SUMIF('11.11 Домофония'!$B$13:$B$116,B12,'11.11 Домофония'!$F$13:$F$116) -> 462 | H12: =G12*F12 -> 0 | I12: =VLOOKUP(B12,'11.11 Домофония'!$B$13:$J$116,9,0) -> на жилых этажах
A13: =ROW()-2 -> 11 | B13: Блок питания AC-DC DRC-60A, с функцией UPS, 60Вт, 13.8В | E13: шт. | F13: =SUMIF('11.11 Домофония'!$B$13:$B$116,B13,'11.11 Домофония'!$F$13:$F$116) -> 3 | H13: =G13*F13 -> 0 | I13: =VLOOKUP(B13,'11.11 Домофония'!$B$13:$J$116,9,0) -> Состав коммутационного шкафа домофонии
A14: =ROW()-2 -> 12 | B14: Блок питания Mean-Well HDR-30-12 | E14: шт. | F14: =SUMIF('11.11 Домофония'!$B$13:$B$116,B14,'11.11 Домофония'!$F$13:$F$116) -> 2 | H14: =G14*F14 -> 0 | I14: =VLOOKUP(B14,'11.11 Домофония'!$B$13:$J$116,9,0) -> Состав коммутационного шкафа домофонии
A15: =ROW()-2 -> 13 | B15: Блок электрических розеток | C15: TLK-RSC09-M-04-BK | D15: TLK, 19" на 9 гнезд "евророзетка", 16 A | E15: шт. | F15: =SUMIF('11.11 Домофония'!$B$13:$B$116,B15,'11.11 Домофония'!$F$13:$F$116) -> 1 | H15: =G15*F15 -> 0 | I15: =VLOOKUP(B15,'11.11 Домофония'!$B$13:$J$116,9,0) -> Состав коммутационного шкафа домофонии
A16: =ROW()-2 -> 14 | B16: Болт М6х25 оцинкованный с внутренним шестигранником, класс прочности 8.8, DIN 912 | E16: шт. | F16: =SUMIF('11.11 Домофония'!$B$13:$B$116,B16,'11.11 Домофония'!$F$13:$F$116) -> 10 | H16: =G16*F16 -> 0 | I16: =VLOOKUP(B16,'11.11 Домофония'!$B$13:$J$116,9,0) -> 0
A17: =ROW()-2 -> 15 | B17: Вызывная панель тип 1 | C17: Akuvox X912S | D17: - | E17: шт. | F17: =SUMIF('11.11 Домофония'!$B$13:$B$116,B17,'11.11 Домофония'!$F$13:$F$116) -> 2 | H17: =G17*F17 -> 0 | I17: =VLOOKUP(B17,'11.11 Домофония'!$B$13:$J$116,9,0) -> 0
A18: =ROW()-2 -> 16 | B18: Гвозди по бетону усиленные Toua 3.05x19 мм, под пистолет (1000шт. в пч.) | E18: шт. | F18: =SUMIF('11.11 Домофония'!$B$13:$B$116,B18,'11.11 Домофония'!$F$13:$F$116) -> 846 | H18: =G18*F18 -> 0 | I18: =VLOOKUP(B18,'11.11 Домофония'!$B$13:$J$116,9,0) -> 0
A19: =ROW()-2 -> 17 | B19: Гвозди по бетону усиленные Toua 3.05x19 мм, под пистолет. (1000шт. в пч.) | E19: шт. | F19: =SUMIF('11.11 Домофония'!$B$13:$B$116,B19,'11.11 Домофония'!$F$13:$F$116) -> 16553 | H19: =G19*F19 -> 0 | I19: =VLOOKUP(B19,'11.11 Домофония'!$B$13:$J$116,9,0) -> 0
A20: =ROW()-2 -> 18 | B20: Гофрированная труба REXANT ПП 4,6 мм, разрезная, бухтa 5 м/уп. 15-0505 | E20: м. | F20: =SUMIF('11.11 Домофония'!$B$13:$B$116,B20,'11.11 Домофония'!$F$13:$F$116) -> 1.8 | H20: =G20*F20 -> 0 | I20: =VLOOKUP(B20,'11.11 Домофония'!$B$13:$J$116,9,0) -> 0
A21: =ROW()-2 -> 19 | B21: Дюбель-хомут 5-10мм нейлон (100шт. в пч.) | E21: шт. | F21: =SUMIF('11.11 Домофония'!$B$13:$B$116,B21,'11.11 Домофония'!$F$13:$F$116) -> 1020 | H21: =G21*F21 -> 0 | I21: =VLOOKUP(B21,'11.11 Домофония'!$B$13:$J$116,9,0) -> 0
A22: =ROW()-2 -> 20 | B22: Заклепка резьбовая шестигранная с плоским бортом М6 L15,0 | E22: шт. | F22: =SUMIF('11.11 Домофония'!$B$13:$B$116,B22,'11.11 Домофония'!$F$13:$F$116) -> 10 | H22: =G22*F22 -> 0 | I22: =VLOOKUP(B22,'11.11 Домофония'!$B$13:$J$116,9,0) -> 0
A23: =ROW()-2 -> 21 | B23: Замок электромагнитный | C23: - | D23: М2-400 серый (ОЛЭВС) | E23: шт. | F23: =SUMIF('11.11 Домофония'!$B$13:$B$116,B23,'11.11 Домофония'!$F$13:$F$116) -> 5 | H23: =G23*F23 -> 0 | I23: =VLOOKUP(B23,'11.11 Домофония'!$B$13:$J$116,9,0) -> 0
A24: =ROW()-2 -> 22 | B24: Кабель прямого подключения SFP/SFP+ MikroTik XS+DA0001 | E24: шт. | F24: =SUMIF('11.11 Домофония'!$B$13:$B$116,B24,'11.11 Домофония'!$F$13:$F$116) -> 1 | H24: =G24*F24 -> 0 | I24: =VLOOKUP(B24,'11.11 Домофония'!$B$13:$J$116,9,0) -> Оптика между домами
A25: =ROW()-2 -> 23 | B25: Кабель тип 1 | C25: EC-UU004-5E-PVC-GY | D25: NETLAN U/UTP 4 пары, категория 5e, внутренний, PVC, серый, 305м | E25: м. | F25: =SUMIF('11.11 Домофония'!$B$13:$B$116,B25,'11.11 Домофония'!$F$13:$F$116) -> 270 | H25: =G25*F25 -> 0 | I25: =VLOOKUP(B25,'11.11 Домофония'!$B$13:$J$116,9,0) -> 0
A26: =ROW()-2 -> 24 | B26: Кабель тип 2 | D26: силовой ВВГнг(А)-LS 3х2.5 плоский ГОСТ | E26: м. | F26: =SUMIF('11.11 Домофония'!$B$13:$B$116,B26,'11.11 Домофония'!$F$13:$F$116) -> 38 | H26: =G26*F26 -> 0 | I26: =VLOOKUP(B26,'11.11 Домофония'!$B$13:$J$116,9,0) -> 0
A27: =ROW()-2 -> 25 | B27: Кабель тип 8 | D27: силовой ВВГнг(А)-LS 3х1.5 плоский ГОСТ | E27: м. | F27: =SUMIF('11.11 Домофония'!$B$13:$B$116,B27,'11.11 Домофония'!$F$13:$F$116) -> 132 | H27: =G27*F27 -> 0 | I27: =VLOOKUP(B27,'11.11 Домофония'!$B$13:$J$116,9,0) -> 0
A28: =ROW()-2 -> 26 | B28: Кабель тип 3 | D28: UTP Внутренний 4*2*0.48 медь серый PVC | E28: м. | F28: =SUMIF('11.11 Домофония'!$B$13:$B$116,B28,'11.11 Домофония'!$F$13:$F$116) -> 3773 | H28: =G28*F28 -> 0 | I28: =VLOOKUP(B28,'11.11 Домофония'!$B$13:$J$116,9,0) -> 0
A29: =ROW()-2 -> 27 | B29: Кабель тип 4 | D29: огнестойкий КПСнг(А)-FRHF 1х2х0,5 | E29: м. | F29: =SUMIF('11.11 Домофония'!$B$13:$B$116,B29,'11.11 Домофония'!$F$13:$F$116) -> 40 | H29: =G29*F29 -> 0 | I29: =VLOOKUP(B29,'11.11 Домофония'!$B$13:$J$116,9,0) -> Состав коммутационного шкафа домофонии
A30: =ROW()-2 -> 28 | B30: Кабель тип 5 | D30: оптический негорючий для прокладки в канализацию 4 волокона | E30: м. | F30: =SUMIF('11.11 Домофония'!$B$13:$B$116,B30,'11.11 Домофония'!$F$13:$F$116) -> 150 | H30: =G30*F30 -> 0 | I30: =VLOOKUP(B30,'11.11 Домофония'!$B$13:$J$116,9,0) -> Оптика между домами
A31: =ROW()-2 -> 29 | B31: Кабель тип 6 | D31: ШВВП 2х0,75 белый ГОСТ | E31: м. | F31: =SUMIF('11.11 Домофония'!$B$13:$B$116,B31,'11.11 Домофония'!$F$13:$F$116) -> 228 | H31: =G31*F31 -> 0 | I31: =VLOOKUP(B31,'11.11 Домофония'!$B$13:$J$116,9,0) -> 0
A32: =ROW()-2 -> 30 | B32: Кабель тип 9 | D32: UTP внутренний LSZH 2*2*0.48 | E32: м. | F32: =SUMIF('11.11 Домофония'!$B$13:$B$116,B32,'11.11 Домофония'!$F$13:$F$116) -> 1290 | H32: =G32*F32 -> 0 | I32: =VLOOKUP(B32,'11.11 Домофония'!$B$13:$J$116,9,0) -> 0
A33: =ROW()-2 -> 31 | B33: Кабель тип 7 | D33: КСПВ 4х0,5 | E33: м. | F33: =SUMIF('11.11 Домофония'!$B$13:$B$116,B33,'11.11 Домофония'!$F$13:$F$116) -> 48 | H33: =G33*F33 -> 0 | I33: =VLOOKUP(B33,'11.11 Домофония'!$B$13:$J$116,9,0) -> 0
A34: =ROW()-2 -> 32 | B34: Клемма DIY YOU PCT-213, быстрозажимной кабельный соединитель | E34: шт. | F34: =SUMIF('11.11 Домофония'!$B$13:$B$116,B34,'11.11 Домофония'!$F$13:$F$116) -> 3 | H34: =G34*F34 -> 0 | I34: =VLOOKUP(B34,'11.11 Домофония'!$B$13:$J$116,9,0) -> 0
A35: =ROW()-2 -> 33 | B35: Клемма DIY YOU PCT-213, быстрозажимной кабельный соединитель, 3 общих проводника L | E35: шт. | F35: =SUMIF('11.11 Домофония'!$B$13:$B$116,B35,'11.11 Домофония'!$F$13:$F$116) -> 63 | H35: =G35*F35 -> 0 | I35: =VLOOKUP(B35,'11.11 Домофония'!$B$13:$J$116,9,0) -> 0
A36: =ROW()-2 -> 34 | B36: Колодка реле PTF14A | E36: шт. | F36: =SUMIF('11.11 Домофония'!$B$13:$B$116,B36,'11.11 Домофония'!$F$13:$F$116) -> 2 | H36: =G36*F36 -> 0 | I36: =VLOOKUP(B36,'11.11 Домофония'!$B$13:$J$116,9,0) -> Состав коммутационного шкафа домофонии
A37: =ROW()-2 -> 35 | B37: Коммутатор тип 1 | D37: Тюменский коммутатор Т1008 с защитой коммутации 8*10/100M PoE IEEE 802.3af/at,+2*10/100M uplink RJ45 | E37: шт. | F37: =SUMIF('11.11 Домофония'!$B$13:$B$116,B37,'11.11 Домофония'!$F$13:$F$116) -> 19 | H37: =G37*F37 -> 0 | I37: =VLOOKUP(B37,'11.11 Домофония'!$B$13:$J$116,9,0) -> на жилых этажах
A38: =ROW()-2 -> 36 | B38: Коммутатор тип 2 | D38: Тюменский коммутатор Т1004 с защитой коммутации 4*10/100M PoE IEEE 802.3af/at,+2*10/100M uplink RJ45 | E38: шт. | F38: =SUMIF('11.11 Домофония'!$B$13:$B$116,B38,'11.11 Домофония'!$F$13:$F$116) -> 1 | H38: =G38*F38 -> 0 | I38: =VLOOKUP(B38,'11.11 Домофония'!$B$13:$J$116,9,0) -> на жилых этажах
A39: =ROW()-2 -> 37 | B39: Коммутатор тип 3 | C39: GL-SW-F005-04P | D39: сетевой PoE коммутатор 4 POE + Uplink | E39: шт. | F39: =SUMIF('11.11 Домофония'!$B$13:$B$116,B39,'11.11 Домофония'!$F$13:$F$116) -> 1 | H39: =G39*F39 -> 0 | I39: =VLOOKUP(B39,'11.11 Домофония'!$B$13:$J$116,9,0) -> Состав коммутационного шкафа домофонии
A40: =ROW()-2 -> 38 | B40: Коммутационный шнур U/UTP 4-х парный cat.5e 1м LSZH | E40: шт. | F40: =SUMIF('11.11 Домофония'!$B$13:$B$116,B40,'11.11 Домофония'!$F$13:$F$116) -> 1 | H40: =G40*F40 -> 0 | I40: =VLOOKUP(B40,'11.11 Домофония'!$B$13:$J$116,9,0) -> для Camkeeper
...
