Workbook
Name Данные: [1]Тестовый!$F$10:$H$14

Sheet ЛСР
L1: Приложение №
L2: к Договору подряда №
B4: ПОДРЯДЧИК: | E4: ЗАКАЗЧИК: | J4: ТЕХНИЧЕСКИЙ ЗАКАЗЧИК:
E5: ООО "ЭНКО СТРОЙ" | J5: ООО "Технический заказчик "ЭНКО"
B7: _________________/ | E7: ___________/С.И. Ярков | J7: ___________/С.И. Ярков
E9: Локальный сметный расчет №
E10: Устройство системы телевидения ГП-214.
A12: № | B12: Наименование | C12: Марка | D12: Характеристика | E12: Ед. изм. | F12: ГП-214.1 | G12: ГП-214.2 | H12: Кол-во | I12: Цена | J12: Сумма | K12: Примечание | L12: Форма закупа материала
A13: 11 | B13: Внутренние инженерные сети
A14: 11.13. | B14: Устройство телевидения
A15: 11.13.01 | B15: Прокладка КПП, трубы
A16: 11.13.01.00 | B16: Прокладка КПП, трубы | J16: =J17+J21 -> 0
B17: Работа: | J17: =SUM(J18:J20) -> 0
B18: Прокладка КПП | E18: м | F18: =SUM(F22:F24) -> 1110 | G18: =SUM(G22:G24) -> 2060 | H18: =SUM(F18:G18) -> 3170 | I18: =VLOOKUP(B18,СМР!$B$3:$H$9,7,0) -> 0 | J18: =I18*H18 -> 0
B19: Прокладка трубы | E19: м | F19: =SUM(F25:F28) -> 969.2 | G19: =SUM(G25:G28) -> 1712 | H19: =SUM(F19:G19) -> 2681.2 | I19: =VLOOKUP(B19,СМР!$B$3:$H$9,7,0) -> 0 | J19: =I19*H19 -> 0
B20: Прокладка металлорукава | E20: м | F20: =F29 -> 50 | G20: =G29 -> 50 | H20: =SUM(F20:G20) -> 100 | I20: =VLOOKUP(B20,СМР!$B$3:$H$9,7,0) -> 0 | J20: =I20*H20 -> 0
B21: Материалы: | J21: =SUM(J22:J31) -> 0
B22: Кабель тип 1 | D22: Кабель коаксиальный распределительный SAT-703 | E22: м | F22: 1000 | G22: 1850 | H22: =SUM(F22:G22) -> 2850 | I22: =VLOOKUP($B22,ТМЦ!$B$3:$L$38,8,0) -> 0 | J22: =I22*H22 -> 0 | L22: =VLOOKUP($B22,ТМЦ!$B$3:$L$38,11,0) -> 0
B23: Кабель тип 2 | C23: ВВГнг(А)-LS-0,66 | D23: Кабель силовой с медными жилами в ПВХ изоляции негорючий сечением 3х2,5мм2 | E23: м | F23: 100 | G23: 200 | H23: =SUM(F23:G23) -> 300 | I23: =VLOOKUP($B23,ТМЦ!$B$3:$L$38,8,0) -> 0 | J23: =I23*H23 -> 0 | L23: =VLOOKUP($B23,ТМЦ!$B$3:$L$38,11,0) -> 0
B24: Провод | C24: ПуГВнг(А)-LS | D24: Провод с медной жилой, гибкий сечением 6 мм2 | E24: м | F24: 10 | G24: 10 | H24: =SUM(F24:G24) -> 20 | I24: =VLOOKUP($B24,ТМЦ!$B$3:$L$38,8,0) -> 0 | J24: =I24*H24 -> 0 | K24: заземление | L24: =VLOOKUP($B24,ТМЦ!$B$3:$L$38,11,0) -> 0
B25: Труба тип 1 | D25: Труба ПЭ 20х2,0 PN12 | E25: м | F25: 750 | G25: 1360 | H25: =SUM(F25:G25) -> 2110 | I25: =VLOOKUP($B25,ТМЦ!$B$3:$L$38,8,0) -> 0 | J25: =I25*H25 -> 0 | L25: =VLOOKUP($B25,ТМЦ!$B$3:$L$38,11,0) -> 0
B26: Труба тип 2 | D26: Труба гофрированная Ду 20мм ПВХ | E26: м | F26: 140 | G26: 220 | H26: =SUM(F26:G26) -> 360 | I26: =VLOOKUP($B26,ТМЦ!$B$3:$L$38,8,0) -> 0 | J26: =I26*H26 -> 0 | L26: =VLOOKUP($B26,ТМЦ!$B$3:$L$38,11,0) -> 0
B27: Труба тип 3 | D27: гладкая ПВХ диаметром 50мм | E27: м | F27: 72 | G27: 120 | H27: =SUM(F27:G27) -> 192 | I27: =VLOOKUP($B27,ТМЦ!$B$3:$L$38,8,0) -> 0 | J27: =I27*H27 -> 0 | L27: =VLOOKUP($B27,ТМЦ!$B$3:$L$38,11,0) -> 0
B28: Труба тип 4 | D28: Труба электросварная 76х3,5 | E28: м | F28: =F27*0.1 -> 7.2 | G28: =G27*0.1 -> 12 | H28: =SUM(F28:G28) -> 19.2 | I28: =VLOOKUP($B28,ТМЦ!$B$3:$L$38,8,0) -> 0 | J28: =I28*H28 -> 0 | L28: =VLOOKUP($B28,ТМЦ!$B$3:$L$38,11,0) -> 0
B29: Труба тип 5 | D29: Металлорукав в ПВХ изоляции РЗ-ЦП 16 | E29: м | F29: 50 | G29: 50 | H29: =SUM(F29:G29) -> 100 | I29: =VLOOKUP($B29,ТМЦ!$B$3:$L$38,8,0) -> 0 | J29: =I29*H29 -> 0 | L29: =VLOOKUP($B29,ТМЦ!$B$3:$L$38,11,0) -> 0
B30: Коробка 200x160x70 мм скрытой установки (с крышкой) | E30: шт. | F30: 88 | G30: 156 | H30: =SUM(F30:G30) -> 244 | I30: =VLOOKUP($B30,ТМЦ!$B$3:$L$38,8,0) -> 0 | J30: =I30*H30 -> 0 | L30: =VLOOKUP($B30,ТМЦ!$B$3:$L$38,11,0) -> 0
B31: Прочие материалы (Хомут трубный 1.1/2" 47-51 с резинкой, дюбелем, винтом М8, Монтажная пена Технониколь 240 PROFESSIONAL, огнестойкая, TN528380, Огнезащитный силиконовый герметик Огнетитан SN однокомпонентный, серый 310 мл ТУ 2513-004-03495485-2016 БП-00000536, Монтажная лента текстильная под пистолет, Гвозди по бетону усиленные Toua 3.05x19 мм, под пистолет. (1000шт. в пч.)) | E31: % | H31: =J31/J17 -> #DIV/0! | J31: =SUM(J32:J36) -> 0
B32: Хомут трубный 1.1/2" 47-51 с резинкой, дюбелем, винтом М8 | E32: шт. | F32: =(F27/3)*2 -> 48 | G32: =(G27/3)*2 -> 80 | H32: =SUM(F32:G32) -> 128 | I32: =VLOOKUP($B32,ТМЦ!$B$3:$L$38,8,0) -> 0 | J32: =I32*H32 -> 0 | L32: =VLOOKUP($B32,ТМЦ!$B$3:$L$38,11,0) -> 0
B33: Монтажная пена Технониколь 240 PROFESSIONAL, огнестойкая, TN528380 | E33: шт. | F33: =ROUND((F27/3)*0.1,0) -> 2 | G33: =(G27/3)*0.1 -> 4 | H33: =SUM(F33:G33) -> 6 | I33: =VLOOKUP($B33,ТМЦ!$B$3:$L$38,8,0) -> 0 | J33: =I33*H33 -> 0 | L33: =VLOOKUP($B33,ТМЦ!$B$3:$L$38,11,0) -> 0
B34: Огнезащитный силиконовый герметик Огнетитан SN однокомпонентный, серый 310 мл ТУ 2513-004-03495485-2016 БП-00000536 | E34: шт. | F34: =ROUND((F27/3)*0.1,0) -> 2 | G34: =(G27/3)*0.1 -> 4 | H34: =SUM(F34:G34) -> 6 | I34: =VLOOKUP($B34,ТМЦ!$B$3:$L$38,8,0) -> 0 | J34: =I34*H34 -> 0 | L34: =VLOOKUP($B34,ТМЦ!$B$3:$L$38,11,0) -> 0
B35: Монтажная лента текстильная под пистолет | E35: м. | F35: =F25*0.25 -> 187.5 | G35: =G25*0.25 -> 340 | H35: =SUM(F35:G35) -> 527.5 | I35: =VLOOKUP($B35,ТМЦ!$B$3:$L$38,8,0) -> 0 | J35: =I35*H35 -> 0 | L35: =VLOOKUP($B35,ТМЦ!$B$3:$L$38,11,0) -> 0
B36: Гвозди по бетону усиленные Toua 3.05x19 мм, под пистолет. (1000шт. в пч.) | E36: шт. | F36: =F25*5 -> 3750 | G36: =G25*5 -> 6800 | H36: =SUM(F36:G36) -> 10550 | I36: =VLOOKUP($B36,ТМЦ!$B$3:$L$38,8,0) -> 0 | J36: =I36*H36 -> 0 | L36: =VLOOKUP($B36,ТМЦ!$B$3:$L$38,11,0) -> 0
A37: 11.13.02. | B37: Установка оборудования
A38: 11.13.02.00 | B38: Установка оборудования | J38: =J39+J42 -> 0
B39: Работа: | J39: =SUM(J40:J41) -> 0
B40: Монтаж антенны с усилителем и мачтой | E40: шт | F40: 1 | G40: 1 | H40: =SUM(F40:G40) -> 2 | I40: =VLOOKUP(B40,СМР!$B$3:$H$9,7,0) -> 0 | J40: =I40*H40 -> 0 | K40: Монтаж антенны, грозозащиты, мачты, усилителя
B41: Монтаж изолятора с усилителем | E41: шт | F41: 1 | G41: 1 | H41: =SUM(F41:G41) -> 2 | I41: =VLOOKUP(B41,СМР!$B$3:$H$9,7,0) -> 0 | J41: =I41*H41 -> 0 | K41: Монтаж изолятора, усилителя, тв розеток в тч все прочие материалы
B42: Материалы: | J42: =SUM(J43:J64) -> 0
B43: Антенна | D43: Антенна ДМВ, "Сигнал профи", Зэтрон, 12,5дБ, АТКГ(В)-5.1.21-60.4 МИР 5 эл. МВ 1-3 канал | E43: шт. | F43: 1 | G43: 1 | H43: =SUM(F43:G43) -> 2 | I43: =VLOOKUP($B43,ТМЦ!$B$3:$L$38,8,0) -> 0 | J43: =I43*H43 -> 0 | L43: =VLOOKUP($B43,ТМЦ!$B$3:$L$38,11,0) -> 0
B44: Грозозащита - разрядник, ЛАНС | D44: ART-UV-1 | E44: шт. | F44: 1 | G44: 1 | H44: =SUM(F44:G44) -> 2 | I44: =VLOOKUP($B44,ТМЦ!$B$3:$L$38,8,0) -> 0 | J44: =I44*H44 -> 0 | L44: =VLOOKUP($B44,ТМЦ!$B$3:$L$38,11,0) -> 0
...

Sheet СМР
A1: Ведомость объемов работ
A2: № п/п | B2: Наименование | C2: Характеристика | D2: Ед. изм. | E2: ГП-214.1 | F2: ГП-214.2 | G2: Кол-во | H2: Цена | I2: Сумма | J2: Примечание
A3: =ROW()-2 -> 1 | B3: Прокладка КПП | D3: м | E3: =SUMIF(ЛСР!$B$13:$B$71,СМР!$B3,ЛСР!F$13:F$71) -> 1110 | F3: =SUMIF(ЛСР!$B$13:$B$71,СМР!$B3,ЛСР!G$13:G$71) -> 2060 | G3: =SUMIF(ЛСР!$B$13:$B$71,СМР!$B3,ЛСР!H$13:H$71) -> 3170 | I3: =H3*G3 -> 0
A4: =ROW()-2 -> 2 | B4: Прокладка трубы | D4: м | E4: =SUMIF(ЛСР!$B$13:$B$71,СМР!$B4,ЛСР!F$13:F$71) -> 969.2 | F4: =SUMIF(ЛСР!$B$13:$B$71,СМР!$B4,ЛСР!G$13:G$71) -> 1712 | G4: =SUMIF(ЛСР!$B$13:$B$71,СМР!$B4,ЛСР!H$13:H$71) -> 2681.2 | I4: =H4*G4 -> 0
A5: =ROW()-2 -> 3 | B5: Прокладка металлорукава | D5: м | E5: =SUMIF(ЛСР!$B$13:$B$71,СМР!$B5,ЛСР!F$13:F$71) -> 50 | F5: =SUMIF(ЛСР!$B$13:$B$71,СМР!$B5,ЛСР!G$13:G$71) -> 50 | G5: =SUMIF(ЛСР!$B$13:$B$71,СМР!$B5,ЛСР!H$13:H$71) -> 100 | I5: =H5*G5 -> 0
A6: =ROW()-2 -> 4 | B6: Монтаж антенны с усилителем и мачтой | D6: шт | E6: =SUMIF(ЛСР!$B$13:$B$71,СМР!$B6,ЛСР!F$13:F$71) -> 1 | F6: =SUMIF(ЛСР!$B$13:$B$71,СМР!$B6,ЛСР!G$13:G$71) -> 1 | G6: =SUMIF(ЛСР!$B$13:$B$71,СМР!$B6,ЛСР!H$13:H$71) -> 2 | I6: =H6*G6 -> 0
A7: =ROW()-2 -> 5 | B7: Монтаж изолятора с усилителем | D7: шт | E7: =SUMIF(ЛСР!$B$13:$B$71,СМР!$B7,ЛСР!F$13:F$71) -> 1 | F7: =SUMIF(ЛСР!$B$13:$B$71,СМР!$B7,ЛСР!G$13:G$71) -> 1 | G7: =SUMIF(ЛСР!$B$13:$B$71,СМР!$B7,ЛСР!H$13:H$71) -> 2 | I7: =H7*G7 -> 0
A8: =ROW()-2 -> 6 | B8: Пусконаладочные работы секция 1 | D8: комплекс | E8: =SUMIF(ЛСР!$B$13:$B$71,СМР!$B8,ЛСР!F$13:F$71) -> 1 | F8: =SUMIF(ЛСР!$B$13:$B$71,СМР!$B8,ЛСР!G$13:G$71) -> 0 | G8: =SUMIF(ЛСР!$B$13:$B$71,СМР!$B8,ЛСР!H$13:H$71) -> 1 | I8: =H8*G8 -> 0
A9: =ROW()-2 -> 7 | B9: Пусконаладочные работы секция 2 | D9: комплекс | E9: =SUMIF(ЛСР!$B$13:$B$71,СМР!$B9,ЛСР!F$13:F$71) -> 0 | F9: =SUMIF(ЛСР!$B$13:$B$71,СМР!$B9,ЛСР!G$13:G$71) -> 1 | G9: =SUMIF(ЛСР!$B$13:$B$71,СМР!$B9,ЛСР!H$13:H$71) -> 1 | I9: =H9*G9 -> 0
H10: ИТОГО: | I10: =SUM(I3:I9) -> 0
H11: проверка: | I11: =I10-ЛСР!J73 -> 0
B13: Примечание:
A14: - | B14: В случае, если один из перечисленных прочих материалов не был использован по факту при производстве работ, заказчик вправе откорректировать процент расходных материалов в актах выполненных работ (формы КС-2, КС-3), уменьшив на сумму исключенного материала.
A15: - | B15: Стоимость СМР учитывает - затраты на все второстепенные материалы и работы необходимые для осуществления полного комплекса работ, включая затраты: обеспечение технической водой для производства работ и бытовых целей; на мобилизацию, аренду и эксплуатацию всех необходимых механизмов, оборудования и инструментов, бытовых помещений и биотуалетов; на подъем материалов и разноску по этажам к местам производства работ; выполнение сопутствующих работ; вывоз мусора; накладные расходы, прибыль организации, налоги и иные издержки Подрядчика. Обеспечение безопасного производства работ на участке.
A16: - | B16: Стоимость материалов учитывает стоимость доставки.

Sheet ТМЦ
A1: Спецификация материалов
A2: № п/п | B2: Наименование | C2: Марка | D2: Характеристика | E2: Ед. изм. | F2: ГП-214.1 | G2: ГП-214.2 | H2: Кол-во | I2: Цена | J2: Сумма | K2: Примечание | L2: Форма закупа материала
A3: =ROW()-2 -> 1 | B3: Кабель тип 1 | D3: Кабель коаксиальный распределительный SAT-703 | E3: м | F3: =SUMIF(ЛСР!$B$13:$B$71,$B3,ЛСР!F$13:F$71) -> 1000 | G3: =SUMIF(ЛСР!$B$13:$B$71,$B3,ЛСР!G$13:G$71) -> 1850 | H3: =SUMIF(ЛСР!$B$13:$B$71,$B3,ЛСР!H$13:H$71) -> 2850 | J3: =I3*H3 -> 0 | K3: =VLOOKUP(B3,ЛСР!$B$13:$K$71,10,0) -> 0
A4: =ROW()-2 -> 2 | B4: Кабель тип 2 | C4: ВВГнг(А)-LS-0,66 | D4: Кабель силовой с медными жилами в ПВХ изоляции негорючий сечением 3х2,5мм2 | E4: м | F4: =SUMIF(ЛСР!$B$13:$B$71,$B4,ЛСР!F$13:F$71) -> 100 | G4: =SUMIF(ЛСР!$B$13:$B$71,$B4,ЛСР!G$13:G$71) -> 200 | H4: =SUMIF(ЛСР!$B$13:$B$71,$B4,ЛСР!H$13:H$71) -> 300 | J4: =I4*H4 -> 0 | K4: =VLOOKUP(B4,ЛСР!$B$13:$K$71,10,0) -> 0
A5: =ROW()-2 -> 3 | B5: Провод | C5: ПуГВнг(А)-LS | D5: Провод с медной жилой, гибкий сечением 6 мм2 | E5: м | F5: =SUMIF(ЛСР!$B$13:$B$71,$B5,ЛСР!F$13:F$71) -> 10 | G5: =SUMIF(ЛСР!$B$13:$B$71,$B5,ЛСР!G$13:G$71) -> 10 | H5: =SUMIF(ЛСР!$B$13:$B$71,$B5,ЛСР!H$13:H$71) -> 20 | J5: =I5*H5 -> 0 | K5: =VLOOKUP(B5,ЛСР!$B$13:$K$71,10,0) -> заземление
A6: =ROW()-2 -> 4 | B6: Труба тип 1 | D6: Труба ПЭ 20х2,0 PN12 | E6: м | F6: =SUMIF(ЛСР!$B$13:$B$71,$B6,ЛСР!F$13:F$71) -> 750 | G6: =SUMIF(ЛСР!$B$13:$B$71,$B6,ЛСР!G$13:G$71) -> 1360 | H6: =SUMIF(ЛСР!$B$13:$B$71,$B6,ЛСР!H$13:H$71) -> 2110 | J6: =I6*H6 -> 0 | K6: =VLOOKUP(B6,ЛСР!$B$13:$K$71,10,0) -> 0
A7: =ROW()-2 -> 5 | B7: Труба тип 2 | D7: Труба гофрированная Ду 20мм ПВХ | E7: м | F7: =SUMIF(ЛСР!$B$13:$B$71,$B7,ЛСР!F$13:F$71) -> 140 | G7: =SUMIF(ЛСР!$B$13:$B$71,$B7,ЛСР!G$13:G$71) -> 220 | H7: =SUMIF(ЛСР!$B$13:$B$71,$B7,ЛСР!H$13:H$71) -> 360 | J7: =I7*H7 -> 0 | K7: =VLOOKUP(B7,ЛСР!$B$13:$K$71,10,0) -> 0
A8: =ROW()-2 -> 6 | B8: Труба тип 3 | D8: гладкая ПВХ диаметром 50мм | E8: м | F8: =SUMIF(ЛСР!$B$13:$B$71,$B8,ЛСР!F$13:F$71) -> 72 | G8: =SUMIF(ЛСР!$B$13:$B$71,$B8,ЛСР!G$13:G$71) -> 120 | H8: =SUMIF(ЛСР!$B$13:$B$71,$B8,ЛСР!H$13:H$71) -> 192 | J8: =I8*H8 -> 0 | K8: =VLOOKUP(B8,ЛСР!$B$13:$K$71,10,0) -> 0
A9: =ROW()-2 -> 7 | B9: Труба тип 4 | D9: Труба электросварная 76х3,5 | E9: м | F9: =SUMIF(ЛСР!$B$13:$B$71,$B9,ЛСР!F$13:F$71) -> 7.2 | G9: =SUMIF(ЛСР!$B$13:$B$71,$B9,ЛСР!G$13:G$71) -> 12 | H9: =SUMIF(ЛСР!$B$13:$B$71,$B9,ЛСР!H$13:H$71) -> 19.2 | J9: =I9*H9 -> 0 | K9: =VLOOKUP(B9,ЛСР!$B$13:$K$71,10,0) -> 0
A10: =ROW()-2 -> 8 | B10: Труба тип 5 | D10: Металлорукав в ПВХ изоляции РЗ-ЦП 16 | E10: м | F10: =SUMIF(ЛСР!$B$13:$B$71,$B10,ЛСР!F$13:F$71) -> 50 | G10: =SUMIF(ЛСР!$B$13:$B$71,$B10,ЛСР!G$13:G$71) -> 50 | H10: =SUMIF(ЛСР!$B$13:$B$71,$B10,ЛСР!H$13:H$71) -> 100 | J10: =I10*H10 -> 0 | K10: =VLOOKUP(B10,ЛСР!$B$13:$K$71,10,0) -> 0
A11: =ROW()-2 -> 9 | B11: Коробка 200x160x70 мм скрытой установки (с крышкой) | E11: шт. | F11: =SUMIF(ЛСР!$B$13:$B$71,$B11,ЛСР!F$13:F$71) -> 88 | G11: =SUMIF(ЛСР!$B$13:$B$71,$B11,ЛСР!G$13:G$71) -> 156 | H11: =SUMIF(ЛСР!$B$13:$B$71,$B11,ЛСР!H$13:H$71) -> 244 | J11: =I11*H11 -> 0 | K11: =VLOOKUP(B11,ЛСР!$B$13:$K$71,10,0) -> 0
A12: =ROW()-2 -> 10 | B12: Хомут трубный 1.1/2" 47-51 с резинкой, дюбелем, винтом М8 | E12: шт. | F12: =SUMIF(ЛСР!$B$13:$B$71,$B12,ЛСР!F$13:F$71) -> 48 | G12: =SUMIF(ЛСР!$B$13:$B$71,$B12,ЛСР!G$13:G$71) -> 80 | H12: =SUMIF(ЛСР!$B$13:$B$71,$B12,ЛСР!H$13:H$71) -> 128 | J12: =I12*H12 -> 0 | K12: =VLOOKUP(B12,ЛСР!$B$13:$K$71,10,0) -> 0
A13: =ROW()-2 -> 11 | B13: Монтажная пена Технониколь 240 PROFESSIONAL, огнестойкая, TN528380 | E13: шт. | F13: =SUMIF(ЛСР!$B$13:$B$71,$B13,ЛСР!F$13:F$71) -> 2 | G13: =SUMIF(ЛСР!$B$13:$B$71,$B13,ЛСР!G$13:G$71) -> 4 | H13: =SUMIF(ЛСР!$B$13:$B$71,$B13,ЛСР!H$13:H$71) -> 6 | J13: =I13*H13 -> 0 | K13: =VLOOKUP(B13,ЛСР!$B$13:$K$71,10,0) -> 0
A14: =ROW()-2 -> 12 | B14: Огнезащитный силиконовый герметик Огнетитан SN однокомпонентный, серый 310 мл ТУ 2513-004-03495485-2016 БП-00000536 | E14: шт. | F14: =SUMIF(ЛСР!$B$13:$B$71,$B14,ЛСР!F$13:F$71) -> 2 | G14: =SUMIF(ЛСР!$B$13:$B$71,$B14,ЛСР!G$13:G$71) -> 4 | H14: =SUMIF(ЛСР!$B$13:$B$71,$B14,ЛСР!H$13:H$71) -> 6 | J14: =I14*H14 -> 0 | K14: =VLOOKUP(B14,ЛСР!$B$13:$K$71,10,0) -> 0
A15: =ROW()-2 -> 13 | B15: Монтажная лента текстильная под пистолет | E15: м. | F15: =SUMIF(ЛСР!$B$13:$B$71,$B15,ЛСР!F$13:F$71) -> 187.5 | G15: =SUMIF(ЛСР!$B$13:$B$71,$B15,ЛСР!G$13:G$71) -> 340 | H15: =SUMIF(ЛСР!$B$13:$B$71,$B15,ЛСР!H$13:H$71) -> 527.5 | J15: =I15*H15 -> 0 | K15: =VLOOKUP(B15,ЛСР!$B$13:$K$71,10,0) -> 0
A16: =ROW()-2 -> 14 | B16: Гвозди по бетону усиленные Toua 3.05x19 мм, под пистолет. (1000шт. в пч.) | E16: шт. | F16: =SUMIF(ЛСР!$B$13:$B$71,$B16,ЛСР!F$13:F$71) -> 3750 | G16: =SUMIF(ЛСР!$B$13:$B$71,$B16,ЛСР!G$13:G$71) -> 6800 | H16: =SUMIF(ЛСР!$B$13:$B$71,$B16,ЛСР!H$13:H$71) -> 10550 | J16: =I16*H16 -> 0 | K16: =VLOOKUP(B16,ЛСР!$B$13:$K$71,10,0) -> 0
A17: =ROW()-2 -> 15 | B17: Антенна | D17: Антенна ДМВ, "Сигнал профи", Зэтрон, 12,5дБ, АТКГ(В)-5.1.21-60.4 МИР 5 эл. МВ 1-3 канал | E17: шт. | F17: =SUMIF(ЛСР!$B$13:$B$71,$B17,ЛСР!F$13:F$71) -> 1 | G17: =SUMIF(ЛСР!$B$13:$B$71,$B17,ЛСР!G$13:G$71) -> 1 | H17: =SUMIF(ЛСР!$B$13:$B$71,$B17,ЛСР!H$13:H$71) -> 2 | J17: =I17*H17 -> 0 | K17: =VLOOKUP(B17,ЛСР!$B$13:$K$71,10,0) -> 0
A18: =ROW()-2 -> 16 | B18: Грозозащита - разрядник, ЛАНС | D18: ART-UV-1 | E18: шт. | F18: =SUMIF(ЛСР!$B$13:$B$71,$B18,ЛСР!F$13:F$71) -> 1 | G18: =SUMIF(ЛСР!$B$13:$B$71,$B18,ЛСР!G$13:G$71) -> 1 | H18: =SUMIF(ЛСР!$B$13:$B$71,$B18,ЛСР!H$13:H$71) -> 2 | J18: =I18*H18 -> 0 | K18: =VLOOKUP(B18,ЛСР!$B$13:$K$71,10,0) -> 0
A19: =ROW()-2 -> 17 | B19: Усилитель тип 1 | D19: Усилитель мультидиапазонный (47-862 МГц). 3 входов TERRA MA-025 | E19: шт. | F19: =SUMIF(ЛСР!$B$13:$B$71,$B19,ЛСР!F$13:F$71) -> 1 | G19: =SUMIF(ЛСР!$B$13:$B$71,$B19,ЛСР!G$13:G$71) -> 1 | H19: =SUMIF(ЛСР!$B$13:$B$71,$B19,ЛСР!H$13:H$71) -> 2 | J19: =I19*H19 -> 0 | K19: =VLOOKUP(B19,ЛСР!$B$13:$K$71,10,0) -> 0
A20: =ROW()-2 -> 18 | B20: Мачта | D20: к антенне 4.5м (алюминий) | E20: шт. | F20: =SUMIF(ЛСР!$B$13:$B$71,$B20,ЛСР!F$13:F$71) -> 1 | G20: =SUMIF(ЛСР!$B$13:$B$71,$B20,ЛСР!G$13:G$71) -> 1 | H20: =SUMIF(ЛСР!$B$13:$B$71,$B20,ЛСР!H$13:H$71) -> 2 | J20: =I20*H20 -> 0 | K20: =VLOOKUP(B20,ЛСР!$B$13:$K$71,10,0) -> 0
A21: =ROW()-2 -> 19 | B21: Изолятор земли | D21: ЛАНС ART-1 | E21: шт. | F21: =SUMIF(ЛСР!$B$13:$B$71,$B21,ЛСР!F$13:F$71) -> 1 | G21: =SUMIF(ЛСР!$B$13:$B$71,$B21,ЛСР!G$13:G$71) -> 1 | H21: =SUMIF(ЛСР!$B$13:$B$71,$B21,ЛСР!H$13:H$71) -> 2 | J21: =I21*H21 -> 0 | K21: =VLOOKUP(B21,ЛСР!$B$13:$K$71,10,0) -> 0
A22: =ROW()-2 -> 20 | B22: Аттенюатор F 135-12 | D22: F 135-12 | E22: шт. | F22: =SUMIF(ЛСР!$B$13:$B$71,$B22,ЛСР!F$13:F$71) -> 2 | G22: =SUMIF(ЛСР!$B$13:$B$71,$B22,ЛСР!G$13:G$71) -> 4 | H22: =SUMIF(ЛСР!$B$13:$B$71,$B22,ЛСР!H$13:H$71) -> 6 | J22: =I22*H22 -> 0 | K22: =VLOOKUP(B22,ЛСР!$B$13:$K$71,10,0) -> 0
A23: =ROW()-2 -> 21 | B23: Усилитель тип 2 | D23: Усилитель домовой 47…860 МГц, регулируемый, 220 В TERRA НA-126 | E23: шт. | F23: =SUMIF(ЛСР!$B$13:$B$71,$B23,ЛСР!F$13:F$71) -> 2 | G23: =SUMIF(ЛСР!$B$13:$B$71,$B23,ЛСР!G$13:G$71) -> 4 | H23: =SUMIF(ЛСР!$B$13:$B$71,$B23,ЛСР!H$13:H$71) -> 6 | J23: =I23*H23 -> 0 | K23: =VLOOKUP(B23,ЛСР!$B$13:$K$71,10,0) -> 0
A24: =ROW()-2 -> 22 | B24: Розетка | D24: штепсельная для открытой проводки с 3-м заземляющим контактом 220В, 10 А | E24: шт. | F24: =SUMIF(ЛСР!$B$13:$B$71,$B24,ЛСР!F$13:F$71) -> 3 | G24: =SUMIF(ЛСР!$B$13:$B$71,$B24,ЛСР!G$13:G$71) -> 5 | H24: =SUMIF(ЛСР!$B$13:$B$71,$B24,ЛСР!H$13:H$71) -> 8 | J24: =I24*H24 -> 0 | K24: =VLOOKUP(B24,ЛСР!$B$13:$K$71,10,0) -> 0
A25: =ROW()-2 -> 23 | B25: Заглушка 75 Ом 05-4081 | D25: 05-4081 | E25: шт. | F25: =SUMIF(ЛСР!$B$13:$B$71,$B25,ЛСР!F$13:F$71) -> 2 | G25: =SUMIF(ЛСР!$B$13:$B$71,$B25,ЛСР!G$13:G$71) -> 4 | H25: =SUMIF(ЛСР!$B$13:$B$71,$B25,ЛСР!H$13:H$71) -> 6 | J25: =I25*H25 -> 0 | K25: =VLOOKUP(B25,ЛСР!$B$13:$K$71,10,0) -> 0
A26: =ROW()-2 -> 24 | B26: F-разъем на SAT-703 | D26: SAT-703 | E26: шт. | F26: =SUMIF(ЛСР!$B$13:$B$71,$B26,ЛСР!F$13:F$71) -> 140 | G26: =SUMIF(ЛСР!$B$13:$B$71,$B26,ЛСР!G$13:G$71) -> 250 | H26: =SUMIF(ЛСР!$B$13:$B$71,$B26,ЛСР!H$13:H$71) -> 390 | J26: =I26*H26 -> 0 | K26: =VLOOKUP(B26,ЛСР!$B$13:$K$71,10,0) -> 0
A27: =ROW()-2 -> 25 | B27: Щит ЩМП-3 650x500x220 | E27: шт. | F27: =SUMIF(ЛСР!$B$13:$B$71,$B27,ЛСР!F$13:F$71) -> 1 | G27: =SUMIF(ЛСР!$B$13:$B$71,$B27,ЛСР!G$13:G$71) -> 0 | H27: =SUMIF(ЛСР!$B$13:$B$71,$B27,ЛСР!H$13:H$71) -> 1 | J27: =I27*H27 -> 0 | K27: =VLOOKUP(B27,ЛСР!$B$13:$K$71,10,0) -> 0
A28: =ROW()-2 -> 26 | B28: Щит ЩМП-4 800x650x250 | E28: шт. | F28: =SUMIF(ЛСР!$B$13:$B$71,$B28,ЛСР!F$13:F$71) -> 0 | G28: =SUMIF(ЛСР!$B$13:$B$71,$B28,ЛСР!G$13:G$71) -> 1 | H28: =SUMIF(ЛСР!$B$13:$B$71,$B28,ЛСР!H$13:H$71) -> 1 | J28: =I28*H28 -> 0 | K28: =VLOOKUP(B28,ЛСР!$B$13:$K$71,10,0) -> 0
A29: =ROW()-2 -> 27 | B29: Автоматический выключатель номиналом 16А | E29: шт. | F29: =SUMIF(ЛСР!$B$13:$B$71,$B29,ЛСР!F$13:F$71) -> 2 | G29: =SUMIF(ЛСР!$B$13:$B$71,$B29,ЛСР!G$13:G$71) -> 2 | H29: =SUMIF(ЛСР!$B$13:$B$71,$B29,ЛСР!H$13:H$71) -> 4 | J29: =I29*H29 -> 0 | K29: =VLOOKUP(B29,ЛСР!$B$13:$K$71,10,0) -> 0
A30: =ROW()-2 -> 28 | B30: Ответвитель тип 1 | D30: LA-4-24 | E30: шт. | F30: =SUMIF(ЛСР!$B$13:$B$71,$B30,ЛСР!F$13:F$71) -> 4 | G30: =SUMIF(ЛСР!$B$13:$B$71,$B30,ЛСР!G$13:G$71) -> 8 | H30: =SUMIF(ЛСР!$B$13:$B$71,$B30,ЛСР!H$13:H$71) -> 12 | J30: =I30*H30 -> 0 | K30: =VLOOKUP(B30,ЛСР!$B$13:$K$71,10,0) -> 0
A31: =ROW()-2 -> 29 | B31: Ответвитель тип 2 | D31: LA-4-20 | E31: шт. | F31: =SUMIF(ЛСР!$B$13:$B$71,$B31,ЛСР!F$13:F$71) -> 4 | G31: =SUMIF(ЛСР!$B$13:$B$71,$B31,ЛСР!G$13:G$71) -> 6 | H31: =SUMIF(ЛСР!$B$13:$B$71,$B31,ЛСР!H$13:H$71) -> 10 | J31: =I31*H31 -> 0 | K31: =VLOOKUP(B31,ЛСР!$B$13:$K$71,10,0) -> 0
A32: =ROW()-2 -> 30 | B32: Ответвитель тип 3 | D32: LA-4-18 | E32: шт. | F32: =SUMIF(ЛСР!$B$13:$B$71,$B32,ЛСР!F$13:F$71) -> 4 | G32: =SUMIF(ЛСР!$B$13:$B$71,$B32,ЛСР!G$13:G$71) -> 6 | H32: =SUMIF(ЛСР!$B$13:$B$71,$B32,ЛСР!H$13:H$71) -> 10 | J32: =I32*H32 -> 0 | K32: =VLOOKUP(B32,ЛСР!$B$13:$K$71,10,0) -> 0
A33: =ROW()-2 -> 31 | B33: Ответвитель тип 4 | D33: LA-4-16 | E33: шт. | F33: =SUMIF(ЛСР!$B$13:$B$71,$B33,ЛСР!F$13:F$71) -> 4 | G33: =SUMIF(ЛСР!$B$13:$B$71,$B33,ЛСР!G$13:G$71) -> 7 | H33: =SUMIF(ЛСР!$B$13:$B$71,$B33,ЛСР!H$13:H$71) -> 11 | J33: =I33*H33 -> 0 | K33: =VLOOKUP(B33,ЛСР!$B$13:$K$71,10,0) -> 0
A34: =ROW()-2 -> 32 | B34: Ответвитель тип 5 | D34: LA-4-14 | E34: шт. | F34: =SUMIF(ЛСР!$B$13:$B$71,$B34,ЛСР!F$13:F$71) -> 2 | G34: =SUMIF(ЛСР!$B$13:$B$71,$B34,ЛСР!G$13:G$71) -> 4 | H34: =SUMIF(ЛСР!$B$13:$B$71,$B34,ЛСР!H$13:H$71) -> 6 | J34: =I34*H34 -> 0 | K34: =VLOOKUP(B34,ЛСР!$B$13:$K$71,10,0) -> 0
A35: =ROW()-2 -> 33 | B35: Ответвитель тип 6 | D35: LA-4-12 | E35: шт. | F35: =SUMIF(ЛСР!$B$13:$B$71,$B35,ЛСР!F$13:F$71) -> 2 | G35: =SUMIF(ЛСР!$B$13:$B$71,$B35,ЛСР!G$13:G$71) -> 4 | H35: =SUMIF(ЛСР!$B$13:$B$71,$B35,ЛСР!H$13:H$71) -> 6 | J35: =I35*H35 -> 0 | K35: =VLOOKUP(B35,ЛСР!$B$13:$K$71,10,0) -> 0
A36: =ROW()-2 -> 34 | B36: Ответвитель тип 7 | D36: LA-4-10 | E36: шт. | F36: =SUMIF(ЛСР!$B$13:$B$71,$B36,ЛСР!F$13:F$71) -> 2 | G36: =SUMIF(ЛСР!$B$13:$B$71,$B36,ЛСР!G$13:G$71) -> 4 | H36: =SUMIF(ЛСР!$B$13:$B$71,$B36,ЛСР!H$13:H$71) -> 6 | J36: =I36*H36 -> 0 | K36: =VLOOKUP(B36,ЛСР!$B$13:$K$71,10,0) -> 0
A37: =ROW()-2 -> 35 | B37: Делитель тип 1 | D37: LV-2 | E37: шт. | F37: =SUMIF(ЛСР!$B$13:$B$71,$B37,ЛСР!F$13:F$71) -> 1 | G37: =SUMIF(ЛСР!$B$13:$B$71,$B37,ЛСР!G$13:G$71) -> 0 | H37: =SUMIF(ЛСР!$B$13:$B$71,$B37,ЛСР!H$13:H$71) -> 1 | J37: =I37*H37 -> 0 | K37: =VLOOKUP(B37,ЛСР!$B$13:$K$71,10,0) -> 0
A38: =ROW()-2 -> 36 | B38: Делитель тип 2 | D38: LV-4 | E38: шт. | F38: =SUMIF(ЛСР!$B$13:$B$71,$B38,ЛСР!F$13:F$71) -> 0 | G38: =SUMIF(ЛСР!$B$13:$B$71,$B38,ЛСР!G$13:G$71) -> 1 | H38: =SUMIF(ЛСР!$B$13:$B$71,$B38,ЛСР!H$13:H$71) -> 1 | J38: =I38*H38 -> 0 | K38: =VLOOKUP(B38,ЛСР!$B$13:$K$71,10,0) -> 0
I39: ИТОГО: | J39: =SUM(J3:J38) -> 0
I40: проверка: | J40: =J39-ЛСР!J74 -> 0
...
