Workbook

Sheet ЛСР 11.14
J1: Приложение №
J2: к Договору подряда №
B4: ПОДРЯДЧИК: | D4: ЗАКАЗЧИК: | I4: ТЕХНИЧЕСКИЙ ЗАКАЗЧИК:
D5: ООО "ЭНКО СТРОЙ" | I5: ООО "Технический заказчик "ЭНКО"
B7: _________________/ | D7: ___________/С.И. Ярков | I7: ___________/С.И. Ярков
A10: Локальный сметный расчет №
A11: Устройство системы скуд (велобоксы). ГП-72.215
A14: № | B14: Наименование | C14: Марка | D14: Характеристика | E14: Ед. изм. | F14: Кол-во | G14: Цена | H14: Сумма | I14: Примечание | J14: Форма закупа материала
A15: 11 | B15: Внутренние инженерные сети
A16: 11.14. | B16: Монтаж СКУД
A17: 11.14.01 | B17: Прокладка КПП
A18: 11.14.01.00. | B18: Прокладка КПП | H18: =H19+H22 -> 0
B19: Работа: | H19: =SUM(H20:H21) -> 0
B20: Прокладка КПП | E20: м | F20: =F23+F24+F25 -> 470 | G20: =VLOOKUP(B20,СМР!$B$3:$F$6,5,0) -> 0 | H20: =G20*F20 -> 0
B21: Прокладка трубы | E21: м | F21: =F26+F27 -> 280 | G21: =VLOOKUP(B21,СМР!$B$3:$F$6,5,0) -> 0 | H21: =G21*F21 -> 0
B22: Материалы: | H22: =SUM(H23:H28) -> 0
B23: Кабель тип 1 | C23: EC-UU004-5E-PVC-GY | D23: NETLAN U/UTP 4 пары, категория 5e, внутренний, PVC, серый, 305м | E23: м. | F23: 100 | G23: =VLOOKUP($B23,ТМЦ!$B$3:$J$25,6,0) -> 0 | H23: =G23*F23 -> 0 | J23: =VLOOKUP(B23,ТМЦ!$B$3:$J$25,9,0) -> 0
B24: Кабель тип 2 | C24: NMC 2100B-BK | D24: NIKOMAX U/UTP, 4 пары, кат.5e, 24 AWG, внешний | E24: м. | F24: 190 | G24: =VLOOKUP($B24,ТМЦ!$B$3:$J$25,6,0) -> 0 | H24: =G24*F24 -> 0 | J24: =VLOOKUP(B24,ТМЦ!$B$3:$J$25,9,0) -> 0
B25: Провод | D25: ШВВП (ПВСП, ПУГВВ) 2х1,5 | E25: м. | F25: 180 | G25: =VLOOKUP($B25,ТМЦ!$B$3:$J$25,6,0) -> 0 | H25: =G25*F25 -> 0 | J25: =VLOOKUP(B25,ТМЦ!$B$3:$J$25,9,0) -> 0
B26: Труба тип 1 | D26: ПНД гибкая гофр. д.20мм, тяжёлая с протяжкой, 100м, цвет оранжевый | E26: м. | F26: 180 | G26: =VLOOKUP($B26,ТМЦ!$B$3:$J$25,6,0) -> 0 | H26: =G26*F26 -> 0 | J26: =VLOOKUP(B26,ТМЦ!$B$3:$J$25,9,0) -> 0
B27: Труба тип 2 | D27: гофрированная ПВХ 20мм с протяжкой | E27: м. | F27: 100 | G27: =VLOOKUP($B27,ТМЦ!$B$3:$J$25,6,0) -> 0 | H27: =G27*F27 -> 0 | J27: =VLOOKUP(B27,ТМЦ!$B$3:$J$25,9,0) -> 0
B28: Прочие материалы (Крепеж-клипса для труб для монтажного пистолета серая D-20, Адаптер на DIN рейку для модулей Keystone NMC-MB1P-DR-GY, Модуль Keystone, неэкранированный, категория 5e NMC-KJUD2-VI-WT, Коннектор NETLAN RJ45/8P8C, категория 5e EC-UP8P8C-5E-003-TR-1000) | E28: % | F28: =H28*100/H19 -> #DIV/0! | H28: =SUM(H29:H36) -> 0
B29: Крепеж-клипса для труб для монтажного пистолета серая D-20 | E29: шт. | F29: 200 | G29: =VLOOKUP($B29,ТМЦ!$B$3:$J$25,6,0) -> 0 | H29: =G29*F29 -> 0 | J29: =VLOOKUP(B29,ТМЦ!$B$3:$J$25,9,0) -> 0
B30: Адаптер на DIN рейку для модулей Keystone NMC-MB1P-DR-GY | E30: шт. | F30: 2 | G30: =VLOOKUP($B30,ТМЦ!$B$3:$J$25,6,0) -> 0 | H30: =G30*F30 -> 0 | J30: =VLOOKUP(B30,ТМЦ!$B$3:$J$25,9,0) -> 0
B31: Модуль Keystone, неэкранированный, категория 5e NMC-KJUD2-VI-WT | E31: шт. | F31: 2 | G31: =VLOOKUP($B31,ТМЦ!$B$3:$J$25,6,0) -> 0 | H31: =G31*F31 -> 0 | J31: =VLOOKUP(B31,ТМЦ!$B$3:$J$25,9,0) -> 0
B32: Коннектор NETLAN RJ45/8P8C, категория 5e EC-UP8P8C-5E-003-TR-1000 | E32: шт. | F32: 8 | G32: =VLOOKUP($B32,ТМЦ!$B$3:$J$25,6,0) -> 0 | H32: =G32*F32 -> 0 | J32: =VLOOKUP(B32,ТМЦ!$B$3:$J$25,9,0) -> 0
B33: DIN-рейка 30см оцинкованная | E33: шт. | F33: 1 | G33: =VLOOKUP($B33,ТМЦ!$B$3:$J$25,6,0) -> 0 | H33: =G33*F33 -> 0 | J33: =VLOOKUP(B33,ТМЦ!$B$3:$J$25,9,0) -> 0
B34: Колодка клеммная пружинная JXB-ST-2.5 28А 3 вывода серая EKF PROxima (PLC-JXB-ST-2.5-3) | E34: шт. | F34: 2 | G34: =VLOOKUP($B34,ТМЦ!$B$3:$J$25,6,0) -> 0 | H34: =G34*F34 -> 0 | J34: =VLOOKUP(B34,ТМЦ!$B$3:$J$25,9,0) -> 0
B35: Плоский разъем РППИ-М 1,5-6,3 КВТ 49620 | E35: шт. | F35: 4 | G35: =VLOOKUP($B35,ТМЦ!$B$3:$J$25,6,0) -> 0 | H35: =G35*F35 -> 0 | J35: =VLOOKUP(B35,ТМЦ!$B$3:$J$25,9,0) -> 0
B36: Штыревой втулочный изолированный наконечник EKF НШвИ 1,5-12 | E36: шт. | F36: 28 | G36: =VLOOKUP($B36,ТМЦ!$B$3:$J$25,6,0) -> 0 | H36: =G36*F36 -> 0 | J36: =VLOOKUP($B36,ТМЦ!$B$3:$J$25,9,0) -> 0
A37: 11.14.02 | B37: Установка оборудования
A38: 11.14.02.00. | B38: Установка оборудования | H38: =H39+H41 -> 0
B39: Работа: | H39: =SUM(H40:H40) -> 0
B40: Монтажные работы | E40: комплекс | F40: 1 | G40: =VLOOKUP(B40,СМР!$B$3:$F$6,5,0) -> 0 | H40: =G40*F40 -> 0
B41: Материалы: | H41: =SUM(H42:H49) -> 0
B42: Терминал контроля доступа | C42: Akuvox | D42: A01 | E42: шт. | F42: 2 | G42: =VLOOKUP($B42,ТМЦ!$B$3:$J$25,6,0) -> 0 | H42: =G42*F42 -> 0 | J42: =VLOOKUP(B42,ТМЦ!$B$3:$J$25,9,0) -> 0
B43: Конструкция для установки терминала контроля доступа | E43: шт. | F43: 2 | G43: =VLOOKUP($B43,ТМЦ!$B$3:$J$25,6,0) -> 0 | H43: =G43*F43 -> 0 | J43: =VLOOKUP(B43,ТМЦ!$B$3:$J$25,9,0) -> 0
B44: Электромагнитный замок | D44: М2-400 серый (ОЛЭВС) | E44: шт. | F44: 2 | G44: =VLOOKUP($B44,ТМЦ!$B$3:$J$25,6,0) -> 0 | H44: =G44*F44 -> 0 | J44: =VLOOKUP(B44,ТМЦ!$B$3:$J$25,9,0) -> 0
B45: Кнопка выхода | D45: ST-EX241L | E45: шт. | F45: 2 | G45: =VLOOKUP($B45,ТМЦ!$B$3:$J$25,6,0) -> 0 | H45: =G45*F45 -> 0 | J45: =VLOOKUP(B45,ТМЦ!$B$3:$J$25,9,0) -> 0
B46: Блок питания | C46: AC-DC DRC-60A | D46: с функцией UPS, 60Вт, 13.8В | E46: шт. | F46: 2 | G46: =VLOOKUP($B46,ТМЦ!$B$3:$J$25,6,0) -> 0 | H46: =G46*F46 -> 0 | J46: =VLOOKUP(B46,ТМЦ!$B$3:$J$25,9,0) -> 0
...

Sheet СМР
A1: Ведомость объемов работ
A2: № п/п | B2: Наименование | C2: Характеристика | D2: Ед. изм. | E2: Кол-во | F2: Цена | G2: Сумма | H2: Примечание
A3: =ROW()-2 -> 1 | B3: Прокладка КПП | D3: м | E3: =SUMIF('ЛСР 11.14'!$B$15:$B$58,СМР!B3,'ЛСР 11.14'!$F$15:$F$58) -> 470 | G3: =F3*E3 -> 0
A4: =ROW()-2 -> 2 | B4: Прокладка трубы | D4: м | E4: =SUMIF('ЛСР 11.14'!$B$15:$B$58,СМР!B4,'ЛСР 11.14'!$F$15:$F$58) -> 280 | G4: =F4*E4 -> 0
A5: =ROW()-2 -> 3 | B5: Монтажные работы | D5: комплекс | E5: =SUMIF('ЛСР 11.14'!$B$15:$B$58,СМР!B5,'ЛСР 11.14'!$F$15:$F$58) -> 1 | G5: =F5*E5 -> 0
A6: =ROW()-2 -> 4 | B6: Пусконаладочные работы | D6: комплекс | E6: =SUMIF('ЛСР 11.14'!$B$15:$B$58,СМР!B6,'ЛСР 11.14'!$F$15:$F$58) -> 1 | G6: =F6*E6 -> 0
F7: ИТОГО: | G7: =SUM(G3:G6) -> 0
F8: проверка: | G8: =G7-'ЛСР 11.14'!H60 -> 0
B10: Примечание:
A11: - | B11: В случае, если один из перечисленных прочих материалов не был использован по факту при производстве работ, заказчик вправе откорректировать процент расходных материалов в актах выполненных работ (формы КС-2, КС-3), уменьшив на сумму исключенного материала.
A12: - | B12: Стоимость СМР учитывает - затраты на все второстепенные материалы и работы необходимые для осуществления полного комплекса работ, включая затраты: обеспечение технической водой для производства работ и бытовых целей; на мобилизацию, аренду и эксплуатацию всех необходимых механизмов, оборудования и инструментов, бытовых помещений и биотуалетов; на подъем материалов и разноску по этажам к местам производства работ; выполнение сопутствующих работ; вывоз мусора; накладные расходы, прибыль организации, налоги и иные издержки Подрядчика. Обеспечение безопасного производства работ на участке.
A13: - | B13: Стоимость материалов учитывает стоимость доставки.

Sheet ТМЦ
A1: Спецификация материалов
A2: № п/п | B2: Наименование | C2: Марка | D2: Характеристика | E2: Ед. изм. | F2: Кол-во | G2: Цена | H2: Сумма | I2: Примечание | J2: Форма закупа материала
A3: =ROW()-2 -> 1 | B3: Кабель тип 1 | C3: EC-UU004-5E-PVC-GY | D3: NETLAN U/UTP 4 пары, категория 5e, внутренний, PVC, серый, 305м | E3: м. | F3: =SUMIF('ЛСР 11.14'!$B$15:$B$58,ТМЦ!B3,'ЛСР 11.14'!$F$15:$F$58) -> 100 | H3: =G3*F3 -> 0
A4: =ROW()-2 -> 2 | B4: Кабель тип 2 | C4: NMC 2100B-BK | D4: NIKOMAX U/UTP, 4 пары, кат.5e, 24 AWG, внешний | E4: м. | F4: =SUMIF('ЛСР 11.14'!$B$15:$B$58,ТМЦ!B4,'ЛСР 11.14'!$F$15:$F$58) -> 190 | H4: =G4*F4 -> 0
A5: =ROW()-2 -> 3 | B5: Провод | D5: ШВВП (ПВСП, ПУГВВ) 2х1,5 | E5: м. | F5: =SUMIF('ЛСР 11.14'!$B$15:$B$58,ТМЦ!B5,'ЛСР 11.14'!$F$15:$F$58) -> 180 | H5: =G5*F5 -> 0
A6: =ROW()-2 -> 4 | B6: Труба тип 1 | D6: ПНД гибкая гофр. д.20мм, тяжёлая с протяжкой, 100м, цвет оранжевый | E6: м. | F6: =SUMIF('ЛСР 11.14'!$B$15:$B$58,ТМЦ!B6,'ЛСР 11.14'!$F$15:$F$58) -> 180 | H6: =G6*F6 -> 0
A7: =ROW()-2 -> 5 | B7: Труба тип 2 | D7: гофрированная ПВХ 20мм с протяжкой | E7: м. | F7: =SUMIF('ЛСР 11.14'!$B$15:$B$58,ТМЦ!B7,'ЛСР 11.14'!$F$15:$F$58) -> 100 | H7: =G7*F7 -> 0
A8: =ROW()-2 -> 6 | B8: Крепеж-клипса для труб для монтажного пистолета серая D-20 | E8: шт. | F8: =SUMIF('ЛСР 11.14'!$B$15:$B$58,ТМЦ!B8,'ЛСР 11.14'!$F$15:$F$58) -> 200 | H8: =G8*F8 -> 0
A9: =ROW()-2 -> 7 | B9: Адаптер на DIN рейку для модулей Keystone NMC-MB1P-DR-GY | E9: шт. | F9: =SUMIF('ЛСР 11.14'!$B$15:$B$58,ТМЦ!B9,'ЛСР 11.14'!$F$15:$F$58) -> 2 | H9: =G9*F9 -> 0
A10: =ROW()-2 -> 8 | B10: Модуль Keystone, неэкранированный, категория 5e NMC-KJUD2-VI-WT | E10: шт. | F10: =SUMIF('ЛСР 11.14'!$B$15:$B$58,ТМЦ!B10,'ЛСР 11.14'!$F$15:$F$58) -> 2 | H10: =G10*F10 -> 0
A11: =ROW()-2 -> 9 | B11: Коннектор NETLAN RJ45/8P8C, категория 5e EC-UP8P8C-5E-003-TR-1000 | E11: шт. | F11: =SUMIF('ЛСР 11.14'!$B$15:$B$58,ТМЦ!B11,'ЛСР 11.14'!$F$15:$F$58) -> 8 | H11: =G11*F11 -> 0
A12: =ROW()-2 -> 10 | B12: DIN-рейка 30см оцинкованная | E12: шт. | F12: =SUMIF('ЛСР 11.14'!$B$15:$B$58,ТМЦ!B12,'ЛСР 11.14'!$F$15:$F$58) -> 1 | H12: =G12*F12 -> 0
A13: =ROW()-2 -> 11 | B13: Колодка клеммная пружинная JXB-ST-2.5 28А 3 вывода серая EKF PROxima (PLC-JXB-ST-2.5-3) | E13: шт. | F13: =SUMIF('ЛСР 11.14'!$B$15:$B$58,ТМЦ!B13,'ЛСР 11.14'!$F$15:$F$58) -> 2 | H13: =G13*F13 -> 0
A14: =ROW()-2 -> 12 | B14: Плоский разъем РППИ-М 1,5-6,3 КВТ 49620 | E14: шт. | F14: =SUMIF('ЛСР 11.14'!$B$15:$B$58,ТМЦ!B14,'ЛСР 11.14'!$F$15:$F$58) -> 4 | H14: =G14*F14 -> 0
A15: =ROW()-2 -> 13 | B15: Штыревой втулочный изолированный наконечник EKF НШвИ 1,5-12 | E15: шт. | F15: =SUMIF('ЛСР 11.14'!$B$15:$B$58,ТМЦ!B15,'ЛСР 11.14'!$F$15:$F$58) -> 28 | H15: =G15*F15 -> 0
A16: =ROW()-2 -> 14 | B16: Терминал контроля доступа | C16: Akuvox | D16: A01 | E16: шт. | F16: =SUMIF('ЛСР 11.14'!$B$15:$B$58,ТМЦ!B16,'ЛСР 11.14'!$F$15:$F$58) -> 2 | H16: =G16*F16 -> 0
A17: =ROW()-2 -> 15 | B17: Конструкция для установки терминала контроля доступа | E17: шт. | F17: =SUMIF('ЛСР 11.14'!$B$15:$B$58,ТМЦ!B17,'ЛСР 11.14'!$F$15:$F$58) -> 2 | H17: =G17*F17 -> 0
A18: =ROW()-2 -> 16 | B18: Электромагнитный замок | D18: М2-400 серый (ОЛЭВС) | E18: шт. | F18: =SUMIF('ЛСР 11.14'!$B$15:$B$58,ТМЦ!B18,'ЛСР 11.14'!$F$15:$F$58) -> 2 | H18: =G18*F18 -> 0
A19: =ROW()-2 -> 17 | B19: Кнопка выхода | D19: ST-EX241L | E19: шт. | F19: =SUMIF('ЛСР 11.14'!$B$15:$B$58,ТМЦ!B19,'ЛСР 11.14'!$F$15:$F$58) -> 2 | H19: =G19*F19 -> 0
A20: =ROW()-2 -> 18 | B20: Блок питания | C20: AC-DC DRC-60A | D20: с функцией UPS, 60Вт, 13.8В | E20: шт. | F20: =SUMIF('ЛСР 11.14'!$B$15:$B$58,ТМЦ!B20,'ЛСР 11.14'!$F$15:$F$58) -> 2 | H20: =G20*F20 -> 0
A21: =ROW()-2 -> 19 | B21: Аккумулятор | D21: Delta DT 1207 (12V 7Аh) | E21: шт. | F21: =SUMIF('ЛСР 11.14'!$B$15:$B$58,ТМЦ!B21,'ЛСР 11.14'!$F$15:$F$58) -> 2 | H21: =G21*F21 -> 0
A22: =ROW()-2 -> 20 | B22: Щит с монтажной панелью ЩМП 04 IP31 400х300х155 RUCELF | E22: шт. | F22: =SUMIF('ЛСР 11.14'!$B$15:$B$58,ТМЦ!B22,'ЛСР 11.14'!$F$15:$F$58) -> 1 | H22: =G22*F22 -> 0
A23: =ROW()-2 -> 21 | B23: Автоматический выключатель 1P 10А (В) 4,5kA ВА 47-63 EKF PROxima | E23: шт. | F23: =SUMIF('ЛСР 11.14'!$B$15:$B$58,ТМЦ!B23,'ЛСР 11.14'!$F$15:$F$58) -> 1 | H23: =G23*F23 -> 0
A24: =ROW()-2 -> 22 | B24: Заклепка резьбовая шестигранная с плоским бортом М6 L15,0 | E24: шт. | F24: =SUMIF('ЛСР 11.14'!$B$15:$B$58,ТМЦ!B24,'ЛСР 11.14'!$F$15:$F$58) -> 4 | H24: =G24*F24 -> 0
A25: =ROW()-2 -> 23 | B25: Болт М6х25 оцинкованный с внутренним шестигранником, класс прочности 8.8, DIN 912 | E25: шт. | F25: =SUMIF('ЛСР 11.14'!$B$15:$B$58,ТМЦ!B25,'ЛСР 11.14'!$F$15:$F$58) -> 4 | H25: =G25*F25 -> 0
G26: ИТОГО: | H26: =SUM(H3:H25) -> 0
G27: проверка: | H27: =H26-'ЛСР 11.14'!H61 -> 0
B29: Примечание:
A30: - | B30: В случае, если один из перечисленных прочих материалов не был использован по факту при производстве работ, заказчик вправе откорректировать процент расходных материалов в актах выполненных работ (формы КС-2, КС-3), уменьшив на сумму исключенного материала.
A31: - | B31: Стоимость СМР учитывает - затраты на все второстепенные материалы и работы необходимые для осуществления полного комплекса работ, включая затраты: обеспечение технической водой для производства работ и бытовых целей; на мобилизацию, аренду и эксплуатацию всех необходимых механизмов, оборудования и инструментов, бытовых помещений и биотуалетов; на подъем материалов и разноску по этажам к местам производства работ; выполнение сопутствующих работ; вывоз мусора; накладные расходы, прибыль организации, налоги и иные издержки Подрядчика. Обеспечение безопасного производства работ на участке.
A32: - | B32: Стоимость материалов учитывает стоимость доставки.
