Workbook
Name Данные: [1]Тестовый!$F$10:$H$14

Sheet 11.23
L1: Приложение №
L2: к Договору подряда №
B4: ПОДРЯДЧИК: | E4: ЗАКАЗЧИК: | J4: ТЕХНИЧЕСКИЙ ЗАКАЗЧИК:
E5: ООО "ЭНКО СТРОЙ" | J5: ООО "Технический заказчик "ЭНКО"
B7: _________________/ | E7: ___________/С.И. Ярков | J7: ___________/С.И. Ярков
E9: Локальный сметный расчет №
E10: Устройство системы Безопасный дом. ГП-72.214
A12: № | B12: Наименование | C12: Марка | D12: Характеристика | E12: Ед. изм. | F12: 72.214.1 | G12: 72.214.2 | H12: Кол-во | I12: Цена | J12: Сумма | K12: Примечание | L12: Форма закупа материала
A13: 11 | B13: Внутренние инженерные сети
A14: 11.23. | B14: Система "Безопасный дом"
A15: 11.23.01 | B15: Установка оборудования
A16: 11.23.01.00. | B16: Установка оборудования | J16: =J17+J20 -> 0
B17: Работа: | J17: =SUM(J18:J19) -> 0
B18: Монтажные работы секция 1 | E18: комплекс | F18: 1 | H18: =SUM(F18:G18) -> 1 | I18: =VLOOKUP(B18,СМР!$B$3:$H$6,7,0) -> 0 | J18: =I18*H18 -> 0
B19: Монтажные работы секция 2 | E19: комплекс | G19: 1 | H19: =SUM(F19:G19) -> 1 | I19: =VLOOKUP(B19,СМР!$B$3:$H$6,7,0) -> 0 | J19: =I19*H19 -> 0
B20: Материалы: | J20: =SUM(J21:J30) -> 0
B21: Блок управления | C21: Gidrolock | D21: STANDARD RADIO (1) DIN-рейка, арт. 22021231 | E21: шт. | F21: 88 | G21: 156 | H21: =SUM(F21:G21) -> 244 | I21: =VLOOKUP($B21,ТМЦ!$B$3:$L$24,8,0) -> 0 | J21: =I21*H21 -> 0 | L21: =VLOOKUP($B21,ТМЦ!$B$3:$L$24,11,0) -> 0
B22: Кран шаровой с электроприводом | C22: Gidrolock | D22: ШЭП ULTIMATE 220V G-LOCK 1/2" BS (11092061)) | E22: шт. | F22: =F21*2 -> 176 | G22: =G21*2 -> 312 | H22: =SUM(F22:G22) -> 488 | I22: =VLOOKUP($B22,ТМЦ!$B$3:$L$24,8,0) -> 0 | J22: =I22*H22 -> 0 | L22: =VLOOKUP($B22,ТМЦ!$B$3:$L$24,11,0) -> 0
B23: Датчик протечки воды беспроводной | C23: Gidrolock | D23: WSR (радио) белый | E23: шт. | F23: =F21 -> 88 | G23: =G21 -> 156 | H23: =SUM(F23:G23) -> 244 | I23: =VLOOKUP($B23,ТМЦ!$B$3:$L$24,8,0) -> 0 | J23: =I23*H23 -> 0 | L23: =VLOOKUP($B23,ТМЦ!$B$3:$L$24,11,0) -> 0
B24: Gidrolock Реле 10А дополнительное (на чёрную плату) | C24: Gidrolock | E24: шт. | F24: =F21 -> 88 | G24: =G21 -> 156 | H24: =SUM(F24:G24) -> 244 | I24: =VLOOKUP($B24,ТМЦ!$B$3:$L$24,8,0) -> 0 | J24: =I24*H24 -> 0 | L24: =VLOOKUP($B24,ТМЦ!$B$3:$L$24,11,0) -> 0
B25: Извещатель охранный магнитоконтактный врезной монтаж «ИО 102-6» | E25: шт. | F25: =F21 -> 88 | G25: =G21 -> 156 | H25: =SUM(F25:G25) -> 244 | I25: =VLOOKUP($B25,ТМЦ!$B$3:$L$24,8,0) -> 0 | J25: =I25*H25 -> 0 | L25: =VLOOKUP($B25,ТМЦ!$B$3:$L$24,11,0) -> 0
B26: Кабель тип 2 | D26: КСПВ 4х0,5 | E26: м. | F26: 616 | G26: 1092 | H26: =SUM(F26:G26) -> 1708 | I26: =VLOOKUP($B26,ТМЦ!$B$3:$L$24,8,0) -> 0 | J26: =I26*H26 -> 0 | L26: =VLOOKUP($B26,ТМЦ!$B$3:$L$24,11,0) -> 0
B27: Кабель тип 3 | D27: монтажный МКШнг(А)-LS 5х0.75 | E27: м. | F27: 1903 | G27: 3854 | H27: =SUM(F27:G27) -> 5757 | I27: =VLOOKUP($B27,ТМЦ!$B$3:$L$24,8,0) -> 0 | J27: =I27*H27 -> 0 | L27: =VLOOKUP($B27,ТМЦ!$B$3:$L$24,11,0) -> 0
B28: Кабель тип 4 | D28: ПуГВ 1х6 жёлто-зелёный многопроволочный | E28: м. | F28: 187 | G28: 500 | H28: =SUM(F28:G28) -> 687 | I28: =VLOOKUP($B28,ТМЦ!$B$3:$L$24,8,0) -> 0 | J28: =I28*H28 -> 0 | L28: =VLOOKUP($B28,ТМЦ!$B$3:$L$24,11,0) -> 0
B29: Труба | D29: гофрированная ПНД легкая безгалогенная (HF) зонд д16 | E29: м. | F29: 1980 | G29: 3822 | H29: =SUM(F29:G29) -> 5802 | I29: =VLOOKUP($B29,ТМЦ!$B$3:$L$24,8,0) -> 0 | J29: =I29*H29 -> 0 | L29: =VLOOKUP($B29,ТМЦ!$B$3:$L$24,11,0) -> 0
B30: Прочие материалы (Скотчлок соединитель EC-SL-UY2-YL-100, Автоматический выключатель 1P 5А (В) 4,5kA ВА 47-63 EKF PROxima, Монтажная лента текстильная под пистолет, Дюбель-хомут 5-10мм нейлон (100шт. в пч.), Наконечник штырьевой втулочный НШВ 0.75-8 79476 КВТ, Клемма DIY YOU PCT-213, быстрозажимной кабельный соединитель, 3 общих проводника L, Коробка ответвит. с гладкими стенками, IP56, 300х220х120мм, Колодка клеммная пружинная JXB-ST-1.5 17.5А серая EKF PROxima (PLC-JXB-ST-1.5), Колодка клеммная пружинная JXB-ST-2.5 28А 3 вывода серая EKF PROxima (PLC-JXB-ST-2.5-3), Кабельный ввод (сальник) PG 13.5 (IP68) d отверстия 6-12 мм, Din-рейка REXANT 25см, Контактная проводящая паста КПП 100 гр. КВТ) | E30: % | H30: =J30/J17 -> #DIV/0! | J30: =SUM(J31:J43) -> 0
B31: Автоматический выключатель 1P 5А (В) 4,5kA ВА 47-63 EKF PROxima | E31: шт. | F31: =F21 -> 88 | G31: =G21 -> 156 | H31: =SUM(F31:G31) -> 244 | I31: =VLOOKUP($B31,ТМЦ!$B$3:$L$24,8,0) -> 0 | J31: =I31*H31 -> 0 | L31: =VLOOKUP($B31,ТМЦ!$B$3:$L$24,11,0) -> 0
B32: Скотчлок соединитель EC-SL-UY2-YL-100 | E32: шт. | F32: 352 | G32: 624 | H32: =SUM(F32:G32) -> 976 | I32: =VLOOKUP($B32,ТМЦ!$B$3:$L$24,8,0) -> 0 | J32: =I32*H32 -> 0 | L32: =VLOOKUP($B32,ТМЦ!$B$3:$L$24,11,0) -> 0
B33: Монтажная лента текстильная под пистолет | E33: м. | F33: 432 | G33: 846 | H33: =SUM(F33:G33) -> 1278 | I33: =VLOOKUP($B33,ТМЦ!$B$3:$L$24,8,0) -> 0 | J33: =I33*H33 -> 0 | L33: =VLOOKUP($B33,ТМЦ!$B$3:$L$24,11,0) -> 0
B34: Дюбель-хомут 5-10мм нейлон (100шт. в пч.) | E34: шт. | F34: 2200 | G34: 3900 | H34: =SUM(F34:G34) -> 6100 | I34: =VLOOKUP($B34,ТМЦ!$B$3:$L$24,8,0) -> 0 | J34: =I34*H34 -> 0 | L34: =VLOOKUP($B34,ТМЦ!$B$3:$L$24,11,0) -> 0
B35: Наконечник КВТ НШВИ 0,75-8 | E35: шт. | F35: 528 | G35: 936 | H35: =SUM(F35:G35) -> 1464 | I35: =VLOOKUP($B35,ТМЦ!$B$3:$L$24,8,0) -> 0 | J35: =I35*H35 -> 0 | L35: =VLOOKUP($B35,ТМЦ!$B$3:$L$24,11,0) -> 0
B36: Наконечник КВТ НШВИ2 0,75-8 | E36: шт. | F36: 88 | G36: 156 | H36: =SUM(F36:G36) -> 244 | I36: =VLOOKUP($B36,ТМЦ!$B$3:$L$24,8,0) -> 0 | J36: =I36*H36 -> 0 | L36: =VLOOKUP($B36,ТМЦ!$B$3:$L$24,11,0) -> 0
B37: Наконечник медный КВТ луженый ТМЛ 6-6-4 под кабель 6,0мм болт М6 | E37: шт. | F37: 22 | G37: 40 | H37: =SUM(F37:G37) -> 62 | I37: =VLOOKUP($B37,ТМЦ!$B$3:$L$24,8,0) -> 0 | J37: =I37*H37 -> 0 | L37: =VLOOKUP($B37,ТМЦ!$B$3:$L$24,11,0) -> 0
B38: Шина PE земля на DIN-изоляторах ШНИ-6х9-16-Д-Ж YNN10-69-16D-K05 IEK | E38: шт. | F38: 11 | G38: 20 | H38: =SUM(F38:G38) -> 31 | I38: =VLOOKUP($B38,ТМЦ!$B$3:$L$24,8,0) -> 0 | J38: =I38*H38 -> 0 | L38: =VLOOKUP($B38,ТМЦ!$B$3:$L$24,11,0) -> 0
B39: Коробка ответвит. с гладкими стенками, IP56, 300х220х120мм | E39: шт. | F39: 11 | G39: 20 | H39: =SUM(F39:G39) -> 31 | I39: =VLOOKUP($B39,ТМЦ!$B$3:$L$24,8,0) -> 0 | J39: =I39*H39 -> 0 | L39: =VLOOKUP($B39,ТМЦ!$B$3:$L$24,11,0) -> 0
B40: Колодка клеммная пружинная JXB-ST-2.5 28А 3 вывода серая EKF PROxima (PLC-JXB-ST-2.5-3) | E40: шт. | F40: 264 | G40: 468 | H40: =SUM(F40:G40) -> 732 | I40: =VLOOKUP($B40,ТМЦ!$B$3:$L$24,8,0) -> 0 | J40: =I40*H40 -> 0 | L40: =VLOOKUP($B40,ТМЦ!$B$3:$L$24,11,0) -> 0
B41: Кабельный ввод (сальник) PG 13.5 (IP68) d отверстия 6-12 мм | E41: шт. | F41: 275 | G41: 488 | H41: =SUM(F41:G41) -> 763 | I41: =VLOOKUP($B41,ТМЦ!$B$3:$L$24,8,0) -> 0 | J41: =I41*H41 -> 0 | L41: =VLOOKUP($B41,ТМЦ!$B$3:$L$24,11,0) -> 0
B42: Din-рейка REXANT 25см | E42: шт. | F42: 22 | G42: 40 | H42: =SUM(F42:G42) -> 62 | I42: =VLOOKUP($B42,ТМЦ!$B$3:$L$24,8,0) -> 0 | J42: =I42*H42 -> 0 | L42: =VLOOKUP($B42,ТМЦ!$B$3:$L$24,11,0) -> 0
B43: Контактная проводящая паста КПП 100 гр. КВТ | E43: шт. | F43: 1 | G43: 1 | H43: =SUM(F43:G43) -> 2 | I43: =VLOOKUP($B43,ТМЦ!$B$3:$L$24,8,0) -> 0 | J43: =I43*H43 -> 0 | L43: =VLOOKUP($B43,ТМЦ!$B$3:$L$24,11,0) -> 0
A44: 11.11.06 | B44: ПНР
...

Sheet СМР
A1: Ведомость объемов работ
A2: № п/п | B2: Наименование | C2: Характеристика | D2: Ед. изм. | E2: ГП-214.1 | F2: ГП-214.2 | G2: Кол-во | H2: Цена | I2: Сумма | J2: Примечание
A3: =ROW()-2 -> 1 | B3: Монтажные работы секция 1 | D3: комплекс | E3: =SUMIF('11.23'!$B$13:$B$48,СМР!$B3,'11.23'!F$13:F$48) -> 1 | F3: =SUMIF('11.23'!$B$13:$B$48,СМР!$B3,'11.23'!G$13:G$48) -> 0 | G3: =SUMIF('11.23'!$B$13:$B$48,СМР!$B3,'11.23'!H$13:H$48) -> 1 | I3: =H3*G3 -> 0
A4: =ROW()-2 -> 2 | B4: Монтажные работы секция 2 | D4: комплекс | E4: =SUMIF('11.23'!$B$13:$B$48,СМР!$B4,'11.23'!F$13:F$48) -> 0 | F4: =SUMIF('11.23'!$B$13:$B$48,СМР!$B4,'11.23'!G$13:G$48) -> 1 | G4: =SUMIF('11.23'!$B$13:$B$48,СМР!$B4,'11.23'!H$13:H$48) -> 1 | I4: =H4*G4 -> 0
A5: =ROW()-2 -> 3 | B5: Пусконаладочные работы тип 1 | D5: комплекс | E5: =SUMIF('11.23'!$B$13:$B$48,СМР!$B5,'11.23'!F$13:F$48) -> 1 | F5: =SUMIF('11.23'!$B$13:$B$48,СМР!$B5,'11.23'!G$13:G$48) -> 0 | G5: =SUMIF('11.23'!$B$13:$B$48,СМР!$B5,'11.23'!H$13:H$48) -> 1 | I5: =H5*G5 -> 0
A6: =ROW()-2 -> 4 | B6: Пусконаладочные работы тип 2 | D6: комплекс | E6: =SUMIF('11.23'!$B$13:$B$48,СМР!$B6,'11.23'!F$13:F$48) -> 0 | F6: =SUMIF('11.23'!$B$13:$B$48,СМР!$B6,'11.23'!G$13:G$48) -> 1 | G6: =SUMIF('11.23'!$B$13:$B$48,СМР!$B6,'11.23'!H$13:H$48) -> 1 | I6: =H6*G6 -> 0
H7: ИТОГО: | I7: =SUM(I3:I6) -> 0
H8: проверка: | I8: =I7-'11.23'!J52 -> 0
B10: Примечание:
A11: - | B11: В случае, если один из перечисленных прочих материалов не был использован по факту при производстве работ, заказчик вправе откорректировать процент расходных материалов в актах выполненных работ (формы КС-2, КС-3), уменьшив на сумму исключенного материала.
A12: - | B12: Стоимость СМР учитывает - затраты на все второстепенные материалы и работы необходимые для осуществления полного комплекса работ, включая затраты: обеспечение технической водой для производства работ и бытовых целей; на мобилизацию, аренду и эксплуатацию всех необходимых механизмов, оборудования и инструментов, бытовых помещений и биотуалетов; на подъем материалов и разноску по этажам к местам производства работ; выполнение сопутствующих работ; вывоз мусора; накладные расходы, прибыль организации, налоги и иные издержки Подрядчика. Обеспечение безопасного производства работ на участке.
A13: - | B13: Стоимость материалов учитывает стоимость доставки.

Sheet ТМЦ
A1: Спецификация материалов
A2: № п/п | B2: Наименование | C2: Марка | D2: Характеристика | E2: Ед. изм. | F2: ГП-214.1 | G2: ГП-214.2 | H2: Кол-во | I2: Цена | J2: Сумма | K2: Примечание | L2: Форма закупа материала
A3: =ROW()-2 -> 1 | B3: Блок управления | C3: Gidrolock | D3: STANDARD RADIO (1) DIN-рейка, арт. 22021231 | E3: шт. | F3: =SUMIF('11.23'!$B$13:$B$48,$B3,'11.23'!F$13:F$48) -> 88 | G3: =SUMIF('11.23'!$B$13:$B$48,$B3,'11.23'!G$13:G$48) -> 156 | H3: =SUMIF('11.23'!$B$13:$B$48,$B3,'11.23'!H$13:H$48) -> 244 | J3: =I3*H3 -> 0 | K3: =VLOOKUP(B3,'11.23'!$B$13:$K$54,10,0) -> 0
A4: =ROW()-2 -> 2 | B4: Кран шаровой с электроприводом | C4: Gidrolock | D4: ШЭП ULTIMATE 220V G-LOCK 1/2" BS (11092061)) | E4: шт. | F4: =SUMIF('11.23'!$B$13:$B$48,$B4,'11.23'!F$13:F$48) -> 176 | G4: =SUMIF('11.23'!$B$13:$B$48,$B4,'11.23'!G$13:G$48) -> 312 | H4: =SUMIF('11.23'!$B$13:$B$48,$B4,'11.23'!H$13:H$48) -> 488 | J4: =I4*H4 -> 0 | K4: =VLOOKUP(B4,'11.23'!$B$13:$K$54,10,0) -> 0
A5: =ROW()-2 -> 3 | B5: Датчик протечки воды беспроводной | C5: Gidrolock | D5: WSR (радио) белый | E5: шт. | F5: =SUMIF('11.23'!$B$13:$B$48,$B5,'11.23'!F$13:F$48) -> 88 | G5: =SUMIF('11.23'!$B$13:$B$48,$B5,'11.23'!G$13:G$48) -> 156 | H5: =SUMIF('11.23'!$B$13:$B$48,$B5,'11.23'!H$13:H$48) -> 244 | J5: =I5*H5 -> 0 | K5: =VLOOKUP(B5,'11.23'!$B$13:$K$54,10,0) -> 0
A6: =ROW()-2 -> 4 | B6: Gidrolock Реле 10А дополнительное (на чёрную плату) | C6: Gidrolock | E6: шт. | F6: =SUMIF('11.23'!$B$13:$B$48,$B6,'11.23'!F$13:F$48) -> 88 | G6: =SUMIF('11.23'!$B$13:$B$48,$B6,'11.23'!G$13:G$48) -> 156 | H6: =SUMIF('11.23'!$B$13:$B$48,$B6,'11.23'!H$13:H$48) -> 244 | J6: =I6*H6 -> 0 | K6: =VLOOKUP(B6,'11.23'!$B$13:$K$54,10,0) -> 0
A7: =ROW()-2 -> 5 | B7: Извещатель охранный магнитоконтактный врезной монтаж «ИО 102-6» | E7: шт. | F7: =SUMIF('11.23'!$B$13:$B$48,$B7,'11.23'!F$13:F$48) -> 88 | G7: =SUMIF('11.23'!$B$13:$B$48,$B7,'11.23'!G$13:G$48) -> 156 | H7: =SUMIF('11.23'!$B$13:$B$48,$B7,'11.23'!H$13:H$48) -> 244 | J7: =I7*H7 -> 0 | K7: =VLOOKUP(B7,'11.23'!$B$13:$K$54,10,0) -> 0
A8: =ROW()-2 -> 6 | B8: Кабель тип 2 | D8: КСПВ 4х0,5 | E8: м. | F8: =SUMIF('11.23'!$B$13:$B$48,$B8,'11.23'!F$13:F$48) -> 616 | G8: =SUMIF('11.23'!$B$13:$B$48,$B8,'11.23'!G$13:G$48) -> 1092 | H8: =SUMIF('11.23'!$B$13:$B$48,$B8,'11.23'!H$13:H$48) -> 1708 | J8: =I8*H8 -> 0 | K8: =VLOOKUP(B8,'11.23'!$B$13:$K$54,10,0) -> 0
A9: =ROW()-2 -> 7 | B9: Кабель тип 3 | D9: монтажный МКШнг(А)-LS 5х0.75 | E9: м. | F9: =SUMIF('11.23'!$B$13:$B$48,$B9,'11.23'!F$13:F$48) -> 1903 | G9: =SUMIF('11.23'!$B$13:$B$48,$B9,'11.23'!G$13:G$48) -> 3854 | H9: =SUMIF('11.23'!$B$13:$B$48,$B9,'11.23'!H$13:H$48) -> 5757 | J9: =I9*H9 -> 0 | K9: =VLOOKUP(B9,'11.23'!$B$13:$K$54,10,0) -> 0
A10: =ROW()-2 -> 8 | B10: Кабель тип 4 | D10: ПуГВ 1х6 жёлто-зелёный многопроволочный | E10: м. | F10: =SUMIF('11.23'!$B$13:$B$48,$B10,'11.23'!F$13:F$48) -> 187 | G10: =SUMIF('11.23'!$B$13:$B$48,$B10,'11.23'!G$13:G$48) -> 500 | H10: =SUMIF('11.23'!$B$13:$B$48,$B10,'11.23'!H$13:H$48) -> 687 | J10: =I10*H10 -> 0 | K10: =VLOOKUP(B10,'11.23'!$B$13:$K$54,10,0) -> 0
A11: =ROW()-2 -> 9 | B11: Труба | D11: гофрированная ПНД легкая безгалогенная (HF) зонд д16 | E11: м. | F11: =SUMIF('11.23'!$B$13:$B$48,$B11,'11.23'!F$13:F$48) -> 1980 | G11: =SUMIF('11.23'!$B$13:$B$48,$B11,'11.23'!G$13:G$48) -> 3822 | H11: =SUMIF('11.23'!$B$13:$B$48,$B11,'11.23'!H$13:H$48) -> 5802 | J11: =I11*H11 -> 0 | K11: =VLOOKUP(B11,'11.23'!$B$13:$K$54,10,0) -> 0
A12: =ROW()-2 -> 10 | B12: Автоматический выключатель 1P 5А (В) 4,5kA ВА 47-63 EKF PROxima | E12: шт. | F12: =SUMIF('11.23'!$B$13:$B$48,$B12,'11.23'!F$13:F$48) -> 88 | G12: =SUMIF('11.23'!$B$13:$B$48,$B12,'11.23'!G$13:G$48) -> 156 | H12: =SUMIF('11.23'!$B$13:$B$48,$B12,'11.23'!H$13:H$48) -> 244 | J12: =I12*H12 -> 0 | K12: =VLOOKUP(B12,'11.23'!$B$13:$K$54,10,0) -> 0
A13: =ROW()-2 -> 11 | B13: Скотчлок соединитель EC-SL-UY2-YL-100 | E13: шт. | F13: =SUMIF('11.23'!$B$13:$B$48,$B13,'11.23'!F$13:F$48) -> 352 | G13: =SUMIF('11.23'!$B$13:$B$48,$B13,'11.23'!G$13:G$48) -> 624 | H13: =SUMIF('11.23'!$B$13:$B$48,$B13,'11.23'!H$13:H$48) -> 976 | J13: =I13*H13 -> 0 | K13: =VLOOKUP(B13,'11.23'!$B$13:$K$54,10,0) -> 0
A14: =ROW()-2 -> 12 | B14: Монтажная лента текстильная под пистолет | E14: м. | F14: =SUMIF('11.23'!$B$13:$B$48,$B14,'11.23'!F$13:F$48) -> 432 | G14: =SUMIF('11.23'!$B$13:$B$48,$B14,'11.23'!G$13:G$48) -> 846 | H14: =SUMIF('11.23'!$B$13:$B$48,$B14,'11.23'!H$13:H$48) -> 1278 | J14: =I14*H14 -> 0 | K14: =VLOOKUP(B14,'11.23'!$B$13:$K$54,10,0) -> 0
A15: =ROW()-2 -> 13 | B15: Дюбель-хомут 5-10мм нейлон (100шт. в пч.) | E15: шт. | F15: =SUMIF('11.23'!$B$13:$B$48,$B15,'11.23'!F$13:F$48) -> 2200 | G15: =SUMIF('11.23'!$B$13:$B$48,$B15,'11.23'!G$13:G$48) -> 3900 | H15: =SUMIF('11.23'!$B$13:$B$48,$B15,'11.23'!H$13:H$48) -> 6100 | J15: =I15*H15 -> 0 | K15: =VLOOKUP(B15,'11.23'!$B$13:$K$54,10,0) -> 0
A16: =ROW()-2 -> 14 | B16: Наконечник КВТ НШВИ 0,75-8 | E16: шт. | F16: =SUMIF('11.23'!$B$13:$B$48,$B16,'11.23'!F$13:F$48) -> 528 | G16: =SUMIF('11.23'!$B$13:$B$48,$B16,'11.23'!G$13:G$48) -> 936 | H16: =SUMIF('11.23'!$B$13:$B$48,$B16,'11.23'!H$13:H$48) -> 1464 | J16: =I16*H16 -> 0 | K16: =VLOOKUP(B16,'11.23'!$B$13:$K$54,10,0) -> 0
A17: =ROW()-2 -> 15 | B17: Наконечник КВТ НШВИ2 0,75-8 | E17: шт. | F17: =SUMIF('11.23'!$B$13:$B$48,$B17,'11.23'!F$13:F$48) -> 88 | G17: =SUMIF('11.23'!$B$13:$B$48,$B17,'11.23'!G$13:G$48) -> 156 | H17: =SUMIF('11.23'!$B$13:$B$48,$B17,'11.23'!H$13:H$48) -> 244 | J17: =I17*H17 -> 0 | K17: =VLOOKUP(B17,'11.23'!$B$13:$K$54,10,0) -> 0
A18: =ROW()-2 -> 16 | B18: Наконечник медный КВТ луженый ТМЛ 6-6-4 под кабель 6,0мм болт М6 | E18: шт. | F18: =SUMIF('11.23'!$B$13:$B$48,$B18,'11.23'!F$13:F$48) -> 22 | G18: =SUMIF('11.23'!$B$13:$B$48,$B18,'11.23'!G$13:G$48) -> 40 | H18: =SUMIF('11.23'!$B$13:$B$48,$B18,'11.23'!H$13:H$48) -> 62 | J18: =I18*H18 -> 0 | K18: =VLOOKUP(B18,'11.23'!$B$13:$K$54,10,0) -> 0
A19: =ROW()-2 -> 17 | B19: Шина PE земля на DIN-изоляторах ШНИ-6х9-16-Д-Ж YNN10-69-16D-K05 IEK | E19: шт. | F19: =SUMIF('11.23'!$B$13:$B$48,$B19,'11.23'!F$13:F$48) -> 11 | G19: =SUMIF('11.23'!$B$13:$B$48,$B19,'11.23'!G$13:G$48) -> 20 | H19: =SUMIF('11.23'!$B$13:$B$48,$B19,'11.23'!H$13:H$48) -> 31 | J19: =I19*H19 -> 0 | K19: =VLOOKUP(B19,'11.23'!$B$13:$K$54,10,0) -> 0
A20: =ROW()-2 -> 18 | B20: Коробка ответвит. с гладкими стенками, IP56, 300х220х120мм | E20: шт. | F20: =SUMIF('11.23'!$B$13:$B$48,$B20,'11.23'!F$13:F$48) -> 11 | G20: =SUMIF('11.23'!$B$13:$B$48,$B20,'11.23'!G$13:G$48) -> 20 | H20: =SUMIF('11.23'!$B$13:$B$48,$B20,'11.23'!H$13:H$48) -> 31 | J20: =I20*H20 -> 0 | K20: =VLOOKUP(B20,'11.23'!$B$13:$K$54,10,0) -> 0
A21: =ROW()-2 -> 19 | B21: Колодка клеммная пружинная JXB-ST-2.5 28А 3 вывода серая EKF PROxima (PLC-JXB-ST-2.5-3) | E21: шт. | F21: =SUMIF('11.23'!$B$13:$B$48,$B21,'11.23'!F$13:F$48) -> 264 | G21: =SUMIF('11.23'!$B$13:$B$48,$B21,'11.23'!G$13:G$48) -> 468 | H21: =SUMIF('11.23'!$B$13:$B$48,$B21,'11.23'!H$13:H$48) -> 732 | J21: =I21*H21 -> 0 | K21: =VLOOKUP(B21,'11.23'!$B$13:$K$54,10,0) -> 0
A22: =ROW()-2 -> 20 | B22: Кабельный ввод (сальник) PG 13.5 (IP68) d отверстия 6-12 мм | E22: шт. | F22: =SUMIF('11.23'!$B$13:$B$48,$B22,'11.23'!F$13:F$48) -> 275 | G22: =SUMIF('11.23'!$B$13:$B$48,$B22,'11.23'!G$13:G$48) -> 488 | H22: =SUMIF('11.23'!$B$13:$B$48,$B22,'11.23'!H$13:H$48) -> 763 | J22: =I22*H22 -> 0 | K22: =VLOOKUP(B22,'11.23'!$B$13:$K$54,10,0) -> 0
A23: =ROW()-2 -> 21 | B23: Din-рейка REXANT 25см | E23: шт. | F23: =SUMIF('11.23'!$B$13:$B$48,$B23,'11.23'!F$13:F$48) -> 22 | G23: =SUMIF('11.23'!$B$13:$B$48,$B23,'11.23'!G$13:G$48) -> 40 | H23: =SUMIF('11.23'!$B$13:$B$48,$B23,'11.23'!H$13:H$48) -> 62 | J23: =I23*H23 -> 0 | K23: =VLOOKUP(B23,'11.23'!$B$13:$K$54,10,0) -> 0
A24: =ROW()-2 -> 22 | B24: Контактная проводящая паста КПП 100 гр. КВТ | E24: шт. | F24: =SUMIF('11.23'!$B$13:$B$48,$B24,'11.23'!F$13:F$48) -> 1 | G24: =SUMIF('11.23'!$B$13:$B$48,$B24,'11.23'!G$13:G$48) -> 1 | H24: =SUMIF('11.23'!$B$13:$B$48,$B24,'11.23'!H$13:H$48) -> 2 | J24: =I24*H24 -> 0 | K24: =VLOOKUP(B24,'11.23'!$B$13:$K$54,10,0) -> 0
I25: ИТОГО: | J25: =SUM(J3:J24) -> 0
I26: проверка: | J26: =J25-'11.23'!J53 -> 0
B28: Примечание:
A29: - | B29: В случае, если один из перечисленных прочих материалов не был использован по факту при производстве работ, заказчик вправе откорректировать процент расходных материалов в актах выполненных работ (формы КС-2, КС-3), уменьшив на сумму исключенного материала.
A30: - | B30: Стоимость СМР учитывает - затраты на все второстепенные материалы и работы необходимые для осуществления полного комплекса работ, включая затраты: обеспечение технической водой для производства работ и бытовых целей; на мобилизацию, аренду и эксплуатацию всех необходимых механизмов, оборудования и инструментов, бытовых помещений и биотуалетов; на подъем материалов и разноску по этажам к местам производства работ; выполнение сопутствующих работ; вывоз мусора; накладные расходы, прибыль организации, налоги и иные издержки Подрядчика. Обеспечение безопасного производства работ на участке.
A31: - | B31: Стоимость материалов учитывает стоимость доставки.
