Workbook
Name Данные: [1]Тестовый!$F$10:$H$14

Sheet ЛСР№1
K1: Приложение №
K2: к Договору подряда №
B4: ПОДРЯДЧИК: | E4: ЗАКАЗЧИК: | J4: ТЕХНИЧЕСКИЙ ЗАКАЗЧИК:
E5: ООО "ЭНКО СТРОЙ" | J5: ООО "Технический заказчик "ЭНКО"
B7: _________________/ | E7: ___________/С.И. Ярков | J7: ___________/С.И. Ярков
E9: Локальный сметный расчет №
E10: Устройство системы Безопасный дом. ГП-72.215
A12: № | B12: Наименование | C12: Марка | D12: Характеристика | E12: Ед. изм. | F12: 72.215 | G12: Кол-во | H12: Цена | I12: Сумма | J12: Примечание | K12: Форма закупа материала
A13: 11 | B13: Внутренние инженерные сети
A14: 11.23. | B14: Система "Безопасный дом"
A15: 11.23.01 | B15: Установка оборудования
A16: 11.23.01.00. | B16: Установка оборудования | I16: =I17+I19 -> 0
B17: Работа: | I17: =SUM(I18:I18) -> 0
B18: Монтажные работы | E18: комплекс | F18: 1 | G18: =SUM(F18:F18) -> 1 | H18: =VLOOKUP(B18,СМР!$B$3:$F$4,5,0) -> 0 | I18: =H18*G18 -> 0
B19: Материалы: | I19: =SUM(I20:I29) -> 0
B20: Блок управления | C20: Gidrolock | D20: STANDARD RADIO (1) DIN-рейка, арт. 22021231 | E20: шт. | F20: 154 | G20: =SUM(F20:F20) -> 154 | H20: =VLOOKUP(B20,ТМЦ!$B$3:$I$24,6,0) -> 0 | I20: =H20*G20 -> 0 | K20: =VLOOKUP(B20,ТМЦ!$B$3:$J$24,9,0) -> 0
B21: Кран шаровой с электроприводом | C21: Gidrolock | D21: ШЭП ULTIMATE 220V G-LOCK 1/2" BS (11092061)) | E21: шт. | F21: =F20*2 -> 308 | G21: =SUM(F21:F21) -> 308 | H21: =VLOOKUP(B21,ТМЦ!$B$3:$I$24,6,0) -> 0 | I21: =H21*G21 -> 0 | K21: =VLOOKUP(B21,ТМЦ!$B$3:$J$24,9,0) -> 0
B22: Датчик протечки воды беспроводной | C22: Gidrolock | D22: WSR (радио) белый | E22: шт. | F22: =F20 -> 154 | G22: =SUM(F22:F22) -> 154 | H22: =VLOOKUP(B22,ТМЦ!$B$3:$I$24,6,0) -> 0 | I22: =H22*G22 -> 0 | K22: =VLOOKUP(B22,ТМЦ!$B$3:$J$24,9,0) -> 0
B23: Gidrolock Реле 10А дополнительное (на чёрную плату) | C23: Gidrolock | E23: шт. | F23: =F20 -> 154 | G23: =SUM(F23:F23) -> 154 | H23: =VLOOKUP(B23,ТМЦ!$B$3:$I$24,6,0) -> 0 | I23: =H23*G23 -> 0 | K23: =VLOOKUP(B23,ТМЦ!$B$3:$J$24,9,0) -> 0
B24: Извещатель охранный магнитоконтактный врезной монтаж «ИО 102-6» | E24: шт. | F24: =F20 -> 154 | G24: =SUM(F24:F24) -> 154 | H24: =VLOOKUP(B24,ТМЦ!$B$3:$I$24,6,0) -> 0 | I24: =H24*G24 -> 0 | K24: =VLOOKUP(B24,ТМЦ!$B$3:$J$24,9,0) -> 0
B25: Кабель тип 2 | D25: КСПВ 4х0,5 | E25: м. | F25: 1078 | G25: =SUM(F25:F25) -> 1078 | H25: =VLOOKUP(B25,ТМЦ!$B$3:$I$24,6,0) -> 0 | I25: =H25*G25 -> 0 | K25: =VLOOKUP(B25,ТМЦ!$B$3:$J$24,9,0) -> 0
B26: Кабель тип 3 | D26: монтажный МКШнг(А)-LS 5х0.75 | E26: м. | F26: 3080 | G26: =SUM(F26:F26) -> 3080 | H26: =VLOOKUP(B26,ТМЦ!$B$3:$I$24,6,0) -> 0 | I26: =H26*G26 -> 0 | K26: =VLOOKUP(B26,ТМЦ!$B$3:$J$24,9,0) -> 0
B27: Кабель тип 4 | D27: ПуГВ 1х6 жёлто-зелёный многопроволочный | E27: м. | F27: 1040 | G27: =SUM(F27:F27) -> 1040 | H27: =VLOOKUP(B27,ТМЦ!$B$3:$I$24,6,0) -> 0 | I27: =H27*G27 -> 0 | K27: =VLOOKUP(B27,ТМЦ!$B$3:$J$24,9,0) -> 0
B28: Труба | D28: гофрированная ПНД легкая безгалогенная (HF) зонд д16 | E28: м. | F28: 3658 | G28: =SUM(F28:F28) -> 3658 | H28: =VLOOKUP(B28,ТМЦ!$B$3:$I$24,6,0) -> 0 | I28: =H28*G28 -> 0 | K28: =VLOOKUP(B28,ТМЦ!$B$3:$J$24,9,0) -> 0
B29: Прочие материалы (Скотчлок соединитель EC-SL-UY2-YL-100, Автоматический выключатель 1P 5А (В) 4,5kA ВА 47-63 EKF PROxima, Монтажная лента текстильная под пистолет, Дюбель-хомут 5-10мм нейлон (100шт. в пч.), Наконечник штырьевой втулочный НШВ 0.75-8 79476 КВТ, Клемма DIY YOU PCT-213, быстрозажимной кабельный соединитель, 3 общих проводника L, Коробка ответвит. с гладкими стенками, IP56, 300х220х120мм, Колодка клеммная пружинная JXB-ST-1.5 17.5А серая EKF PROxima (PLC-JXB-ST-1.5), Колодка клеммная пружинная JXB-ST-2.5 28А 3 вывода серая EKF PROxima (PLC-JXB-ST-2.5-3), Кабельный ввод (сальник) PG 13.5 (IP68) d отверстия 6-12 мм, Din-рейка REXANT 25см, Контактная проводящая паста КПП 100 гр. КВТ) | E29: % | G29: =I29*100/I17 -> #DIV/0! | I29: =SUM(I30:I42) -> 0
B30: Автоматический выключатель 1P 5А (В) 4,5kA ВА 47-63 EKF PROxima | E30: шт. | F30: =F20 -> 154 | G30: =SUM(F30:F30) -> 154 | H30: =VLOOKUP(B30,ТМЦ!$B$3:$I$24,6,0) -> 0 | I30: =H30*G30 -> 0 | K30: =VLOOKUP(B30,ТМЦ!$B$3:$J$24,9,0) -> 0
B31: Скотчлок соединитель EC-SL-UY2-YL-100 | E31: шт. | F31: 616 | G31: =SUM(F31:F31) -> 616 | H31: =VLOOKUP(B31,ТМЦ!$B$3:$I$24,6,0) -> 0 | I31: =H31*G31 -> 0 | K31: =VLOOKUP(B31,ТМЦ!$B$3:$J$24,9,0) -> 0
B32: Монтажная лента текстильная под пистолет | E32: м. | F32: 914 | G32: =SUM(F32:F32) -> 914 | H32: =VLOOKUP(B32,ТМЦ!$B$3:$I$24,6,0) -> 0 | I32: =H32*G32 -> 0 | K32: =VLOOKUP(B32,ТМЦ!$B$3:$J$24,9,0) -> 0
B33: Дюбель-хомут 5-10мм нейлон (100шт. в пч.) | E33: шт. | F33: 3850 | G33: =SUM(F33:F33) -> 3850 | H33: =VLOOKUP(B33,ТМЦ!$B$3:$I$24,6,0) -> 0 | I33: =H33*G33 -> 0 | K33: =VLOOKUP(B33,ТМЦ!$B$3:$J$24,9,0) -> 0
B34: Наконечник КВТ НШВИ 0,75-8 | E34: шт. | F34: 924 | G34: =SUM(F34:F34) -> 924 | H34: =VLOOKUP(B34,ТМЦ!$B$3:$I$24,6,0) -> 0 | I34: =H34*G34 -> 0 | K34: =VLOOKUP(B34,ТМЦ!$B$3:$J$24,9,0) -> 0
B35: Наконечник КВТ НШВИ2 0,75-8 | E35: шт. | F35: 154 | G35: =SUM(F35:F35) -> 154 | H35: =VLOOKUP(B35,ТМЦ!$B$3:$I$24,6,0) -> 0 | I35: =H35*G35 -> 0 | K35: =VLOOKUP(B35,ТМЦ!$B$3:$J$24,9,0) -> 0
B36: Наконечник медный КВТ луженый ТМЛ 6-6-4 под кабель 6,0мм болт М6 | E36: шт. | F36: 80 | G36: =SUM(F36:F36) -> 80 | H36: =VLOOKUP(B36,ТМЦ!$B$3:$I$24,6,0) -> 0 | I36: =H36*G36 -> 0 | K36: =VLOOKUP(B36,ТМЦ!$B$3:$J$24,9,0) -> 0
B37: Шина PE земля на DIN-изоляторах ШНИ-6х9-16-Д-Ж YNN10-69-16D-K05 IEK | E37: шт. | F37: 40 | G37: =SUM(F37:F37) -> 40 | H37: =VLOOKUP(B37,ТМЦ!$B$3:$I$24,6,0) -> 0 | I37: =H37*G37 -> 0 | K37: =VLOOKUP(B37,ТМЦ!$B$3:$J$24,9,0) -> 0
B38: Коробка ответвит. с гладкими стенками, IP56, 300х220х120мм | E38: шт. | F38: 40 | G38: =SUM(F38:F38) -> 40 | H38: =VLOOKUP(B38,ТМЦ!$B$3:$I$24,6,0) -> 0 | I38: =H38*G38 -> 0 | K38: =VLOOKUP(B38,ТМЦ!$B$3:$J$24,9,0) -> 0
B39: Колодка клеммная пружинная JXB-ST-2.5 28А 3 вывода серая EKF PROxima (PLC-JXB-ST-2.5-3) | E39: шт. | F39: 462 | G39: =SUM(F39:F39) -> 462 | H39: =VLOOKUP(B39,ТМЦ!$B$3:$I$24,6,0) -> 0 | I39: =H39*G39 -> 0 | K39: =VLOOKUP(B39,ТМЦ!$B$3:$J$24,9,0) -> 0
B40: Кабельный ввод (сальник) PG 13.5 (IP68) d отверстия 6-12 мм | E40: шт. | F40: 502 | G40: =SUM(F40:F40) -> 502 | H40: =VLOOKUP(B40,ТМЦ!$B$3:$I$24,6,0) -> 0 | I40: =H40*G40 -> 0 | K40: =VLOOKUP(B40,ТМЦ!$B$3:$J$24,9,0) -> 0
B41: Din-рейка REXANT 25см | E41: шт. | F41: 40 | G41: =SUM(F41:F41) -> 40 | H41: =VLOOKUP(B41,ТМЦ!$B$3:$I$24,6,0) -> 0 | I41: =H41*G41 -> 0 | K41: =VLOOKUP(B41,ТМЦ!$B$3:$J$24,9,0) -> 0
B42: Контактная проводящая паста КПП 100 гр. КВТ | E42: шт. | F42: 1 | G42: =SUM(F42:F42) -> 1 | H42: =VLOOKUP(B42,ТМЦ!$B$3:$I$24,6,0) -> 0 | I42: =H42*G42 -> 0 | K42: =VLOOKUP(B42,ТМЦ!$B$3:$J$24,9,0) -> 0
A43: 11.11.06 | B43: ПНР
A44: 11.11.06.00. | B44: ПНР | I44: =I45 -> 0
...

Sheet СМР
A1: Ведомость объемов работ
A2: № п/п | B2: Наименование | C2: Характеристика | D2: Ед. изм. | E2: Кол-во | F2: Цена | G2: Сумма | H2: Примечание
A3: =ROW()-2 -> 1 | B3: Монтажные работы | D3: комплекс | E3: =SUMIF(ЛСР№1!$B$13:$B$46,B3,ЛСР№1!$F$13:$F$46) -> 1 | G3: =F3*E3 -> 0
A4: =ROW()-2 -> 2 | B4: Пусконаладочные работы | D4: комплекс | E4: =SUMIF(ЛСР№1!$B$13:$B$46,B4,ЛСР№1!$F$13:$F$46) -> 1 | G4: =F4*E4 -> 0
F5: ИТОГО: | G5: =SUM(G3:G4) -> 0
F6: проверка: | G6: =G5-ЛСР№1!I48 -> 0
B8: Примечание:
A9: - | B9: В случае, если один из перечисленных прочих материалов не был использован по факту при производстве работ, заказчик вправе откорректировать процент расходных материалов в актах выполненных работ (формы КС-2, КС-3), уменьшив на сумму исключенного материала.
A10: - | B10: Стоимость СМР учитывает - затраты на все второстепенные материалы и работы необходимые для осуществления полного комплекса работ, включая затраты: обеспечение технической водой для производства работ и бытовых целей; на мобилизацию, аренду и эксплуатацию всех необходимых механизмов, оборудования и инструментов, бытовых помещений и биотуалетов; на подъем материалов и разноску по этажам к местам производства работ; выполнение сопутствующих работ; вывоз мусора; накладные расходы, прибыль организации, налоги и иные издержки Подрядчика. Обеспечение безопасного производства работ на участке.
A11: - | B11: Стоимость материалов учитывает стоимость доставки.

Sheet ТМЦ
A1: Спецификация материалов
A2: № п/п | B2: Наименование | C2: Марка | D2: Характеристика | E2: Ед. изм. | F2: Кол-во | G2: Цена | H2: Сумма | I2: Примечание | J2: Форма закупа материала
A3: =ROW()-2 -> 1 | B3: Блок управления | C3: Gidrolock | D3: STANDARD RADIO (1) DIN-рейка, арт. 22021231 | E3: шт. | F3: =SUMIF(ЛСР№1!$B$13:$B$46,ТМЦ!B3,ЛСР№1!$F$13:$F$46) -> 154 | H3: =G3*F3 -> 0
A4: =ROW()-2 -> 2 | B4: Кран шаровой с электроприводом | C4: Gidrolock | D4: ШЭП ULTIMATE 220V G-LOCK 1/2" BS (11092061)) | E4: шт. | F4: =SUMIF(ЛСР№1!$B$13:$B$46,ТМЦ!B4,ЛСР№1!$F$13:$F$46) -> 308 | H4: =G4*F4 -> 0
A5: =ROW()-2 -> 3 | B5: Датчик протечки воды беспроводной | C5: Gidrolock | D5: WSR (радио) белый | E5: шт. | F5: =SUMIF(ЛСР№1!$B$13:$B$46,ТМЦ!B5,ЛСР№1!$F$13:$F$46) -> 154 | H5: =G5*F5 -> 0
A6: =ROW()-2 -> 4 | B6: Gidrolock Реле 10А дополнительное (на чёрную плату) | C6: Gidrolock | E6: шт. | F6: =SUMIF(ЛСР№1!$B$13:$B$46,ТМЦ!B6,ЛСР№1!$F$13:$F$46) -> 154 | H6: =G6*F6 -> 0
A7: =ROW()-2 -> 5 | B7: Извещатель охранный магнитоконтактный врезной монтаж «ИО 102-6» | E7: шт. | F7: =SUMIF(ЛСР№1!$B$13:$B$46,ТМЦ!B7,ЛСР№1!$F$13:$F$46) -> 154 | H7: =G7*F7 -> 0
A8: =ROW()-2 -> 6 | B8: Кабель тип 2 | D8: КСПВ 4х0,5 | E8: м. | F8: =SUMIF(ЛСР№1!$B$13:$B$46,ТМЦ!B8,ЛСР№1!$F$13:$F$46) -> 1078 | H8: =G8*F8 -> 0
A9: =ROW()-2 -> 7 | B9: Кабель тип 3 | D9: монтажный МКШнг(А)-LS 5х0.75 | E9: м. | F9: =SUMIF(ЛСР№1!$B$13:$B$46,ТМЦ!B9,ЛСР№1!$F$13:$F$46) -> 3080 | H9: =G9*F9 -> 0
A10: =ROW()-2 -> 8 | B10: Кабель тип 4 | D10: ПуГВ 1х6 жёлто-зелёный многопроволочный | E10: м. | F10: =SUMIF(ЛСР№1!$B$13:$B$46,ТМЦ!B10,ЛСР№1!$F$13:$F$46) -> 1040 | H10: =G10*F10 -> 0
A11: =ROW()-2 -> 9 | B11: Труба | D11: гофрированная ПНД легкая безгалогенная (HF) зонд д16 | E11: м. | F11: =SUMIF(ЛСР№1!$B$13:$B$46,ТМЦ!B11,ЛСР№1!$F$13:$F$46) -> 3658 | H11: =G11*F11 -> 0
A12: =ROW()-2 -> 10 | B12: Автоматический выключатель 1P 5А (В) 4,5kA ВА 47-63 EKF PROxima | E12: шт. | F12: =SUMIF(ЛСР№1!$B$13:$B$46,ТМЦ!B12,ЛСР№1!$F$13:$F$46) -> 154 | H12: =G12*F12 -> 0
A13: =ROW()-2 -> 11 | B13: Скотчлок соединитель EC-SL-UY2-YL-100 | E13: шт. | F13: =SUMIF(ЛСР№1!$B$13:$B$46,ТМЦ!B13,ЛСР№1!$F$13:$F$46) -> 616 | H13: =G13*F13 -> 0
A14: =ROW()-2 -> 12 | B14: Монтажная лента текстильная под пистолет | E14: м. | F14: =SUMIF(ЛСР№1!$B$13:$B$46,ТМЦ!B14,ЛСР№1!$F$13:$F$46) -> 914 | H14: =G14*F14 -> 0
A15: =ROW()-2 -> 13 | B15: Дюбель-хомут 5-10мм нейлон (100шт. в пч.) | E15: шт. | F15: =SUMIF(ЛСР№1!$B$13:$B$46,ТМЦ!B15,ЛСР№1!$F$13:$F$46) -> 3850 | H15: =G15*F15 -> 0
A16: =ROW()-2 -> 14 | B16: Наконечник КВТ НШВИ 0,75-8 | E16: шт. | F16: =SUMIF(ЛСР№1!$B$13:$B$46,ТМЦ!B16,ЛСР№1!$F$13:$F$46) -> 924 | H16: =G16*F16 -> 0
A17: =ROW()-2 -> 15 | B17: Наконечник КВТ НШВИ2 0,75-8 | E17: шт. | F17: =SUMIF(ЛСР№1!$B$13:$B$46,ТМЦ!B17,ЛСР№1!$F$13:$F$46) -> 154 | H17: =G17*F17 -> 0
A18: =ROW()-2 -> 16 | B18: Наконечник медный КВТ луженый ТМЛ 6-6-4 под кабель 6,0мм болт М6 | E18: шт. | F18: =SUMIF(ЛСР№1!$B$13:$B$46,ТМЦ!B18,ЛСР№1!$F$13:$F$46) -> 80 | H18: =G18*F18 -> 0
A19: =ROW()-2 -> 17 | B19: Шина PE земля на DIN-изоляторах ШНИ-6х9-16-Д-Ж YNN10-69-16D-K05 IEK | E19: шт. | F19: =SUMIF(ЛСР№1!$B$13:$B$46,ТМЦ!B19,ЛСР№1!$F$13:$F$46) -> 40 | H19: =G19*F19 -> 0
A20: =ROW()-2 -> 18 | B20: Коробка ответвит. с гладкими стенками, IP56, 300х220х120мм | E20: шт. | F20: =SUMIF(ЛСР№1!$B$13:$B$46,ТМЦ!B20,ЛСР№1!$F$13:$F$46) -> 40 | H20: =G20*F20 -> 0
A21: =ROW()-2 -> 19 | B21: Колодка клеммная пружинная JXB-ST-2.5 28А 3 вывода серая EKF PROxima (PLC-JXB-ST-2.5-3) | E21: шт. | F21: =SUMIF(ЛСР№1!$B$13:$B$46,ТМЦ!B21,ЛСР№1!$F$13:$F$46) -> 462 | H21: =G21*F21 -> 0
A22: =ROW()-2 -> 20 | B22: Кабельный ввод (сальник) PG 13.5 (IP68) d отверстия 6-12 мм | E22: шт. | F22: =SUMIF(ЛСР№1!$B$13:$B$46,ТМЦ!B22,ЛСР№1!$F$13:$F$46) -> 502 | H22: =G22*F22 -> 0
A23: =ROW()-2 -> 21 | B23: Din-рейка REXANT 25см | E23: шт. | F23: =SUMIF(ЛСР№1!$B$13:$B$46,ТМЦ!B23,ЛСР№1!$F$13:$F$46) -> 40 | H23: =G23*F23 -> 0
A24: =ROW()-2 -> 22 | B24: Контактная проводящая паста КПП 100 гр. КВТ | E24: шт. | F24: =SUMIF(ЛСР№1!$B$13:$B$46,ТМЦ!B24,ЛСР№1!$F$13:$F$46) -> 1 | H24: =G24*F24 -> 0
G25: ИТОГО: | H25: =SUM(H3:H24) -> 0
G26: проверка: | H26: =H25-ЛСР№1!I49 -> 0
B28: Примечание:
A29: - | B29: В случае, если один из перечисленных прочих материалов не был использован по факту при производстве работ, заказчик вправе откорректировать процент расходных материалов в актах выполненных работ (формы КС-2, КС-3), уменьшив на сумму исключенного материала.
A30: - | B30: Стоимость СМР учитывает - затраты на все второстепенные материалы и работы необходимые для осуществления полного комплекса работ, включая затраты: обеспечение технической водой для производства работ и бытовых целей; на мобилизацию, аренду и эксплуатацию всех необходимых механизмов, оборудования и инструментов, бытовых помещений и биотуалетов; на подъем материалов и разноску по этажам к местам производства работ; выполнение сопутствующих работ; вывоз мусора; накладные расходы, прибыль организации, налоги и иные издержки Подрядчика. Обеспечение безопасного производства работ на участке.
A31: - | B31: Стоимость материалов учитывает стоимость доставки.
