Workbook

Sheet ГПР
J1: Приложение №
J2: к Договору подряда №
B4: ПОДРЯДЧИК: | C4: ЗАКАЗЧИК: | E4: ТЕХНИЧЕСКИЙ ЗАКАЗЧИК:
C5: ООО "ЭНКО Трейд" | E5: ООО "ТЗ ЭНКО"
B8: ______________/ | C8: _________________/ С.И. Ярков | E8: _________________/ С.И. Ярков
A13: ГПР №1 ГП-82,83 ЖК Преображенский город Новый Уренгой
A15: № п/п | B15: Наименование | C15: Сроки производства работ
A16: 13 | B16: Наружные сети
A17: 13.08 | B17: Устройство наружных сетей связи
A18: 13.08.01 | B18: Прокладка наружных сетей связи
A19: 13.08.01.00 | B19: Прокладка наружных сетей связи
B20: Работа:
B21: Бурение алмазное Ду 160мм | C21: с 15.05.2026 по 30.07.2026
B22: Заделка отверстий | C22: с 15.05.2026 по 30.07.2026
B23: Прокладка траншеи | C23: с 15.05.2026 по 30.07.2026
B24: Прокладка трубы | C24: с 15.05.2026 по 30.07.2026
B25: Устройство люка | C25: с 15.05.2026 по 30.07.2026
B26: Устройство колодца связи | C26: с 15.05.2026 по 30.07.2026
B27: Устройство приямка для колодца | C27: с 15.05.2026 по 30.07.2026
A28: 13.08.02 | B28: ПНР
A29: 13.08.02.00 | B29: ПНР
B30: Работа:
B31: Пусконаладочные работы сетей связи | C31: с 01.08.2026 по 15.08.2026
A32: 13.11.02 | B32: Прочие работы
A33: 13.11.02.00 | B33: Прочие работы
B34: Работа: | C34: с 15.05.2026 по 30.07.2026

Sheet ЛСР (2)
K1: Приложение №
K2: к Договору подряда №
B4: ПОДРЯДЧИК: | E4: ЗАКАЗЧИК: | J4: ТЕХНИЧЕСКИЙ ЗАКАЗЧИК:
E5: Генеральный директор | J5: Генеральный директор
B8: ______________/ | E8: _________________/ Е.В. Низамова | J8: _________________/ Е.В. Низамова
A11: Локальный сметный расчет №1
A13: № п/п | B13: Наименование | C13: Марка | D13: Характеристика | E13: Ед. изм. | F13: Норма | G13: Толщина | H13: Кол-во | I13: Цена за ед. изм. | J13: Сумма | K13: Примечание
A14: 13 | B14: Наружные сети
A15: 13.08 | B15: Строительство сетей связи
A16: 13.08.01 | B16: Строительство сетей связи
A17: 13.08.01.00 | B17: Строительство сетей связи | J17: =J18+J20 -> 454110
B18: Работа: | J18: =J19 -> 135000
B19: Устройство наружных сетей связи (в т.ч. бурение алмазное, заделка отверстий, прокладка траншеи, устройство приямка, колодца связи) | E19: комплекс | H19: 1 | I19: =VLOOKUP(B19,РАБОТА!$B$5:$F$10,4,0) -> 135000 | J19: =I19*H19 -> 135000 | K19: разработка грунта, обратная засыпка
B20: Материалы: | J20: =SUM(J21:J26) -> 319110
B21: Труба полиэтиленовая SDR11 Ду110мм техническая, толщ. 11 мм (Арт.3002) | E21: м.п. | H21: 324 | I21: =VLOOKUP(B21,МАТЕРИАЛ!$B$5:$F$53,4,0) -> 592 | J21: =H21*I21 -> 191808
B22: Колодец КС 10-9 | E22: шт. | H22: 6 | I22: =VLOOKUP(B22,МАТЕРИАЛ!$B$5:$F$53,4,0) -> 2750 | J22: =H22*I22 -> 16500
B23: Дно ПН-10 | E23: шт. | H23: 6 | I23: =VLOOKUP(B23,МАТЕРИАЛ!$B$5:$F$53,4,0) -> 2750 | J23: =H23*I23 -> 16500
B24: Крышка ПП-10-1 | E24: шт. | H24: 6 | I24: =VLOOKUP(B24,МАТЕРИАЛ!$B$5:$F$53,4,0) -> 2650 | J24: =H24*I24 -> 15900
B25: Обойма+Люк (чугун), тип средний | E25: комлект | H25: 6 | I25: =VLOOKUP(B25,МАТЕРИАЛ!$B$5:$F$53,4,0) -> 9300 | J25: =H25*I25 -> 55800
B26: Расходные материалы (муфта соединительная для тех.трубы Ду110 мм, битумная мастика, цемент) | E26: % | H26: 16.75 | J26: =J19*$H$26%-10.5 -> 22602
A27: 13.08.02 | B27: ПНР
A28: 13.08.02.00 | B28: ПНР | J28: =J29+J31 -> 5000
B29: Работа: | J29: =J30 -> 5000
B30: Пусконаладочные работы сетей связи | E30: комплекс | H30: 1 | I30: =VLOOKUP(B30,РАБОТА!$B$5:$F$10,4,0) -> 5000 | J30: =I30*H30 -> 5000
B31: Материалы: | J31: =SUM(J32) -> 0
B32: -
A33: 13.10 | B33: Электроснабжение КЛ-0,4КВ
A34: 13.10.01 | B34: Электроснабжение КЛ-0,4КВ
A35: 13.10.01.00 | B35: Электроснабжение КЛ-0,4КВ | J35: =J36+J38 -> 6074263
B36: Работа: | J36: =SUM(J37:J37) -> 1103800
B37: Устройство наружных сетей электроснабжения 0,4 Кв (в т.ч. алмазное бурение, заделка отверстий) | E37: комплекс | H37: 1 | I37: =VLOOKUP(B37,РАБОТА!$B$5:$F$10,4,0) -> 1103800 | J37: =I37*H37 -> 1103800
B38: Материалы: | J38: =SUM(J39:J47) -> 4970463
B39: Кабель АВБбШв-1 ГОСТ 18410-73 с алюминиевыми жилами бронированный на напряжение 1,0 кВ сечением: 4*120 мм2 | E39: км | H39: 1.17 | I39: =VLOOKUP(B39,МАТЕРИАЛ!$B$5:$F$53,4,0) -> 698690 | J39: =H39*I39 -> 817467.3
B40: Кабель АВБбШв-1 ГОСТ 18410-73 с алюминиевыми жилами бронированный на напряжение 1,0 кВ сечением: 4*185 мм2 | E40: км | H40: 1 | I40: =VLOOKUP(B40,МАТЕРИАЛ!$B$5:$F$53,4,0) -> 1049150 | J40: =H40*I40 -> 1049150
B41: Кабель АВБбШв-1 ГОСТ 18410-73 с алюминиевыми жилами бронированный на напряжение 1,0 кВ сечением: 4*240 мм2 | E41: км | H41: 1.82 | I41: =VLOOKUP(B41,МАТЕРИАЛ!$B$5:$F$53,4,0) -> 1353510 | J41: =H41*I41 -> 2463388.2
B42: Муфта концевая 120 мм 4ПКВ(н)тпБН-1-70/120 | E42: шт. | H42: 12 | I42: =VLOOKUP(B42,МАТЕРИАЛ!$B$5:$F$53,4,0) -> 1850.93 | J42: =H42*I42 -> 22211.16
B43: Муфта концевая 185 мм 4ПКВ(н)тпБН-1-150/240 | E43: шт. | H43: 16 | I43: =VLOOKUP(B43,МАТЕРИАЛ!$B$5:$F$53,4,0) -> 2654.7 | J43: =H43*I43 -> 42475.2
B44: Муфта концевая 240 мм 4ПКВ(н)тпБН-1-150/240 | E44: шт. | H44: 20 | I44: =VLOOKUP(B44,МАТЕРИАЛ!$B$5:$F$53,4,0) -> 2654.7 | J44: =H44*I44 -> 53094
B45: Лоток стальной с крышкой 300*100*3000 мм | E45: шт. | H45: 23 | I45: =VLOOKUP(B45,МАТЕРИАЛ!$B$5:$F$53,4,0) -> 4495.8 | J45: =H45*I45 -> 103403.4
B46: Труба гофрированная двухстенная DKC Ду110 мм | E46: м.п. | H46: 1690 | I46: =VLOOKUP(B46,МАТЕРИАЛ!$B$5:$F$53,4,0) -> 202.73 | J46: =H46*I46 -> 342613.7
...

Sheet РАБОТА
A1: Сводная ведомость объемов работ
A3: № п/п | B3: Наименование | C3: Ед. изм. | D3: Кол-во | E3: Цена за ед. изм. | F3: Сумма
A4: 1 | B4: 2 | C4: 3 | D4: 4 | E4: 5 | F4: 6
A5: 1 | B5: Устройство наружных сетей связи (в т.ч. бурение алмазное, заделка отверстий, прокладка траншеи, устройство приямка, колодца связи) | C5: комплекс | D5: =SUMIF(ГПР!$B$16:$B$35,VLOOKUP($B5,$B$5:$B$10,1,0),ГПР!#REF!) -> #REF! | E5: 135000 | F5: =E5*D5 -> #REF!
A6: 2 | B6: Пусконаладочные работы сетей связи | C6: комплекс | D6: =SUMIF(ГПР!$B$16:$B$35,VLOOKUP($B6,$B$5:$B$10,1,0),ГПР!#REF!) -> #REF! | E6: 5000 | F6: =E6*D6 -> #REF!
A7: 3 | B7: Устройство наружных сетей электроснабжения 0,4 Кв (в т.ч. алмазное бурение, заделка отверстий) | C7: комплекс | D7: =SUMIF(ГПР!$B$16:$B$35,VLOOKUP($B7,$B$5:$B$10,1,0),ГПР!#REF!) -> #REF! | E7: 1103800 | F7: =E7*D7 -> #REF!
A8: 4 | B8: Пусконаладочные работы электроснабжения 0,4 кВ | C8: комплекс | D8: =SUMIF(ГПР!$B$16:$B$35,VLOOKUP($B8,$B$5:$B$10,1,0),ГПР!#REF!) -> #REF! | E8: 50000 | F8: =E8*D8 -> #REF!
A9: 5 | B9: Устройство наружного электроосвещения | C9: комплекс | D9: =SUMIF(ГПР!$B$16:$B$35,VLOOKUP($B9,$B$5:$B$10,1,0),ГПР!#REF!) -> #REF! | E9: 1792000 | F9: =E9*D9 -> #REF!
A10: 6 | B10: Пусконаладочные работы электроосвещения | C10: комплекс | D10: =SUMIF(ГПР!$B$16:$B$35,VLOOKUP($B10,$B$5:$B$10,1,0),ГПР!#REF!) -> #REF! | E10: 50000 | F10: =E10*D10 -> #REF!
B11: стоимость работ: | F11: =SUM(F5:F10) -> #REF!
F12: =F11-ГПР!#REF! -> #REF!

Sheet МАТЕРИАЛ
A1: Сводная ведомость объемов материала
A2: Прошу выдать цены на расходные материалы с целью формирования процентного соотношения
A3: № п/п | B3: Наименование | C3: Ед. изм. | D3: Кол-во | E3: Цена за ед. изм. | F3: Сумма | G3: Примечание
A4: 1 | B4: 2 | C4: 3 | D4: 4 | E4: 5 | F4: 6 | G4: 7
A5: 1 | B5: Труба полиэтиленовая SDR11 Ду110мм техническая, толщ. 11 мм (Арт.3002) | C5: м.п. | D5: =SUMIF(ГПР!$B$16:$B$31,VLOOKUP($B5,$B$5:$B$53,1,0),ГПР!#REF!) -> #REF! | E5: 592 | F5: =D5*E5 -> #REF!
A6: 2 | B6: Колодец КС 10-9 | C6: шт. | D6: =SUMIF(ГПР!$B$16:$B$31,VLOOKUP($B6,$B$5:$B$53,1,0),ГПР!#REF!) -> #REF! | E6: 2750 | F6: =D6*E6 -> #REF!
A7: 3 | B7: Дно ПН-10 | C7: шт. | D7: =SUMIF(ГПР!$B$16:$B$31,VLOOKUP($B7,$B$5:$B$53,1,0),ГПР!#REF!) -> #REF! | E7: 2750 | F7: =D7*E7 -> #REF!
A8: 4 | B8: Крышка ПП-10-1 | C8: шт. | D8: =SUMIF(ГПР!$B$16:$B$31,VLOOKUP($B8,$B$5:$B$53,1,0),ГПР!#REF!) -> #REF! | E8: 2650 | F8: =D8*E8 -> #REF!
A9: 5 | B9: Обойма+Люк (чугун), тип средний | C9: комлект | D9: =SUMIF(ГПР!$B$16:$B$31,VLOOKUP($B9,$B$5:$B$53,1,0),ГПР!#REF!) -> #REF! | E9: 9300 | F9: =D9*E9 -> #REF!
A10: 6 | B10: Муфта соединительная для тех.трубы Ду110 мм (Арт. 3011) | C10: шт. | D10: =SUMIF(ГПР!$B$16:$B$31,VLOOKUP($B10,$B$5:$B$53,1,0),ГПР!#REF!) -> #REF! | E10: 732 | F10: =D10*E10 -> #REF!
A11: 7 | B11: Кабель АВБбШв-1 ГОСТ 18410-73 с алюминиевыми жилами бронированный на напряжение 1,0 кВ сечением: 4*120 мм2 | C11: км | D11: =SUMIF(ГПР!$B$16:$B$31,VLOOKUP($B11,$B$5:$B$53,1,0),ГПР!#REF!) -> #REF! | E11: 698690 | F11: =D11*E11 -> #REF! | G11: точное кол-во кабеля после выноса каб. линий в натуру
A12: 8 | B12: Кабель АВБбШв-1 ГОСТ 18410-73 с алюминиевыми жилами бронированный на напряжение 1,0 кВ сечением: 4*185 мм2 | C12: км | D12: =SUMIF(ГПР!$B$16:$B$31,VLOOKUP($B12,$B$5:$B$53,1,0),ГПР!#REF!) -> #REF! | E12: 1049150 | F12: =D12*E12 -> #REF!
A13: 9 | B13: Кабель АВБбШв-1 ГОСТ 18410-73 с алюминиевыми жилами бронированный на напряжение 1,0 кВ сечением: 4*240 мм2 | C13: км | D13: =SUMIF(ГПР!$B$16:$B$31,VLOOKUP($B13,$B$5:$B$53,1,0),ГПР!#REF!) -> #REF! | E13: 1353510 | F13: =D13*E13 -> #REF!
A14: 10 | B14: Муфта концевая 120 мм 4ПКВ(н)тпБН-1-70/120 | C14: шт. | D14: =SUMIF(ГПР!$B$16:$B$31,VLOOKUP($B14,$B$5:$B$53,1,0),ГПР!#REF!) -> #REF! | E14: 1850.93 | F14: =D14*E14 -> #REF!
A15: 11 | B15: Муфта концевая 185 мм 4ПКВ(н)тпБН-1-150/240 | C15: шт. | D15: =SUMIF(ГПР!$B$16:$B$31,VLOOKUP($B15,$B$5:$B$53,1,0),ГПР!#REF!) -> #REF! | E15: 2654.7 | F15: =D15*E15 -> #REF!
A16: 12 | B16: Муфта концевая 240 мм 4ПКВ(н)тпБН-1-150/240 | C16: шт. | D16: =SUMIF(ГПР!$B$16:$B$31,VLOOKUP($B16,$B$5:$B$53,1,0),ГПР!#REF!) -> #REF! | E16: 2654.7 | F16: =D16*E16 -> #REF!
A17: 13 | B17: Лоток стальной с крышкой 300*100*3000 мм | C17: шт. | D17: =SUMIF(ГПР!$B$16:$B$31,VLOOKUP($B17,$B$5:$B$53,1,0),ГПР!#REF!) -> #REF! | E17: 4495.8 | F17: =D17*E17 -> #REF!
A18: 14 | B18: Шпилька М8*2000 | C18: шт. | D18: =SUMIF(ГПР!$B$16:$B$31,VLOOKUP($B18,$B$5:$B$53,1,0),ГПР!#REF!) -> #REF! | E18: 92 | F18: =D18*E18 -> #REF!
A19: 15 | B19: С-профиль 41*41, толщ. 2,5 мм ВРМ4107HD2 | C19: шт. | D19: =SUMIF(ГПР!$B$16:$B$31,VLOOKUP($B19,$B$5:$B$53,1,0),ГПР!#REF!) -> #REF! | E19: 580 | F19: =D19*E19 -> #REF!
A20: 16 | B20: Труба гофрированная двухстенная DKC Ду110 мм | C20: м.п. | D20: =SUMIF(ГПР!$B$16:$B$31,VLOOKUP($B20,$B$5:$B$53,1,0),ГПР!#REF!) -> #REF! | E20: 202.73 | F20: =D20*E20 -> #REF!
A21: 17 | B21: Лента сигнальная ЛСЭ-900 мм | C21: м.п. | D21: =SUMIF(ГПР!$B$16:$B$31,VLOOKUP($B21,$B$5:$B$53,1,0),ГПР!#REF!) -> #REF! | E21: 51 | F21: =D21*E21 -> #REF!
A22: 18 | B22: Битумная мастика | C22: л | D22: =SUMIF(ГПР!$B$16:$B$31,VLOOKUP($B22,$B$5:$B$53,1,0),ГПР!#REF!) -> #REF! | E22: 100 | F22: =D22*E22 -> #REF!
A23: 19 | B23: Цемент | C23: кг. | D23: =SUMIF(ГПР!$B$16:$B$31,VLOOKUP($B23,$B$5:$B$53,1,0),ГПР!#REF!) -> #REF! | E23: 11.4 | F23: =D23*E23 -> #REF!
A24: 20 | B24: Шкаф управления освещением (ШУО) | C24: комплект | D24: =SUMIF(ГПР!$B$16:$B$31,VLOOKUP($B24,$B$5:$B$53,1,0),ГПР!#REF!) -> #REF! | E24: 50160 | F24: =D24*E24 -> #REF! | G24: комплектация согласно прилагаемой схеме (либо аналог) | H24: аналог согласовать с Ежиковым Р.А.
A25: 21 | B25: Автоматический выключатель 1-но полюсной, Iном=6А ВА47-29 | C25: шт. | D25: =SUMIF(ГПР!$B$16:$B$31,VLOOKUP($B25,$B$5:$B$53,1,0),ГПР!#REF!) -> #REF! | E25: 121.64 | F25: =D25*E25 -> #REF!
A26: 22 | B26: Сжим ответвительный У731 | C26: шт. | D26: =SUMIF(ГПР!$B$16:$B$31,VLOOKUP($B26,$B$5:$B$53,1,0),ГПР!#REF!) -> #REF! | E26: 26.88 | F26: =D26*E26 -> #REF!
A27: 23 | B27: Коробка монтажная 200*200 IP65 | C27: шт. | D27: =SUMIF(ГПР!$B$16:$B$31,VLOOKUP($B27,$B$5:$B$53,1,0),ГПР!#REF!) -> #REF! | E27: 138 | F27: =D27*E27 -> #REF!
A28: 24 | B28: Кабель АВБбШв-1 с алюминиевыми жилами в ПВХ изоляции и оболочке бронированный пятижильный сечением: 5*10 | C28: м.п. | D28: =SUMIF(ГПР!$B$16:$B$31,VLOOKUP($B28,$B$5:$B$53,1,0),ГПР!#REF!) -> #REF! | E28: 135.12 | F28: =D28*E28 -> #REF!
A29: 25 | B29: Кабель АВВГнг с алюминиевыми жилами в ПВХ изоляции и оболочке трехжильный сечением: 3*4 | C29: м.п. | D29: =SUMIF(ГПР!$B$16:$B$31,VLOOKUP($B29,$B$5:$B$53,1,0),ГПР!#REF!) -> #REF! | E29: 28.72 | F29: =D29*E29 -> #REF!
A30: 26 | B30: Кабель силовой гибкий с медными жилами в резиновой изоляции и оболочке трехжильный сечением: 3*1,5 | C30: м.п. | D30: =SUMIF(ГПР!$B$16:$B$31,VLOOKUP($B30,$B$5:$B$53,1,0),ГПР!#REF!) -> #REF! | E30: 55.2 | F30: =D30*E30 -> #REF!
A31: 27 | B31: Труба двустенная гофротруба Ду63 мм | C31: м.п. | D31: =SUMIF(ГПР!$B$16:$B$31,VLOOKUP($B31,$B$5:$B$53,1,0),ГПР!#REF!) -> #REF! | E31: 79.91 | F31: =D31*E31 -> #REF!
A32: 28 | B32: Труба двустенная гофротруба Ду32 мм | C32: м.п. | D32: =SUMIF(ГПР!$B$16:$B$31,VLOOKUP($B32,$B$5:$B$53,1,0),ГПР!#REF!) -> #REF! | E32: 60.58 | F32: =D32*E32 -> #REF!
A33: 29 | B33: Термоусадочная трубка ТУТнг-10/5 | C33: м.п. | D33: =SUMIF(ГПР!$B$16:$B$31,VLOOKUP($B33,$B$5:$B$53,1,0),ГПР!#REF!) -> #REF! | E33: 14.02 | F33: =D33*E33 -> #REF!
A34: 30 | B34: Термоусадочная трубка ТУТнг-40/20 | C34: м.п. | D34: =SUMIF(ГПР!$B$16:$B$31,VLOOKUP($B34,$B$5:$B$53,1,0),ГПР!#REF!) -> #REF! | E34: 103.3 | F34: =D34*E34 -> #REF!
A35: 31 | B35: Светильник односторонний, 4000К, на опоре 6м с ПЧ, Sibilux (цвет шампань) | C35: шт. | D35: =SUMIF(ГПР!$B$16:$B$31,VLOOKUP($B35,$B$5:$B$53,1,0),ГПР!#REF!) -> #REF! | E35: 69680 | F35: =D35*E35 -> #REF!
A36: 32 | B36: Светильник двусторонний, 4000К, на опоре 6м с ПЧ, Sibilux (цвет шампань) | C36: шт. | D36: =SUMIF(ГПР!$B$16:$B$31,VLOOKUP($B36,$B$5:$B$53,1,0),ГПР!#REF!) -> #REF! | E36: 88630 | F36: =D36*E36 -> #REF!
... A53: 49 | B53: Лента сигнальная "Осторожно кабель" 100 мм | C53: м.п. | D53: =SUMIF(ГПР!$B$16:$B$31,VLOOKUP($B53,$B$5:$B$53,1,0),ГПР!#REF!) -> #REF! | E53: 9 | F53: =D53*E53 -> #REF!
B54: в т.ч. стоимость материалов: | F54: =SUM(F5:F53) -> #REF!
F55: =F54-ГПР!#REF! -> #REF!
