Workbook

Sheet ЛСР 07.01 (AL)
O1: Приложение №
O2: к договору подряда №
B4: ПОДРЯДЧИК | G4: ЗАКАЗЧИК | M4: ТЕХНИЧЕСКИЙ ЗАКАЗЧИК
G5: ООО ЭНКО СТРОЙ | M5: ООО ТЗ ЭНКО
B8: ______________/ | G8: ______________Ярков С.И. | M8: ______________Ярков С.И.
A10: Локальный сметный расчет №1 (ГП-214)
A13: № | B13: Наименование | C13: Марка/ Завод изготовитель | D13: Высота, м | E13: Ширина, м | F13: Характеристика | G13: Ед. изм. | H13: Площадь, м2 | I13: ГП-214.1 | J13: ГП-214.2 | K13: Кол-во | L13: Цена за ед. | M13: Сумма | N13: Примечание | O13: Форма закупа материала
A14: 07 | B14: Окна
A15: 07.01 | B15: Изготовление и монтаж Al изделий
A16: 07.01.01 | B16: Изготовление и монтаж дверей
A17: 07.01.01.00 | B17: Изготовление и монтаж дверей | M17: =M18+M20 -> 0
B18: Работа: | M18: =M19 -> 0
B19: Изготовление и монтаж дверей | G19: шт | I19: =SUM(I21:I29) -> 5 | J19: =SUM(J21:J29) -> 4 | K19: =SUM(I19:J19) -> 9 | L19: =VLOOKUP(B19,Работа!$B$4:$G$34,4,0) -> 0 | M19: =L19*K19 -> 0
B20: Материалы: | M20: =SUM(M21:M29) -> 0
B21: Д-2 тип 1 | C21: 2 | D21: 2.07 | E21: 1.46 | F21: 2,07*1,46 | G21: шт | H21: =(D21*E21)*K21 -> 3.0222 | I21: 1 | K21: =SUM(I21:J21) -> 1 | L21: =VLOOKUP(B21,Материал!$B$5:$L$49,9,0) -> 0 | M21: =L21*K21 -> 0 | N21: Ral 9004/EIS60
B22: Д-3 тип 1 | C22: 3 | D22: 2.07 | E22: 0.97 | F22: 2,07*0,97 | G22: шт | H22: =(D22*E22)*K22 -> 2.0079 | I22: 1 | K22: =SUM(I22:J22) -> 1 | L22: =VLOOKUP(B22,Материал!$B$5:$L$49,9,0) -> 0 | M22: =L22*K22 -> 0 | N22: Ral 9004
B23: Д-4 тип 1 | C23: 4 | D23: 2.1 | E23: 1.06 | F23: 2,10*1,06 | G23: шт | H23: =(D23*E23)*K23 -> 2.226 | I23: 1 | K23: =SUM(I23:J23) -> 1 | L23: =VLOOKUP(B23,Материал!$B$5:$L$49,9,0) -> 0 | M23: =L23*K23 -> 0 | N23: Ral 9004
B24: Д-11 тип 1 | C24: 11 | D24: 2.085 | E24: 1.46 | F24: 2,09*1,46 | G24: шт | H24: =(D24*E24)*K24 -> 3.0441 | I24: 1 | K24: =SUM(I24:J24) -> 1 | L24: =VLOOKUP(B24,Материал!$B$5:$L$49,9,0) -> 0 | M24: =L24*K24 -> 0 | N24: Ral 9004/EIS60
B25: Д-12 тип 1 | C25: 12 | D25: 2.07 | E25: 1.06 | F25: 2,07*1,06 | G25: шт | H25: =(D25*E25)*K25 -> 2.1942 | I25: 1 | K25: =SUM(I25:J25) -> 1 | L25: =VLOOKUP(B25,Материал!$B$5:$L$49,9,0) -> 0 | M25: =L25*K25 -> 0 | N25: Ral 9004
B26: Д-3 тип 2 | C26: 3 | D26: 2.085 | E26: 1.46 | F26: 2,09*1,46 | G26: шт | H26: =(D26*E26)*K26 -> 3.0441 | J26: 1 | K26: =SUM(I26:J26) -> 1 | L26: =VLOOKUP(B26,Материал!$B$5:$L$49,9,0) -> 0 | M26: =L26*K26 -> 0 | N26: Ral 9004/EIS60
B27: Д-4 тип 2 | C27: 4 | D27: 2.07 | E27: 1.46 | F27: 2,07*1,46 | G27: шт | H27: =(D27*E27)*K27 -> 3.0222 | J27: 1 | K27: =SUM(I27:J27) -> 1 | L27: =VLOOKUP(B27,Материал!$B$5:$L$49,9,0) -> 0 | M27: =L27*K27 -> 0 | N27: Ral 9004/EIS60
B28: Д-6 тип 2 | C28: 6 | D28: 2.07 | E28: 1.06 | F28: 2,07*1,06 | G28: шт | H28: =(D28*E28)*K28 -> 2.1942 | J28: 1 | K28: =SUM(I28:J28) -> 1 | L28: =VLOOKUP(B28,Материал!$B$5:$L$49,9,0) -> 0 | M28: =L28*K28 -> 0 | N28: Ral 9004
B29: Д-12 тип 2 | C29: 12 | D29: 2.07 | E29: 0.97 | F29: 2,07*0,97 | G29: шт | H29: =(D29*E29)*K29 -> 2.0079 | J29: 1 | K29: =SUM(I29:J29) -> 1 | L29: =VLOOKUP(B29,Материал!$B$5:$L$49,9,0) -> 0 | M29: =L29*K29 -> 0 | N29: Ral 9004
A30: 07.01.02 | B30: Изготовление и монтаж витражей
A31: 07.01.02.00 | B31: Изготовление и монтаж витражей | M31: =M32+M50 -> 0
B32: Работа: | M32: =SUM(M33:M49) -> 0
B33: Изготовление и монтаж витражей В-1 тип 1 | G33: шт | I33: =I51 -> 8 | K33: =SUM(I33:J33) -> 8 | L33: =VLOOKUP(B33,Работа!$B$4:$G$34,4,0) -> 0 | M33: =L33*K33 -> 0
B34: Изготовление и монтаж витражей В-2 тип 1 | G34: шт | I34: =I52 -> 2 | K34: =SUM(I34:J34) -> 2 | L34: =VLOOKUP(B34,Работа!$B$4:$G$34,4,0) -> 0 | M34: =L34*K34 -> 0
B35: Изготовление и монтаж витражей В-3 тип 1 | G35: шт | I35: =I53 -> 1 | K35: =SUM(I35:J35) -> 1 | L35: =VLOOKUP(B35,Работа!$B$4:$G$34,4,0) -> 0 | M35: =L35*K35 -> 0
B36: Изготовление и монтаж витражей В-4 тип 1 | G36: шт | I36: =I54 -> 1 | K36: =SUM(I36:J36) -> 1 | L36: =VLOOKUP(B36,Работа!$B$4:$G$34,4,0) -> 0 | M36: =L36*K36 -> 0
B37: Изготовление и монтаж витражей В-5 тип 1 | G37: шт | I37: =I55 -> 5 | K37: =SUM(I37:J37) -> 5 | L37: =VLOOKUP(B37,Работа!$B$4:$G$34,4,0) -> 0 | M37: =L37*K37 -> 0
B38: Изготовление и монтаж витражей В-6 тип 1 | G38: шт | I38: =I56 -> 2 | K38: =SUM(I38:J38) -> 2 | L38: =VLOOKUP(B38,Работа!$B$4:$G$34,4,0) -> 0 | M38: =L38*K38 -> 0
B39: Изготовление и монтаж витражей В-7 тип 1 | G39: шт | I39: =I57 -> 2 | K39: =SUM(I39:J39) -> 2 | L39: =VLOOKUP(B39,Работа!$B$4:$G$34,4,0) -> 0 | M39: =L39*K39 -> 0
B40: Изготовление и монтаж витражей В-8 тип 1 | G40: шт | I40: =I58 -> 1 | K40: =SUM(I40:J40) -> 1 | L40: =VLOOKUP(B40,Работа!$B$4:$G$34,4,0) -> 0 | M40: =L40*K40 -> 0
B41: Изготовление и монтаж витражей В-9 тип 1 | G41: шт | I41: =I59 -> 2 | K41: =SUM(I41:J41) -> 2 | L41: =VLOOKUP(B41,Работа!$B$4:$G$34,4,0) -> 0 | M41: =L41*K41 -> 0
B42: Изготовление и монтаж витражей В-1 тип 2 | G42: шт | J42: =J60 -> 4 | K42: =SUM(I42:J42) -> 4 | L42: =VLOOKUP(B42,Работа!$B$4:$G$34,4,0) -> 0 | M42: =L42*K42 -> 0
B43: Изготовление и монтаж витражей В-2 тип 2 | G43: шт | J43: =J61 -> 5 | K43: =SUM(I43:J43) -> 5 | L43: =VLOOKUP(B43,Работа!$B$4:$G$34,4,0) -> 0 | M43: =L43*K43 -> 0
B44: Изготовление и монтаж витражей В-3 тип 2 | G44: шт | J44: =J62 -> 1 | K44: =SUM(I44:J44) -> 1 | L44: =VLOOKUP(B44,Работа!$B$4:$G$34,4,0) -> 0 | M44: =L44*K44 -> 0
B45: Изготовление и монтаж витражей В-4 тип 2 | G45: шт | J45: =J63 -> 1 | K45: =SUM(I45:J45) -> 1 | L45: =VLOOKUP(B45,Работа!$B$4:$G$34,4,0) -> 0 | M45: =L45*K45 -> 0
B46: Изготовление и монтаж витражей В-5 тип 2 | G46: шт | J46: =J64 -> 1 | K46: =SUM(I46:J46) -> 1 | L46: =VLOOKUP(B46,Работа!$B$4:$G$34,4,0) -> 0 | M46: =L46*K46 -> 0
...

Sheet Работа
A1: Сводная ведомость объемов работ (ГП-214)
A3: № | B3: Наименование | C3: Ед. изм. | D3: Кол-во | E3: Цена за ед. изм., руб | F3: Сумма, руб | G3: Примечание
A4: 07 | B4: Окна
A5: 07.01 | B5: Изготовление и монтаж Al изделий
B6: Изготовление и монтаж дверей | C6: шт | D6: =SUMIF('ЛСР 07.01 (AL)'!$B$14:$O$132,B6,'ЛСР 07.01 (AL)'!$K$14:$K$132) -> 9 | F6: =E6*D6 -> 0
B7: Изготовление и монтаж витражей В-1 тип 1 | C7: шт | D7: =SUMIF('ЛСР 07.01 (AL)'!$B$14:$O$132,B7,'ЛСР 07.01 (AL)'!$K$14:$K$132) -> 8 | F7: =E7*D7 -> 0
B8: Изготовление и монтаж витражей В-2 тип 1 | C8: шт | D8: =SUMIF('ЛСР 07.01 (AL)'!$B$14:$O$132,B8,'ЛСР 07.01 (AL)'!$K$14:$K$132) -> 2 | F8: =E8*D8 -> 0
B9: Изготовление и монтаж витражей В-3 тип 1 | C9: шт | D9: =SUMIF('ЛСР 07.01 (AL)'!$B$14:$O$132,B9,'ЛСР 07.01 (AL)'!$K$14:$K$132) -> 1 | F9: =E9*D9 -> 0
B10: Изготовление и монтаж витражей В-4 тип 1 | C10: шт | D10: =SUMIF('ЛСР 07.01 (AL)'!$B$14:$O$132,B10,'ЛСР 07.01 (AL)'!$K$14:$K$132) -> 1 | F10: =E10*D10 -> 0
B11: Изготовление и монтаж витражей В-5 тип 1 | C11: шт | D11: =SUMIF('ЛСР 07.01 (AL)'!$B$14:$O$132,B11,'ЛСР 07.01 (AL)'!$K$14:$K$132) -> 5 | F11: =E11*D11 -> 0
B12: Изготовление и монтаж витражей В-6 тип 1 | C12: шт | D12: =SUMIF('ЛСР 07.01 (AL)'!$B$14:$O$132,B12,'ЛСР 07.01 (AL)'!$K$14:$K$132) -> 2 | F12: =E12*D12 -> 0
B13: Изготовление и монтаж витражей В-7 тип 1 | C13: шт | D13: =SUMIF('ЛСР 07.01 (AL)'!$B$14:$O$132,B13,'ЛСР 07.01 (AL)'!$K$14:$K$132) -> 2 | F13: =E13*D13 -> 0
B14: Изготовление и монтаж витражей В-8 тип 1 | C14: шт | D14: =SUMIF('ЛСР 07.01 (AL)'!$B$14:$O$132,B14,'ЛСР 07.01 (AL)'!$K$14:$K$132) -> 1 | F14: =E14*D14 -> 0
B15: Изготовление и монтаж витражей В-9 тип 1 | C15: шт | D15: =SUMIF('ЛСР 07.01 (AL)'!$B$14:$O$132,B15,'ЛСР 07.01 (AL)'!$K$14:$K$132) -> 2 | F15: =E15*D15 -> 0
B16: Изготовление и монтаж витражей В-1 тип 2 | C16: шт | D16: =SUMIF('ЛСР 07.01 (AL)'!$B$14:$O$132,B16,'ЛСР 07.01 (AL)'!$K$14:$K$132) -> 4 | F16: =E16*D16 -> 0
B17: Изготовление и монтаж витражей В-2 тип 2 | C17: шт | D17: =SUMIF('ЛСР 07.01 (AL)'!$B$14:$O$132,B17,'ЛСР 07.01 (AL)'!$K$14:$K$132) -> 5 | F17: =E17*D17 -> 0
... B34: Изолирование монтажного шва СТИЗ (в т.ч. материал) | C34: м.п. | D34: =SUMIF('ЛСР 07.01 (AL)'!$B$14:$O$132,B34,'ЛСР 07.01 (AL)'!$K$14:$K$132) -> 1923.18 | F34: =E34*D34 -> 0
B35: итого AL: | F35: =SUM(F6:F34) -> 0
B36: ВСЕГО СМР: | F36: =F35 -> 0
F37: =F36-'ЛСР 07.01 (AL)'!M134 -> 0

Sheet Материал
A2: Сводная ведомость объемов материала (ГП-214)
A4: № | B4: Наименование | C4: Марка/ Завод изготовитель | D4: Высота, м | E4: Ширина, м | F4: Характеристика | G4: Ед. изм. | H4: Площадь, м2 | I4: Кол-во | J4: Цена за ед. изм., руб | K4: Сумма, руб | L4: Примечание
A5: 07.01 | B5: Изготовление и монтаж Al изделий
B6: В-1 тип 1 | D6: =VLOOKUP(B6,'ЛСР 07.01 (AL)'!$B$14:$O$132,3,0) -> 2.57 | E6: =VLOOKUP(B6,'ЛСР 07.01 (AL)'!$B$14:$O$132,4,0) -> 2.11 | F6: =VLOOKUP(B6,'ЛСР 07.01 (AL)'!$B$14:$O$132,5,0) -> 2,57*2,11 | G6: =VLOOKUP(B6,'ЛСР 07.01 (AL)'!$B$14:$O$132,6,0) -> шт | H6: =(D6*E6)*I6 -> 43.3816 | I6: =SUMIF('ЛСР 07.01 (AL)'!$B$14:$O$132,B6,'ЛСР 07.01 (AL)'!$K$14:$K$132) -> 8 | K6: =J6*I6 -> 0 | L6: =VLOOKUP(B6,'ЛСР 07.01 (AL)'!$B$14:$O$132,13,0) -> Ral 9004
B7: В-2 тип 1 | D7: =VLOOKUP(B7,'ЛСР 07.01 (AL)'!$B$14:$O$132,3,0) -> 2.57 | E7: =VLOOKUP(B7,'ЛСР 07.01 (AL)'!$B$14:$O$132,4,0) -> 1.63 | F7: =VLOOKUP(B7,'ЛСР 07.01 (AL)'!$B$14:$O$132,5,0) -> 2,57*1,63 | G7: =VLOOKUP(B7,'ЛСР 07.01 (AL)'!$B$14:$O$132,6,0) -> шт | H7: =(D7*E7)*I7 -> 8.3782 | I7: =SUMIF('ЛСР 07.01 (AL)'!$B$14:$O$132,B7,'ЛСР 07.01 (AL)'!$K$14:$K$132) -> 2 | K7: =J7*I7 -> 0 | L7: =VLOOKUP(B7,'ЛСР 07.01 (AL)'!$B$14:$O$132,13,0) -> Ral 9004
B8: В-3 тип 1 | D8: =VLOOKUP(B8,'ЛСР 07.01 (AL)'!$B$14:$O$132,3,0) -> 2.91 | E8: =VLOOKUP(B8,'ЛСР 07.01 (AL)'!$B$14:$O$132,4,0) -> 2.085 | F8: =VLOOKUP(B8,'ЛСР 07.01 (AL)'!$B$14:$O$132,5,0) -> 2,91*2,09 | G8: =VLOOKUP(B8,'ЛСР 07.01 (AL)'!$B$14:$O$132,6,0) -> шт | H8: =(D8*E8)*I8 -> 6.06735 | I8: =SUMIF('ЛСР 07.01 (AL)'!$B$14:$O$132,B8,'ЛСР 07.01 (AL)'!$K$14:$K$132) -> 1 | K8: =J8*I8 -> 0 | L8: =VLOOKUP(B8,'ЛСР 07.01 (AL)'!$B$14:$O$132,13,0) -> Ral 9004
B9: В-4 тип 1 | D9: =VLOOKUP(B9,'ЛСР 07.01 (AL)'!$B$14:$O$132,3,0) -> 2.91 | E9: =VLOOKUP(B9,'ЛСР 07.01 (AL)'!$B$14:$O$132,4,0) -> 3.16 | F9: =VLOOKUP(B9,'ЛСР 07.01 (AL)'!$B$14:$O$132,5,0) -> 2,91*3,16 | G9: =VLOOKUP(B9,'ЛСР 07.01 (AL)'!$B$14:$O$132,6,0) -> шт | H9: =(D9*E9)*I9 -> 9.1956 | I9: =SUMIF('ЛСР 07.01 (AL)'!$B$14:$O$132,B9,'ЛСР 07.01 (AL)'!$K$14:$K$132) -> 1 | K9: =J9*I9 -> 0 | L9: =VLOOKUP(B9,'ЛСР 07.01 (AL)'!$B$14:$O$132,13,0) -> Ral 9004
B10: В-5 тип 1 | D10: =VLOOKUP(B10,'ЛСР 07.01 (AL)'!$B$14:$O$132,3,0) -> 2.91 | E10: =VLOOKUP(B10,'ЛСР 07.01 (AL)'!$B$14:$O$132,4,0) -> 2.12 | F10: =VLOOKUP(B10,'ЛСР 07.01 (AL)'!$B$14:$O$132,5,0) -> 2,91*2,12 | G10: =VLOOKUP(B10,'ЛСР 07.01 (AL)'!$B$14:$O$132,6,0) -> шт | H10: =(D10*E10)*I10 -> 30.846 | I10: =SUMIF('ЛСР 07.01 (AL)'!$B$14:$O$132,B10,'ЛСР 07.01 (AL)'!$K$14:$K$132) -> 5 | K10: =J10*I10 -> 0 | L10: =VLOOKUP(B10,'ЛСР 07.01 (AL)'!$B$14:$O$132,13,0) -> Ral 9004
B11: В-6 тип 1 | D11: =VLOOKUP(B11,'ЛСР 07.01 (AL)'!$B$14:$O$132,3,0) -> 3.29 | E11: =VLOOKUP(B11,'ЛСР 07.01 (AL)'!$B$14:$O$132,4,0) -> 2.86 | F11: =VLOOKUP(B11,'ЛСР 07.01 (AL)'!$B$14:$O$132,5,0) -> 3,29*2,86 | G11: =VLOOKUP(B11,'ЛСР 07.01 (AL)'!$B$14:$O$132,6,0) -> шт | H11: =(D11*E11)*I11 -> 18.8188 | I11: =SUMIF('ЛСР 07.01 (AL)'!$B$14:$O$132,B11,'ЛСР 07.01 (AL)'!$K$14:$K$132) -> 2 | K11: =J11*I11 -> 0 | L11: =VLOOKUP(B11,'ЛСР 07.01 (AL)'!$B$14:$O$132,13,0) -> Ral 9004
B12: В-7 тип 1 | D12: =VLOOKUP(B12,'ЛСР 07.01 (AL)'!$B$14:$O$132,3,0) -> 3.39 | E12: =VLOOKUP(B12,'ЛСР 07.01 (AL)'!$B$14:$O$132,4,0) -> 2.66 | F12: =VLOOKUP(B12,'ЛСР 07.01 (AL)'!$B$14:$O$132,5,0) -> 3,39*2,66 | G12: =VLOOKUP(B12,'ЛСР 07.01 (AL)'!$B$14:$O$132,6,0) -> шт | H12: =(D12*E12)*I12 -> 18.0348 | I12: =SUMIF('ЛСР 07.01 (AL)'!$B$14:$O$132,B12,'ЛСР 07.01 (AL)'!$K$14:$K$132) -> 2 | K12: =J12*I12 -> 0 | L12: =VLOOKUP(B12,'ЛСР 07.01 (AL)'!$B$14:$O$132,13,0) -> Ral 9004
B13: В-8 тип 1 | D13: =VLOOKUP(B13,'ЛСР 07.01 (AL)'!$B$14:$O$132,3,0) -> 3.59 | E13: =VLOOKUP(B13,'ЛСР 07.01 (AL)'!$B$14:$O$132,4,0) -> 4.47 | F13: =VLOOKUP(B13,'ЛСР 07.01 (AL)'!$B$14:$O$132,5,0) -> 3,59*4,47 | G13: =VLOOKUP(B13,'ЛСР 07.01 (AL)'!$B$14:$O$132,6,0) -> шт | H13: =(D13*E13)*I13 -> 16.0473 | I13: =SUMIF('ЛСР 07.01 (AL)'!$B$14:$O$132,B13,'ЛСР 07.01 (AL)'!$K$14:$K$132) -> 1 | K13: =J13*I13 -> 0 | L13: =VLOOKUP(B13,'ЛСР 07.01 (AL)'!$B$14:$O$132,13,0) -> Ral 9004
B14: В-9 тип 1 | D14: =VLOOKUP(B14,'ЛСР 07.01 (AL)'!$B$14:$O$132,3,0) -> 2.57 | E14: =VLOOKUP(B14,'ЛСР 07.01 (AL)'!$B$14:$O$132,4,0) -> 2.02 | F14: =VLOOKUP(B14,'ЛСР 07.01 (AL)'!$B$14:$O$132,5,0) -> 2,57*2,02 | G14: =VLOOKUP(B14,'ЛСР 07.01 (AL)'!$B$14:$O$132,6,0) -> шт | H14: =(D14*E14)*I14 -> 10.3828 | I14: =SUMIF('ЛСР 07.01 (AL)'!$B$14:$O$132,B14,'ЛСР 07.01 (AL)'!$K$14:$K$132) -> 2 | K14: =J14*I14 -> 0 | L14: =VLOOKUP(B14,'ЛСР 07.01 (AL)'!$B$14:$O$132,13,0) -> Ral 9004
B15: В-1 тип 2 | D15: =VLOOKUP(B15,'ЛСР 07.01 (AL)'!$B$14:$O$132,3,0) -> 2.91 | E15: =VLOOKUP(B15,'ЛСР 07.01 (AL)'!$B$14:$O$132,4,0) -> 2.11 | F15: =VLOOKUP(B15,'ЛСР 07.01 (AL)'!$B$14:$O$132,5,0) -> 2,91*2,11 | G15: =VLOOKUP(B15,'ЛСР 07.01 (AL)'!$B$14:$O$132,6,0) -> шт | H15: =(D15*E15)*I15 -> 24.5604 | I15: =SUMIF('ЛСР 07.01 (AL)'!$B$14:$O$132,B15,'ЛСР 07.01 (AL)'!$K$14:$K$132) -> 4 | K15: =J15*I15 -> 0 | L15: =VLOOKUP(B15,'ЛСР 07.01 (AL)'!$B$14:$O$132,13,0) -> Ral 9004
B16: В-2 тип 2 | D16: =VLOOKUP(B16,'ЛСР 07.01 (AL)'!$B$14:$O$132,3,0) -> 2.59 | E16: =VLOOKUP(B16,'ЛСР 07.01 (AL)'!$B$14:$O$132,4,0) -> 2.045 | F16: =VLOOKUP(B16,'ЛСР 07.01 (AL)'!$B$14:$O$132,5,0) -> 2,59*2,05 | G16: =VLOOKUP(B16,'ЛСР 07.01 (AL)'!$B$14:$O$132,6,0) -> шт | H16: =(D16*E16)*I16 -> 26.48275 | I16: =SUMIF('ЛСР 07.01 (AL)'!$B$14:$O$132,B16,'ЛСР 07.01 (AL)'!$K$14:$K$132) -> 5 | K16: =J16*I16 -> 0 | L16: =VLOOKUP(B16,'ЛСР 07.01 (AL)'!$B$14:$O$132,13,0) -> Ral 9004
B17: В-3 тип 2 | D17: =VLOOKUP(B17,'ЛСР 07.01 (AL)'!$B$14:$O$132,3,0) -> 2.33 | E17: =VLOOKUP(B17,'ЛСР 07.01 (AL)'!$B$14:$O$132,4,0) -> 2.6 | F17: =VLOOKUP(B17,'ЛСР 07.01 (AL)'!$B$14:$O$132,5,0) -> 2,33*2,60 | G17: =VLOOKUP(B17,'ЛСР 07.01 (AL)'!$B$14:$O$132,6,0) -> шт | H17: =(D17*E17)*I17 -> 6.058 | I17: =SUMIF('ЛСР 07.01 (AL)'!$B$14:$O$132,B17,'ЛСР 07.01 (AL)'!$K$14:$K$132) -> 1 | K17: =J17*I17 -> 0 | L17: =VLOOKUP(B17,'ЛСР 07.01 (AL)'!$B$14:$O$132,13,0) -> Ral 9004
... B49: Упор дверной в комплекте с пластиной | D49: =VLOOKUP(B49,'ЛСР 07.01 (AL)'!$B$14:$O$132,3,0) -> 0 | E49: =VLOOKUP(B49,'ЛСР 07.01 (AL)'!$B$14:$O$132,4,0) -> 0 | F49: =VLOOKUP(B49,'ЛСР 07.01 (AL)'!$B$14:$O$132,5,0) -> нержавейка | G49: =VLOOKUP(B49,'ЛСР 07.01 (AL)'!$B$14:$O$132,6,0) -> шт | H49: =(D49*E49)*I49 -> 0 | I49: =SUMIF('ЛСР 07.01 (AL)'!$B$14:$O$132,B49,'ЛСР 07.01 (AL)'!$K$14:$K$132) -> 18 | K49: =J49*I49 -> 0 | L49: =VLOOKUP(B49,'ЛСР 07.01 (AL)'!$B$14:$O$132,13,0) -> нержавейка
B50: итого AL: | K50: =SUM(K6:K49) -> 0
B51: ВСЕГО материал: | K51: =K50 -> 0
K52: =K51-'ЛСР 07.01 (AL)'!M135 -> 0
M138: =K50-'ЛСР 07.01 (AL)'!M135 -> 0
