Workbook

Sheet ЛСР 01.01 (3 Очередь)
L1: Приложение №
L2: к Договору подряда №
B4: ПОДРЯДЧИК: | E4: ТЕХНИЧЕСКИЙ ЗАКАЗЧИК: | I4: ЗАКАЗЧИК:
B8: ______________/
A11: Локальный сметный расчет №1
D12: Временное ограждение строительной площадки ГП -77
A14: № | B14: Наименование | C14: Марка/ Завод изготовитель | D14: Характеристика | E14: Ед. изм. | F14: Норма расхода | G14: Длина, м | H14: Кол-во | I14: Цена за ед.изм. | J14: Сумма | K14: Примечание | L14: Форма закупа материала
A15: 01 | B15: Подготовительные работы
A16: 01.01. | B16: Временное ограждение строительной площадки
A17: 01.01.01. | B17: Тип 1. Устройство забора
A18: 01.01.01.00 | B18: Тип 1. Устройство забора | J18: =J19+J22 -> 0
B19: Работа: | J19: =J20+J21 -> 0
B20: Устройство забора | E20: м.п. | H20: 1050 | I20: =работа!I20 -> 0 | J20: =I20*H20 -> 0 | K20: установка столбов через 2м, длина 4 м, высота 2 м | M20: 200 м
B21: Устройство забора | E21: м.п. | H21: 260 | I21: =работа!I21 -> 0 | J21: =I21*H21 -> 0 | K21: Демонтаж монтаж (Перевернуть профлист)
B22: Материалы | J22: =SUM(J23:J32) -> 0
B23: Труба профильная | D23: 80х3 | E23: м.п. | H23: =580/2*4 -> 1160 | I23: =материалы!I19 -> 0 | J23: =H23*I23 -> 0 | K23: столбы | L23: Б/У (давальческий материал)
B24: Труба профильная | D24: 80х3 | E24: м.п. | H24: =(H20/2*4)-H23 -> 940 | I24: =материалы!I20 -> 0 | J24: =H24*I24 -> 0 | K24: столбы
B25: Труба профильная | D25: 40х20х2 | E25: м.п. | H25: =580*3 -> 1740 | I25: =материалы!I21 -> 0 | J25: =H25*I25 -> 0 | K25: прожилины | L25: Б/У (давальческий материал)
B26: Труба профильная | D26: 40х20х2 | E26: м.п. | H26: =(H20*3)-H25 -> 1410 | I26: =материалы!I22 -> 0 | J26: =H26*I26 -> 0 | K26: прожилины
B27: Профлист | D27: С-8 2000х1200 (толщ.0,45мм, покрытие- полиэстер, цвет - зеленый мох) | E27: м2 | H27: =580*(2) -> 1160 | I27: =материалы!I23 -> 0 | J27: =H27*I27 -> 0 | L27: Б/У (давальческий материал)
B28: Профлист | D28: С-8 2000х1200 (толщ.0,45мм, покрытие- полиэстер, цвет - зеленый мох) | E28: м2 | H28: =(H20*2)-H27 -> 940 | I28: =материалы!I24 -> 0 | J28: =H28*I28 -> 0
B29: Грунт ГФ-021 Серый, (Лакра) | D29: - | E29: кг | H29: =(0.08*4*H24*2.1+(0.04+0.02)*2*H26) -> 800.88 | I29: =материалы!I25 -> 0 | J29: =H29*I29 -> 0 | L29: 0,25кг/м2
B30: Саморез кровельный 4,8х29 | D30: - | E30: шт | H30: =9*H20 -> 9450 | I30: =материалы!I26 -> 0 | J30: =H30*I30 -> 0 | L30: 9 шт/лист
B31: Электроды Э42 | D31: - | E31: кг | H31: 65.7 | I31: =материалы!I27 -> 0 | J31: =H31*I31 -> 0
B32: Диск отрезной по металлу 230мм | D32: - | E32: шт | H32: 60 | I32: =материалы!I28 -> 0 | J32: =H32*I32 -> 0
A33: 01.01.02. | B33: Тип 2. Устройство ворот и калитки
A34: 01.01.02.00 | B34: Тип 2. Устройство ворот и калитки | J34: =J35+J37 -> 0
B35: Работа: | J35: =J36 -> 0
B36: Устройство ворот и калитки | E36: шт | H36: 6 | I36: =работа!I25 -> 0 | J36: =I36*H36 -> 0 | K36: ворота шириной 8 м (2 шт.) калитка шириной 1,2 м (4 шт.) | L36: Демонтаж и монтаж
B37: Материалы | J37: =SUM(J38:J49) -> 0
B38: Труба профильная | D38: 80х80х3 | E38: м.п. | G38: 4 | H38: =4*H36 -> 24 | I38: =материалы!I31 -> 0 | J38: =H38*I38 -> 0 | L38: Б/У (давальческий материал)
B39: Труба профильная | D39: 40х20х2 | E39: м.п. | G39: 6 | H39: =84+33 -> 117 | I39: =материалы!I32 -> 0 | J39: =H39*I39 -> 0 | L39: Б/У (давальческий материал)
B40: Профлист | D40: С-8 2000х1200 (толщ.0,45мм, покрытие- полиэстер, цвет - зеленый мох) | E40: м2 | H40: =16+4.8 -> 20.8 | I40: =материалы!I33 -> 0 | J40: =H40*I40 -> 0 | L40: Б/У (давальческий материал)
B41: Панель | D41: заборная 3D 1,8*2,5м | E41: м2 | H41: 16 | I41: =материалы!I34 -> 0 | J41: =H41*I41 -> 0 | L41: Б/У (давальческий материал)
B42: Колесо поворотное диаметр 200мм | D42: - | E42: шт | H42: 4 | I42: =материалы!I35 -> 0 | J42: =H42*I42 -> 0
B43: Грунт ГФ-021 Серый | D43: - | E43: кг | H43: =3.32+0.88 -> 4.2 | I43: =материалы!I36 -> 0 | J43: =H43*I43 -> 0
B44: Арматура Ø16 А500 | D44: - | E44: кг | H44: 6.3 | I44: =материалы!I37 -> 0 | J44: =H44*I44 -> 0
B45: Доводчик | D45: - | E45: шт | H45: 4 | I45: =материалы!I38 -> 0 | J45: =H45*I45 -> 0
B46: Шарниры | D46: - | E46: шт | H46: 24 | I46: =материалы!I39 -> 0 | J46: =H46*I46 -> 0
B47: Задвижка | D47: - | E47: шт | H47: 6 | I47: =материалы!I40 -> 0 | J47: =H47*I47 -> 0
...

Sheet работа
L1: Приложение №
L2: к Договору подряда №
B4: ПОДРЯДЧИК: | E4: ТЕХНИЧЕСКИЙ ЗАКАЗЧИК: | I4: ЗАКАЗЧИК:
B8: ______________/
A11: Ведомость работ
D12: Временное ограждение строительной площадки ГП -77
A14: № | B14: Наименование | C14: Марка/ Завод изготовитель | D14: Характеристика | E14: Ед. изм. | F14: Норма расхода | G14: Длина, м | H14: Кол-во | I14: Цена за ед.изм. | J14: Сумма | K14: Примечание | L14: Форма закупа материала
A15: 01 | B15: Подготовительные работы
A16: 01.01. | B16: Временное ограждение строительной площадки
A17: 01.01.01. | B17: Тип 1. Устройство забора
A18: 01.01.01.00 | B18: Тип 1. Устройство забора
B19: Работа:
B20: Устройство забора | E20: м.п. | H20: 1050 | J20: =I20*H20 -> 0 | K20: установка столбов через 2м, длина 4 м, высота 2 м | M20: 200 м
B21: Устройство забора | E21: м.п. | H21: 260 | J21: =I21*H21 -> 0 | K21: Демонтаж монтаж (Перевернуть профлист)
A22: 01.01.02. | B22: Тип 2. Устройство ворот и калитки
A23: 01.01.02.00 | B23: Тип 2. Устройство ворот и калитки
B24: Работа:
B25: Устройство ворот и калитки | E25: шт | H25: 6 | J25: =I25*H25 -> 0 | K25: ворота шириной 8 м (2 шт.) калитка шириной 1,2 м (4 шт.) | L25: Демонтаж и монтаж
A26: 01.01.03. | B26: Тип 3. Устройство козырька
A27: 01.01.03.00 | B27: Тип 3. Устройство козырька
B28: Работа:
B29: Устройство козырька | E29: м.п. | H29: 500 | J29: =I29*H29 -> 0 | K29: 1,5 м козырек
A30: 01.01.99. | B30: Прочие работы
A31: 01.01.99.00 | B31: Прочие работы
B32: Работа:
B33: Монтаж элементов обустройства стройплощакди | E33: шт. | H33: 10 | J33: =I33*H33 -> 0
I34: Итого стоимость работ | J34: =SUM(J20:J33) -> 0
B35: Примечание:
A36: - | B36: Стоимость СМР учитывает: затраты на все второстепенные материалы и работы необходимые для осуществления полного комплекса работ, включая затраты: обеспечение технической водой для производства работ и бытовых целей; на мобилизацию, аренду и эксплуатацию всех необходимых механизмов, оборудования и инструментов, бытовых помещений и биотуалетов; на разгрузку, подъем материалов и разноску по этажам к местам производства работ; выполнение сопутствующих работ; вывоз мусора; ФОТ, накладные расходы, прибыль организации, налоги и иные издержки Подрядчика; Обеспечение безопасного производства труда.
A37: - | B37: В случае, если один из перечисленных прочих материалов не был использован по факту при производстве работ, заказчик вправе откорректировать процент прочих материалов в актах выполненных работ (формы КС-2, КС-3), уменьшив на сумму исключенного материала.
A38: - | B38: Стоимость материалов учитывает доставку.
B40: При производстве основных работ учитывать следующие второстепенные сопутствующие работы:
A42: 1. | B42: Устройство забора
A43: - | B43: Установка столбов из трубы (погружение столбов гидромолотом глубиной 2,0 м)
A44: - | B44: Монтаж прожилин из трубы профильной
A45: - | B45: Огрунтовка (2 слоя) столбиков и прожилин
A46: - | B46: Монтаж крепления из арматуры
A47: - | B47: Монтаж профлиста
A48: 2. | B48: Устройство козырька
A49: - | B49: Монтаж профлиста
...

Sheet материалы
L1: Приложение №
L2: к Договору подряда №
B4: ПОДРЯДЧИК: | E4: ТЕХНИЧЕСКИЙ ЗАКАЗЧИК: | I4: ЗАКАЗЧИК:
B8: ______________/
A11: Ведомость материалов
D12: Временное ограждение строительной площадки ГП -77
A14: № | B14: Наименование | C14: Марка/ Завод изготовитель | D14: Характеристика | E14: Ед. изм. | F14: Норма расхода | G14: Длина, м | H14: Кол-во | I14: Цена за ед.изм. | J14: Сумма | K14: Примечание | L14: Форма закупа материала
A15: 01 | B15: Подготовительные работы
A16: 01.01. | B16: Временное ограждение строительной площадки
A17: 01.01.01. | B17: Тип 1. Устройство забора
A18: 01.01.01.00 | B18: Тип 1. Устройство забора
B19: Труба профильная | D19: 80х3 | E19: м.п. | H19: 1160 | J19: =H19*I19 -> 0 | K19: столбы | L19: Б/У (давальческий материал)
B20: Труба профильная | D20: 80х3 | E20: м.п. | H20: 940 | J20: =H20*I20 -> 0 | K20: столбы
B21: Труба профильная | D21: 40х20х2 | E21: м.п. | H21: 1740 | J21: =H21*I21 -> 0 | K21: прожилины | L21: Б/У (давальческий материал)
B22: Труба профильная | D22: 40х20х2 | E22: м.п. | H22: 1410 | J22: =H22*I22 -> 0 | K22: прожилины
B23: Профлист | D23: С-8 2000х1200 (толщ.0,45мм, покрытие- полиэстер, цвет - зеленый мох) | E23: м2 | H23: 1160 | J23: =H23*I23 -> 0 | L23: Б/У (давальческий материал)
B24: Профлист | D24: С-8 2000х1200 (толщ.0,45мм, покрытие- полиэстер, цвет - зеленый мох) | E24: м2 | H24: 940 | J24: =H24*I24 -> 0
B25: Грунт ГФ-021 Серый, (Лакра) | D25: - | E25: кг | H25: 800.88 | J25: =H25*I25 -> 0 | L25: 0,25кг/м2
B26: Саморез кровельный 4,8х29 | D26: - | E26: шт | H26: 9450 | J26: =H26*I26 -> 0 | L26: 9 шт/лист
B27: Электроды Э42 | D27: - | E27: кг | H27: 65.7 | J27: =H27*I27 -> 0
B28: Диск отрезной по металлу 230мм | D28: - | E28: шт | H28: 60 | J28: =H28*I28 -> 0
A29: 01.01.02. | B29: Тип 2. Устройство ворот и калитки
A30: 01.01.02.00 | B30: Тип 2. Устройство ворот и калитки
B31: Труба профильная | D31: 80х80х3 | E31: м.п. | G31: 4 | H31: 24 | J31: =H31*I31 -> 0 | L31: Б/У (давальческий материал)
B32: Труба профильная | D32: 40х20х2 | E32: м.п. | G32: 6 | H32: 117 | J32: =H32*I32 -> 0 | L32: Б/У (давальческий материал)
B33: Профлист | D33: С-8 2000х1200 (толщ.0,45мм, покрытие- полиэстер, цвет - зеленый мох) | E33: м2 | H33: 20.8 | J33: =H33*I33 -> 0 | L33: Б/У (давальческий материал)
B34: Панель | D34: заборная 3D 1,8*2,5м | E34: м2 | H34: 16 | J34: =H34*I34 -> 0 | L34: Б/У (давальческий материал)
B35: Колесо поворотное диаметр 200мм | D35: - | E35: шт | H35: 4 | J35: =H35*I35 -> 0
B36: Грунт ГФ-021 Серый | D36: - | E36: кг | H36: 4.2 | J36: =H36*I36 -> 0
B37: Арматура Ø16 А500 | D37: - | E37: кг | H37: 6.3 | J37: =H37*I37 -> 0
B38: Доводчик | D38: - | E38: шт | H38: 4 | J38: =H38*I38 -> 0
B39: Шарниры | D39: - | E39: шт | H39: 24 | J39: =H39*I39 -> 0
B40: Задвижка | D40: - | E40: шт | H40: 6 | J40: =H40*I40 -> 0
B41: Замок навесной | D41: - | E41: шт | H41: 6 | J41: =H41*I41 -> 0
B42: Саморез кровельный 4,8х29 RAL6005 | D42: - | E42: шт | H42: 99 | J42: =H42*I42 -> 0
A43: 01.01.03. | B43: Тип 3. Устройство козырька
A44: 01.01.03.00 | B44: Тип 3. Устройство козырька
B45: Профлист | D45: НС-44 2000х1050 (толщ.0,45мм, покрытие- полиэстер, цвет - зеленый мох) | E45: м2 | H45: 750 | J45: =H45*I45 -> 0 | K45: монтажная ширина - 1,0м | L45: Б/У (давальческий материал)
B46: Труба профильная | D46: 40х20х2 | E46: м.п. | H46: 1000 | J46: =H46*I46 -> 0 | L46: Б/У (давальческий материал)
B47: Уголок 50х4 | D47: - | E47: кг | H47: 1906.25 | J47: =H47*I47 -> 0 | L47: Б/У (давальческий материал)
...
