Workbook
Name OLE_LINK1: 'Спец ГП-9'!#REF!
Name OLE_LINK4: 'Спец ГП-9'!#REF!

Sheet Спец ГП-9
E3: ЖК Преображенский / Квартал 3 / ГП-9 Подъездов - 1 | J3: №1 от 30.09.2021 | L3: №4 от 04.10.2021 | N3: №5 от 30.03.2022 | P3: накопительная | R3: остаток
B4: № п/п | C4: Производитель | D4: Артикул | E4: Именование и техническая характеристика | F4: Ед. изм. | G4: Общее кол-во | H4: Цена с НДС 20% | I4: Сумма с НДС 20%, руб | J4: Общее кол-во | K4: Сумма с НДС 20%, руб | L4: Общее кол-во | M4: Сумма с НДС 20%, руб | N4: Общее кол-во | O4: Сумма с НДС 20%, руб | P4: Общее кол-во | Q4: Сумма с НДС 20%, руб | R4: Общее кол-во | S4: Сумма с НДС 20%, руб
E5: Видеокамеры
B6: 1 | C6: Dahua | D6: IPC-HDBW3241EP-AS-0280B | E6: Лифты+Внутренние (лестницы, лифтовые холлы, колясочные) Видеокамера IP Купольная антивандальная 2Mп; фикс. объектив: 2,8 мм | F6: шт. | G6: 7 | H6: 7000 | I6: =H6*G6 -> 49000 | K6: =J6*H6 -> 0 | L6: 4 | M6: =L6*H6 -> 28000 | N6: 3 | O6: =N6*H6 -> 21000 | P6: =J6+L6+N6 -> 7 | Q6: =K6+M6+O6 -> 49000 | R6: =G6-P6 -> 0 | S6: =I6-Q6 -> 0
B7: 2 | C7: Dahua | D7: IPC-HFW2431SP-S-0360B | E7: Фасады Видеокамера IP Уличная цилиндрическая 4Мп; фикс. объектив: 3,6 мм | F7: шт. | G7: 4 | H7: 6650 | I7: =H7*G7 -> 26600 | J7: 4 | K7: =J7*H7 -> 26600 | M7: =L7*H7 -> 0 | O7: =N7*H7 -> 0 | P7: =J7+L7+N7 -> 4 | Q7: =K7+M7+O7 -> 26600 | R7: =G7-P7 -> 0 | S7: =I7-Q7 -> 0
B8: 3 | C8: NIKOLAN | D8: NKL 2100C-OR | E8: Кабель U/UTP 4 пары, Кат.5e, 100МГц, 24AWG, внутренний, LSZH нг(А)-HFLTx, оранжевый, 305м (вх. гр + улица) | F8: м | G8: 610 | H8: 27 | I8: =H8*G8 -> 16470 | J8: 610 | K8: =J8*H8 -> 16470 | M8: =L8*H8 -> 0 | O8: =N8*H8 -> 0 | P8: =J8+L8+N8 -> 610 | Q8: =K8+M8+O8 -> 16470 | R8: =G8-P8 -> 0 | S8: =I8-Q8 -> 0
B9: 4 | C9: SNR | D9: SNR-RJ-45 | E9: Коннектор RJ-45 UTP5e (SNR) | F9: шт. | G9: 25 | H9: 5 | I9: =H9*G9 -> 125 | J9: 25 | K9: =J9*H9 -> 125 | M9: =L9*H9 -> 0 | O9: =N9*H9 -> 0 | P9: =J9+L9+N9 -> 25 | Q9: =K9+M9+O9 -> 125 | R9: =G9-P9 -> 0 | S9: =I9-Q9 -> 0
B10: 5 | C10: DKC | D10: 91916 | E10: Труба гофрированная ПВХ 16 мм с протяжкой легкая серая (100м) (DKC) | F10: м | G10: 500 | H10: 9.5 | I10: =H10*G10 -> 4750 | J10: 500 | K10: =J10*H10 -> 4750 | M10: =L10*H10 -> 0 | O10: =N10*H10 -> 0 | P10: =J10+L10+N10 -> 500 | Q10: =K10+M10+O10 -> 4750 | R10: =G10-P10 -> 0 | S10: =I10-Q10 -> 0
B11: 6 | C11: IEK | D11: CTA10D-CF16-K41-100 | E11: Держатель с защелкой 16 мм для труб (IEK) | F11: шт. | G11: 500 | H11: 3 | I11: =H11*G11 -> 1500 | J11: 500 | K11: =J11*H11 -> 1500 | M11: =L11*H11 -> 0 | O11: =N11*H11 -> 0 | P11: =J11+L11+N11 -> 500 | Q11: =K11+M11+O11 -> 1500 | R11: =G11-P11 -> 0 | S11: =I11-Q11 -> 0
B12: 7 | C12: DKC | D12: 63916 | E12: Труба гладкая жесткая ПВХ 16 мм легкая серая (3м) (DKC) | F12: м | G12: 45 | H12: 19 | I12: =H12*G12 -> 855 | J12: 45 | K12: =J12*H12 -> 855 | M12: =L12*H12 -> 0 | O12: =N12*H12 -> 0 | P12: =J12+L12+N12 -> 45 | Q12: =K12+M12+O12 -> 855 | R12: =G12-P12 -> 0 | S12: =I12-Q12 -> 0
B13: 8 | C13: DKC | D13: 53354 | E13: Скоба металлическая 16мм двухлапковая оцинкованная (DKC) | F13: шт. | G13: 45 | H13: 8 | I13: =H13*G13 -> 360 | J13: 45 | K13: =J13*H13 -> 360 | M13: =L13*H13 -> 0 | O13: =N13*H13 -> 0 | P13: =J13+L13+N13 -> 45 | Q13: =K13+M13+O13 -> 360 | R13: =G13-P13 -> 0 | S13: =I13-Q13 -> 0
B14: 9 | C14: Промрукав | D14: 01716 | E14: Патрубок-муфта д16 (Промрукав) | F14: шт. | G14: 15 | H14: 5 | I14: =H14*G14 -> 75 | J14: 15 | K14: =J14*H14 -> 75 | M14: =L14*H14 -> 0 | O14: =N14*H14 -> 0 | P14: =J14+L14+N14 -> 15 | Q14: =K14+M14+O14 -> 75 | R14: =G14-P14 -> 0 | S14: =I14-Q14 -> 0
B15: 10 | C15: NETLAN | D15: EC-WS-096045-GY | E15: Шкаф монтажный настенный 9U, серый | F15: шт. | G15: 1 | H15: 6075 | I15: =H15*G15 -> 6075 | J15: 1 | K15: =J15*H15 -> 6075 | M15: =L15*H15 -> 0 | O15: =N15*H15 -> 0 | P15: =J15+L15+N15 -> 1 | Q15: =K15+M15+O15 -> 6075 | R15: =G15-P15 -> 0 | S15: =I15-Q15 -> 0
B16: 11 | C16: SVEN | E16: ИБП line-interactive, AVR, 480W, 800Va | F16: шт. | G16: 1 | H16: 4620 | I16: =H16*G16 -> 4620 | K16: =J16*H16 -> 0 | L16: 1 | M16: =L16*H16 -> 4620 | O16: =N16*H16 -> 0 | P16: =J16+L16+N16 -> 1 | Q16: =K16+M16+O16 -> 4620 | R16: =G16-P16 -> 0 | S16: =I16-Q16 -> 0
B17: 12 | C17: Dahua | D17: DH-PFS3110-8ET-96 | E17: Сетевой PoE коммутатор 8 x10/100M Base-T; 1 x10/100M Base-T; 1 порт x1000 Base-X бюджет PoE 96 Вт; Питание :DC 48~57В | F17: шт. | G17: 2 | H17: 6700 | I17: =H17*G17 -> 13400 | K17: =J17*H17 -> 0 | L17: 2 | M17: =L17*H17 -> 13400 | O17: =N17*H17 -> 0 | P17: =J17+L17+N17 -> 2 | Q17: =K17+M17+O17 -> 13400 | R17: =G17-P17 -> 0 | S17: =I17-Q17 -> 0
B18: 13 | C18: TYCO | D18: 67040 | E18: TYCO Коробка распределительная 85х85x40мм IP54 (TYCO) | F18: шт. | G18: 11 | H18: 45 | I18: =H18*G18 -> 495 | J18: 4 | K18: =J18*H18 -> 180 | L18: 4 | M18: =L18*H18 -> 180 | N18: 3 | O18: =N18*H18 -> 135 | P18: =J18+L18+N18 -> 11 | Q18: =K18+M18+O18 -> 495 | R18: =G18-P18 -> 0 | S18: =I18-Q18 -> 0
B19: 14 | C19: IEK | D19: PKR11-016-2-K02 | E19: Розетка кабельная наружной установки IР44 16А 2Р+E каучук ОМЕГА (IEK) | F19: шт. | G19: 1 | H19: 330 | I19: =H19*G19 -> 330 | J19: 1 | K19: =J19*H19 -> 330 | M19: =L19*H19 -> 0 | O19: =N19*H19 -> 0 | P19: =J19+L19+N19 -> 1 | Q19: =K19+M19+O19 -> 330 | R19: =G19-P19 -> 0 | S19: =I19-Q19 -> 0
B20: 15 | C20: Россия | D20: - | E20: Кабель силовой ВВГ-Пнг (А)-LS 3х1.5 (Россия) | F20: м | G20: 25 | H20: 45 | I20: =H20*G20 -> 1125 | J20: 25 | K20: =J20*H20 -> 1125 | M20: =L20*H20 -> 0 | O20: =N20*H20 -> 0 | P20: =J20+L20+N20 -> 25 | Q20: =K20+M20+O20 -> 1125 | R20: =G20-P20 -> 0 | S20: =I20-Q20 -> 0
B21: 16 | C21: IEK | D21: MVA20-1-006-C | E21: Выключатель автоматический однополюсный 6А C ВА47-29 4.5кА (IEK) | F21: шт. | G21: 1 | H21: 160 | I21: =H21*G21 -> 160 | J21: 1 | K21: =J21*H21 -> 160 | M21: =L21*H21 -> 0 | O21: =N21*H21 -> 0 | P21: =J21+L21+N21 -> 1 | Q21: =K21+M21+O21 -> 160 | R21: =G21-P21 -> 0 | S21: =I21-Q21 -> 0
B22: 17 | C22: - | D22: - | E22: Расходные материалы, монтажная фурнитура | F22: компл. | G22: 1 | H22: 1630 | I22: =H22*G22 -> 1630 | J22: 1 | K22: =J22*H22 -> 1630 | M22: =L22*H22 -> 0 | O22: =N22*H22 -> 0 | P22: =J22+L22+N22 -> 1 | Q22: =K22+M22+O22 -> 1630 | R22: =G22-P22 -> 0 | S22: =I22-Q22 -> 0
E23: Лифты | S23: =I24-Q23 -> 2700
B24: 18 | C24: NIKOLAN | D24: NKL 2100C-OR | E24: Кабель U/UTP 4 пары, Кат.5e, 100МГц, 24AWG, внутренний, LSZH нг(А)-HFLTx, оранжевый, 305м | F24: м | G24: 100 | H24: 27 | I24: =H24*G24 -> 2700 | K24: =J24*H24 -> 0 | M24: =L24*H24 -> 0 | N24: 100 | O24: =N24*H24 -> 2700 | P24: =J24+L24+N24 -> 100 | Q24: =K24+M24+O24 -> 2700 | R24: =G24-P24 -> 0 | S24: =I24-Q24 -> 0
B25: 19 | C25: Фирма ПОДИЙ | D25: КПЛКУ 4х(2х0,20) | E25: Кабель плоский лифтовый комбинированный, 5 класса гибкости, 4-е витых пары сечением 0,2 мм2 БУХТА 90 МЕТРОВ | F25: бухт | G25: 3 | H25: 9450 | I25: =H25*G25 -> 28350 | K25: =J25*H25 -> 0 | M25: =L25*H25 -> 0 | N25: 3 | O25: =N25*H25 -> 28350 | P25: =J25+L25+N25 -> 3 | Q25: =K25+M25+O25 -> 28350 | R25: =G25-P25 -> 0 | S25: =I25-Q25 -> 0
B26: 20 | C26: SNR | D26: SNR-KJ-U5E-180 | E26: Модуль Keystone Jack SNR, неэкранированный, cat.5e, горизонтальная заделка, упаковка 6 шт. | F26: упак. | G26: 1 | H26: 355 | I26: =H26*G26 -> 355 | K26: =J26*H26 -> 0 | M26: =L26*H26 -> 0 | N26: 1 | O26: =N26*H26 -> 355 | P26: =J26+L26+N26 -> 1 | Q26: =K26+M26+O26 -> 355 | R26: =G26-P26 -> 0 | S26: =I26-Q26 -> 0
B27: 21 | C27: DKC | D27: 91916 | E27: Труба гофрированная ПВХ 16 мм с протяжкой легкая серая (100м) (DKC) | F27: м | G27: 100 | H27: 9.5 | I27: =H27*G27 -> 950 | K27: =J27*H27 -> 0 | M27: =L27*H27 -> 0 | N27: 100 | O27: =N27*H27 -> 950 | P27: =J27+L27+N27 -> 100 | Q27: =K27+M27+O27 -> 950 | R27: =G27-P27 -> 0 | S27: =I27-Q27 -> 0
B28: 22 | C28: IEK | D28: CTA10D-CF16-K41-100 | E28: Держатель с защелкой 16 мм для труб (IEK) | F28: шт. | G28: 100 | H28: 3 | I28: =H28*G28 -> 300 | K28: =J28*H28 -> 0 | M28: =L28*H28 -> 0 | N28: 100 | O28: =N28*H28 -> 300 | P28: =J28+L28+N28 -> 100 | Q28: =K28+M28+O28 -> 300 | R28: =G28-P28 -> 0 | S28: =I28-Q28 -> 0
B29: 23 | C29: - | D29: - | E29: Расходные материалы | F29: компл. | G29: 1 | H29: 1590 | I29: =H29*G29 -> 1590 | K29: =J29*H29 -> 0 | M29: =L29*H29 -> 0 | N29: 1 | O29: =N29*H29 -> 1590 | P29: =J29+L29+N29 -> 1 | Q29: =K29+M29+O29 -> 1590 | R29: =G29-P29 -> 0 | S29: =I29-Q29 -> 0
E30: Итого оборудование и материалы с НДС, руб. | I30: =SUM(I6:I29) -> 161815 | K30: =SUM(K6:K29) -> 60235 | M30: =SUM(M6:M29) -> 46200 | O30: =SUM(O6:O29) -> 55380 | Q30: =K30+M30+O30 -> 161815 | S30: =I30-Q30 -> 0
E31: Работы | S31: =I37-Q31 -> 38869.167
B32: 24 | E32: Работы по монтажу видеокамер, в т.ч. прокладка кабельных коммуникаций, коммутационные работы | F32: камер | G32: 11 | H32: 5400 | I32: =H32*G32 -> 59400 | J32: 4 | K32: =J32*H32 -> 21600 | L32: 4 | M32: =L32*H32 -> 21600 | N32: 3 | O32: =N32*H32 -> 16200 | P32: =J32+L32+N32 -> 11 | Q32: =K32+M32+O32 -> 59400 | R32: =G32-P32 -> 0 | S32: =I32-Q32 -> 0
B33: 25 | E33: Настройка системы видеонаблюдения | F33: компл. | G33: 1 | H33: 8000 | I33: =H33*G33 -> 8000 | K33: =J33*H33 -> 0 | L33: 1 | M33: =L33*H33 -> 8000 | O33: =N33*H33 -> 0 | P33: =J33+L33+N33 -> 1 | Q33: =K33+M33+O33 -> 8000 | R33: =G33-P33 -> 0 | S33: =I33-Q33 -> 0
B34: 26 | E34: Подготовка исполнительной документации | F34: компл. | G34: 1 | H34: 4000 | I34: =H34*G34 -> 4000 | K34: =J34*H34 -> 0 | M34: =L34*H34 -> 0 | N34: 1 | O34: =N34*H34 -> 4000 | P34: =J34+L34+N34 -> 1 | Q34: =K34+M34+O34 -> 4000 | R34: =G34-P34 -> 0 | S34: =I34-Q34 -> 0
E35: Итого услуги с НДС, руб. | I35: =SUM(I32:I34) -> 71400 | K35: =SUM(K32:K34) -> 21600 | M35: =SUM(M32:M34) -> 29600 | O35: =SUM(O32:O34) -> 20200 | Q35: =K35+M35+O35 -> 71400 | S35: =I35-Q35 -> 0
H36: ВСЕГО с учетом НДС | I36: =SUM(I30,I35) -> 233215 | K36: =SUM(K30,K35) -> 81835 | M36: =SUM(M30,M35) -> 75800 | O36: =SUM(O30,O35) -> 75580 | Q36: =K36+M36+O36 -> 233215 | S36: =I36-Q36 -> 0
H37: НДС 20% | I37: =I36/120*20 -> 38869.167 | K37: =K36/120*20 -> 13639.167 | M37: =M36/120*20 -> 12633.333 | O37: =O36/120*20 -> 12596.667 | Q37: =K37+M37+O37 -> 38869.167 | S37: =I37-Q37 -> 0

Sheet Видеонаблюдение В1
B2: Локальный сметный расчет №1
A4: № | B4: Наименование | C4: Ед. изм. | D4: Кол-во | E4: Цена | F4: Сумма | G4: Примечание
A5: 11 | B5: Внутренние инженерные сети
A6: 11.21 | B6: Устройство видеонаблюдения
A7: 11.21.01 | B7: Прокладка КПП
A8: 11.21.01.00. | B8: Прокладка КПП | F8: =F9+F12 -> 68250
B9: Работа: | F9: =SUM(F10:F11) -> 8250
B10: Прокладка КПП | C10: м | D10: =SUM(D13:D16) -> 1005 | E10: 5 | F10: =E10*D10 -> 5025
B11: Прокладка трубы | C11: м | D11: =SUM(D17:D19) -> 645 | E11: 5 | F11: =E11*D11 -> 3225
B12: Материалы: | F12: =SUM(F13:F20) -> 60000
B13: Кабель U/UTP 4 пары, Кат.5e, 100МГц, 24AWG, внутренний, LSZH нг(А)-HFLTx, оранжевый, 305м (вх. гр + улица) | C13: м | D13: 610 | E13: 27 | F13: =E13*D13 -> 16470
B14: Кабель силовой ВВГ-Пнг (А)-LS 3х1.5 (Россия) | C14: м | D14: 25 | E14: 45 | F14: =E14*D14 -> 1125
B15: Кабель U/UTP 4 пары, Кат.5e, 100МГц, 24AWG, внутренний, LSZH нг(А)-HFLTx, оранжевый, 305м | C15: м | D15: 100 | E15: 27 | F15: =E15*D15 -> 2700
B16: Кабель плоский лифтовый комбинированный, 5 класса гибкости, 4-е витых пары сечением 0,2 мм2 БУХТА 90 МЕТРОВ | C16: м | D16: =3*90 -> 270 | E16: 105 | F16: =E16*D16 -> 28350
B17: Труба гофрированная ПВХ 16 мм с протяжкой легкая серая (100м) (DKC) | C17: м | D17: 500 | E17: 9.5 | F17: =E17*D17 -> 4750
B18: Труба гладкая жесткая ПВХ 16 мм легкая серая (3м) (DKC) | C18: м | D18: 45 | E18: 19 | F18: =E18*D18 -> 855
B19: Труба гофрированная ПВХ 16 мм с протяжкой легкая серая (100м) (DKC) | C19: м | D19: 100 | E19: 9.5 | F19: =E19*D19 -> 950
B20: Расходные материалы (Коннектор RJ-45 UTP5e (SNR), Держатель с защелкой 16 мм для труб (IEK), Скоба металлическая 16мм двухлапковая оцинкованная (DKC), Патрубок-муфта д16 (Промрукав), Кабель силовой ВВГ-Пнг (А)-LS 3х1.5 (Россия), Держатель с защелкой 16 мм для труб (IEK)) | C20: комплект | D20: 1 | E20: 4800 | F20: =E20*D20 -> 4800
A21: 11.21.02 | B21: Установка оборудования
A22: 11.21.02.00. | B22: Установка оборудования | F22: =F23+F25 -> 152993.3
B23: Работа: | F23: =SUM(F24:F24) -> 51150
B24: Монтаж видеокамеры | C24: шт. | D24: =D26+D27 -> 11 | E24: 4650 | F24: =E24*D24 -> 51150
B25: Материалы: | F25: =SUM(F26:F31) -> 101843.3
B26: Видеокамера IP Купольная антивандальная 2Mп; фикс. объектив: 2,8 мм | C26: шт. | D26: 7 | E26: 7000 | F26: =E26*D26 -> 49000
B27: Видеокамера IP Уличная цилиндрическая 4Мп; фикс. объектив: 3,6 мм | C27: шт. | D27: 4 | E27: 6650 | F27: =E27*D27 -> 26600
B28: Шкаф монтажный настенный 9U, серый | C28: шт. | D28: 1 | E28: 6075 | F28: =E28*D28 -> 6075
B29: ИБП line-interactive, AVR, 480W, 800Va | C29: шт. | D29: 1 | E29: 4620 | F29: =E29*D29 -> 4620
B30: Сетевой PoE коммутатор 8 x10/100M Base-T; 1 x10/100M Base-T; 1 порт x1000 Base-X бюджет PoE 96 Вт; Питание :DC 48~57В | C30: шт. | D30: 2 | E30: 6700 | F30: =E30*D30 -> 13400
B31: Прочие материалы (Розетка кабельная наружной установки IР44 16А 2Р+E каучук ОМЕГА (IEK); Выключатель автоматический однополюсный 6А C ВА47-29 4.5кА (IEK); Модуль Keystone Jack SNR, неэкранированный, cat.5e, горизонтальная заделка, упаковка 6 шт.) | C31: % | D31: 4.2 | F31: =F23*D31% -> 2148.3
A32: 11.21.03 | B32: ПНР
A33: 11.21.03.00 | B33: ПНР | F33: =F34+F36 -> 12000
B34: Работа: | F34: =SUM(F35:F35) -> 12000
B35: Пусконаладочные работы | C35: комплекс | D35: 1 | E35: =4000+8000 -> 12000 | F35: =E35*D35 -> 12000
B36: Материалы: | F36: =SUM(F37:F37) -> 0
B37: - | F37: =E37*D37 -> 0
E38: Итого по ЛСР: | F38: =F33+F22+F8 -> 233243.3
E39: в тч стоимость работ: | F39: =F34+F23+F9 -> 71400
E40: в тч стоимость материалов: | F40: =F36+F25+F12 -> 161843.3
B43: Примечание:
B44: Настройка системы видеонаблюдения и подготовка исполнительной документации учтена в стоимости СМР

Sheet ЛСР
R1: Приложение №
R2: к Договору подряда №
B3: ПОДРЯДЧИК: | D3: ЗАКАЗЧИК: | P3: ТЕХНИЧЕСКИЙ ЗАКАЗЧИК:
B6: ___________/
E8: Локальный сметный расчет №5
E9: Устройство системы видеонаблюдения. ГП-75
A11: № | B11: Наименование | C11: Марка | D11: Характеристика | E11: Ед. изм. | F11: 75.1 | G11: 75.2 | H11: 75.3 | I11: 75.4 | J11: 75.5 | K11: 75.6 | L11: 75.7 | M11: 75.8 | N11: Кол-во | O11: Цена | P11: Сумма | Q11: Примечание | R11: Форма закупа материала
A12: 11 | B12: Внутренние инженерные сети
A13: 11.16. | B13: Устройство видеонаблюдения
A14: 11.16.01 | B14: Прокладка КПП
A15: 11.16.01.00. | B15: Прокладка КПП | P15: =P16+P19 -> 0
B16: Работа: | P16: =SUM(P17:P18) -> 0
B17: Прокладка КПП | E17: м | F17: =SUM(F20:F24) -> 1371 | G17: =SUM(G20:G24) -> 1090 | H17: =SUM(H20:H24) -> 1332 | I17: =SUM(I20:I24) -> 1067 | J17: =SUM(J20:J24) -> 1026 | K17: =SUM(K20:K24) -> 1338 | L17: =SUM(L20:L24) -> 1126 | M17: =SUM(M20:M24) -> 908 | N17: =SUM(F17:M17) -> 9258 | O17: =Работа!O17 -> 0 | P17: =O17*N17 -> 0
B18: Прокладка трубы | E18: м | F18: =SUM(F25:F27) -> 749 | G18: =SUM(G25:G27) -> 620 | H18: =SUM(H25:H27) -> 703 | I18: =SUM(I25:I27) -> 637 | J18: =SUM(J25:J27) -> 601 | K18: =SUM(K25:K27) -> 703 | L18: =SUM(L25:L27) -> 636 | M18: =SUM(M25:M27) -> 576 | N18: =SUM(F18:M18) -> 5225 | O18: =Работа!O18 -> 0 | P18: =O18*N18 -> 0
B19: Материалы: | P19: =SUM(P20:P28) -> 0
B20: Кабель тип 1 | D20: Кабель витая пара U/UTP U/U-5e-BC04-048-PVC-GR-305-RQcat. 5E 4х2х0.48 мм, для внутренней прокладки, одножильный, PVC. | E20: м. | F20: 359 | G20: 294 | H20: 366 | I20: 331 | J20: 257 | K20: 366 | L20: 294 | M20: 368 | N20: =SUM(F20:M20) -> 2635 | O20: =Материалы!O16 -> 0 | P20: =O20*N20 -> 0
B21: Кабель тип 2 | D21: Кабель витая пара U/UTP BC1-C5E04-128-305-G cat. 5E 4х2х0.48 мм, для внутренней прокладки, одножильный, LSZH. | E21: м. | F21: 352 | G21: 360 | H21: 391 | I21: 378 | J21: 378 | K21: 391 | L21: 414 | M21: 272 | N21: =SUM(F21:M21) -> 2936 | O21: =Материалы!O17 -> 0 | P21: =O21*N21 -> 0
B22: Кабель тип 3 | D22: Витая пара U/UTP BC1-C5E02-128-305-G cat. 5E 2х2х0.48 мм, для внутренней прокладки, одножильный, LSZH. | E22: м. | F22: 276 | G22: 250 | H22: 270 | I22: 210 | J22: 205 | K22: 276 | L22: 270 | M22: 132 | N22: =SUM(F22:M22) -> 1889 | O22: =Материалы!O18 -> 0 | P22: =O22*N22 -> 0
B23: Кабель тип 4 | D23: Кабель витая пара U/UTP U/U-5e-BC04-048-PE-BL-305-RQ cat. 5E 4х2х0.48 мм, PE (уличный). | E23: м. | F23: 126 | G23: 38 | H23: 38 | I23: 0 | J23: 38 | K23: 38 | L23: 0 | M23: 0 | N23: =SUM(F23:M23) -> 278 | O23: =Материалы!O19 -> 0 | P23: =O23*N23 -> 0
B24: Кабель тип 5 | D24: Кабель лифтовой КПЛК 2х0,75+4х(2х0,2) витая пара | E24: шт. | F24: 258 | G24: 148 | H24: 267 | I24: 148 | J24: 148 | K24: 267 | L24: 148 | M24: 136 | N24: =SUM(F24:M24) -> 1520 | O24: =Материалы!O20 -> 0 | P24: =O24*N24 -> 0
B25: Труба тип 1 | D25: Труба гофрированная ПВХ CTG20-20-K41-100I д.20мм с протяжкой | E25: м. | F25: 359 | G25: 294 | H25: 366 | I25: 331 | J25: 257 | K25: 366 | L25: 294 | M25: 368 | N25: =SUM(F25:M25) -> 2635 | O25: =Материалы!O21 -> 0 | P25: =O25*N25 -> 0
B26: Труба тип 2 | D26: Гофрированная труба ПНД D16мм. PR02.0122 лёгкая 350 Н безгалогенная HF стойкая к ультрафиолету черная с/з | E26: м. | F26: 340 | G26: 326 | H26: 337 | I26: 306 | J26: 344 | K26: 337 | L26: 342 | M26: 208 | N26: =SUM(F26:M26) -> 2540 | O26: =Материалы!O22 -> 0 | P26: =O26*N26 -> 0
B27: Труба тип 3 | D27: Труба ПНД гофрированная (артикул 71520) д.20мм, тяжёлая с протяжкой, прочность (сопротивление сжатию на 5 см при +20°C) 750 Н, цвет оранжевый | E27: м. | F27: 50 | G27: 0 | H27: 0 | I27: 0 | J27: 0 | K27: 0 | L27: 0 | M27: 0 | N27: =SUM(F27:M27) -> 50 | O27: =Материалы!O23 -> 0 | P27: =O27*N27 -> 0
B28: Прочие материалы | P28: =SUM(P29:P38) -> 0
B29: Универсальная монтажная коробка для видеокамер KadrOn JB2-125W Размеры, мм 156x48 | E29: шт. | F29: 27 | G29: 23 | H29: 28 | I29: 23 | J29: 23 | K29: 28 | L29: 23 | M29: 21 | N29: =SUM(F29:M29) -> 196 | O29: =Материалы!O25 -> 0 | P29: =O29*N29 -> 0
B30: Монтажная коробка KadrON JB1-100B чёрная | E30: шт. | F30: 3 | G30: 2 | H30: 3 | I30: 3 | J30: 1 | K30: 3 | L30: 2 | M30: 4 | N30: =SUM(F30:M30) -> 21 | O30: =Материалы!O26 -> 0 | P30: =O30*N30 -> 0
B31: Коробка распределительная (артикул 60-0300-9005) HF, 100х100х50 | E31: шт. | F31: 5 | G31: 3 | H31: 4 | I31: 2 | J31: 3 | K31: 4 | L31: 2 | M31: 2 | N31: =SUM(F31:M31) -> 25 | O31: =Материалы!O27 -> 0 | P31: =O31*N31 -> 0
B32: Пластиковая односторонняя крепеж-скоба D16мм. PR13.0372 для прямого монтажа, черная | E32: шт. | F32: 680 | G32: 652 | H32: 674 | I32: 612 | J32: 688 | K32: 674 | L32: 684 | M32: 416 | N32: =SUM(F32:M32) -> 5080 | O32: =Материалы!O28 -> 0 | P32: =O32*N32 -> 0
B33: Крепеж-клипса PR13.0120 для труб д.20мм., для монтажного пистолета, серая | E33: шт. | F33: 718 | G33: 588 | H33: 732 | I33: 662 | J33: 514 | K33: 732 | L33: 588 | M33: 736 | N33: =SUM(F33:M33) -> 5270 | O33: =Материалы!O29 -> 0 | P33: =O33*N33 -> 0
B34: Клемма СМК 222-414 с рычагом 4х(0,1-4мм2) 24АSQ0527-0004 сечением от 0,1 мм² до 4 мм² | E34: шт. | F34: 18 | G34: 15 | H34: 18 | I34: 15 | J34: 15 | K34: 18 | L34: 15 | M34: 12 | N34: =SUM(F34:M34) -> 126 | O34: =Материалы!O30 -> 0 | P34: =O34*N34 -> 0
B35: Дюбель хомут 5х10 дхч510 для крепления кабеля цвет-чёрный | E35: шт. | F35: 216 | G35: 184 | H35: 224 | I35: 184 | J35: 184 | K35: 224 | L35: 184 | M35: 168 | N35: =SUM(F35:M35) -> 1568 | O35: =Материалы!O31 -> 0 | P35: =O35*N35 -> 0
B36: Усиленный дюбель-гвоздь 30519stepEGBP по бетону, металлу, кирпичу тип CN 15; диаметр 3.05 мм, длина 19 мм; усиленный, гальванизированный. Упаковка 1000 шт. | E36: шт. | F36: 1058 | G36: 914 | H36: 1069 | I36: 968 | J36: 858 | K36: 1069 | L36: 930 | M36: 944 | N36: =SUM(F36:M36) -> 7810 | O36: =Материалы!O32 -> 0 | P36: =O36*N36 -> 0
B37: Дюбель-гвоздь 6x40 потайная манжета полипропилен | E37: шт. | F37: 164 | G37: 132 | H37: 164 | I37: 132 | J37: 128 | K37: 164 | L37: 128 | M37: 124 | N37: =SUM(F37:M37) -> 1136 | O37: =Материалы!O33 -> 0 | P37: =O37*N37 -> 0
B38: Анкер клиновой 12x100 мм | E38: шт. | F38: 8 | G38: 4 | H38: 4 | I38: 0 | J38: 4 | K38: 4 | L38: 0 | M38: 0 | N38: =SUM(F38:M38) -> 24 | O38: =Материалы!O34 -> 0 | P38: =O38*N38 -> 0
A39: 11.16.02 | B39: Установка оборудования
A40: 11.16.02.00. | B40: Установка оборудования | P40: =P41+P43 -> 0
B41: Работа: | P41: =SUM(P42:P42) -> 0
B42: Монтажные работы | E42: комплекс | F42: 1 | G42: 1 | H42: 1 | I42: 1 | J42: 1 | K42: 1 | L42: 1 | M42: 1 | N42: =SUM(F42:M42) -> 8 | O42: =Работа!O22 -> 0 | P42: =O42*N42 -> 0
B43: Материалы: | P43: =SUM(P44:P61) -> 0
B44: Видеорегистратор 64 канала VNVR-764ITB08 | E44: шт. | F44: 0 | G44: 0 | H44: 0 | I44: 1 | J44: 0 | K44: 0 | L44: 0 | M44: 0 | N44: =SUM(F44:M44) -> 1 | O44: =Материалы!O37 -> 0 | P44: =O44*N44 -> 0 | Q44: Для уличных видеокамер
...

Sheet Работа
R1: Приложение №
R2: к Договору подряда №
B3: ПОДРЯДЧИК: | D3: ЗАКАЗЧИК: | P3: ТЕХНИЧЕСКИЙ ЗАКАЗЧИК:
B6: ___________/
E8: Ведомость работ
E9: Устройство системы видеонаблюдения. ГП-75
A11: № | B11: Наименование | C11: Марка | D11: Характеристика | E11: Ед. изм. | F11: 75.1 | G11: 75.2 | H11: 75.3 | I11: 75.4 | J11: 75.5 | K11: 75.6 | L11: 75.7 | M11: 75.8 | N11: Кол-во | O11: Цена | P11: Сумма | Q11: Примечание | R11: Форма закупа материала
A12: 11 | B12: Внутренние инженерные сети
A13: 11.16. | B13: Устройство видеонаблюдения
A14: 11.16.01 | B14: Прокладка КПП
A15: 11.16.01.00. | B15: Прокладка КПП
B16: Работа:
B17: Прокладка КПП | E17: м | F17: 1371 | G17: 1090 | H17: 1332 | I17: 1067 | J17: 1026 | K17: 1338 | L17: 1126 | M17: 908 | N17: =SUM(F17:M17) -> 9258 | P17: =O17*N17 -> 0
B18: Прокладка трубы | E18: м | F18: 749 | G18: 620 | H18: 703 | I18: 637 | J18: 601 | K18: 703 | L18: 636 | M18: 576 | N18: =SUM(F18:M18) -> 5225 | P18: =O18*N18 -> 0
A19: 11.16.02 | B19: Установка оборудования
A20: 11.16.02.00. | B20: Установка оборудования
B21: Работа:
B22: Монтажные работы | E22: комплекс | F22: 1 | G22: 1 | H22: 1 | I22: 1 | J22: 1 | K22: 1 | L22: 1 | M22: 1 | N22: =SUM(F22:M22) -> 8 | P22: =O22*N22 -> 0
A23: 11.16.03 | B23: ПНР
A24: 11.16.03.00 | B24: ПНР
B25: Работа:
B26: Пусконаладочные работы | E26: комплекс | F26: 1 | G26: 1 | H26: 1 | I26: 1 | J26: 1 | K26: 1 | L26: 1 | M26: 1 | N26: =SUM(F26:M26) -> 8 | P26: =O26*N26 -> 0
O27: Итого стоимость работ | P27: =SUM(P17:P26) -> 0
B29: Примечание:
A30: - | B30: Настройка системы видеонаблюдения и подготовка исполнительной документации учтена в стоимости СМР
A31: - | B31: В случае, если один из перечисленных прочих материалов не был использован по факту при производстве работ, заказчик вправе откорректировать процент расходных материалов в актах выполненных работ (формы КС-2, КС-3), уменьшив на сумму исключенного материала.
A32: - | B32: Стоимость СМР учитывает - затраты на все второстепенные материалы и работы необходимые для осуществления полного комплекса работ, включая затраты: обеспечение технической водой для производства работ и бытовых целей; на мобилизацию, аренду и эксплуатацию всех необходимых механизмов, оборудования и инструментов, бытовых помещений и биотуалетов; на подъем материалов и разноску по этажам к местам производства работ; выполнение сопутствующих работ; вывоз мусора; накладные расходы, прибыль организации, налоги и иные издержки Подрядчика. Обеспечение безопасного производства работ на участке.
A33: - | B33: Стоимость материалов учитывает стоимость доставки.
A34: - | B34: В случае изменения системы налогообложения, риски увеличения стоимости договора относятся на сторону, чья система налогообложения изменяется.

Sheet Материалы
R1: Приложение №
R2: к Договору подряда №
B3: ПОДРЯДЧИК: | D3: ЗАКАЗЧИК: | P3: ТЕХНИЧЕСКИЙ ЗАКАЗЧИК:
B6: ___________/
E8: Ведомость материалов
E9: Устройство системы видеонаблюдения. ГП-75
A11: № | B11: Наименование | C11: Марка | D11: Характеристика | E11: Ед. изм. | F11: 75.1 | G11: 75.2 | H11: 75.3 | I11: 75.4 | J11: 75.5 | K11: 75.6 | L11: 75.7 | M11: 75.8 | N11: Кол-во | O11: Цена | P11: Сумма | Q11: Примечание | R11: Форма закупа материала
A12: 11 | B12: Внутренние инженерные сети
A13: 11.16. | B13: Устройство видеонаблюдения
A14: 11.16.01 | B14: Прокладка КПП
A15: 11.16.01.00. | B15: Прокладка КПП
B16: Кабель тип 1 | D16: Кабель витая пара U/UTP U/U-5e-BC04-048-PVC-GR-305-RQcat. 5E 4х2х0.48 мм, для внутренней прокладки, одножильный, PVC. | E16: м. | F16: 359 | G16: 294 | H16: 366 | I16: 331 | J16: 257 | K16: 366 | L16: 294 | M16: 368 | N16: =SUM(F16:M16) -> 2635 | P16: =O16*N16 -> 0
B17: Кабель тип 2 | D17: Кабель витая пара U/UTP BC1-C5E04-128-305-G cat. 5E 4х2х0.48 мм, для внутренней прокладки, одножильный, LSZH. | E17: м. | F17: 352 | G17: 360 | H17: 391 | I17: 378 | J17: 378 | K17: 391 | L17: 414 | M17: 272 | N17: =SUM(F17:M17) -> 2936 | P17: =O17*N17 -> 0
B18: Кабель тип 3 | D18: Витая пара U/UTP BC1-C5E02-128-305-G cat. 5E 2х2х0.48 мм, для внутренней прокладки, одножильный, LSZH. | E18: м. | F18: 276 | G18: 250 | H18: 270 | I18: 210 | J18: 205 | K18: 276 | L18: 270 | M18: 132 | N18: =SUM(F18:M18) -> 1889 | P18: =O18*N18 -> 0
B19: Кабель тип 4 | D19: Кабель витая пара U/UTP U/U-5e-BC04-048-PE-BL-305-RQ cat. 5E 4х2х0.48 мм, PE (уличный). | E19: м. | F19: 126 | G19: 38 | H19: 38 | I19: 0 | J19: 38 | K19: 38 | L19: 0 | M19: 0 | N19: =SUM(F19:M19) -> 278 | P19: =O19*N19 -> 0
B20: Кабель тип 5 | D20: Кабель лифтовой КПЛК 2х0,75+4х(2х0,2) витая пара | E20: шт. | F20: 258 | G20: 148 | H20: 267 | I20: 148 | J20: 148 | K20: 267 | L20: 148 | M20: 136 | N20: =SUM(F20:M20) -> 1520 | P20: =O20*N20 -> 0
B21: Труба тип 1 | D21: Труба гофрированная ПВХ CTG20-20-K41-100I д.20мм с протяжкой | E21: м. | F21: 359 | G21: 294 | H21: 366 | I21: 331 | J21: 257 | K21: 366 | L21: 294 | M21: 368 | N21: =SUM(F21:M21) -> 2635 | P21: =O21*N21 -> 0
B22: Труба тип 2 | D22: Гофрированная труба ПНД D16мм. PR02.0122 лёгкая 350 Н безгалогенная HF стойкая к ультрафиолету черная с/з | E22: м. | F22: 340 | G22: 326 | H22: 337 | I22: 306 | J22: 344 | K22: 337 | L22: 342 | M22: 208 | N22: =SUM(F22:M22) -> 2540 | P22: =O22*N22 -> 0
B23: Труба тип 3 | D23: Труба ПНД гофрированная (артикул 71520) д.20мм, тяжёлая с протяжкой, прочность (сопротивление сжатию на 5 см при +20°C) 750 Н, цвет оранжевый | E23: м. | F23: 50 | G23: 0 | H23: 0 | I23: 0 | J23: 0 | K23: 0 | L23: 0 | M23: 0 | N23: =SUM(F23:M23) -> 50 | P23: =O23*N23 -> 0
B24: Прочие материалы
B25: Универсальная монтажная коробка для видеокамер KadrOn JB2-125W Размеры, мм 156x48 | E25: шт. | F25: 27 | G25: 23 | H25: 28 | I25: 23 | J25: 23 | K25: 28 | L25: 23 | M25: 21 | N25: =SUM(F25:M25) -> 196 | P25: =O25*N25 -> 0
B26: Монтажная коробка KadrON JB1-100B чёрная | E26: шт. | F26: 3 | G26: 2 | H26: 3 | I26: 3 | J26: 1 | K26: 3 | L26: 2 | M26: 4 | N26: =SUM(F26:M26) -> 21 | P26: =O26*N26 -> 0
B27: Коробка распределительная (артикул 60-0300-9005) HF, 100х100х50 | E27: шт. | F27: 5 | G27: 3 | H27: 4 | I27: 2 | J27: 3 | K27: 4 | L27: 2 | M27: 2 | N27: =SUM(F27:M27) -> 25 | P27: =O27*N27 -> 0
B28: Пластиковая односторонняя крепеж-скоба D16мм. PR13.0372 для прямого монтажа, черная | E28: шт. | F28: 680 | G28: 652 | H28: 674 | I28: 612 | J28: 688 | K28: 674 | L28: 684 | M28: 416 | N28: =SUM(F28:M28) -> 5080 | P28: =O28*N28 -> 0
B29: Крепеж-клипса PR13.0120 для труб д.20мм., для монтажного пистолета, серая | E29: шт. | F29: 718 | G29: 588 | H29: 732 | I29: 662 | J29: 514 | K29: 732 | L29: 588 | M29: 736 | N29: =SUM(F29:M29) -> 5270 | P29: =O29*N29 -> 0
B30: Клемма СМК 222-414 с рычагом 4х(0,1-4мм2) 24АSQ0527-0004 сечением от 0,1 мм² до 4 мм² | E30: шт. | F30: 18 | G30: 15 | H30: 18 | I30: 15 | J30: 15 | K30: 18 | L30: 15 | M30: 12 | N30: =SUM(F30:M30) -> 126 | P30: =O30*N30 -> 0
B31: Дюбель хомут 5х10 дхч510 для крепления кабеля цвет-чёрный | E31: шт. | F31: 216 | G31: 184 | H31: 224 | I31: 184 | J31: 184 | K31: 224 | L31: 184 | M31: 168 | N31: =SUM(F31:M31) -> 1568 | P31: =O31*N31 -> 0
B32: Усиленный дюбель-гвоздь 30519stepEGBP по бетону, металлу, кирпичу тип CN 15; диаметр 3.05 мм, длина 19 мм; усиленный, гальванизированный. Упаковка 1000 шт. | E32: шт. | F32: 1058 | G32: 914 | H32: 1069 | I32: 968 | J32: 858 | K32: 1069 | L32: 930 | M32: 944 | N32: =SUM(F32:M32) -> 7810 | P32: =O32*N32 -> 0
B33: Дюбель-гвоздь 6x40 потайная манжета полипропилен | E33: шт. | F33: 164 | G33: 132 | H33: 164 | I33: 132 | J33: 128 | K33: 164 | L33: 128 | M33: 124 | N33: =SUM(F33:M33) -> 1136 | P33: =O33*N33 -> 0
B34: Анкер клиновой 12x100 мм | E34: шт. | F34: 8 | G34: 4 | H34: 4 | I34: 0 | J34: 4 | K34: 4 | L34: 0 | M34: 0 | N34: =SUM(F34:M34) -> 24 | P34: =O34*N34 -> 0
A35: 11.16.02 | B35: Установка оборудования
A36: 11.16.02.00. | B36: Установка оборудования
B37: Видеорегистратор 64 канала VNVR-764ITB08 | E37: шт. | F37: 0 | G37: 0 | H37: 0 | I37: 1 | J37: 0 | K37: 0 | L37: 0 | M37: 0 | N37: =SUM(F37:M37) -> 1 | P37: =O37*N37 -> 0 | Q37: Для уличных видеокамер
B38: Видеорегистратор 32 канала VNVR-P732ITB02 | E38: шт. | F38: 1 | G38: 1 | H38: 1 | I38: 1 | J38: 1 | K38: 1 | L38: 1 | M38: 1 | N38: =SUM(F38:M38) -> 8 | P38: =O38*N38 -> 0 | Q38: Для внутренних видеокамер
B39: 18TB Жесткий диск WD Purple | E39: шт. | F39: 0 | G39: 0 | H39: 0 | I39: 2 | J39: 0 | K39: 0 | L39: 0 | M39: 0 | N39: =SUM(F39:M39) -> 2 | P39: =O39*N39 -> 0 | Q39: Для уличных видеокамер
B40: 12TB Жесткий диск WD Purple | E40: шт. | F40: 1 | G40: 1 | H40: 1 | I40: 1 | J40: 1 | K40: 1 | L40: 1 | M40: 1 | N40: =SUM(F40:M40) -> 8 | P40: =O40*N40 -> 0 | Q40: Для внутренних видеокамер
B41: IP Видеокамера купольная IK30B20 2MP, Progressive Scan CMOS 1/2,9. 2,8мм. гарантия 5лет. | E41: шт. | F41: 27 | G41: 23 | H41: 28 | I41: 23 | J41: 23 | K41: 28 | L41: 23 | M41: 21 | N41: =SUM(F41:M41) -> 196 | P41: =O41*N41 -> 0 | Q41: В МОП подвал; 1 этаж + 2эт.+… этажи
B42: IP Видеокамера купольная уличного исп. IA30B40 металл. корпус 4MP GC4653+FH8656, объектив 2,8мм, IP66, гарантия 5лет. | E42: шт. | F42: 3 | G42: 2 | H42: 3 | I42: 2 | J42: 2 | K42: 3 | L42: 2 | M42: 2 | N42: =SUM(F42:M42) -> 19 | P42: =O42*N42 -> 0 | Q42: В лифты
B43: IP Видеокамера PTZ HI-IPA4KS30 5MP 1/2,8 IMX335+3516EV300, 36X Optical Zoom (f=4.6mm-165mm), гарантия 5лет. | E43: шт. | F43: 2 | G43: 1 | H43: 1 | I43: 0 | J43: 1 | K43: 1 | L43: 0 | M43: 0 | N43: =SUM(F43:M43) -> 6 | P43: =O43*N43 -> 0 | Q43: PTZ на крыше
B44: IP Видеокамера уличная разрешение - 5MP VC-IP73IT5EF02 обнаружения человека и автомобиля, нарушения периметра, пересечении линии, оставленных предметов. | E44: шт. | F44: 2 | G44: 2 | H44: 3 | I44: 2 | J44: 1 | K44: 3 | L44: 2 | M44: 3 | N44: =SUM(F44:M44) -> 18 | P44: =O44*N44 -> 0 | Q44: Уличная обзорная
...
