Workbook

Sheet ЛСР
R1: Приложение №
R2: к Договору подряда №
B3: ПОДРЯДЧИК: | D3: ЗАКАЗЧИК: | O3: ТЕХНИЧЕСКИЙ ЗАКАЗЧИК:
D4: Генеральный директор | O4: Генеральный директор
D5: ООО "ЭНКО " | O5: ООО "ТЗ ЭНКО"
D6: ___________/Е.В. Низамова | O6: ___________/Е.В. Низамова
D8: Локальный сметный расчет №1
D9: Устройство системы ПС и СОУЭ. ГП-75 секция 1,2,3,4,5,6,7,8
A11: № | B11: Наименование | C11: Марка | D11: Характеристика | E11: Ед. изм. | F11: секция 75.1 | G11: секция 75.2 | H11: секция 75.3 | I11: секция 75.4 | J11: секция 75.5 | K11: секция 75.6 | L11: секция 75.7 | M11: секция 75.8 | N11: Итого | O11: Цена | P11: Сумма | Q11: Примечание | R11: Форма закупа материала
A12: 11 | B12: Внутренние инженерные сети
A13: 11.10. | B13: Система пожарной сигнализации и система оповещения и управления эвакуацией людей при пожаре
A14: 11.10.01 | B14: Прокладка КПП, трубы
A15: 11.10.01.00 | B15: Прокладка КПП, трубы | P15: =P16+P19 -> 0
B16: Работа: | P16: =SUM(P17:P18) -> 0
B17: Прокладка КПП | E17: м | F17: =SUM(F20:F26) -> 11460 | G17: =SUM(G20:G26) -> 9600 | H17: =SUM(H20:H26) -> 12640 | I17: =SUM(I20:I26) -> 10780 | J17: =SUM(J20:J26) -> 10980 | K17: =SUM(K20:K26) -> 14040 | L17: =SUM(L20:L26) -> 9600 | M17: =SUM(M20:M26) -> 8600 | N17: =SUM(F17:M17) -> 87700 | O17: =Работа!O17 -> 0 | P17: =O17*N17 -> 0
B18: Прокладка трубы | E18: м | F18: =SUM(F27:F30) -> 2540 | G18: =SUM(G27:G30) -> 2120 | H18: =SUM(H27:H30) -> 2560 | I18: =SUM(I27:I30) -> 3370 | J18: =SUM(J27:J30) -> 2570 | K18: =SUM(K27:K30) -> 2560 | L18: =SUM(L27:L30) -> 2120 | M18: =SUM(M27:M30) -> 2120 | N18: =SUM(F18:M18) -> 19960 | O18: =Работа!O18 -> 0 | P18: =O18*N18 -> 0
B19: Материалы: | P19: =SUM(P20:P33) -> 0
B20: Огнестойкий кабель | C20: ОКЛ | D20: КПСнг(А)-FRLS 1х2х0,75 | E20: м | F20: 100 | H20: 100 | I20: 100 | J20: 100 | K20: 100 | N20: =SUM(F20:M20) -> 500 | O20: =Материалы!O14 -> 0 | P20: =O20*N20 -> 0
B21: Огнестойкий кабель | C21: ОКЛ | D21: КПСнг(А)-FRLS 1х2х1,0 | E21: м | F21: 2100 | G21: 1800 | H21: 2600 | I21: 2700 | J21: 3200 | K21: 2600 | L21: 1800 | M21: 1800 | N21: =SUM(F21:M21) -> 18600 | O21: =Материалы!O15 -> 0 | P21: =O21*N21 -> 0
B22: Огнестойкий кабель | C22: ОКЛ | D22: КПСнг(А)-FRLS 2х2х0,5 | E22: м | F22: 530 | G22: 400 | H22: 570 | I22: 440 | J22: 440 | K22: 1070 | L22: 400 | M22: 400 | N22: =SUM(F22:M22) -> 4250 | O22: =Материалы!O16 -> 0 | P22: =O22*N22 -> 0
B23: Огнестойкий кабель | C23: ОКЛ | D23: КПСЭнг(А)-FRLS 1х2х0,75 | E23: м | F23: 8300 | G23: 7000 | H23: 8800 | I23: 6300 | J23: 6800 | K23: 8800 | L23: 7000 | M23: 6000 | N23: =SUM(F23:M23) -> 59000 | O23: =Материалы!O17 -> 0 | P23: =O23*N23 -> 0
B24: Огнестойкий силовой (0,66 кВ) кабель | C24: ОКЛ | D24: ВВГнг(А)-FRLS 3х1,5 | E24: м | F24: 430 | G24: 400 | H24: 570 | I24: 440 | J24: 440 | K24: 570 | L24: 400 | M24: 400 | N24: =SUM(F24:M24) -> 3650 | O24: =Материалы!O18 -> 0 | P24: =O24*N24 -> 0
B25: Огнестойкий силовой (0,66 кВ) кабель | C25: ОКЛ | D25: ВВГнг(А)-FRLS 5х1,5 | E25: м | I25: 0 | K25: 100 | N25: =SUM(F25:M25) -> 100 | O25: =Материалы!O19 -> 0 | P25: =O25*N25 -> 0
B26: Огнестойкий кабель для СКС и IP-сетей | C26: ОКЛ | D26: F/UTP Cat5e PVCLS нг(А)-FRLSLTx 2х2х0,52 | E26: м | I26: 800 | K26: 800 | N26: =SUM(F26:M26) -> 1600 | O26: =Материалы!O20 -> 0 | P26: =O26*N26 -> 0
B27: Труба гофрированная 16мм FRHF с зондом легкая | C27: ОКЛ | E27: м | F27: 1000 | G27: 1000 | H27: 1000 | I27: 1000 | J27: 1000 | K27: 1000 | L27: 1000 | M27: 1000 | N27: =SUM(F27:M27) -> 8000 | O27: =Материалы!O21 -> 0 | P27: =O27*N27 -> 0
B28: Труба гофрированная 20мм FRHF с зондом легкая | C28: ОКЛ | E28: м | F28: 1400 | G28: 1000 | H28: 1400 | I28: 2200 | J28: 1400 | K28: 1400 | L28: 1000 | M28: 1000 | N28: =SUM(F28:M28) -> 10800 | O28: =Материалы!O22 -> 0 | P28: =O28*N28 -> 0
B29: Труба гофрированная 25мм FRHF с зондом легкая | C29: ОКЛ | E29: м | I29: 50 | J29: 50 | N29: =SUM(F29:M29) -> 100 | O29: =Материалы!O23 -> 0 | P29: =O29*N29 -> 0
B30: Труба жесткая гладкая, из самозатухающей композиции ПВХ, для ОКЛ | C30: ОКЛ | D30: D=50мм | E30: м | F30: 140 | G30: 120 | H30: 160 | I30: 120 | J30: 120 | K30: 160 | L30: 120 | M30: 120 | N30: =SUM(F30:M30) -> 1060 | O30: =Материалы!O24 -> 0 | P30: =O30*N30 -> 0
B31: Металлорука ф=20мм | C31: ОКЛ | E31: м | F31: 70 | G31: 60 | H31: 150 | I31: 60 | J31: 60 | K31: 150 | L31: 60 | M31: 60 | N31: =SUM(F31:M31) -> 670 | O31: =Материалы!O25 -> 0 | P31: =O31*N31 -> 0 | R31: Закуп подрядчика
B32: Металлорукав в ПВХ изоляции Р3-ЦП-Мр-НГ-20 (50м/уп) Промрукав | C32: ОКЛ | D32: PR04.0167 | E32: м | F32: 400 | G32: 400 | H32: 500 | I32: 400 | J32: 400 | K32: 500 | L32: 400 | M32: 400 | N32: =SUM(F32:M32) -> 3400 | O32: =Материалы!O26 -> 0 | P32: =O32*N32 -> 0 | R32: Закуп подрядчика
B33: ПРОЧИЕ МАТЕРИАЛЫ | P33: =SUM(P34:P42) -> 0
B34: Дюбель металлический | C34: ОКЛ | E34: шт | F34: 6200 | G34: 5000 | H34: 7200 | I34: 8600 | J34: 6200 | K34: 7200 | L34: 5000 | M34: 5000 | N34: =SUM(F34:M34) -> 50400 | O34: =Материалы!O27 -> 0 | P34: =O34*N34 -> 0 | R34: Закуп подрядчика
B35: Дюбель-хомут 041 (уп 100шт) 15х140 КФСТ.735322.041 | C35: ОКЛ | E35: упак | F35: 10 | G35: 10 | H35: 10 | I35: 10 | J35: 10 | K35: 10 | L35: 10 | M35: 10 | N35: =SUM(F35:M35) -> 80 | O35: =Материалы!O28 -> 0 | P35: =O35*N35 -> 0 | R35: Закуп подрядчика
B36: Коробка монтажная огнестойкая | C36: ОКЛ | D36: КМОМ (4к х 2.5мм) 75х75х37 IP31 | E36: шт. | F36: 200 | G36: 200 | H36: 200 | I36: 200 | J36: 200 | K36: 200 | L36: 200 | M36: 200 | N36: =SUM(F36:M36) -> 1600 | O36: =Материалы!O29 -> 0 | P36: =O36*N36 -> 0 | R36: Закуп подрядчика
B37: Огнестойкая пена | C37: ОКЛ | E37: шт | F37: 5 | G37: 5 | H37: 5 | I37: 5 | J37: 5 | K37: 5 | L37: 5 | M37: 5 | N37: =SUM(F37:M37) -> 40 | O37: =Материалы!O30 -> 0 | P37: =O37*N37 -> 0 | R37: Закуп подрядчика
B38: Саморез | C38: ОКЛ | E38: шт | F38: 6200 | G38: 5000 | H38: 7200 | I38: 8600 | J38: 6200 | K38: 7200 | L38: 5000 | M38: 5000 | N38: =SUM(F38:M38) -> 50400 | O38: =Материалы!O31 -> 0 | P38: =O38*N38 -> 0 | R38: Закуп подрядчика
B39: Скоба однолапковая 16мм | C39: ОКЛ | E39: шт | F39: 3000 | G39: 3000 | H39: 3000 | I39: 3000 | J39: 3000 | K39: 3000 | L39: 3000 | M39: 3000 | N39: =SUM(F39:M39) -> 24000 | O39: =Материалы!O32 -> 0 | P39: =O39*N39 -> 0 | R39: Закуп подрядчика
B40: Скоба однолапковая 20мм | C40: ОКЛ | E40: шт | F40: 4200 | G40: 3000 | H40: 4200 | I40: 6600 | J40: 4200 | K40: 4200 | L40: 3000 | M40: 3000 | N40: =SUM(F40:M40) -> 32400 | O40: =Материалы!O33 -> 0 | P40: =O40*N40 -> 0 | R40: Закуп подрядчика
B41: Скоба однолапковая 25мм | C41: ОКЛ | E41: шт | I41: 150 | J41: 150 | N41: =SUM(F41:M41) -> 300 | O41: =Материалы!O34 -> 0 | P41: =O41*N41 -> 0 | R41: Закуп подрядчика
B42: Скоба однолапковая 50мм | C42: ОКЛ | E42: шт | F42: 500 | G42: 500 | H42: 600 | I42: 500 | J42: 500 | K42: 600 | L42: 500 | M42: 500 | N42: =SUM(F42:M42) -> 4200 | O42: =Материалы!O35 -> 0 | P42: =O42*N42 -> 0 | R42: Закуп подрядчика
...

Sheet Работа
R1: Приложение №
R2: к Договору подряда №
B3: ПОДРЯДЧИК: | D3: ЗАКАЗЧИК: | O3: ТЕХНИЧЕСКИЙ ЗАКАЗЧИК:
D4: Генеральный директор | O4: Генеральный директор
D5: ООО "ЭНКО " | O5: ООО "ТЗ ЭНКО"
D6: ___________/Е.В. Низамова | O6: ___________/Е.В. Низамова
D8: Ведомость работ
D9: Устройство системы ПС и СОУЭ. ГП-75 секция 1,2,3,4,5,6,7,8
A11: № | B11: Наименование | C11: Марка | D11: Характеристика | E11: Ед. изм. | F11: секция 75.1 | G11: секция 75.2 | H11: секция 75.3 | I11: секция 75.4 | J11: секция 75.5 | K11: секция 75.6 | L11: секция 75.7 | M11: секция 75.8 | N11: Итого | O11: Цена | P11: Сумма | Q11: Примечание | R11: Форма закупа материала
A12: 11 | B12: Внутренние инженерные сети
A13: 11.10. | B13: Система пожарной сигнализации и система оповещения и управления эвакуацией людей при пожаре
A14: 11.10.01 | B14: Прокладка КПП, трубы
A15: 11.10.01.00 | B15: Прокладка КПП, трубы
B16: Работа: | P16: =SUM(P17:P18) -> 0
B17: Прокладка КПП | E17: м | F17: 11460 | G17: 9600 | H17: 12640 | I17: 10780 | J17: 10980 | K17: 14040 | L17: 9600 | M17: 8600 | N17: =SUM(F17:M17) -> 87700 | P17: =O17*N17 -> 0
B18: Прокладка трубы | E18: м | F18: 2540 | G18: 2120 | H18: 2560 | I18: 3370 | J18: 2570 | K18: 2560 | L18: 2120 | M18: 2120 | N18: =SUM(F18:M18) -> 19960 | P18: =O18*N18 -> 0
A19: 11.10.02. | B19: Установка оборудования
A20: 11.10.02.00 | B20: Установка оборудования
B21: Работа: | P21: =SUM(P22:P22) -> 0
B22: Монтажные работы | E22: комплекс | F22: 1 | G22: 1 | H22: 1 | I22: 1 | J22: 1 | K22: 1 | L22: 1 | M22: 1 | N22: =SUM(F22:M22) -> 8 | P22: =O22*N22 -> 0
A23: 11.10.03. | B23: ПНР
A24: 11.10.03.00 | B24: ПНР
B25: Работа: | P25: =SUM(P26:P26) -> 0
B26: Пусконаладочные работы | E26: комплекс | F26: 1 | G26: 1 | H26: 1 | I26: 1 | J26: 1 | K26: 1 | L26: 1 | M26: 1 | N26: =SUM(F26:M26) -> 8 | P26: =O26*N26 -> 0
B27: Итого по работам | P27: =P26+P22+P18+P17 -> 0
B29: Примечание:
A30: - | B30: В случае, если один из перечисленных прочих материалов не был использован по факту при производстве работ, заказчик вправе откорректировать процент расходных материалов в актах выполненных работ (формы КС-2, КС-3), уменьшив на сумму исключенного материала.
A31: - | B31: Стоимость СМР учитывает - затраты на все второстепенные материалы и работы необходимые для осуществления полного комплекса работ, включая затраты: обеспечение технической водой для производства работ и бытовых целей; на мобилизацию, аренду и эксплуатацию всех необходимых механизмов, оборудования и инструментов, бытовых помещений и биотуалетов; на подъем материалов и разноску по этажам к местам производства работ; выполнение сопутствующих работ; вывоз мусора; накладные расходы, прибыль организации, налоги и иные издержки Подрядчика. Обеспечение безопасного производства работ на участке.
A32: - | B32: Стоимость материалов учитывает стоимость доставки.
A33: - | B33: В случае изменения системы налогообложения, риски увеличения стоимости договора относятся на сторону, чья система налогообложения изменяется.

Sheet Материалы
R1: Приложение №
R2: к Договору подряда №
B3: ПОДРЯДЧИК: | D3: ЗАКАЗЧИК: | O3: ТЕХНИЧЕСКИЙ ЗАКАЗЧИК:
D4: Генеральный директор | O4: Генеральный директор
D5: ООО "ЭНКО " | O5: ООО "ТЗ ЭНКО"
D6: ___________/Е.В. Низамова | O6: ___________/Е.В. Низамова
D8: Ведомость материалов
D9: Устройство системы ПС и СОУЭ. ГП-75 секция 1,2,3,4,5,6,7,8
A11: № | B11: Наименование | C11: Марка | D11: Характеристика | E11: Ед. изм. | F11: секция 75.1 | G11: секция 75.2 | H11: секция 75.3 | I11: секция 75.4 | J11: секция 75.5 | K11: секция 75.6 | L11: секция 75.7 | M11: секция 75.8 | N11: Итого | O11: Цена | P11: Сумма | Q11: Примечание | R11: Форма закупа материала
A12: 11 | B12: Внутренние инженерные сети
A13: 11.10. | B13: Система пожарной сигнализации и система оповещения и управления эвакуацией людей при пожаре
B14: Огнестойкий кабель | C14: ОКЛ | D14: КПСнг(А)-FRLS 1х2х0,75 | E14: м | F14: 100 | H14: 100 | I14: 100 | J14: 100 | K14: 100 | N14: =SUM(F14:M14) -> 500 | P14: =O14*N14 -> 0
B15: Огнестойкий кабель | C15: ОКЛ | D15: КПСнг(А)-FRLS 1х2х1,0 | E15: м | F15: 2100 | G15: 1800 | H15: 2600 | I15: 2700 | J15: 3200 | K15: 2600 | L15: 1800 | M15: 1800 | N15: =SUM(F15:M15) -> 18600 | P15: =O15*N15 -> 0
B16: Огнестойкий кабель | C16: ОКЛ | D16: КПСнг(А)-FRLS 2х2х0,5 | E16: м | F16: 530 | G16: 400 | H16: 570 | I16: 440 | J16: 440 | K16: 1070 | L16: 400 | M16: 400 | N16: =SUM(F16:M16) -> 4250 | P16: =O16*N16 -> 0
B17: Огнестойкий кабель | C17: ОКЛ | D17: КПСЭнг(А)-FRLS 1х2х0,75 | E17: м | F17: 8300 | G17: 7000 | H17: 8800 | I17: 6300 | J17: 6800 | K17: 8800 | L17: 7000 | M17: 6000 | N17: =SUM(F17:M17) -> 59000 | P17: =O17*N17 -> 0
B18: Огнестойкий силовой (0,66 кВ) кабель | C18: ОКЛ | D18: ВВГнг(А)-FRLS 3х1,5 | E18: м | F18: 430 | G18: 400 | H18: 570 | I18: 440 | J18: 440 | K18: 570 | L18: 400 | M18: 400 | N18: =SUM(F18:M18) -> 3650 | P18: =O18*N18 -> 0
B19: Огнестойкий силовой (0,66 кВ) кабель | C19: ОКЛ | D19: ВВГнг(А)-FRLS 5х1,5 | E19: м | I19: 0 | K19: 100 | N19: =SUM(F19:M19) -> 100 | P19: =O19*N19 -> 0
B20: Огнестойкий кабель для СКС и IP-сетей | C20: ОКЛ | D20: F/UTP Cat5e PVCLS нг(А)-FRLSLTx 2х2х0,52 | E20: м | I20: 800 | K20: 800 | N20: =SUM(F20:M20) -> 1600 | P20: =O20*N20 -> 0
B21: Труба гофрированная 16мм FRHF с зондом легкая | C21: ОКЛ | E21: м | F21: 1000 | G21: 1000 | H21: 1000 | I21: 1000 | J21: 1000 | K21: 1000 | L21: 1000 | M21: 1000 | N21: =SUM(F21:M21) -> 8000 | P21: =O21*N21 -> 0
B22: Труба гофрированная 20мм FRHF с зондом легкая | C22: ОКЛ | E22: м | F22: 1400 | G22: 1000 | H22: 1400 | I22: 2200 | J22: 1400 | K22: 1400 | L22: 1000 | M22: 1000 | N22: =SUM(F22:M22) -> 10800 | P22: =O22*N22 -> 0
B23: Труба гофрированная 25мм FRHF с зондом легкая | C23: ОКЛ | E23: м | I23: 50 | J23: 50 | N23: =SUM(F23:M23) -> 100 | P23: =O23*N23 -> 0
B24: Труба жесткая гладкая, из самозатухающей композиции ПВХ, для ОКЛ | C24: ОКЛ | D24: D=50мм | E24: м | F24: 140 | G24: 120 | H24: 160 | I24: 120 | J24: 120 | K24: 160 | L24: 120 | M24: 120 | N24: =SUM(F24:M24) -> 1060 | P24: =O24*N24 -> 0
B25: Металлорука ф=20мм | C25: ОКЛ | E25: м | F25: 70 | G25: 60 | H25: 150 | I25: 60 | J25: 60 | K25: 150 | L25: 60 | M25: 60 | N25: =SUM(F25:M25) -> 670 | P25: =O25*N25 -> 0 | R25: Закуп подрядчика
B26: Металлорукав в ПВХ изоляции Р3-ЦП-Мр-НГ-20 (50м/уп) Промрукав | C26: ОКЛ | D26: PR04.0167 | E26: м | F26: 400 | G26: 400 | H26: 500 | I26: 400 | J26: 400 | K26: 500 | L26: 400 | M26: 400 | N26: =SUM(F26:M26) -> 3400 | P26: =O26*N26 -> 0 | R26: Закуп подрядчика
B27: Дюбель металлический | C27: ОКЛ | E27: шт | F27: 6200 | G27: 5000 | H27: 7200 | I27: 8600 | J27: 6200 | K27: 7200 | L27: 5000 | M27: 5000 | N27: =SUM(F27:M27) -> 50400 | P27: =O27*N27 -> 0 | R27: Закуп подрядчика
B28: Дюбель-хомут 041 (уп 100шт) 15х140 КФСТ.735322.041 | C28: ОКЛ | E28: упак | F28: 10 | G28: 10 | H28: 10 | I28: 10 | J28: 10 | K28: 10 | L28: 10 | M28: 10 | N28: =SUM(F28:M28) -> 80 | P28: =O28*N28 -> 0 | R28: Закуп подрядчика
B29: Коробка монтажная огнестойкая | C29: ОКЛ | D29: КМОМ (4к х 2.5мм) 75х75х37 IP31 | E29: шт. | F29: 200 | G29: 200 | H29: 200 | I29: 200 | J29: 200 | K29: 200 | L29: 200 | M29: 200 | N29: =SUM(F29:M29) -> 1600 | P29: =O29*N29 -> 0 | R29: Закуп подрядчика
B30: Огнестойкая пена | C30: ОКЛ | E30: шт | F30: 5 | G30: 5 | H30: 5 | I30: 5 | J30: 5 | K30: 5 | L30: 5 | M30: 5 | N30: =SUM(F30:M30) -> 40 | P30: =O30*N30 -> 0 | R30: Закуп подрядчика
B31: Саморез | C31: ОКЛ | E31: шт | F31: 6200 | G31: 5000 | H31: 7200 | I31: 8600 | J31: 6200 | K31: 7200 | L31: 5000 | M31: 5000 | N31: =SUM(F31:M31) -> 50400 | P31: =O31*N31 -> 0 | R31: Закуп подрядчика
B32: Скоба однолапковая 16мм | C32: ОКЛ | E32: шт | F32: 3000 | G32: 3000 | H32: 3000 | I32: 3000 | J32: 3000 | K32: 3000 | L32: 3000 | M32: 3000 | N32: =SUM(F32:M32) -> 24000 | P32: =O32*N32 -> 0 | R32: Закуп подрядчика
B33: Скоба однолапковая 20мм | C33: ОКЛ | E33: шт | F33: 4200 | G33: 3000 | H33: 4200 | I33: 6600 | J33: 4200 | K33: 4200 | L33: 3000 | M33: 3000 | N33: =SUM(F33:M33) -> 32400 | P33: =O33*N33 -> 0 | R33: Закуп подрядчика
B34: Скоба однолапковая 25мм | C34: ОКЛ | E34: шт | I34: 150 | J34: 150 | N34: =SUM(F34:M34) -> 300 | P34: =O34*N34 -> 0 | R34: Закуп подрядчика
B35: Скоба однолапковая 50мм | C35: ОКЛ | E35: шт | F35: 500 | G35: 500 | H35: 600 | I35: 500 | J35: 500 | K35: 600 | L35: 500 | M35: 500 | N35: =SUM(F35:M35) -> 4200 | P35: =O35*N35 -> 0 | R35: Закуп подрядчика
B36: Аккумуляторная батарея 12В, 12А/ч | C36: ЗАО «Теко» | E36: шт. | F36: 2 | G36: 2 | I36: 4 | J36: 2 | L36: 2 | M36: 2 | N36: =SUM(F36:M36) -> 14 | P36: =O36*N36 -> 0 | R36: Закуп подрядчика
B37: Аккумуляторная батарея 12В, 17А/ч | C37: ЗАО «Теко» | E37: шт. | F37: 2 | G37: 4 | H37: 4 | I37: 6 | J37: 4 | K37: 4 | L37: 4 | M37: 4 | N37: =SUM(F37:M37) -> 32 | P37: =O37*N37 -> 0 | R37: Закуп подрядчика
B38: Аккумуляторная батарея 12В, 26А/ч | C38: ЗАО «Теко» | E38: шт. | G38: 2 | H38: 4 | I38: 2 | J38: 2 | K38: 4 | L38: 2 | M38: 2 | N38: =SUM(F38:M38) -> 18 | P38: =O38*N38 -> 0 | R38: Закуп подрядчика
B39: Аккумуляторная батарея 12В, 40А/ч | C39: ЗАО «Теко» | E39: шт. | F39: 2 | N39: =SUM(F39:M39) -> 2 | P39: =O39*N39 -> 0 | R39: Закуп подрядчика
B40: Аккумуляторная батарея 12В, 4А/ч | C40: ЗАО «Теко» | E40: шт. | F40: 3 | H40: 4 | I40: 2 | J40: 2 | K40: 4 | N40: =SUM(F40:M40) -> 15 | P40: =O40*N40 -> 0 | R40: Закуп подрядчика
B41: Аккумуляторная батарея 12В, 26А/ч | D41: SKAT SB 1226 | E41: шт | F41: 2 | G41: 2 | I41: 2 | J41: 2 | L41: 2 | M41: 2 | N41: =SUM(F41:M41) -> 12 | P41: =O41*N41 -> 0 | R41: Закуп подрядчика
B42: Аккумуляторная батарея 12В, 40А/ч | D42: SKAT SB 1226 | E42: шт | H42: 2 | K42: 2 | N42: =SUM(F42:M42) -> 4 | P42: =O42*N42 -> 0 | R42: Закуп подрядчика
...
