Workbook
Name Данные: [1]Тестовый!$F$10:$H$14

Sheet ЛСР
N1: Приложение №
N2: к Договору подряда №
B3: ПОДРЯДЧИК: | D3: ЗАКАЗЧИК: | L3: ТЕХНИЧЕСКИЙ ЗАКАЗЧИК:
B6: ___________/
E8: Локальный сметный расчет №2
E9: Устройство системы домофонии. ГП-76
A11: № | B11: Наименование | C11: Марка | D11: Характеристика | E11: Ед. изм. | F11: 76.1 | G11: 76.2 | H11: 76.3 | I11: 76.4 | J11: Кол-во | K11: Цена | L11: Сумма | M11: Примечание | N11: Форма закупа материала
A12: 11 | B12: Внутренние инженерные сети
A13: 11.11 | B13: Устройство домофонии
A14: 11.11.01 | B14: Прокладка КПП, трубы
A15: 11.11.01.00. | B15: Прокладка КПП, трубы | L15: =L16+L19 -> 0
B16: Работа: | L16: =SUM(L17:L18) -> 0
B17: Прокладка КПП | E17: м | F17: =SUM(F20:F25) -> 3363 | G17: =SUM(G20:G25) -> 3198.9 | H17: =SUM(H20:H25) -> 2260.4 | I17: =SUM(I20:I25) -> 2223 | J17: =SUM(F17:I17) -> 11045.3 | K17: =работа!K17 -> 0 | L17: =K17*J17 -> 0
B18: Прокладка трубы | E18: м | F18: =SUM(F26:F29) -> 2017.1 | G18: =SUM(G26:G29) -> 1981.9 | H18: =SUM(H26:H29) -> 1232.8 | I18: =SUM(I26:I29) -> 1192.1 | J18: =SUM(F18:I18) -> 6423.9 | K18: =работа!K18 -> 0 | L18: =K18*J18 -> 0
B19: Материалы: | L19: =SUM(L20:L30) -> 0
B20: Кабель тип 1 | D20: Кабель витая пара U/UTP U/U-5e-BC04-048-PVC-GR-305-RQcat. 5E 4х2х0.48 мм, для внутренней прокладки, одножильный, PVC. | E20: м. | F20: 2671 | G20: 2614.9 | H20: 1788.4 | I20: 1627 | J20: =SUM(F20:I20) -> 8701.3 | K20: =материал!K16 -> 0 | L20: =K20*J20 -> 0
B21: Кабель тип 2 | D21: Кабель силовой ВВГнг(А)-LS 3х2.5 сечение жилы 2.5 мм², количество жил: 3 шт., номинальное напряжение: 660В. | E21: м. | F21: 20 | G21: 30 | H21: 64 | I21: 32 | J21: =SUM(F21:I21) -> 146 | K21: =материал!K17 -> 0 | L21: =K21*J21 -> 0
B22: Кабель тип 3 | D22: Кабель монтажный МКШнг(А)-LS 2х0.75 2х жильный, не распротраняющий горение при прокладке в пучке, с нормиованным дымовыделением, конструкция жилы многопроволочная, напряжение 500В. | E22: м. | F22: 152 | G22: 152 | H22: 152 | I22: 152 | J22: =SUM(F22:I22) -> 608 | K22: =материал!K18 -> 0 | L22: =K22*J22 -> 0
B23: Кабель тип 4 | D23: Сигнальный кабель КСПВГ 4х0,20 гибкий, 4 жилы медь, ПВХ. | E23: м. | F23: 40 | G23: 32 | H23: 32 | I23: 40 | J23: =SUM(F23:I23) -> 144 | K23: =материал!K19 -> 0 | L23: =K23*J23 -> 0
B24: Кабель тип 5 | D24: Кабель оптический ОКСЛНГ(А)-HF-М2П-А4-2.7 негорючий, для прокладки в канализацию, 4 одномод. волокона G.652.D/G.657.A. | E24: м. | F24: 150 | G24: 90 | H24: 0 | I24: 90 | J24: =SUM(F24:I24) -> 330 | K24: =материал!K20 -> 0 | L24: =K24*J24 -> 0
B25: Кабель тип 6 | D25: Труба гофрированная ПВХ CTG20-20-K41-100I д.20мм с протяжкой | E25: м. | F25: 330 | G25: 280 | H25: 224 | I25: 282 | J25: =SUM(F25:I25) -> 1116 | K25: =материал!K21 -> 0 | L25: =K25*J25 -> 0
B26: Труба тип 1 | D26: Труба ПНД гладкая жесткая tpndg-20 д.20мм., черная | E26: м. | F26: 8 | G26: 8 | H26: 8 | I26: 8 | J26: =SUM(F26:I26) -> 32 | K26: =материал!K22 -> 0 | L26: =K26*J26 -> 0
B27: Труба тип 2 | D27: Труба гофрированная ПП (артикул 15-0505) д.4,6мм., разрезная, бухтa 5 м/уп. | E27: м. | F27: 1.5 | G27: 1.2 | H27: 1.2 | I27: 1.5 | J27: =SUM(F27:I27) -> 5.4 | K27: =материал!K23 -> 0 | L27: =K27*J27 -> 0
B28: Труба тип 3 | D28: Гофрированная труба ПНД D16мм. PR02.0122 лёгкая 350 Н безгалогенная HF стойкая к ультрафиолету черная с/з | E28: м. | F28: 1968.5 | G28: 1940.4 | H28: 1145.4 | I28: 1152 | J28: =SUM(F28:I28) -> 6206.3 | K28: =материал!K24 -> 0 | L28: =K28*J28 -> 0
B29: Труба тип 4 | D29: Труба гофрированная ПВХ D-25мм CTG20-25-K41-050I с зондом | E29: м. | F29: 39.1 | G29: 32.3 | H29: 78.2 | I29: 30.6 | J29: =SUM(F29:I29) -> 180.2 | K29: =материал!K25 -> 0 | L29: =K29*J29 -> 0
B30: Прочие материалы: | K30: =материал!K26 -> 0 | L30: =SUM(L31:L43) -> 0
B31: Дюбель с шурупом 8х50 (артикул 102310) диаметр отверстия под дюбель 8мм. | E31: шт. | F31: 4 | G31: 4 | H31: 0 | I31: 4 | J31: =SUM(F31:I31) -> 12 | K31: =материал!K27 -> 0 | L31: =K31*J31 -> 0
B32: Крепежный комплект ITK-HP-15 винт, шайба, гайка.(1 комплект) | E32: шт. | F32: 48 | G32: 48 | H32: 76 | I32: 48 | J32: =SUM(F32:I32) -> 220 | K32: =материал!K28 -> 0 | L32: =K32*J32 -> 0
B33: Крепеж-клипса PR13.0120 для труб д.20мм., для монтажного пистолета, серая | E33: шт. | F33: 660 | G33: 560 | H33: 448 | I33: 564 | J33: =SUM(F33:I33) -> 2232 | K33: =материал!K29 -> 0 | L33: =K33*J33 -> 0
B34: Усиленный дюбель-гвоздь 30519stepEGBP по бетону, металлу, кирпичу тип CN 15; диаметр 3.05 мм, длина 19 мм; усиленный, гальванизированный. Упаковка 1000 шт. | E34: шт. | F34: 12439 | G34: 12096.5 | H34: 7900 | I34: 7449 | J34: =SUM(F34:I34) -> 39884.5 | K34: =материал!K30 -> 0 | L34: =K34*J34 -> 0
B35: Кабель-канал (артикул 76002-2) самозатухающий ПВХ с крышкой, белый, 100х55х2000мм | E35: м. | F35: 2 | G35: 2 | H35: 2 | I35: 2 | J35: =SUM(F35:I35) -> 8 | K35: =материал!K31 -> 0 | L35: =K35*J35 -> 0
B36: Коробка распределительная (артикул 60-0210) для прямого монтажа двухкомпонентная безгалогенная (HF) 80х80х40 УХЛ1 | E36: шт. | F36: 1 | G36: 1 | H36: 1 | I36: 1 | J36: =SUM(F36:I36) -> 4 | K36: =материал!K32 -> 0 | L36: =K36*J36 -> 0
B37: Клемма соединительная DIY YOU PCT-2133 контакта, сечение провода 0.75-2.5 мм² | E37: шт. | F37: 3 | G37: 3 | H37: 3 | I37: 3 | J37: =SUM(F37:I37) -> 12 | K37: =материал!K33 -> 0 | L37: =K37*J37 -> 0
B38: Нейлоновая хомут-стяжка 3,6х200 черный, 100 шт G/1/4 | E38: пч. | F38: 1 | G38: 1 | H38: 1 | I38: 1 | J38: =SUM(F38:I38) -> 4 | K38: =материал!K34 -> 0 | L38: =K38*J38 -> 0
B39: Дюбель хомут 5х10 дхч510 для крепления кабеля цвет-чёрный | E39: шт. | F39: 1010 | G39: 946 | H39: 892 | I39: 620 | J39: =SUM(F39:I39) -> 3468 | K39: =материал!K35 -> 0 | L39: =K39*J39 -> 0
B40: Наконечник (артикул 79436) НШВИ 0,75-8 | E40: шт. | F40: 48 | G40: 32 | H40: 32 | I40: 48 | J40: =SUM(F40:I40) -> 160 | K40: =материал!K36 -> 0 | L40: =K40*J40 -> 0
B41: Наконечник (артикул 79462) НШВИ2 0,75-8 | E41: шт. | F41: 36 | G41: 24 | H41: 24 | I41: 36 | J41: =SUM(F41:I41) -> 120 | K41: =материал!K37 -> 0 | L41: =K41*J41 -> 0
B42: Установочная коробка IMT351011 для сплошных стен, размеры 68(65)X60 мм. | E42: шт. | F42: 155 | G42: 147 | H42: 138 | I42: 90 | J42: =SUM(F42:I42) -> 530 | K42: =материал!K38 -> 0 | L42: =K42*J42 -> 0
B43: Металлическая однолапковая скоба СМО 25-26 PR08.2536 оцинкованная | E43: шт. | F43: 97.75 | G43: 80.75 | H43: 195.5 | I43: 76.5 | J43: =SUM(F43:I43) -> 450.5 | K43: =материал!K39 -> 0 | L43: =K43*J43 -> 0
A44: 11.11.02 | B44: Установка оборудования
...

Sheet работа
N1: Приложение №
N2: к Договору подряда №
B3: ПОДРЯДЧИК: | D3: ЗАКАЗЧИК: | L3: ТЕХНИЧЕСКИЙ ЗАКАЗЧИК:
B6: ___________/
E8: Ведомость работ
E9: Устройство системы домофонии. ГП-76
A11: № | B11: Наименование | C11: Марка | D11: Характеристика | E11: Ед. изм. | F11: 76.1 | G11: 76.2 | H11: 76.3 | I11: 76.4 | J11: Кол-во | K11: Цена | L11: Сумма | M11: Примечание | N11: Форма закупа материала
A12: 11 | B12: Внутренние инженерные сети
A13: 11.11 | B13: Устройство домофонии
A14: 11.11.01 | B14: Прокладка КПП, трубы
A15: 11.11.01.00. | B15: Прокладка КПП, трубы
B16: Работа:
B17: Прокладка КПП | E17: м | F17: 3363 | G17: 3198.9 | H17: 2260.4 | I17: 2223 | J17: 11045.3 | L17: =K17*J17 -> 0
B18: Прокладка трубы | E18: м | F18: 2017.1 | G18: 1981.9 | H18: 1232.8 | I18: 1192.1 | J18: 6423.9 | L18: =K18*J18 -> 0
A19: 11.11.02 | B19: Установка оборудования
A20: 11.11.02.00. | B20: Установка оборудования
B21: Работа:
B22: Установка оборудования секции | E22: комплекс | F22: 1 | G22: 1 | H22: 1 | I22: 1 | J22: 4 | L22: =K22*J22 -> 0
A23: 11.11.03 | B23: Вертикальные стояки
A24: 11.11.03.00. | B24: Вертикальные стояки
B25: Работа:
B26: Прокладка КПП | E26: м | F26: 1068.6 | G26: 1229.8 | H26: 3099.6 | I26: 760.8 | J26: 6158.8 | L26: =K26*J26 -> 0
B27: Прокладка трубы | E27: м | F27: 179.6 | G27: 196.8 | H27: 415.6 | I27: 154.8 | J27: 946.8 | L27: =K27*J27 -> 0
A28: 11.11.04 | B28: ПНР
A29: 11.11.04.00. | B29: ПНР
B30: Работа:
B31: Пусконаладочные работы | E31: комплекс | F31: 1 | G31: 1 | H31: 1 | I31: 1 | J31: 4 | L31: =K31*J31 -> 0
B32: Итого стоимость работ | L32: =SUM(L17:L31) -> 0
B34: Примечание:
A35: - | B35: В случае, если один из перечисленных прочих материалов не был использован по факту при производстве работ, заказчик вправе откорректировать процент расходных материалов в актах выполненных работ (формы КС-2, КС-3), уменьшив на сумму исключенного материала.
A36: - | B36: Стоимость СМР учитывает - затраты на все второстепенные материалы и работы необходимые для осуществления полного комплекса работ, включая затраты: обеспечение технической водой для производства работ и бытовых целей; на мобилизацию, аренду и эксплуатацию всех необходимых механизмов, оборудования и инструментов, бытовых помещений и биотуалетов; на подъем материалов и разноску по этажам к местам производства работ; выполнение сопутствующих работ; вывоз мусора; накладные расходы, прибыль организации, налоги и иные издержки Подрядчика. Обеспечение безопасного производства работ на участке.
A37: - | B37: Стоимость материалов учитывает стоимость доставки.
A38: - | B38: В случае изменения системы налогообложения, риски увеличения стоимости договора относятся на сторону, чья система налогообложения изменяется.

Sheet материал
N1: Приложение №
N2: к Договору подряда №
B3: ПОДРЯДЧИК: | D3: ЗАКАЗЧИК: | L3: ТЕХНИЧЕСКИЙ ЗАКАЗЧИК:
B6: ___________/
E8: Ведомость материалов
E9: Устройство системы домофонии. ГП-76
A11: № | B11: Наименование | C11: Марка | D11: Характеристика | E11: Ед. изм. | F11: 76.1 | G11: 76.2 | H11: 76.3 | I11: 76.4 | J11: Кол-во | K11: Цена | L11: Сумма | M11: Примечание | N11: Форма закупа материала
A12: 11 | B12: Внутренние инженерные сети
A13: 11.11 | B13: Устройство домофонии
A14: 11.11.01 | B14: Прокладка КПП, трубы
A15: 11.11.01.00. | B15: Прокладка КПП, трубы
B16: Кабель тип 1 | D16: Кабель витая пара U/UTP U/U-5e-BC04-048-PVC-GR-305-RQcat. 5E 4х2х0.48 мм, для внутренней прокладки, одножильный, PVC. | E16: м. | F16: 2671 | G16: 2614.9 | H16: 1788.4 | I16: 1627 | J16: =SUM(F16:I16) -> 8701.3 | L16: =K16*J16 -> 0
B17: Кабель тип 2 | D17: Кабель силовой ВВГнг(А)-LS 3х2.5 сечение жилы 2.5 мм², количество жил: 3 шт., номинальное напряжение: 660В. | E17: м. | F17: 20 | G17: 30 | H17: 64 | I17: 32 | J17: =SUM(F17:I17) -> 146 | L17: =K17*J17 -> 0
B18: Кабель тип 3 | D18: Кабель монтажный МКШнг(А)-LS 2х0.75 2х жильный, не распротраняющий горение при прокладке в пучке, с нормиованным дымовыделением, конструкция жилы многопроволочная, напряжение 500В. | E18: м. | F18: 152 | G18: 152 | H18: 152 | I18: 152 | J18: =SUM(F18:I18) -> 608 | L18: =K18*J18 -> 0
B19: Кабель тип 4 | D19: Сигнальный кабель КСПВГ 4х0,20 гибкий, 4 жилы медь, ПВХ. | E19: м. | F19: 40 | G19: 32 | H19: 32 | I19: 40 | J19: =SUM(F19:I19) -> 144 | L19: =K19*J19 -> 0
B20: Кабель тип 5 | D20: Кабель оптический ОКСЛНГ(А)-HF-М2П-А4-2.7 негорючий, для прокладки в канализацию, 4 одномод. волокона G.652.D/G.657.A. | E20: м. | F20: 150 | G20: 90 | H20: 0 | I20: 90 | J20: =SUM(F20:I20) -> 330 | L20: =K20*J20 -> 0
B21: Кабель тип 6 | D21: Труба гофрированная ПВХ CTG20-20-K41-100I д.20мм с протяжкой | E21: м. | F21: 330 | G21: 280 | H21: 224 | I21: 282 | J21: =SUM(F21:I21) -> 1116 | L21: =K21*J21 -> 0
B22: Труба тип 1 | D22: Труба ПНД гладкая жесткая tpndg-20 д.20мм., черная | E22: м. | F22: 8 | G22: 8 | H22: 8 | I22: 8 | J22: =SUM(F22:I22) -> 32 | L22: =K22*J22 -> 0
B23: Труба тип 2 | D23: Труба гофрированная ПП (артикул 15-0505) д.4,6мм., разрезная, бухтa 5 м/уп. | E23: м. | F23: 1.5 | G23: 1.2 | H23: 1.2 | I23: 1.5 | J23: =SUM(F23:I23) -> 5.4 | L23: =K23*J23 -> 0
B24: Труба тип 3 | D24: Гофрированная труба ПНД D16мм. PR02.0122 лёгкая 350 Н безгалогенная HF стойкая к ультрафиолету черная с/з | E24: м. | F24: 1968.5 | G24: 1940.4 | H24: 1145.4 | I24: 1152 | J24: =SUM(F24:I24) -> 6206.3 | L24: =K24*J24 -> 0
B25: Труба тип 4 | D25: Труба гофрированная ПВХ D-25мм CTG20-25-K41-050I с зондом | E25: м. | F25: 39.1 | G25: 32.3 | H25: 78.2 | I25: 30.6 | J25: =SUM(F25:I25) -> 180.2 | L25: =K25*J25 -> 0
B26: Прочие материалы:
B27: Дюбель с шурупом 8х50 (артикул 102310) диаметр отверстия под дюбель 8мм. | E27: шт. | F27: 4 | G27: 4 | H27: 0 | I27: 4 | J27: =SUM(F27:I27) -> 12 | L27: =K27*J27 -> 0
B28: Крепежный комплект ITK-HP-15 винт, шайба, гайка.(1 комплект) | E28: шт. | F28: 48 | G28: 48 | H28: 76 | I28: 48 | J28: =SUM(F28:I28) -> 220 | L28: =K28*J28 -> 0
B29: Крепеж-клипса PR13.0120 для труб д.20мм., для монтажного пистолета, серая | E29: шт. | F29: 660 | G29: 560 | H29: 448 | I29: 564 | J29: =SUM(F29:I29) -> 2232 | L29: =K29*J29 -> 0
B30: Усиленный дюбель-гвоздь 30519stepEGBP по бетону, металлу, кирпичу тип CN 15; диаметр 3.05 мм, длина 19 мм; усиленный, гальванизированный. Упаковка 1000 шт. | E30: шт. | F30: 12439 | G30: 12096.5 | H30: 7900 | I30: 7449 | J30: =SUM(F30:I30) -> 39884.5 | L30: =K30*J30 -> 0
B31: Кабель-канал (артикул 76002-2) самозатухающий ПВХ с крышкой, белый, 100х55х2000мм | E31: м. | F31: 2 | G31: 2 | H31: 2 | I31: 2 | J31: =SUM(F31:I31) -> 8 | L31: =K31*J31 -> 0
B32: Коробка распределительная (артикул 60-0210) для прямого монтажа двухкомпонентная безгалогенная (HF) 80х80х40 УХЛ1 | E32: шт. | F32: 1 | G32: 1 | H32: 1 | I32: 1 | J32: =SUM(F32:I32) -> 4 | L32: =K32*J32 -> 0
B33: Клемма соединительная DIY YOU PCT-2133 контакта, сечение провода 0.75-2.5 мм² | E33: шт. | F33: 3 | G33: 3 | H33: 3 | I33: 3 | J33: =SUM(F33:I33) -> 12 | L33: =K33*J33 -> 0
B34: Нейлоновая хомут-стяжка 3,6х200 черный, 100 шт G/1/4 | E34: пч. | F34: 1 | G34: 1 | H34: 1 | I34: 1 | J34: =SUM(F34:I34) -> 4 | L34: =K34*J34 -> 0
B35: Дюбель хомут 5х10 дхч510 для крепления кабеля цвет-чёрный | E35: шт. | F35: 1010 | G35: 946 | H35: 892 | I35: 620 | J35: =SUM(F35:I35) -> 3468 | L35: =K35*J35 -> 0
B36: Наконечник (артикул 79436) НШВИ 0,75-8 | E36: шт. | F36: 48 | G36: 32 | H36: 32 | I36: 48 | J36: =SUM(F36:I36) -> 160 | L36: =K36*J36 -> 0
B37: Наконечник (артикул 79462) НШВИ2 0,75-8 | E37: шт. | F37: 36 | G37: 24 | H37: 24 | I37: 36 | J37: =SUM(F37:I37) -> 120 | L37: =K37*J37 -> 0
B38: Установочная коробка IMT351011 для сплошных стен, размеры 68(65)X60 мм. | E38: шт. | F38: 155 | G38: 147 | H38: 138 | I38: 90 | J38: =SUM(F38:I38) -> 530 | L38: =K38*J38 -> 0
B39: Металлическая однолапковая скоба СМО 25-26 PR08.2536 оцинкованная | E39: шт. | F39: 97.75 | G39: 80.75 | H39: 195.5 | I39: 76.5 | J39: =SUM(F39:I39) -> 450.5 | L39: =K39*J39 -> 0
A40: 11.11.02 | B40: Установка оборудования
A41: 11.11.02.00. | B41: Установка оборудования
B42: Вызывная панель тип 1 | D42: IP Вызывная панель Akuvox R28A IW | E42: шт. | F42: 1 | G42: 1 | H42: 1 | I42: 1 | J42: =SUM(F42:I42) -> 4 | L42: =K42*J42 -> 0
B43: Вызывная панель тип 2 | D43: IP Вызывная панель Akuvox X912S TFT LCD сенсорный 4 дюйма, доступ по: распознаванию лица, PIN, NFC, RFID карта, BLE, QR-код, мобильное приложение Smart Plus. (Сенсорная клавиатура) | E43: шт. | F43: 1 | G43: 1 | H43: 1 | I43: 1 | J43: =SUM(F43:I43) -> 4 | L43: =K43*J43 -> 0
B44: Терминал контроля доступа тип 1 | D44: IP Терминал СКУД Akuvox A01S доступ по: NFC, RFID карта, мобильное приложение Smart Plus. | E44: шт. | F44: 2 | G44: 2 | H44: 2 | I44: 2 | J44: =SUM(F44:I44) -> 8 | L44: =K44*J44 -> 0
...
