Workbook
Name Данные: [1]Тестовый!$F$10:$H$14

Sheet ЛСР
N1: Приложение №
N2: к Договору подряда № от
B4: ПОДРЯДЧИК: | D4: ЗАКАЗЧИК: | L4: ТЕХНИЧЕСКИЙ ЗАКАЗЧИК:
B8: _________________/ | D8: _________________/ С.И. Ярков | L8: _________________/ С.И. Ярков
E10: Локальный сметный расчет №8
E11: Устройство диспетчеризации. ГП-76. Сети связи. Система двухсторонней связи МГН
A13: № | B13: Наименование | C13: Марка | D13: Характеристика | E13: Ед. изм. | F13: 76.1 | G13: 76.2 | H13: 76.3 | I13: 76.4 | J13: Кол-во | K13: Цена за ед. изм | L13: Сумма | M13: Примечание | N13: Форма закупа материала
A14: 11 | B14: Внутренние инженерные сети
A15: 11.20. | B15: Устройство диспетчеризации
A16: 11.20.01 | B16: Прокладка КПП, трубы
A17: 11.20.01.00. | B17: Прокладка КПП, трубы | L17: =L18+L23 -> 0
B18: Работа: | L18: =SUM(L19:L22) -> 0
B19: Прокладка КПП тип 1 | E19: м.п. | F19: =F24 -> 400 | G19: =G24 -> 400 | H19: =H24 -> 400 | I19: =I24 -> 400 | J19: =SUM(F19:I19) -> 1600 | K19: =работы!K19 -> 0 | L19: =K19*J19 -> 0
B20: Прокладка трубы тип 1 | E20: м.п. | F20: =F25 -> 70 | G20: =G25 -> 60 | H20: =H25 -> 60 | I20: =I25 -> 60 | J20: =SUM(F20:I20) -> 250 | K20: =работы!K20 -> 0 | L20: =K20*J20 -> 0
B21: Прокладка трубы тип 2 | E21: м.п. | F21: =F26 -> 100 | G21: =G26 -> 100 | H21: =H26 -> 100 | I21: =I26 -> 100 | J21: =SUM(F21:I21) -> 400 | K21: =работы!K21 -> 0 | L21: =K21*J21 -> 0
B22: Сверление отверстий в железобетонных конструкциях перфоратором глубиной до 300 мм диаметром: до 25 мм | E22: шт | F22: =F35 -> 1 | G22: =G35 -> 1 | H22: =H35 -> 1 | I22: =I35 -> 1 | J22: =SUM(F22:I22) -> 4 | K22: =работы!K22 -> 0 | L22: =K22*J22 -> 0
B23: Материалы: | L23: =SUM(L24:L27) -> 0
B24: Кабель тип 1 | C24: ООО "Лифты Казани" | D24: UTP-3нг(А)-FRLS 2x2x0,52 | E24: м | F24: 400 | G24: 400 | H24: 400 | I24: 400 | J24: =SUM(F24:I24) -> 1600 | K24: =материалы!K18 -> 0 | L24: =K24*J24 -> 0 | N24: закуп подрядчика
B25: Труба тип 1 | C25: SPL | D25: Труба ПВХ жесткая легкая Ø 20 (3м) (серый) TSL 20001 | E25: м | F25: 70 | G25: 60 | H25: 60 | I25: 60 | J25: =SUM(F25:I25) -> 250 | K25: =материалы!K19 -> 0 | L25: =K25*J25 -> 0 | N25: закуп подрядчика
B26: Труба тип 2 | C26: SPL | D26: Труба гофрированная самозатухающий ПВХ 20 мм с зондом лёгкая TGS 20/01 | E26: м | F26: 100 | G26: 100 | H26: 100 | I26: 100 | J26: =SUM(F26:I26) -> 400 | K26: =материалы!K20 -> 0 | L26: =K26*J26 -> 0 | N26: закуп подрядчика
B27: Прочие материалы: | L27: =SUM(L28:L29) -> 0 | N27: закуп подрядчика
B28: Дюбель-гвоздь 6х40 (100шт/упак) | E28: упак | F28: 2 | G28: 2 | H28: 2 | I28: 2 | J28: =SUM(F28:I28) -> 8 | K28: =материалы!K22 -> 0 | L28: =K28*J28 -> 0 | N28: закуп подрядчика
B29: Крепеж-клипса для труб, ЭКО Ø20 | C29: SPL | D29: KPS20 | E29: шт | F29: 300 | G29: 300 | H29: 300 | I29: 300 | J29: =SUM(F29:I29) -> 1200 | K29: =материалы!K23 -> 0 | L29: =K29*J29 -> 0 | N29: закуп подрядчика
A30: 11.20.02 | B30: Установка оборудования
A31: 11.20.02.00. | B31: Установка оборудования | L31: =L32+L34 -> 0
B32: Работа: | L32: =SUM(L33) -> 0
B33: Монтажные работы | E33: комплекс | F33: 1 | G33: 1 | H33: 1 | I33: 1 | J33: =SUM(F33:I33) -> 4 | K33: =работы!K26 -> 0 | L33: =K33*J33 -> 0
B34: Материалы: | L34: =SUM(L35:L41) -> 0
B35: Концентратор v7.2 | C35: ООО "Лифты Казани" | D35: ЛНГС.465213.270-01 | E35: шт | F35: 1 | G35: 1 | H35: 1 | I35: 1 | J35: =SUM(F35:I35) -> 4 | K35: =материалы!K26 -> 0 | L35: =K35*J35 -> 0 | N35: закуп подрядчика
B36: Переговорное устройство | C36: ООО "Лифты Казани" | D36: АПУ-2Н ЛНГС.465213.300.200 | E36: шт | F36: 22 | G36: 18 | H36: 23 | I36: 18 | J36: =SUM(F36:I36) -> 81 | K36: =материалы!K27 -> 0 | L36: =K36*J36 -> 0 | N36: закуп подрядчика
B37: Адаптер лампы индикаторной АЛИ-2 | C37: ООО "Лифты Казани" | D37: ЛНГС.465213.300.350-01 | E37: шт | F37: 22 | G37: 18 | H37: 23 | I37: 18 | J37: =SUM(F37:I37) -> 81 | K37: =материалы!K28 -> 0 | L37: =K37*J37 -> 0 | N37: закуп подрядчика
B38: Кнопка накладная | C38: ООО "Лифты Казани" | D38: ЛНГС.465213.300.400 | E38: шт | F38: 22 | G38: 18 | H38: 23 | I38: 18 | J38: =SUM(F38:I38) -> 81 | K38: =материалы!K29 -> 0 | L38: =K38*J38 -> 0 | N38: закуп подрядчика
B39: Резервированный источник питания | C39: ТД «Рубеж» | D39: ИВЭПР 24/2 RS-R3 2х12 БР | E39: шт. | F39: 1 | G39: 1 | H39: 1 | I39: 1 | J39: =SUM(F39:I39) -> 4 | K39: =материалы!K30 -> 0 | L39: =K39*J39 -> 0 | N39: закуп подрядчика
B40: Аккумулятор | C40: ЗАО «Теко» | D40: 12В, 12А/ч | E40: шт. | F40: 2 | G40: 2 | H40: 2 | I40: 2 | J40: =SUM(F40:I40) -> 8 | K40: =материалы!K31 -> 0 | L40: =K40*J40 -> 0 | N40: закуп подрядчика
B41: Подрозетник одноместный IEK для твердых стен 68х45 мм | E41: шт | F41: 22 | G41: 18 | H41: 23 | I41: 18 | J41: =SUM(F41:I41) -> 81 | K41: =материалы!K32 -> 0 | L41: =K41*J41 -> 0 | N41: закуп подрядчика
A42: 11.20.03 | B42: ПНР
A43: 11.20.03.00 | B43: ПНР | L43: =L44+L46 -> 0
B44: Работа: | L44: =SUM(L45) -> 0
B45: Пусконаладочные работы | E45: комплекс | F45: 1 | G45: 1 | H45: 1 | I45: 1 | J45: =SUM(F45:I45) -> 4 | K45: =работы!K30 -> 0 | L45: =K45*J45 -> 0
B46: Материалы: | L46: =SUM(L47) -> 0
...

Sheet работы
N1: Приложение №
N2: к Договору подряда № от
B4: ПОДРЯДЧИК: | D4: ЗАКАЗЧИК: | L4: ТЕХНИЧЕСКИЙ ЗАКАЗЧИК:
B8: _________________/
E10: Ведомость работ
E11: Устройство диспетчеризации. ГП-76. Сети связи. Система двухсторонней связи МГН
A13: № | B13: Наименование | C13: Марка | D13: Характеристика | E13: Ед. изм. | F13: 76.1 | G13: 76.2 | H13: 76.3 | I13: 76.4 | J13: Кол-во | K13: Цена за ед. изм | L13: Сумма | M13: Примечание | N13: Форма закупа материала
A14: 11 | B14: Внутренние инженерные сети
A15: 11.20. | B15: Устройство диспетчеризации
A16: 11.20.01 | B16: Прокладка КПП, трубы
A17: 11.20.01.00. | B17: Прокладка КПП, трубы
B18: Работа:
B19: Прокладка КПП тип 1 | E19: м.п. | F19: 400 | G19: 400 | H19: 400 | I19: 400 | J19: 1600 | L19: =K19*J19 -> 0
B20: Прокладка трубы тип 1 | E20: м.п. | F20: 70 | G20: 60 | H20: 60 | I20: 60 | J20: 250 | L20: =K20*J20 -> 0
B21: Прокладка трубы тип 2 | E21: м.п. | F21: 100 | G21: 100 | H21: 100 | I21: 100 | J21: 400 | L21: =K21*J21 -> 0
B22: Сверление отверстий в железобетонных конструкциях перфоратором глубиной до 300 мм диаметром: до 25 мм | E22: шт | F22: 1 | G22: 1 | H22: 1 | I22: 1 | J22: 4 | L22: =K22*J22 -> 0
A23: 11.20.02 | B23: Установка оборудования
A24: 11.20.02.00. | B24: Установка оборудования
B25: Работа:
B26: Монтажные работы | E26: комплекс | F26: 1 | G26: 1 | H26: 1 | I26: 1 | J26: 4 | L26: =K26*J26 -> 0
A27: 11.20.03 | B27: ПНР
A28: 11.20.03.00 | B28: ПНР
B29: Работа:
B30: Пусконаладочные работы | E30: комплекс | F30: 1 | G30: 1 | H30: 1 | I30: 1 | J30: 4 | L30: =K30*J30 -> 0
K31: Итого стоимость работ | L31: =SUM(L19:L30) -> 0
B32: Примечание:
B33: В стоимости СМР учтено:
A35: - | B35: затраты на все второстепенные материалы и работы необходимые для осуществления полного комплекса работ, включая затраты: обеспечение технической водой для производства работ и бытовых целей; на мобилизацию, аренду и эксплуатацию всех необходимых механизмов (за искл. Башенных кранов "предоставляются заказчиком"), оборудования и инструментов, бытовых помещений и биотуалетов; выполнение сопутствующих работ
A36: - | B36: погрузочно-разгрузочные работы, перемещение к месту производства работ
A37: - | B37: вывоз мусора с объекта
A38: - | B38: накладные расходы, зимнее удорожание, прибыль организации, налоги и иные издержки Подрядчика
A39: - | B39: В случае изменения системы налогообложения, риски увеличения стоимости договора относятся на сторону, чья система налогообложения изменяется
A40: - | B40: В случае, если один из перечисленных прочих материалов не был использован по факту при производстве работ, заказчик вправе откорректировать процент прочих материалов в актах выполненных работ (формы КС-2, КС-3), уменьшив на сумму исключенного материала.
A41: - | B41: Стоимость материалов учитывает стоимость доставки

Sheet материалы
N1: Приложение №
N2: к Договору подряда № от
B4: ПОДРЯДЧИК: | D4: ЗАКАЗЧИК: | L4: ТЕХНИЧЕСКИЙ ЗАКАЗЧИК:
B8: _________________/ | D8: _________________/ С.И. Ярков | L8: _________________/ С.И. Ярков
E10: Ведомость материалов
E11: Устройство диспетчеризации. ГП-76. Сети связи. Система двухсторонней связи МГН
A13: № | B13: Наименование | C13: Марка | D13: Характеристика | E13: Ед. изм. | F13: 76.1 | G13: 76.2 | H13: 76.3 | I13: 76.4 | J13: Кол-во | K13: Цена за ед. изм | L13: Сумма | M13: Примечание | N13: Форма закупа материала
A14: 11 | B14: Внутренние инженерные сети
A15: 11.20. | B15: Устройство диспетчеризации
A16: 11.20.01 | B16: Прокладка КПП, трубы
A17: 11.20.01.00. | B17: Прокладка КПП, трубы
B18: Кабель тип 1 | C18: ООО "Лифты Казани" | D18: UTP-3нг(А)-FRLS 2x2x0,52 | E18: м | F18: 400 | G18: 400 | H18: 400 | I18: 400 | J18: =SUM(F18:I18) -> 1600 | L18: =K18*J18 -> 0 | N18: закуп подрядчика
B19: Труба тип 1 | C19: SPL | D19: Труба ПВХ жесткая легкая Ø 20 (3м) (серый) TSL 20001 | E19: м | F19: 70 | G19: 60 | H19: 60 | I19: 60 | J19: =SUM(F19:I19) -> 250 | L19: =K19*J19 -> 0 | N19: закуп подрядчика
B20: Труба тип 2 | C20: SPL | D20: Труба гофрированная самозатухающий ПВХ 20 мм с зондом лёгкая TGS 20/01 | E20: м | F20: 100 | G20: 100 | H20: 100 | I20: 100 | J20: =SUM(F20:I20) -> 400 | L20: =K20*J20 -> 0 | N20: закуп подрядчика
B21: Прочие материалы: | N21: закуп подрядчика
B22: Дюбель-гвоздь 6х40 (100шт/упак) | E22: упак | F22: 2 | G22: 2 | H22: 2 | I22: 2 | J22: =SUM(F22:I22) -> 8 | L22: =K22*J22 -> 0 | N22: закуп подрядчика
B23: Крепеж-клипса для труб, ЭКО Ø20 | C23: SPL | D23: KPS20 | E23: шт | F23: 300 | G23: 300 | H23: 300 | I23: 300 | J23: =SUM(F23:I23) -> 1200 | L23: =K23*J23 -> 0 | N23: закуп подрядчика
A24: 11.20.02 | B24: Установка оборудования
A25: 11.20.02.00. | B25: Установка оборудования
B26: Концентратор v7.2 | C26: ООО "Лифты Казани" | D26: ЛНГС.465213.270-01 | E26: шт | F26: 1 | G26: 1 | H26: 1 | I26: 1 | J26: =SUM(F26:I26) -> 4 | L26: =K26*J26 -> 0 | N26: закуп подрядчика
B27: Переговорное устройство | C27: ООО "Лифты Казани" | D27: АПУ-2Н ЛНГС.465213.300.200 | E27: шт | F27: 22 | G27: 18 | H27: 23 | I27: 18 | J27: =SUM(F27:I27) -> 81 | L27: =K27*J27 -> 0 | N27: закуп подрядчика
B28: Адаптер лампы индикаторной АЛИ-2 | C28: ООО "Лифты Казани" | D28: ЛНГС.465213.300.350-01 | E28: шт | F28: 22 | G28: 18 | H28: 23 | I28: 18 | J28: =SUM(F28:I28) -> 81 | L28: =K28*J28 -> 0 | N28: закуп подрядчика
B29: Кнопка накладная | C29: ООО "Лифты Казани" | D29: ЛНГС.465213.300.400 | E29: шт | F29: 22 | G29: 18 | H29: 23 | I29: 18 | J29: =SUM(F29:I29) -> 81 | L29: =K29*J29 -> 0 | N29: закуп подрядчика
B30: Резервированный источник питания | C30: ТД «Рубеж» | D30: ИВЭПР 24/2 RS-R3 2х12 БР | E30: шт. | F30: 1 | G30: 1 | H30: 1 | I30: 1 | J30: =SUM(F30:I30) -> 4 | L30: =K30*J30 -> 0 | N30: закуп подрядчика
B31: Аккумулятор | C31: ЗАО «Теко» | D31: 12В, 12А/ч | E31: шт. | F31: 2 | G31: 2 | H31: 2 | I31: 2 | J31: =SUM(F31:I31) -> 8 | L31: =K31*J31 -> 0 | N31: закуп подрядчика
B32: Подрозетник одноместный IEK для твердых стен 68х45 мм | E32: шт | F32: 22 | G32: 18 | H32: 23 | I32: 18 | J32: =SUM(F32:I32) -> 81 | L32: =K32*J32 -> 0 | N32: закуп подрядчика
K33: Итого стоимость материалов | L33: =SUM(L18:L32) -> 0
B34: Примечание:
B35: В стоимости СМР учтено:
A37: - | B37: затраты на все второстепенные материалы и работы необходимые для осуществления полного комплекса работ, включая затраты: обеспечение технической водой для производства работ и бытовых целей; на мобилизацию, аренду и эксплуатацию всех необходимых механизмов (за искл. Башенных кранов "предоставляются заказчиком"), оборудования и инструментов, бытовых помещений и биотуалетов; выполнение сопутствующих работ
A38: - | B38: погрузочно-разгрузочные работы, перемещение к месту производства работ
A39: - | B39: вывоз мусора с объекта
A40: - | B40: накладные расходы, зимнее удорожание, прибыль организации, налоги и иные издержки Подрядчика
A41: - | B41: В случае изменения системы налогообложения, риски увеличения стоимости договора относятся на сторону, чья система налогообложения изменяется
A42: - | B42: В случае, если один из перечисленных прочих материалов не был использован по факту при производстве работ, заказчик вправе откорректировать процент прочих материалов в актах выполненных работ (формы КС-2, КС-3), уменьшив на сумму исключенного материала.
A43: - | B43: Стоимость материалов учитывает стоимость доставки
