Workbook
Name Данные: [1]Тестовый!$F$10:$H$14

Sheet ЛСР
R1: Приложение №
R2: к Договору подряда №
B3: ПОДРЯДЧИК: | D3: ЗАКАЗЧИК: | P3: ТЕХНИЧЕСКИЙ ЗАКАЗЧИК:
B6: ___________/ | D6: ___________/С.И. Ярков | P6: ___________/С.И. Ярков
E8: Локальный сметный расчет №2
E9: Устройство системы домофонии. ГП-75
A11: № | B11: Наименование | C11: Марка | D11: Характеристика | E11: Ед. изм. | F11: 75.1 | G11: 75.2 | H11: 75.3 | I11: 75.4 | J11: 75.5 | K11: 75.6 | L11: 75.7 | M11: 75.8 | N11: Кол-во | O11: Цена | P11: Сумма | Q11: Примечание | R11: Форма закупа материала
A12: 11 | B12: Внутренние инженерные сети
A13: 11.11 | B13: Устройство домофонии
A14: 11.11.01 | B14: Прокладка КПП, трубы
A15: 11.11.01.00. | B15: общее кол-во на этажах | P15: =P16+P19 -> 0
B16: Работа: | P16: =SUM(P17:P18) -> 0
B17: Прокладка КПП | E17: м | F17: =SUM(F20:F25) -> 3729.5 | G17: =SUM(G20:G25) -> 2996 | H17: =SUM(H20:H25) -> 3500 | I17: =SUM(I20:I25) -> 1586.6 | J17: =SUM(J20:J25) -> 1601 | K17: =SUM(K20:K25) -> 3599.4 | L17: =SUM(L20:L25) -> 2945 | M17: =SUM(M20:M25) -> 3010.4 | N17: =SUM(F17:M17) -> 22967.9 | O17: =работа!O17 -> 0 | P17: =O17*N17 -> 0
B18: Прокладка трубы | E18: м | F18: =SUM(F26:F30) -> 2959.6 | G18: =SUM(G26:G30) -> 2356.5 | H18: =SUM(H26:H30) -> 2881.3 | I18: =SUM(I26:I30) -> 1110.4 | J18: =SUM(J26:J30) -> 1204.8 | K18: =SUM(K26:K30) -> 2980.7 | L18: =SUM(L26:L30) -> 2340.5 | M18: =SUM(M26:M30) -> 2387.8 | N18: =SUM(F18:M18) -> 18221.6 | O18: =работа!O18 -> 0 | P18: =O18*N18 -> 0
B19: Материалы: | P19: =SUM(P20:P31) -> 0
B20: Кабель тип 1 | D20: Кабель витая пара U/UTP U/U-5e-BC04-048-PVC-GR-305-RQcat. 5E 4х2х0.48 мм, для внутренней прокладки, одножильный, PVC. | E20: м. | F20: 3292.5 | G20: 2645 | H20: 3196 | I20: 1297.6 | J20: 1312 | K20: 3237.4 | L20: 2536 | M20: 2518.4 | N20: =SUM(F20:M20) -> 20034.9 | O20: =материал!O14 -> 0 | P20: =O20*N20 -> 0
B21: Кабель тип 2 | D21: Кабель силовой ВВГнг(А)-LS 3х2.5 сечение жилы 2.5 мм², количество жил: 3 шт., номинальное напряжение: 660В. | E21: м. | F21: 35 | G21: 17 | H21: 30 | I21: 25 | J21: 15 | K21: 28 | L21: 15 | M21: 30 | N21: =SUM(F21:M21) -> 195 | O21: =материал!O15 -> 0 | P21: =O21*N21 -> 0
B22: Кабель тип 3 | D22: Кабель монтажный МКШнг(А)-LS 2х0.75 2х жильный, не распротраняющий горение при прокладке в пучке, с нормиованным дымовыделением, конструкция жилы многопроволочная, напряжение 500В. | E22: м. | F22: 152 | G22: 152 | H22: 152 | I22: 152 | J22: 152 | K22: 152 | L22: 152 | M22: 152 | N22: =SUM(F22:M22) -> 1216 | O22: =материал!O16 -> 0 | P22: =O22*N22 -> 0
B23: Кабель тип 4 | D23: Сигнальный кабель КСПВГ 4х0,20 гибкий, 4 жилы медь, ПВХ. | E23: м. | F23: 40 | G23: 32 | H23: 32 | I23: 32 | J23: 32 | K23: 32 | L23: 32 | M23: 40 | N23: =SUM(F23:M23) -> 272 | O23: =материал!O17 -> 0 | P23: =O23*N23 -> 0
B24: Кабель тип 5 | D24: Кабель витая пара U/UTP BC1-C5E04-128-305-G cat. 5E 4х2х0.48 мм, для внутренней прокладки, одножильный, LSZH. | E24: м. | F24: 0 | G24: 0 | H24: 0 | I24: 80 | J24: 0 | K24: 0 | L24: 0 | M24: 0 | N24: =SUM(F24:M24) -> 80 | O24: =материал!O18 -> 0 | P24: =O24*N24 -> 0
B25: Кабель тип 6 | D25: Кабель оптический ОКСЛНГ(А)-HF-М2П-А4-2.7 негорючий, для прокладки в канализацию, 4 одномод. волокона G.652.D/G.657.A. | E25: м. | F25: 210 | G25: 150 | H25: 90 | I25: 0 | J25: 90 | K25: 150 | L25: 210 | M25: 270 | N25: =SUM(F25:M25) -> 1170 | O25: =материал!O19 -> 0 | P25: =O25*N25 -> 0
B26: Труба тип 1 | D26: Труба гофрированная ПВХ CTG20-20-K41-100I д.20мм с протяжкой | E26: м. | F26: 405 | G26: 327 | H26: 280 | I26: 185 | J26: 265 | K26: 338 | L26: 385 | M26: 460 | N26: =SUM(F26:M26) -> 2645 | O26: =материал!O20 -> 0 | P26: =O26*N26 -> 0
B27: Труба тип 2 | D27: Труба ПНД гладкая жесткая tpndg-20 д.20мм., черная | E27: м. | F27: 8 | G27: 8 | H27: 8 | I27: 8 | J27: 8 | K27: 8 | L27: 8 | M27: 8 | N27: =SUM(F27:M27) -> 64 | O27: =материал!O21 -> 0 | P27: =O27*N27 -> 0
B28: Труба тип 3 | D28: Труба гофрированная ПП (артикул 15-0505) д.4,6мм., разрезная, бухтa 5 м/уп. | E28: м. | F28: 1.5 | G28: 1.2 | H28: 1.2 | I28: 1.2 | J28: 1.2 | K28: 1.2 | L28: 1.2 | M28: 1.5 | N28: =SUM(F28:M28) -> 10.2 | O28: =материал!O22 -> 0 | P28: =O28*N28 -> 0
B29: Труба тип 4 | D29: Гофрированная труба ПНД D16мм. PR02.0122 лёгкая 350 Н безгалогенная HF стойкая к ультрафиолету черная с/з | E29: м. | F29: 2506 | G29: 1988 | H29: 2553 | I29: 885.6 | J29: 900 | K29: 2594.4 | L29: 1914 | M29: 1889.4 | N29: =SUM(F29:M29) -> 15230.4 | O29: =материал!O23 -> 0 | P29: =O29*N29 -> 0
B30: Труба тип 5 | D30: Труба гофрированная ПВХ D-25мм CTG20-25-K41-050I с зондом | E30: м. | F30: 39.1 | G30: 32.3 | H30: 39.1 | I30: 30.6 | J30: 30.6 | K30: 39.1 | L30: 32.3 | M30: 28.9 | N30: =SUM(F30:M30) -> 272 | O30: =материал!O24 -> 0 | P30: =O30*N30 -> 0
B31: Прочие материалы: | P31: =SUM(P32:P44) -> 0
B32: Дюбель с шурупом 8х50 (артикул 102310) диаметр отверстия под дюбель 8мм. | E32: шт. | F32: 4 | G32: 4 | H32: 4 | I32: 0 | J32: 4 | K32: 4 | L32: 4 | M32: 4 | N32: =SUM(F32:M32) -> 28 | O32: =материал!O26 -> 0 | P32: =O32*N32 -> 0
B33: Крепежный комплект ITK-HP-15 винт, шайба, гайка.(1 комплект) | E33: шт. | F33: 48 | G33: 48 | H33: 48 | I33: 60 | J33: 48 | K33: 48 | L33: 48 | M33: 48 | N33: =SUM(F33:M33) -> 396 | O33: =материал!O27 -> 0 | P33: =O33*N33 -> 0
B34: Крепеж-клипса PR13.0120 для труб д.20мм., для монтажного пистолета, серая | E34: шт. | F34: 810 | G34: 654 | H34: 560 | I34: 370 | J34: 530 | K34: 676 | L34: 770 | M34: 920 | N34: =SUM(F34:M34) -> 5290 | O34: =материал!O28 -> 0 | P34: =O34*N34 -> 0
B35: Усиленный дюбель-гвоздь 30519stepEGBP по бетону, металлу, кирпичу тип CN 15; диаметр 3.05 мм, длина 19 мм; усиленный, гальванизированный. Упаковка 1000 шт. | E35: шт. | F35: 15574.5 | G35: 12362 | H35: 15050 | I35: 5698 | J35: 5930 | K35: 15373 | L35: 11984 | M35: 12036 | N35: =SUM(F35:M35) -> 94007.5 | O35: =материал!O29 -> 0 | P35: =O35*N35 -> 0
B36: Коробка распределительная (артикул 60-0210) для прямого монтажа двухкомпонентная безгалогенная (HF) 80х80х40 УХЛ1 | E36: шт. | F36: 1 | G36: 1 | H36: 1 | I36: 1 | J36: 1 | K36: 1 | L36: 1 | M36: 1 | N36: =SUM(F36:M36) -> 8 | O36: =материал!O30 -> 0 | P36: =O36*N36 -> 0
B37: Клемма соединительная DIY YOU PCT-2133 контакта, сечение провода 0.75-2.5 мм² | E37: шт. | F37: 3 | G37: 3 | H37: 3 | I37: 3 | J37: 3 | K37: 3 | L37: 3 | M37: 3 | N37: =SUM(F37:M37) -> 24 | O37: =материал!O31 -> 0 | P37: =O37*N37 -> 0
B38: Нейлоновая хомут-стяжка 3,6х200 черный, 100 шт G/1/4 | E38: пч. | F38: 1 | G38: 1 | H38: 1 | I38: 1 | J38: 1 | K38: 1 | L38: 1 | M38: 1 | N38: =SUM(F38:M38) -> 8 | O38: =материал!O32 -> 0 | P38: =O38*N38 -> 0
B39: Дюбель хомут 5х10 дхч510 для крепления кабеля цвет-чёрный | E39: шт. | F39: 1154 | G39: 916 | H39: 892 | I39: 496 | J39: 496 | K39: 892 | L39: 856 | M39: 884 | N39: =SUM(F39:M39) -> 6586 | O39: =материал!O33 -> 0 | P39: =O39*N39 -> 0
B40: Установочная коробка IMT351011 для сплошных стен, размеры 68(65)X60 мм. | E40: шт. | F40: 179 | G40: 142 | H40: 138 | I40: 72 | J40: 72 | K40: 138 | L40: 132 | M40: 134 | N40: =SUM(F40:M40) -> 1007 | O40: =материал!O34 -> 0 | P40: =O40*N40 -> 0
B41: Металлическая однолапковая скоба СМО 25-26 PR08.2536 оцинкованная | E41: шт. | F41: 97.75 | G41: 80.75 | H41: 97.75 | I41: 76.5 | J41: 76.5 | K41: 97.75 | L41: 80.75 | M41: 72.25 | N41: =SUM(F41:M41) -> 680 | O41: =материал!O35 -> 0 | P41: =O41*N41 -> 0
B42: Кабель-канал (артикул 76002-2) самозатухающий ПВХ с крышкой, белый, 100х55х2000мм | E42: м. | F42: 2 | G42: 2 | H42: 2 | I42: 4 | J42: 2 | K42: 2 | L42: 2 | M42: 2 | N42: =SUM(F42:M42) -> 18 | O42: =материал!O36 -> 0 | P42: =O42*N42 -> 0
B43: Наконечник (артикул 79436) НШВИ 0,75-8 | E43: шт. | F43: 48 | G43: 32 | H43: 32 | I43: 32 | J43: 32 | K43: 32 | L43: 32 | M43: 48 | N43: =SUM(F43:M43) -> 288 | O43: =материал!O37 -> 0 | P43: =O43*N43 -> 0
B44: Наконечник (артикул 79462) НШВИ2 0,75-8 | E44: шт. | F44: 36 | G44: 24 | H44: 24 | I44: 24 | J44: 24 | K44: 24 | L44: 24 | M44: 36 | N44: =SUM(F44:M44) -> 216 | O44: =материал!O38 -> 0 | P44: =O44*N44 -> 0
...

Sheet работа
R1: Приложение №
R2: к Договору подряда №
B3: ПОДРЯДЧИК: | D3: ЗАКАЗЧИК: | P3: ТЕХНИЧЕСКИЙ ЗАКАЗЧИК:
B6: ___________/ | D6: ___________/С.И. Ярков | P6: ___________/С.И. Ярков
E8: Ведомость работ
E9: Устройство системы домофонии. ГП-75
A11: № | B11: Наименование | C11: Марка | D11: Характеристика | E11: Ед. изм. | F11: 75.1 | G11: 75.2 | H11: 75.3 | I11: 75.4 | J11: 75.5 | K11: 75.6 | L11: 75.7 | M11: 75.8 | N11: Кол-во | O11: Цена | P11: Сумма | Q11: Примечание | R11: Форма закупа материала
A12: 11 | B12: Внутренние инженерные сети
A13: 11.11 | B13: Устройство домофонии
A14: 11.11.01 | B14: Прокладка КПП, трубы
A15: 11.11.01.00. | B15: общее кол-во на этажах
B16: Работа:
B17: Прокладка КПП | E17: м | F17: 3729.5 | G17: 2996 | H17: 3500 | I17: 1586.6 | J17: 1601 | K17: 3599.4 | L17: 2945 | M17: 3010.4 | N17: =SUM(F17:M17) -> 22967.9 | P17: =O17*N17 -> 0
B18: Прокладка трубы | E18: м | F18: 2959.6 | G18: 2356.5 | H18: 2881.3 | I18: 1110.4 | J18: 1204.8 | K18: 2980.7 | L18: 2340.5 | M18: 2387.8 | N18: =SUM(F18:M18) -> 18221.6 | P18: =O18*N18 -> 0
A19: 11.11.02 | B19: Установка оборудования
A20: 11.11.02.00. | B20: Установка оборудования
B21: Работа:
B22: Установка оборудования | E22: комплекс | F22: 1 | G22: 1 | H22: 1 | I22: 1 | J22: 1 | K22: 1 | L22: 1 | M22: 1 | N22: =SUM(F22:M22) -> 8 | P22: =O22*N22 -> 0
A23: 11.11.03 | B23: Вертикальные стояки
A24: 11.11.03.00. | B24: Вертикальные стояки
B25: Работа:
B26: Прокладка КПП | E26: м | F26: 1092.6 | G26: 989.8 | H26: 1141.8 | I26: 817.8 | J26: 798.8 | K26: 1165.8 | L26: 1069.8 | M26: 638.4 | N26: =SUM(F26:M26) -> 7714.8 | P26: =O26*N26 -> 0
B27: Прокладка трубы | E27: м | F27: 181.6 | G27: 172.8 | H27: 183.8 | I27: 153.8 | J27: 151.8 | K27: 185.8 | L27: 180.8 | M27: 136.4 | N27: =SUM(F27:M27) -> 1346.8 | P27: =O27*N27 -> 0
A28: 11.11.04 | B28: ПНР
A29: 11.11.04.00. | B29: ПНР
B30: Работа:
B31: Пусконаладочные работы | E31: комплекс | F31: 1 | G31: 1 | H31: 1 | I31: 1 | J31: 1 | K31: 1 | L31: 1 | M31: 1 | N31: =SUM(F31:M31) -> 8 | P31: =O31*N31 -> 0
B32: Итого РАБОТ | P32: =SUM(P16:P31) -> 0
B34: Примечание:
A35: - | B35: В случае, если один из перечисленных прочих материалов не был использован по факту при производстве работ, заказчик вправе откорректировать процент расходных материалов в актах выполненных работ (формы КС-2, КС-3), уменьшив на сумму исключенного материала.
A36: - | B36: Стоимость СМР учитывает - затраты на все второстепенные материалы и работы необходимые для осуществления полного комплекса работ, включая затраты: обеспечение технической водой для производства работ и бытовых целей; на мобилизацию, аренду и эксплуатацию всех необходимых механизмов, оборудования и инструментов, бытовых помещений и биотуалетов; на подъем материалов и разноску по этажам к местам производства работ; выполнение сопутствующих работ; вывоз мусора; накладные расходы, прибыль организации, налоги и иные издержки Подрядчика. Обеспечение безопасного производства работ на участке.
A37: - | B37: Стоимость материалов учитывает стоимость доставки.

Sheet материал
R1: Приложение №
R2: к Договору подряда №
B3: ПОДРЯДЧИК: | D3: ЗАКАЗЧИК: | P3: ТЕХНИЧЕСКИЙ ЗАКАЗЧИК:
B6: ___________/ | D6: ___________/С.И. Ярков | P6: ___________/С.И. Ярков
E8: Ведомость материалов
E9: Устройство системы домофонии. ГП-75
A11: № | B11: Наименование | C11: Марка | D11: Характеристика | E11: Ед. изм. | F11: 75.1 | G11: 75.2 | H11: 75.3 | I11: 75.4 | J11: 75.5 | K11: 75.6 | L11: 75.7 | M11: 75.8 | N11: Кол-во | O11: Цена | P11: Сумма | Q11: Примечание | R11: Форма закупа материала
A12: 11 | B12: Внутренние инженерные сети
A13: 11.11 | B13: Устройство домофонии
B14: Кабель тип 1 | D14: Кабель витая пара U/UTP U/U-5e-BC04-048-PVC-GR-305-RQcat. 5E 4х2х0.48 мм, для внутренней прокладки, одножильный, PVC. | E14: м. | F14: 3292.5 | G14: 2645 | H14: 3196 | I14: 1297.6 | J14: 1312 | K14: 3237.4 | L14: 2536 | M14: 2518.4 | N14: =SUM(F14:M14) -> 20034.9 | P14: =O14*N14 -> 0
B15: Кабель тип 2 | D15: Кабель силовой ВВГнг(А)-LS 3х2.5 сечение жилы 2.5 мм², количество жил: 3 шт., номинальное напряжение: 660В. | E15: м. | F15: 35 | G15: 17 | H15: 30 | I15: 25 | J15: 15 | K15: 28 | L15: 15 | M15: 30 | N15: =SUM(F15:M15) -> 195 | P15: =O15*N15 -> 0
B16: Кабель тип 3 | D16: Кабель монтажный МКШнг(А)-LS 2х0.75 2х жильный, не распротраняющий горение при прокладке в пучке, с нормиованным дымовыделением, конструкция жилы многопроволочная, напряжение 500В. | E16: м. | F16: 152 | G16: 152 | H16: 152 | I16: 152 | J16: 152 | K16: 152 | L16: 152 | M16: 152 | N16: =SUM(F16:M16) -> 1216 | P16: =O16*N16 -> 0
B17: Кабель тип 4 | D17: Сигнальный кабель КСПВГ 4х0,20 гибкий, 4 жилы медь, ПВХ. | E17: м. | F17: 40 | G17: 32 | H17: 32 | I17: 32 | J17: 32 | K17: 32 | L17: 32 | M17: 40 | N17: =SUM(F17:M17) -> 272 | P17: =O17*N17 -> 0
B18: Кабель тип 5 | D18: Кабель витая пара U/UTP BC1-C5E04-128-305-G cat. 5E 4х2х0.48 мм, для внутренней прокладки, одножильный, LSZH. | E18: м. | F18: 0 | G18: 0 | H18: 0 | I18: 80 | J18: 0 | K18: 0 | L18: 0 | M18: 0 | N18: =SUM(F18:M18) -> 80 | P18: =O18*N18 -> 0
B19: Кабель тип 6 | D19: Кабель оптический ОКСЛНГ(А)-HF-М2П-А4-2.7 негорючий, для прокладки в канализацию, 4 одномод. волокона G.652.D/G.657.A. | E19: м. | F19: 210 | G19: 150 | H19: 90 | I19: 0 | J19: 90 | K19: 150 | L19: 210 | M19: 270 | N19: =SUM(F19:M19) -> 1170 | P19: =O19*N19 -> 0
B20: Труба тип 1 | D20: Труба гофрированная ПВХ CTG20-20-K41-100I д.20мм с протяжкой | E20: м. | F20: 405 | G20: 327 | H20: 280 | I20: 185 | J20: 265 | K20: 338 | L20: 385 | M20: 460 | N20: =SUM(F20:M20) -> 2645 | P20: =O20*N20 -> 0
B21: Труба тип 2 | D21: Труба ПНД гладкая жесткая tpndg-20 д.20мм., черная | E21: м. | F21: 8 | G21: 8 | H21: 8 | I21: 8 | J21: 8 | K21: 8 | L21: 8 | M21: 8 | N21: =SUM(F21:M21) -> 64 | P21: =O21*N21 -> 0
B22: Труба тип 3 | D22: Труба гофрированная ПП (артикул 15-0505) д.4,6мм., разрезная, бухтa 5 м/уп. | E22: м. | F22: 1.5 | G22: 1.2 | H22: 1.2 | I22: 1.2 | J22: 1.2 | K22: 1.2 | L22: 1.2 | M22: 1.5 | N22: =SUM(F22:M22) -> 10.2 | P22: =O22*N22 -> 0
B23: Труба тип 4 | D23: Гофрированная труба ПНД D16мм. PR02.0122 лёгкая 350 Н безгалогенная HF стойкая к ультрафиолету черная с/з | E23: м. | F23: 2506 | G23: 1988 | H23: 2553 | I23: 885.6 | J23: 900 | K23: 2594.4 | L23: 1914 | M23: 1889.4 | N23: =SUM(F23:M23) -> 15230.4 | P23: =O23*N23 -> 0
B24: Труба тип 5 | D24: Труба гофрированная ПВХ D-25мм CTG20-25-K41-050I с зондом | E24: м. | F24: 39.1 | G24: 32.3 | H24: 39.1 | I24: 30.6 | J24: 30.6 | K24: 39.1 | L24: 32.3 | M24: 28.9 | N24: =SUM(F24:M24) -> 272 | P24: =O24*N24 -> 0
B25: Прочие материалы:
B26: Дюбель с шурупом 8х50 (артикул 102310) диаметр отверстия под дюбель 8мм. | E26: шт. | F26: 4 | G26: 4 | H26: 4 | I26: 0 | J26: 4 | K26: 4 | L26: 4 | M26: 4 | N26: =SUM(F26:M26) -> 28 | P26: =O26*N26 -> 0
B27: Крепежный комплект ITK-HP-15 винт, шайба, гайка.(1 комплект) | E27: шт. | F27: 48 | G27: 48 | H27: 48 | I27: 60 | J27: 48 | K27: 48 | L27: 48 | M27: 48 | N27: =SUM(F27:M27) -> 396 | P27: =O27*N27 -> 0
B28: Крепеж-клипса PR13.0120 для труб д.20мм., для монтажного пистолета, серая | E28: шт. | F28: 810 | G28: 654 | H28: 560 | I28: 370 | J28: 530 | K28: 676 | L28: 770 | M28: 920 | N28: =SUM(F28:M28) -> 5290 | P28: =O28*N28 -> 0
B29: Усиленный дюбель-гвоздь 30519stepEGBP по бетону, металлу, кирпичу тип CN 15; диаметр 3.05 мм, длина 19 мм; усиленный, гальванизированный. Упаковка 1000 шт. | E29: шт. | F29: 15574.5 | G29: 12362 | H29: 15050 | I29: 5698 | J29: 5930 | K29: 15373 | L29: 11984 | M29: 12036 | N29: =SUM(F29:M29) -> 94007.5 | P29: =O29*N29 -> 0
B30: Коробка распределительная (артикул 60-0210) для прямого монтажа двухкомпонентная безгалогенная (HF) 80х80х40 УХЛ1 | E30: шт. | F30: 1 | G30: 1 | H30: 1 | I30: 1 | J30: 1 | K30: 1 | L30: 1 | M30: 1 | N30: =SUM(F30:M30) -> 8 | P30: =O30*N30 -> 0
B31: Клемма соединительная DIY YOU PCT-2133 контакта, сечение провода 0.75-2.5 мм² | E31: шт. | F31: 3 | G31: 3 | H31: 3 | I31: 3 | J31: 3 | K31: 3 | L31: 3 | M31: 3 | N31: =SUM(F31:M31) -> 24 | P31: =O31*N31 -> 0
B32: Нейлоновая хомут-стяжка 3,6х200 черный, 100 шт G/1/4 | E32: пч. | F32: 1 | G32: 1 | H32: 1 | I32: 1 | J32: 1 | K32: 1 | L32: 1 | M32: 1 | N32: =SUM(F32:M32) -> 8 | P32: =O32*N32 -> 0
B33: Дюбель хомут 5х10 дхч510 для крепления кабеля цвет-чёрный | E33: шт. | F33: 1154 | G33: 916 | H33: 892 | I33: 496 | J33: 496 | K33: 892 | L33: 856 | M33: 884 | N33: =SUM(F33:M33) -> 6586 | P33: =O33*N33 -> 0
B34: Установочная коробка IMT351011 для сплошных стен, размеры 68(65)X60 мм. | E34: шт. | F34: 179 | G34: 142 | H34: 138 | I34: 72 | J34: 72 | K34: 138 | L34: 132 | M34: 134 | N34: =SUM(F34:M34) -> 1007 | P34: =O34*N34 -> 0
B35: Металлическая однолапковая скоба СМО 25-26 PR08.2536 оцинкованная | E35: шт. | F35: 97.75 | G35: 80.75 | H35: 97.75 | I35: 76.5 | J35: 76.5 | K35: 97.75 | L35: 80.75 | M35: 72.25 | N35: =SUM(F35:M35) -> 680 | P35: =O35*N35 -> 0
B36: Кабель-канал (артикул 76002-2) самозатухающий ПВХ с крышкой, белый, 100х55х2000мм | E36: м. | F36: 2 | G36: 2 | H36: 2 | I36: 4 | J36: 2 | K36: 2 | L36: 2 | M36: 2 | N36: =SUM(F36:M36) -> 18 | P36: =O36*N36 -> 0
B37: Наконечник (артикул 79436) НШВИ 0,75-8 | E37: шт. | F37: 48 | G37: 32 | H37: 32 | I37: 32 | J37: 32 | K37: 32 | L37: 32 | M37: 48 | N37: =SUM(F37:M37) -> 288 | P37: =O37*N37 -> 0
B38: Наконечник (артикул 79462) НШВИ2 0,75-8 | E38: шт. | F38: 36 | G38: 24 | H38: 24 | I38: 24 | J38: 24 | K38: 24 | L38: 24 | M38: 36 | N38: =SUM(F38:M38) -> 216 | P38: =O38*N38 -> 0
A39: 11.11.02 | B39: Установка оборудования
A40: 11.11.02.00. | B40: Установка оборудования
B41: Вызывная панель тип 1 | D41: IP Вызывная панель Akuvox R28A IW | E41: шт. | F41: 1 | G41: 1 | H41: 1 | I41: 1 | J41: 1 | K41: 1 | L41: 1 | M41: 1 | N41: =SUM(F41:M41) -> 8 | P41: =O41*N41 -> 0
B42: Вызывная панель тип 2 | D42: IP Вызывная панель Akuvox X912S TFT LCD сенсорный 4 дюйма, доступ по: распознаванию лица, PIN, NFC, RFID карта, BLE, QR-код, мобильное приложение Smart Plus. (Сенсорная клавиатура) | E42: шт. | F42: 1 | G42: 1 | H42: 1 | I42: 1 | J42: 1 | K42: 1 | L42: 1 | M42: 1 | N42: =SUM(F42:M42) -> 8 | P42: =O42*N42 -> 0
B43: Терминал контроля доступа тип 1 | D43: IP Терминал СКУД Akuvox A01S доступ по: NFC, RFID карта, мобильное приложение Smart Plus. | E43: шт. | F43: 2 | G43: 2 | H43: 2 | I43: 2 | J43: 2 | K43: 2 | L43: 2 | M43: 2 | N43: =SUM(F43:M43) -> 16 | P43: =O43*N43 -> 0
B44: Микроволновый радар-детектор DL6 (EAGLE 6) питание 12В, температура эксплуатации -20°С +55°С, максимальная высота установки 3м. | E44: шт. | F44: 2 | G44: 2 | H44: 2 | I44: 2 | J44: 2 | K44: 2 | L44: 2 | M44: 2 | N44: =SUM(F44:M44) -> 16 | P44: =O44*N44 -> 0
...
