Workbook

Sheet ЛСР
K2: Приложение №
K3: к Договору подряда №
B4: ПОДРЯДЧИК: | D4: ЗАКАЗЧИК: | I4: ТЕХНИЧЕСКИЙ ЗАКАЗЧИК:
B8: _________________/
A11: Локальный сметный расчет №12
A12: Устройство системы контроля и управления доступом (СКУД) ГП-75
A15: № | B15: Наименование | C15: Марка | D15: Характеристика | E15: Ед. изм. | F15: 75.9 | G15: Кол-во | H15: Цена | I15: Сумма | J15: Примечание | K15: Форма закупа материала
A16: 11 | B16: Внутренние инженерные сети
A17: 11.14. | B17: Монтаж СКУД
A18: 11.14.01 | B18: Прокладка КПП
A19: 11.14.01.00. | B19: Прокладка КПП | I19: =I20+I23 -> 0
B20: Работа: | I20: =SUM(I21:I22) -> 0
B21: Прокладка КПП | E21: м | F21: =F24+F25+F26+F27 -> 1060 | G21: =G24+G25+G26+G27 -> 1060 | H21: =Работы!H21 -> 0 | I21: =H21*G21 -> 0
B22: Прокладка трубы | E22: м | F22: =F28+F29 -> 601.8 | G22: =G28+G29 -> 601.8 | H22: =Работы!H22 -> 0 | I22: =H22*G22 -> 0
B23: Материалы: | I23: =SUM(I24:I32) -> 0
B24: Кабель тип 1 | D24: Кабель витая пара U/UTP U/U-5e-BC04-048-PVC-GR-305-RQcat. 5E 4х2х0.48 мм, для внутренней прокладки, одножильный, PVC. | E24: м. | F24: 340 | G24: 340 | H24: =Материалы!H20 -> 0 | I24: =H24*G24 -> 0 | K24: Закуп подрядчика
B25: Кабель тип 3 | D25: Кабель оптический ОКСЛНГ(А)-HF-М2П-А4-2.7 негорючий, для прокладки в канализацию, 4 одномод. волокона G.652.D/G.657.A. | E25: м. | F25: 320 | G25: 320 | H25: =Материалы!H21 -> 0 | I25: =H25*G25 -> 0 | J25: для подключения к ГП-75 | K25: Закуп подрядчика
B26: Кабель тип 4 | D26: Кабель силовой ВВГнг(А)-LS 3х1.5 сечение жилы 1.5 мм², количество жил: 3 шт., номинальное напряжение: 660В. | E26: м. | F26: 180 | G26: 180 | H26: =Материалы!H22 -> 0 | I26: =H26*G26 -> 0 | J26: Для подключения 220В: ШК; ЩМП 1 и 2 и тюм. коммутаторов | K26: Закуп подрядчика
B27: Кабель тип 5 | D27: Кабель монтажный МКШнг(А)-LS 2х0.75 2х жильный, не распротраняющий горение при прокладке в пучке, с нормиованным дымовыделением, конструкция жилы многопроволочная, напряжение 500В. | E27: м. | F27: 220 | G27: 220 | H27: =Материалы!H23 -> 0 | I27: =H27*G27 -> 0 | J27: Питание эл. маг. замков, индукционных петель и контроллеров СКУД | K27: Закуп подрядчика
B28: Труба тип 1 | D28: Труба гофрированная ПВХ CTG20-20-K41-100I д.20мм с протяжкой | E28: м. | F28: 600 | G28: 600 | H28: =Материалы!H24 -> 0 | I28: =H28*G28 -> 0 | K28: Закуп подрядчика
B29: Труба тип 2 | D29: Труба гофрированная ПП (артикул 15-0505) д.4,6мм., разрезная, бухтa 5 м/уп. | E29: м. | F29: 1.8 | G29: 1.8 | H29: =Материалы!H25 -> 0 | I29: =H29*G29 -> 0 | K29: Закуп подрядчика
B30: Кабель-канал | D30: Кабель-канал (артикул 76002-2) самозатухающий ПВХ с крышкой, белый, 100х55х2000мм | E30: м. | F30: 4 | G30: 4 | H30: =Материалы!H26 -> 0 | I30: =H30*G30 -> 0 | J30: в ЩМП 1 и 2 | K30: Закуп подрядчика
B31: Кабель-канал | D31: Кабель-канал перфорированный 40х40 ИМПАКТ серый (CKM50-040-040-1-K03) | E31: м. | F31: 4 | G31: 4 | H31: =Материалы!H27 -> 0 | I31: =H31*G31 -> 0 | J31: В ЩМП 1, 2 и 3 | K31: Закуп подрядчика
B32: Прочие материалы | I32: =SUM(I33:I39) -> 0 | K32: Закуп подрядчика
B33: Дюбель с шурупом 8х50 (артикул 102310) диаметр отверстия под дюбель 8мм. | E33: шт. | F33: 4 | G33: 4 | H33: =Материалы!H29 -> 0 | I33: =H33*G33 -> 0
B34: Дюбель хомут 5х10 дхч510 для крепления кабеля цвет-чёрный | E34: пч. | F34: 1 | G34: 1 | H34: =Материалы!H30 -> 0 | I34: =H34*G34 -> 0
B35: Крепеж-клипса PR13.0120 для труб д.20мм., для монтажного пистолета, серая | E35: шт. | F35: 1200 | G35: 1200 | H35: =Материалы!H31 -> 0 | I35: =H35*G35 -> 0
B36: Усиленный дюбель-гвоздь 30519stepEGBP по бетону, металлу, кирпичу тип CN 15; диаметр 3.05 мм, длина 19 мм; усиленный, гальванизированный. Упаковка 1000 шт. | E36: шт. | F36: 1200 | G36: 1200 | H36: =Материалы!H32 -> 0 | I36: =H36*G36 -> 0
B37: Крепежный комплект ITK-HP-15 винт, шайба, гайка.(1 комплект) | E37: шт. | F37: 24 | G37: 24 | H37: =Материалы!H33 -> 0 | I37: =H37*G37 -> 0
B38: Заклепка резьбовая CN10 шестигранная с плоским бортом М6 L15,0 | E38: шт. | F38: 12 | G38: 12 | H38: =Материалы!H34 -> 0 | I38: =H38*G38 -> 0
B39: Нейлоновая хомут-стяжка 3,6х200 черный, 100 шт G/1/4 | E39: пч. | F39: 2 | G39: 2 | H39: =Материалы!H35 -> 0 | I39: =H39*G39 -> 0
A40: 11.14.02 | B40: Установка оборудования
A41: 11.14.02.00. | B41: Установка оборудования | I41: =I42+I44 -> 0
B42: Работа: | I42: =SUM(I43:I43) -> 0
B43: Монтажные работы | E43: комплекс | F43: 1 | G43: =F43 -> 1 | H43: =Работы!H26 -> 0 | I43: =H43*G43 -> 0
B44: Материалы: | I44: =SUM(I45:I69) -> 0
B45: Вызывная видеопанель | D45: Одноабонентская вызывная видеопанель Akuvox E12S | E45: шт. | F45: 4 | G45: 4 | H45: =Материалы!H38 -> 0 | I45: =G45*H45 -> 0 | J45: СКУД вх. в паркинг/ком. охраны | K45: Закуп подрядчика
B46: Терминал контроля доступа тип 1 | D46: IP Терминал СКУД Akuvox A01S доступ по: NFC, RFID карта, мобильное приложение Smart Plus. | E46: шт. | F46: 4 | G46: 4 | H46: =Материалы!H39 -> 0 | I46: =G46*H46 -> 0 | J46: СКУД вх. в паркинг с улицы, пдкл в ЩК | K46: Закуп подрядчика
B47: Подрозетник | D47: Квадратный подрозетник A01-86 для кирпича и бетона/для сплошных стен, размер 86x84x50мм. | E47: шт. | F47: 4 | G47: 4 | H47: =Материалы!H40 -> 0 | I47: =G47*H47 -> 0 | K47: Закуп подрядчика
B48: Электромагнитный замок | D48: Электромагнитный замок М2-400 серый 400кг удержания, 12 В/0,4 А, 190х55х35мм, уголок в комплекте, цвет серый, отсек для контроллера Z-5R | E48: шт. | F48: 6 | G48: 6 | H48: =Материалы!H41 -> 0 | I48: =G48*H48 -> 0 | K48: Закуп подрядчика
...

Sheet Работы
K2: Приложение №
K3: к Договору подряда №
B4: ПОДРЯДЧИК: | D4: ЗАКАЗЧИК: | I4: ТЕХНИЧЕСКИЙ ЗАКАЗЧИК:
B8: _________________/
A11: Ведомость работ
A12: Устройство системы контроля и управления доступом (СКУД) ГП-75
A15: № | B15: Наименование | C15: Марка | D15: Характеристика | E15: Ед. изм. | F15: 75.9 | G15: Кол-во | H15: Цена | I15: Сумма | J15: Примечание | K15: Форма закупа материала
A16: 11 | B16: Внутренние инженерные сети
A17: 11.14. | B17: Монтаж СКУД
A18: 11.14.01 | B18: Прокладка КПП
A19: 11.14.01.00. | B19: Прокладка КПП
B20: Работа:
B21: Прокладка КПП | E21: м | F21: 1060 | G21: 1060 | I21: =H21*G21 -> 0
B22: Прокладка трубы | E22: м | F22: 601.8 | G22: 601.8 | I22: =H22*G22 -> 0
A23: 11.14.02 | B23: Установка оборудования
A24: 11.14.02.00. | B24: Установка оборудования
B25: Работа:
B26: Монтажные работы | E26: комплекс | F26: 1 | G26: =F26 -> 1 | I26: =H26*G26 -> 0
A27: 11.14.03 | B27: ПНР
A28: 11.14.03.00 | B28: ПНР
B29: Работа:
B30: Пусконаладочные работы | E30: комплекс | F30: 1 | G30: =F30 -> 1 | I30: =H30*G30 -> 0
B31: Итого по стоимость работ: | I31: =SUM(I21:I30) -> 0
B33: Примечание:
A34: - | B34: В случае, если один из перечисленных прочих материалов не был использован по факту при производстве работ, заказчик вправе откорректировать процент расходных материалов в актах выполненных работ (формы КС-2, КС-3), уменьшив на сумму исключенного материала.
A35: - | B35: Стоимость СМР учитывает - затраты на все второстепенные материалы и работы необходимые для осуществления полного комплекса работ, включая затраты: обеспечение технической водой для производства работ и бытовых целей; на мобилизацию, аренду и эксплуатацию всех необходимых механизмов, оборудования и инструментов, бытовых помещений и биотуалетов; на подъем материалов и разноску по этажам к местам производства работ; выполнение сопутствующих работ; вывоз мусора; накладные расходы, прибыль организации, налоги и иные издержки Подрядчика. Обеспечение безопасного производства работ на участке.
A36: - | B36: Стоимость материалов учитывает стоимость доставки.
A37: - | B37: В случае изменения системы налогообложения, риски увеличения стоимости договора относятся на сторону, чья система налогообложения изменяется.

Sheet Материалы
K2: Приложение №
K3: к Договору подряда №
B4: ПОДРЯДЧИК: | D4: ЗАКАЗЧИК: | I4: ТЕХНИЧЕСКИЙ ЗАКАЗЧИК:
B8: _________________/
A11: Ведомость материалов
A12: Устройство системы контроля и управления доступом (СКУД) ГП-75
A15: № | B15: Наименование | C15: Марка | D15: Характеристика | E15: Ед. изм. | F15: 75.9 | G15: Кол-во | H15: Цена | I15: Сумма | J15: Примечание | K15: Форма закупа материала
A16: 11 | B16: Внутренние инженерные сети
A17: 11.14. | B17: Монтаж СКУД
A18: 11.14.01 | B18: Прокладка КПП
A19: 11.14.01.00. | B19: Прокладка КПП
B20: Кабель тип 1 | D20: Кабель витая пара U/UTP U/U-5e-BC04-048-PVC-GR-305-RQcat. 5E 4х2х0.48 мм, для внутренней прокладки, одножильный, PVC. | E20: м. | F20: 340 | G20: 340 | I20: =H20*G20 -> 0 | K20: Закуп подрядчика
B21: Кабель тип 3 | D21: Кабель оптический ОКСЛНГ(А)-HF-М2П-А4-2.7 негорючий, для прокладки в канализацию, 4 одномод. волокона G.652.D/G.657.A. | E21: м. | F21: 320 | G21: 320 | I21: =H21*G21 -> 0 | J21: для подключения к ГП-75 | K21: Закуп подрядчика
B22: Кабель тип 4 | D22: Кабель силовой ВВГнг(А)-LS 3х1.5 сечение жилы 1.5 мм², количество жил: 3 шт., номинальное напряжение: 660В. | E22: м. | F22: 180 | G22: 180 | I22: =H22*G22 -> 0 | J22: Для подключения 220В: ШК; ЩМП 1 и 2 и тюм. коммутаторов | K22: Закуп подрядчика
B23: Кабель тип 5 | D23: Кабель монтажный МКШнг(А)-LS 2х0.75 2х жильный, не распротраняющий горение при прокладке в пучке, с нормиованным дымовыделением, конструкция жилы многопроволочная, напряжение 500В. | E23: м. | F23: 220 | G23: 220 | I23: =H23*G23 -> 0 | J23: Питание эл. маг. замков, индукционных петель и контроллеров СКУД | K23: Закуп подрядчика
B24: Труба тип 1 | D24: Труба гофрированная ПВХ CTG20-20-K41-100I д.20мм с протяжкой | E24: м. | F24: 600 | G24: 600 | I24: =H24*G24 -> 0 | K24: Закуп подрядчика
B25: Труба тип 2 | D25: Труба гофрированная ПП (артикул 15-0505) д.4,6мм., разрезная, бухтa 5 м/уп. | E25: м. | F25: 1.8 | G25: 1.8 | I25: =H25*G25 -> 0 | K25: Закуп подрядчика
B26: Кабель-канал | D26: Кабель-канал (артикул 76002-2) самозатухающий ПВХ с крышкой, белый, 100х55х2000мм | E26: м. | F26: 4 | G26: 4 | I26: =H26*G26 -> 0 | J26: в ЩМП 1 и 2 | K26: Закуп подрядчика
B27: Кабель-канал | D27: Кабель-канал перфорированный 40х40 ИМПАКТ серый (CKM50-040-040-1-K03) | E27: м. | F27: 4 | G27: 4 | I27: =H27*G27 -> 0 | J27: В ЩМП 1, 2 и 3 | K27: Закуп подрядчика
B28: Прочие материалы | K28: Закуп подрядчика
B29: Дюбель с шурупом 8х50 (артикул 102310) диаметр отверстия под дюбель 8мм. | E29: шт. | F29: 4 | G29: 4 | I29: =H29*G29 -> 0
B30: Дюбель хомут 5х10 дхч510 для крепления кабеля цвет-чёрный | E30: пч. | F30: 1 | G30: 1 | I30: =H30*G30 -> 0
B31: Крепеж-клипса PR13.0120 для труб д.20мм., для монтажного пистолета, серая | E31: шт. | F31: 1200 | G31: 1200 | I31: =H31*G31 -> 0
B32: Усиленный дюбель-гвоздь 30519stepEGBP по бетону, металлу, кирпичу тип CN 15; диаметр 3.05 мм, длина 19 мм; усиленный, гальванизированный. Упаковка 1000 шт. | E32: шт. | F32: 1200 | G32: 1200 | I32: =H32*G32 -> 0
B33: Крепежный комплект ITK-HP-15 винт, шайба, гайка.(1 комплект) | E33: шт. | F33: 24 | G33: 24 | I33: =H33*G33 -> 0
B34: Заклепка резьбовая CN10 шестигранная с плоским бортом М6 L15,0 | E34: шт. | F34: 12 | G34: 12 | I34: =H34*G34 -> 0
B35: Нейлоновая хомут-стяжка 3,6х200 черный, 100 шт G/1/4 | E35: пч. | F35: 2 | G35: 2 | I35: =H35*G35 -> 0
A36: 11.14.02 | B36: Установка оборудования
A37: 11.14.02.00. | B37: Установка оборудования
B38: Вызывная видеопанель | D38: Одноабонентская вызывная видеопанель Akuvox E12S | E38: шт. | F38: 4 | G38: 4 | I38: =G38*H38 -> 0 | J38: СКУД вх. в паркинг/ком. охраны | K38: Закуп подрядчика
B39: Терминал контроля доступа тип 1 | D39: IP Терминал СКУД Akuvox A01S доступ по: NFC, RFID карта, мобильное приложение Smart Plus. | E39: шт. | F39: 4 | G39: 4 | I39: =G39*H39 -> 0 | J39: СКУД вх. в паркинг с улицы, пдкл в ЩК | K39: Закуп подрядчика
B40: Подрозетник | D40: Квадратный подрозетник A01-86 для кирпича и бетона/для сплошных стен, размер 86x84x50мм. | E40: шт. | F40: 4 | G40: 4 | I40: =G40*H40 -> 0 | K40: Закуп подрядчика
B41: Электромагнитный замок | D41: Электромагнитный замок М2-400 серый 400кг удержания, 12 В/0,4 А, 190х55х35мм, уголок в комплекте, цвет серый, отсек для контроллера Z-5R | E41: шт. | F41: 6 | G41: 6 | I41: =G41*H41 -> 0 | K41: Закуп подрядчика
B42: Кнопка выхода | D42: Кнопка выхода накладная DR-03 сенсорная, пластиковая, 12В, контакты Н.О./ Н.З., -40 - +50℃, IP44, 86х50х20мм. | E42: шт. | F42: 6 | G42: 6 | I42: =G42*H42 -> 0 | K42: Закуп подрядчика
B43: Контроллер индукционной петли 2-х двухпетлевой SMA2 для обнаружения транспортных средств | E43: шт. | F43: 2 | G43: 2 | I43: =G43*H43 -> 0 | J43: 1 на 1 этаж, 2й на второй, этаж на выезд. | K43: Закуп подрядчика
B44: Блок питания | D44: Блок питания AC-DC HDR-15-24 24В/0,63А (Регулировка выходного напряжения: 21.6 ~ 29V), на DIN-рейку, режим работы при -30...+70°С, | E44: шт. | F44: 2 | G44: 2 | I44: =G44*H44 -> 0 | J44: В ЩМП СКУД помещение охраны | K44: Закуп подрядчика
B45: Телефонный провод | D45: Телефонный провод П-274М материал медь/сталь, оболочка-полиэтилен. | E45: м. | F45: 80 | G45: 80 | I45: =G45*H45 -> 0 | J45: Для индукционных петель | K45: Закуп подрядчика
B46: Шкаф | D46: Настенный шкаф 19" LWR3-15U66-MF LINEA W 15U 600х600мм дверь металл серый, тип боковой стенки съемная с замком. | E46: шт. | F46: 1 | G46: 1 | I46: =G46*H46 -> 0 | J46: в помещении охраны | K46: Закуп подрядчика
B47: Сетевой PoE коммутатор | D47: Коммутатор управляемый L3 с PoE OS3228P 24x1000Base-T PoE+, 4x10G SFP+, PoE-бюджет 370 Вт, PoE до 250 м | E47: шт. | F47: 1 | G47: 1 | I47: =G47*H47 -> 0 | K47: Закуп подрядчика
B48: Сетевой PoE коммутатор | D48: Коммутатор управляемый L2 PoE OS2218FP/200W 16 PoE 250Вт (802.3af/at) + 2 порта 1000Base-X SFP | E48: шт. | F48: 2 | G48: 2 | I48: =G48*H48 -> 0 | J48: в 1 щмп и 2 | K48: Закуп подрядчика
...
