Workbook
Name Данные: [1]Тестовый!$F$10:$H$14

Sheet ЛСР
M1: Приложение №3
M2: к Договору подряда №
B4: ПОДРЯДЧИК: | D4: ЗАКАЗЧИК: | K4: ТЕХНИЧЕСКИЙ ЗАКАЗЧИК:
B8: _________________/
A10: Локальный сметный расчет №6
A11: Устройство системы Автоматики калитки и распашных ворот. ГП-76
A13: № | B13: Наименование | C13: Марка | D13: Характеристика | E13: Ед. изм. | F13: 76.1 | G13: 76.2 | H13: 76.4 | I13: Кол-во | J13: Цена | K13: Сумма | L13: Примечание | M13: Форма закупа
A14: 1 | B14: 2 | C14: 3 | D14: 4 | E14: 5 | F14: 6 | G14: 7 | H14: 7 | I14: 10 | J14: 11 | K14: 12 | L14: 13 | M14: 14
A15: 11 | B15: Внутренние инженерные сети
A16: 11.17. | B16: Автоматика калитки и распашных ворот
A17: 11.17.01 | B17: Прокладка КПП, трубы
A18: 11.17.01.00. | B18: Прокладка КПП, трубы | K18: =K19+K22 -> 0
B19: Работа: | K19: =SUM(K20:K21) -> 0
B20: Прокладка КПП | E20: м | F20: =SUM(F23:F27) -> 393 | G20: =SUM(G23:G27) -> 160 | H20: =SUM(H23:H27) -> 393 | I20: =F20+H20+G20 -> 946 | J20: =работа!J20 -> 0 | K20: =J20*I20 -> 0
B21: Прокладка трубы | E21: м | F21: =SUM(F28:F30) -> 281.2 | G21: =SUM(G28:G30) -> 101.2 | H21: =SUM(H28:H30) -> 281.2 | I21: =F21+H21+G21 -> 663.6 | J21: =работа!J21 -> 0 | K21: =J21*I21 -> 0
B22: Материалы: | K22: =SUM(K23:K31) -> 0
B23: Кабель тип 1 | D23: Кабель витая пара U/UTP U/U-5e-BC04-048-PVC-GR-305-RQcat. 5E 4х2х0.48 мм, для внутренней прокладки, одножильный, PVC. | E23: м. | F23: 80 | G23: 40 | H23: 80 | I23: =SUM(F23:H23) -> 200 | J23: =материал!J19 -> 0 | K23: =J23*I23 -> 0 | M23: Закуп подрядчика
B24: Кабель тип 2 | D24: Кабель витая пара U/UTP U/U-5e-BC04-048-PE-BL-305-RQ cat. 5E 4х2х0.48 мм, PE (уличный). | E24: м. | F24: 100 | G24: 60 | H24: 100 | I24: =SUM(F24:H24) -> 260 | J24: =материал!J20 -> 0 | K24: =J24*I24 -> 0 | M24: Закуп подрядчика
B25: Кабель тип 3 | D25: Кабель силовой ВВГнг(А)-LS 3х1.5 сечение жилы 1.5 мм², количество жил: 3 шт., номинальное напряжение: 660В. | E25: м. | F25: 100 | G25: 0 | H25: 100 | I25: =SUM(F25:H25) -> 200 | J25: =материал!J21 -> 0 | K25: =J25*I25 -> 0 | M25: Закуп подрядчика
B26: Кабель тип 4 | D26: Кабель монтажный МКШнг(А)-LS 2х0.75 2х жильный, не распротраняющий горение при прокладке в пучке, с нормиованным дымовыделением, конструкция жилы многопроволочная, напряжение 500В. | E26: м. | F26: 110 | G26: 60 | H26: 110 | I26: =SUM(F26:H26) -> 280 | J26: =материал!J22 -> 0 | K26: =J26*I26 -> 0 | M26: Закуп подрядчика
B27: Кабель тип 5 | D27: Кабель гибкий КГ-ХЛ 4х0,75 хладостойкий (от -60 С до +50 С) 4х0,75мм. | E27: м. | F27: 3 | G27: 0 | H27: 3 | I27: =SUM(F27:H27) -> 6 | J27: =материал!J23 -> 0 | K27: =J27*I27 -> 0 | M27: Закуп подрядчика
B28: Труба тип 1 | D28: Труба ПНД гофрированная (артикул 71520) д.20мм, тяжёлая с протяжкой, прочность (сопротивление сжатию на 5 см при +20°C) 750 Н, цвет оранжевый | E28: м. | F28: 150 | G28: 60 | H28: 150 | I28: =SUM(F28:H28) -> 360 | J28: =материал!J24 -> 0 | K28: =J28*I28 -> 0 | M28: Закуп подрядчика
B29: Труба тип 2 | D29: Труба гофрированная ПВХ CTG20-20-K41-100I д.20мм с протяжкой | E29: м. | F29: 130 | G29: 40 | H29: 130 | I29: =SUM(F29:H29) -> 300 | J29: =материал!J25 -> 0 | K29: =J29*I29 -> 0 | M29: Закуп подрядчика
B30: Труба тип 3 | D30: Труба профильная 40х20х3 мм | E30: шт. | F30: 1.2 | G30: 1.2 | H30: 1.2 | I30: =SUM(F30:H30) -> 3.6 | J30: =материал!J26 -> 0 | K30: =J30*I30 -> 0 | M30: Закуп подрядчика
B31: Прочие материалы | K31: =SUM(K32:K36) -> 0 | M31: Закуп подрядчика
B32: Коннектор EC-UP8P8C-5E-003-TR-1000 RJ45/8P8C, категория 5e | E32: шт. | F32: 4 | G32: 2 | H32: 4 | I32: =SUM(F32:H32) -> 10 | J32: =материал!J28 -> 0 | K32: =J32*I32 -> 0
B33: Герметик TN667564 силиконовый белый, 280мл | E33: мл. | F33: 1 | G33: 0.5 | H33: 1 | I33: =SUM(F33:H33) -> 2.5 | J33: =материал!J29 -> 0 | K33: =J33*I33 -> 0
B34: Крепеж-клипса PR13.0120 для труб д.20мм., для монтажного пистолета, серая | E34: шт. | F34: 260 | G34: 80 | H34: 260 | I34: =SUM(F34:H34) -> 600 | J34: =материал!J30 -> 0 | K34: =J34*I34 -> 0
B35: Колодка клеммная PLC-JXB-ST-2.5-3 самозажимная, 3 вывода, серая, на DIN-рейку, 35мм. | E35: шт. | F35: 3 | G35: 0 | H35: 3 | I35: =SUM(F35:H35) -> 6 | J35: =материал!J31 -> 0 | K35: =J35*I35 -> 0
B36: Заглушка для профильных труб 40х20 мм | E36: шт. | F36: 3 | G36: 3 | H36: 3 | I36: =SUM(F36:H36) -> 9 | J36: =материал!J32 -> 0 | K36: =J36*I36 -> 0
A37: 11.17.02 | B37: Установка оборудования
A38: 11.17.02.00. | B38: Установка оборудования | K38: =K39+K52 -> 0
B39: Работа: | K39: =SUM(K40:K51) -> 0
B40: Монтаж привода с блоком управления | E40: шт | F40: =F67 -> 2 | G40: =G67 -> 0 | H40: =H67 -> 2 | I40: =SUM(F40:H40) -> 4 | J40: =работа!J25 -> 0 | K40: =J40*I40 -> 0
B41: Монтаж платы-радиоприемника с контроллером | E41: шт | F41: =F71 -> 1 | G41: =G71 -> 0 | H41: =H71 -> 1 | I41: =SUM(F41:H41) -> 2 | J41: =работа!J26 -> 0 | K41: =J41*I41 -> 0
B42: Монтаж антенны | E42: шт | F42: =F72 -> 1 | G42: =G72 -> 0 | H42: =H72 -> 1 | I42: =SUM(F42:H42) -> 2 | J42: =работа!J27 -> 0 | K42: =J42*I42 -> 0
B43: Монтаж комплекта фотоэлементов | E43: комплект | F43: =F74 -> 2 | G43: =G74 -> 0 | H43: =H74 -> 2 | I43: =SUM(F43:H43) -> 4 | J43: =работа!J28 -> 0 | K43: =J43*I43 -> 0
B44: Монтаж сигнальной лампы | E44: шт | F44: =F68 -> 1 | G44: =G68 -> 0 | H44: =H68 -> 1 | I44: =SUM(F44:H44) -> 2 | J44: =работа!J29 -> 0 | K44: =J44*I44 -> 0 | L44: в т.ч. Монтаж кронштейна
B45: Брелок передатчик | E45: шт | F45: =F73 -> 3 | G45: =G73 -> 0 | H45: =H73 -> 3 | I45: =SUM(F45:H45) -> 6 | J45: =работа!J30 -> 0 | K45: =J45*I45 -> 0
B46: Монтаж вызывной панели | E46: шт | F46: =F53 -> 1 | G46: =G53 -> 1 | H46: =H53 -> 1 | I46: =SUM(F46:H46) -> 3 | J46: =работа!J31 -> 0 | K46: =J46*I46 -> 0 | L46: в т.ч. Монтаж металлической конструкции
...

Sheet работа
M1: Приложение №3
M2: к Договору подряда №
B4: ПОДРЯДЧИК: | D4: ЗАКАЗЧИК: | K4: ТЕХНИЧЕСКИЙ ЗАКАЗЧИК:
B8: _________________/
A10: Ведомость работ
A11: Устройство системы Автоматики калитки и распашных ворот. ГП-76
A13: № | B13: Наименование | C13: Марка | D13: Характеристика | E13: Ед. изм. | F13: 76.1 | G13: 76.2 | H13: 76.4 | I13: Кол-во | J13: Цена | K13: Сумма | L13: Примечание | M13: Форма закупа
A14: 1 | B14: 2 | C14: 3 | D14: 4 | E14: 5 | F14: 6 | G14: 7 | H14: 7 | I14: 10 | J14: 11 | K14: 12 | L14: 13 | M14: 14
A15: 11 | B15: Внутренние инженерные сети
A16: 11.17. | B16: Автоматика калитки и распашных ворот
A17: 11.17.01 | B17: Прокладка КПП, трубы
A18: 11.17.01.00. | B18: Прокладка КПП, трубы
B19: Работа:
B20: Прокладка КПП | E20: м | F20: 393 | G20: 160 | H20: 393 | I20: 946 | K20: =J20*I20 -> 0
B21: Прокладка трубы | E21: м | F21: 281.2 | G21: 101.2 | H21: 281.2 | I21: 663.6 | K21: =J21*I21 -> 0
A22: 11.17.02 | B22: Установка оборудования
A23: 11.17.02.00. | B23: Установка оборудования
B24: Работа:
B25: Монтаж привода с блоком управления | E25: шт | F25: 2 | G25: 0 | H25: 2 | I25: 4 | K25: =J25*I25 -> 0
B26: Монтаж платы-радиоприемника с контроллером | E26: шт | F26: 1 | G26: 0 | H26: 1 | I26: 2 | K26: =J26*I26 -> 0
B27: Монтаж антенны | E27: шт | F27: 1 | G27: 0 | H27: 1 | I27: 2 | K27: =J27*I27 -> 0
B28: Монтаж комплекта фотоэлементов | E28: комплект | F28: 2 | G28: 0 | H28: 2 | I28: 4 | K28: =J28*I28 -> 0
B29: Монтаж сигнальной лампы | E29: шт | F29: 1 | G29: 0 | H29: 1 | I29: 2 | K29: =J29*I29 -> 0 | L29: в т.ч. Монтаж кронштейна
B30: Брелок передатчик | E30: шт | F30: 3 | G30: 0 | H30: 3 | I30: 6 | K30: =J30*I30 -> 0
B31: Монтаж вызывной панели | E31: шт | F31: 1 | G31: 1 | H31: 1 | I31: 3 | K31: =J31*I31 -> 0 | L31: в т.ч. Монтаж металлической конструкции
B32: Монтаж доводчика | E32: шт | F32: 1 | G32: 1 | H32: 1 | I32: 3 | K32: =J32*I32 -> 0
B33: Монтаж кнопки выхода | E33: шт | F33: 1 | G33: 1 | H33: 1 | I33: 3 | K33: =J33*I33 -> 0
B34: Монтаж электромагнитного замка | E34: шт | F34: 1 | G34: 1 | H34: 1 | I34: 3 | K34: =J34*I34 -> 0
B35: Монтаж блока питания | E35: шт | F35: 2 | G35: 1 | H35: 2 | I35: 5 | K35: =J35*I35 -> 0
B36: Монтаж щитов | E36: шт | F36: 2 | G36: 0 | H36: 2 | I36: 4 | K36: =J36*I36 -> 0
A37: 11.17.03 | B37: ПНР
A38: 11.17.03.00 | B38: ПНР
B39: Работа:
B40: Пусконаладочные работы | E40: комплекс | F40: 1 | G40: 1 | H40: 1 | I40: 3 | K40: =J40*I40 -> 0
B41: Итого по ЛСР с НДС: | K41: =SUM(K20:K40) -> 0
B43: Примечание:
A44: - | B44: В случае, если один из перечисленных прочих материалов не был использован по факту при производстве работ, заказчик вправе откорректировать процент расходных материалов в актах выполненных работ (формы КС-2, КС-3), уменьшив на сумму исключенного материала.
A45: - | B45: Стоимость СМР учитывает - затраты на все второстепенные материалы и работы необходимые для осуществления полного комплекса работ, включая затраты: обеспечение технической водой для производства работ и бытовых целей; на мобилизацию, аренду и эксплуатацию всех необходимых механизмов, оборудования и инструментов, бытовых помещений и биотуалетов; на подъем материалов и разноску по этажам к местам производства работ; выполнение сопутствующих работ; вывоз мусора; накладные расходы, прибыль организации, налоги и иные издержки Подрядчика. Обеспечение безопасного производства работ на участке.
A46: - | B46: Стоимость материалов учитывает стоимость доставки.
A47: - | B47: В случае изменения системы налогообложения, риски увеличения стоимости договора относятся на сторону, чья система налогообложения изменяется.

Sheet материал
M1: Приложение №3
M2: к Договору подряда №
B4: ПОДРЯДЧИК: | D4: ЗАКАЗЧИК: | K4: ТЕХНИЧЕСКИЙ ЗАКАЗЧИК:
B8: _________________/
A10: Ведомость материалов
A11: Устройство системы Автоматики калитки и распашных ворот. ГП-76
A13: № | B13: Наименование | C13: Марка | D13: Характеристика | E13: Ед. изм. | F13: 76.1 | G13: 76.2 | H13: 76.4 | I13: Кол-во | J13: Цена | K13: Сумма | L13: Примечание | M13: Форма закупа
A14: 1 | B14: 2 | C14: 3 | D14: 4 | E14: 5 | F14: 6 | G14: 7 | H14: 7 | I14: 10 | J14: 11 | K14: 12 | L14: 13 | M14: 14
A15: 11 | B15: Внутренние инженерные сети
A16: 11.17. | B16: Автоматика калитки и распашных ворот
A17: 11.17.01 | B17: Прокладка КПП, трубы
A18: 11.17.01.00. | B18: Прокладка КПП, трубы
B19: Кабель тип 1 | D19: Кабель витая пара U/UTP U/U-5e-BC04-048-PVC-GR-305-RQcat. 5E 4х2х0.48 мм, для внутренней прокладки, одножильный, PVC. | E19: м. | F19: 80 | G19: 40 | H19: 80 | I19: =SUM(F19:H19) -> 200 | K19: =J19*I19 -> 0 | M19: Закуп подрядчика
B20: Кабель тип 2 | D20: Кабель витая пара U/UTP U/U-5e-BC04-048-PE-BL-305-RQ cat. 5E 4х2х0.48 мм, PE (уличный). | E20: м. | F20: 100 | G20: 60 | H20: 100 | I20: =SUM(F20:H20) -> 260 | K20: =J20*I20 -> 0 | M20: Закуп подрядчика
B21: Кабель тип 3 | D21: Кабель силовой ВВГнг(А)-LS 3х1.5 сечение жилы 1.5 мм², количество жил: 3 шт., номинальное напряжение: 660В. | E21: м. | F21: 100 | G21: 0 | H21: 100 | I21: =SUM(F21:H21) -> 200 | K21: =J21*I21 -> 0 | M21: Закуп подрядчика
B22: Кабель тип 4 | D22: Кабель монтажный МКШнг(А)-LS 2х0.75 2х жильный, не распротраняющий горение при прокладке в пучке, с нормиованным дымовыделением, конструкция жилы многопроволочная, напряжение 500В. | E22: м. | F22: 110 | G22: 60 | H22: 110 | I22: =SUM(F22:H22) -> 280 | K22: =J22*I22 -> 0 | M22: Закуп подрядчика
B23: Кабель тип 5 | D23: Кабель гибкий КГ-ХЛ 4х0,75 хладостойкий (от -60 С до +50 С) 4х0,75мм. | E23: м. | F23: 3 | G23: 0 | H23: 3 | I23: =SUM(F23:H23) -> 6 | K23: =J23*I23 -> 0 | M23: Закуп подрядчика
B24: Труба тип 1 | D24: Труба ПНД гофрированная (артикул 71520) д.20мм, тяжёлая с протяжкой, прочность (сопротивление сжатию на 5 см при +20°C) 750 Н, цвет оранжевый | E24: м. | F24: 150 | G24: 60 | H24: 150 | I24: =SUM(F24:H24) -> 360 | K24: =J24*I24 -> 0 | M24: Закуп подрядчика
B25: Труба тип 2 | D25: Труба гофрированная ПВХ CTG20-20-K41-100I д.20мм с протяжкой | E25: м. | F25: 130 | G25: 40 | H25: 130 | I25: =SUM(F25:H25) -> 300 | K25: =J25*I25 -> 0 | M25: Закуп подрядчика
B26: Труба тип 3 | D26: Труба профильная 40х20х3 мм | E26: шт. | F26: 1.2 | G26: 1.2 | H26: 1.2 | I26: =SUM(F26:H26) -> 3.6 | K26: =J26*I26 -> 0 | M26: Закуп подрядчика
B27: Прочие материалы | M27: Закуп подрядчика
B28: Коннектор EC-UP8P8C-5E-003-TR-1000 RJ45/8P8C, категория 5e | E28: шт. | F28: 4 | G28: 2 | H28: 4 | I28: =SUM(F28:H28) -> 10 | K28: =J28*I28 -> 0
B29: Герметик TN667564 силиконовый белый, 280мл | E29: мл. | F29: 1 | G29: 0.5 | H29: 1 | I29: =SUM(F29:H29) -> 2.5 | K29: =J29*I29 -> 0
B30: Крепеж-клипса PR13.0120 для труб д.20мм., для монтажного пистолета, серая | E30: шт. | F30: 260 | G30: 80 | H30: 260 | I30: =SUM(F30:H30) -> 600 | K30: =J30*I30 -> 0
B31: Колодка клеммная PLC-JXB-ST-2.5-3 самозажимная, 3 вывода, серая, на DIN-рейку, 35мм. | E31: шт. | F31: 3 | G31: 0 | H31: 3 | I31: =SUM(F31:H31) -> 6 | K31: =J31*I31 -> 0
B32: Заглушка для профильных труб 40х20 мм | E32: шт. | F32: 3 | G32: 3 | H32: 3 | I32: =SUM(F32:H32) -> 9 | K32: =J32*I32 -> 0
A33: 11.17.02 | B33: Установка оборудования
A34: 11.17.02.00. | B34: Установка оборудования
B35: Вызывная панель тип 1 | C35: Akuvox | D35: IP Вызывная панель Akuvox R28A IW | E35: шт. | F35: 1 | G35: 1 | H35: 1 | I35: =SUM(F35:H35) -> 3 | K35: =J35*I35 -> 0 | M35: Закуп подрядчика
B36: Монтажное основание | D36: Монтажное основание для ВП Akuvox R28A IW врезное исп. | E36: шт. | F36: 1 | G36: 1 | H36: 1 | I36: =SUM(F36:H36) -> 3 | K36: =J36*I36 -> 0 | M36: Закуп подрядчика
B37: Электромагнитный замок | D37: Электромагнитный замок М2-400 серый 400кг удержания, 12 В/0,4 А, 190х55х35мм, уголок в комплекте, цвет серый, отсек для контроллера Z-5R | E37: шт. | F37: 1 | G37: 1 | H37: 1 | I37: =SUM(F37:H37) -> 3 | K37: =J37*I37 -> 0 | M37: Закуп подрядчика
B38: Кнопка выхода | D38: Кнопка врезная "грибок" ST-EX243 контакты НЗ/НР, нержав. сталь, размер 90х35х50мм. | E38: шт. | F38: 1 | G38: 1 | H38: 1 | I38: =SUM(F38:H38) -> 3 | K38: =J38*I38 -> 0 | M38: Закуп подрядчика
B39: Щит тип 1 | D39: Щит с монтажной панелью ЩМП MB22-04 300х400х155мм. IP31 | E39: шт. | F39: 1 | G39: 0 | H39: 1 | I39: =SUM(F39:H39) -> 2 | K39: =J39*I39 -> 0 | M39: Закуп подрядчика
B40: Блок питания | D40: Блок питания AC-DC HDR-30-12 12В/2А (Регулировка выходного напряжения: 10.8 ~ 13.8V), на DIN-рейку, режим работы при -30...+70°С, | E40: шт. | F40: 2 | G40: 1 | H40: 2 | I40: =SUM(F40:H40) -> 5 | K40: =J40*I40 -> 0 | M40: Закуп подрядчика
B41: Коробка распределительная | D41: Коробка распределительная (артикул 60-0210) для прямого монтажа двухкомпонентная безгалогенная (HF) 80х80х40 УХЛ1 | E41: шт. | F41: 4 | G41: 1 | H41: 4 | I41: =SUM(F41:H41) -> 9 | K41: =J41*I41 -> 0 | M41: Закуп подрядчика
B42: Сетевой PoE коммутатор | D42: Коммутатор управляемый L2 PoE OS2406P/60W 4 PoE 60Вт (802.3af/at) +2 порта Uplink 10/100/1000Мбит/с. | E42: шт. | F42: 1 | G42: 0 | H42: 1 | I42: =SUM(F42:H42) -> 2 | K42: =J42*I42 -> 0 | M42: Закуп подрядчика
B43: Розетка с заземлением MRD10-16 на DIN-рейку | E43: шт. | F43: 1 | G43: 0 | H43: 1 | I43: =SUM(F43:H43) -> 2 | K43: =J43*I43 -> 0 | M43: Закуп подрядчика
B44: Доводчик дверной | D44: Доводчик для дверей весом до 120кг. DC505S ARCTIC двухскоростной, установочный размер 230х19 мм, минимальная температура -51°С | E44: шт. | F44: 1 | G44: 1 | H44: 1 | I44: =SUM(F44:H44) -> 3 | K44: =J44*I44 -> 0 | M44: Закуп подрядчика
B45: Терминал контроля доступа тип 1 | D45: IP Терминал СКУД A01S доступ по: NFC, RFID карта, мобильное приложение Smart Plus. | E45: шт. | F45: 1 | G45: 0 | H45: 1 | I45: =SUM(F45:H45) -> 2 | K45: =J45*I45 -> 0 | M45: Закуп подрядчика
B46: Конструкция металлическая | D46: Короб накладного монтажа для для установки на улицу A01S/A03S размер 38,5x114,5x88мм. | E46: шт. | F46: 1 | G46: 0 | H46: 1 | I46: =SUM(F46:H46) -> 2 | K46: =J46*I46 -> 0 | M46: Закуп подрядчика
...
