Workbook

Sheet ЛСР№1
J1: Приложение №7
B3: ПОДРЯДЧИК: | C3: ЗАКАЗЧИК: | H3: ТЕХНИЧЕСКИЙ ЗАКАЗЧИК:
A8: Локальный сметный расчет №1
A9: Обустройство строительной площадки ГП-77
A10: № п/п | B10: Наименование | C10: Ед. изм. | D10: Норма расхода | E10: Толщина,м | F10: Кол-во | G10: Цена за ед. | H10: Сумма | I10: Примечание | J10: Форма закупа материала
A11: 01 | B11: Подготовительные работы
A12: 01.05. | B12: Обустройство строительной площадки
A13: 01.05.01. | B13: Снятие верхнего растительного слоя
A14: 01.05.01.00 | B14: Снятие верхнего растительного слоя | H14: =H15+H17 -> 0
B15: Работа: | H15: =SUM(H16:H16) -> 0
B16: Снятие верхнего растительного слоя в плотном теле | C16: м3 | E16: 0.7 | F16: =(5430.14+37316.26)*0.7 -> 29922.48 | G16: =VLOOKUP(B16,'работа к ЛСР №1'!$B$16:$H$39,6,0) -> 0 | H16: =G16*F16 -> 0
B17: Материалы: | H17: =SUM(H18) -> 0
B18: -
A19: 01.05.03. | B19: Транспортировка грунта
A20: 01.05.03.00 | B20: Транспортировка грунта | H20: =H21+H24 -> 0
B21: Работа: | H21: =SUM(H22:H23) -> 0
B22: Транспортировка грунта с утилизацией в рыхлом теле | C22: м3 | D22: 1.15 | F22: =F16*1.15 -> 34410.852 | G22: =VLOOKUP(B22,'работа к ЛСР №1'!$B$16:$H$39,6,0) -> 0 | H22: =G22*F22 -> 0 | I22: до 40км
B23: Погрузка грунта в плотном теле | C23: м3 | D23: 1.15 | F23: =F22 -> 34410.852 | G23: =VLOOKUP(B23,'работа к ЛСР №1'!$B$16:$H$39,6,0) -> 0 | H23: =G23*F23 -> 0
B24: Материалы | H24: =SUM(H25) -> 0
B25: -
A26: 01.05.04. | B26: Отсыпка территории
A27: 01.05.04.00 | B27: Отсыпка территории | H27: =H28+H30 -> 0
B28: Работа: | H28: =SUM(H29:H29) -> 0
B29: Отсыпка территории песком под уровень с трамбованием в плотном теле | C29: м3 | F29: =51872.2+5670 -> 57542.2 | G29: =VLOOKUP(B29,'работа к ЛСР №1'!$B$16:$H$39,6,0) -> 0 | H29: =G29*F29 -> 0
B30: Материалы | H30: =SUM(H31:H31) -> 0
B31: Песок для отсыпки (модуль крупности до 1,0) | C31: м3 | D31: 1.144 | F31: =F29*D31 -> 65828.277 | G31: =VLOOKUP(B31,'материалы к ЛСР №1 '!$B$15:$G$28,6,0) -> 0 | H31: =G31*F31 -> 0
A32: 01.05.99. | B32: Прочие работы
A33: 01.05.99.00 | B33: Прочие работы | H33: =H34+H37 -> 0
B34: Работа: | H34: =SUM(H35:H36) -> 0
B35: Вывоз ж/б мусора с утилизацией | C35: тн | F35: 7000 | G35: =VLOOKUP(B35,'работа к ЛСР №1'!$B$16:$H$39,6,0) -> 0 | H35: =G35*F35 -> 0
B36: Вывоз мусора с утилизацией | C36: м3 | F36: 7000 | G36: =VLOOKUP(B36,'работа к ЛСР №1'!$B$16:$H$39,6,0) -> 0 | H36: =G36*F36 -> 0
B37: Материалы | H37: =SUM(H38:H38) -> 0
B38: - | H38: =G38*F38 -> 0
A39: 01.06. | B39: Временные проезды
A40: 01.06.01. | B40: Монтаж плит
A41: 01.06.01.00 | B41: Монтаж плит | H41: =H42+H44 -> 0
B42: Работа: | H42: =SUM(H43:H43) -> 0
B43: Монтаж плит дорожных | C43: шт. | F43: 435 | G43: =VLOOKUP(B43,'работа к ЛСР №1'!$B$16:$H$39,6,0) -> 0 | H43: =G43*F43 -> 0 | I43: учитывать перевозку с Беринга-2
B44: Материалы | H44: =SUM(H45:H47) -> 0
B45: Щебень 20-40 | C45: м3 | F45: 5 | G45: =VLOOKUP(B45,'материалы к ЛСР №1 '!$B$15:$G$28,6,0) -> 0 | H45: =G45*F45 -> 0
...

Sheet ЛСР№2
I1: Приложение №8
B4: ПОДРЯДЧИК: | C4: ЗАКАЗЧИК: | G4: ТЕХНИЧЕСКИЙ ЗАКАЗЧИК:
A9: Локальный сметный расчет №2
A10: Устройство котлована ГП-77
A11: № п/п | B11: Наименование | C11: Ед. изм. | D11: Норма расхода | E11: Кол-во | F11: Цена за ед. | G11: Сумма | H11: Примечание | I11: Форма закупа материала
A12: 02 | B12: Фундамент
A13: 02.02. | B13: Устройство котлована
A14: 02.02.01. | B14: Выемка грунта
A15: 02.02.01.00 | B15: Выемка грунта | G15: =G16+G20 -> 0
B16: Работа: | G16: =SUM(G17:G19) -> 0
B17: Выемка грунта в плотном теле | C17: м3 | E17: 7360.59 | F17: =VLOOKUP(B17,'работа к ЛСР№2'!B17:$F$36,5,0) -> 0 | G17: =F17*E17 -> 0
B18: Выемка грунта в плотном теле | C18: м3 | F18: =VLOOKUP(B18,работа!$B$5:$I$17,7,0) -> 140 | G18: =F18*E18 -> 0 | H18: cкладирование грунта
B19: Выемка грунта в плотном теле | C19: м3 | E19: 1000 | F19: =VLOOKUP(B19,'работа к ЛСР№2'!B19:$F$36,5,0) -> 0 | G19: =F19*E19 -> 0 | H19: под башенный кран
B20: Материалы | G20: =SUM(G21) -> 0
B21: -
A22: 02.02.02. | B22: Транспортировка грунта
A23: 02.02.02.00 | B23: Транспортировка грунта | G23: =G24+G26 -> 0
B24: Работа: | G24: =SUM(G25:G25) -> 0
B25: Транспортировка грунта на территорию другого ЖК в рыхлом теле | C25: м3 | D25: 1.15 | E25: =(E17+E19)*D25 -> 9614.6785 | F25: =VLOOKUP(B25,'работа к ЛСР№2'!$B$23:$F$36,5,0) -> 0 | G25: =F25*E25 -> 0 | H25: ЖК Айвазовский
B26: Материалы | G26: =SUM(G27) -> 0
B27: -
A28: 02.02.04. | B28: Отсыпка территории
A29: 02.02.04.00 | B29: Отсыпка территории | G29: =G30+G32 -> 0
B30: Работа: | G30: =SUM(G31:G31) -> 0
B31: Отсыпка территории песком под уровень с трамбованием в плотном теле | C31: м3 | E31: 4711.58 | F31: =VLOOKUP(B31,'работа к ЛСР№2'!$B$23:$F$36,5,0) -> 0 | G31: =F31*E31 -> 0 | H31: грунтовая подушка основания фундамента (перед устройством свайного поля)
B32: Материалы | G32: =SUM(G33:G33) -> 0
B33: Песок для отсыпки (модуль крупности до 1,0) | C33: м3 | D33: 1.144 | E33: =E31*D33 -> 5390.0475 | F33: ='материалы к ЛСР№2'!F16 -> 0 | G33: =F33*E33 -> 0
A34: 02.02.05. | B34: Засыпка пазух
A35: 02.02.05.00 | B35: Засыпка пазух | G35: =G36+G38 -> 0
B36: Работа: | G36: =SUM(G37:G37) -> 0
B37: Засыпка пазух котлована песком в плотном теле | C37: м3 | E37: 14670.25 | F37: =VLOOKUP(B37,'работа к ЛСР№2'!$B$23:$F$36,5,0) -> 0 | G37: =F37*E37 -> 0 | H37: с виброуплотнением
B38: Материалы | G38: =SUM(G39:G39) -> 0
B39: Песок для отсыпки (модуль крупности до 1,0) | C39: м3 | D39: 1.144 | E39: =E37*D39 -> 16782.766 | F39: ='материалы к ЛСР№2'!F19 -> 0 | G39: =F39*E39 -> 0
A40: 02.02. | B40: Устройство фундамента
A41: 02.04.01. | B41: Срубка оголовков свай
A42: 02.04.01.00 | B42: Срубка оголовков свай | G42: =G43+G45 -> 0
B43: Работа: | G43: =SUM(G44:G44) -> 0
B44: Срубка оголовков свай | C44: шт | E44: 24 | F44: ='работа к ЛСР№2'!F36 -> 0 | G44: =F44*E44 -> 0
B45: Материалы: | G45: =SUM(G46:G46) -> 0
B46: - | G46: =F46*E46 -> 0
...

Sheet работа к ЛСР №1
J1: Приложение №7
B3: ПОДРЯДЧИК: | C3: ЗАКАЗЧИК: | H3: ТЕХНИЧЕСКИЙ ЗАКАЗЧИК:
A8: Ведомость работ
A9: Обустройство строительной площадки ГП-77
A10: № п/п | B10: Наименование | C10: Ед. изм. | D10: Норма расхода | E10: Толщина,м | F10: Кол-во | G10: Цена за ед. | H10: Сумма | I10: Примечание | J10: Форма закупа материала
A11: 01 | B11: Подготовительные работы
A12: 01.05. | B12: Обустройство строительной площадки
A13: 01.05.01. | B13: Снятие верхнего растительного слоя
A14: 01.05.01.00 | B14: Снятие верхнего растительного слоя
B15: Работа:
B16: Снятие верхнего растительного слоя в плотном теле | C16: м3 | E16: 0.7 | F16: 29922.48 | H16: =G16*F16 -> 0
A17: 01.05.03. | B17: Транспортировка грунта
A18: 01.05.03.00 | B18: Транспортировка грунта
B19: Работа:
B20: Транспортировка грунта с утилизацией в рыхлом теле | C20: м3 | D20: 1.15 | F20: 34410.852 | H20: =G20*F20 -> 0 | I20: до 40км
B21: Погрузка грунта в плотном теле | C21: м3 | D21: 1.15 | F21: 34410.852 | H21: =G21*F21 -> 0
A22: 01.05.04. | B22: Отсыпка территории
A23: 01.05.04.00 | B23: Отсыпка территории
B24: Работа:
B25: Отсыпка территории песком под уровень с трамбованием в плотном теле | C25: м3 | F25: 57542.2 | H25: =G25*F25 -> 0
A26: 01.05.99. | B26: Прочие работы
A27: 01.05.99.00 | B27: Прочие работы
B28: Работа:
B29: Вывоз ж/б мусора с утилизацией | C29: тн | F29: 7000 | H29: =G29*F29 -> 0
B30: Вывоз мусора с утилизацией | C30: м3 | F30: 7000 | H30: =G30*F30 -> 0
A31: 01.06. | B31: Временные проезды
A32: 01.06.01. | B32: Монтаж плит
A33: 01.06.01.00 | B33: Монтаж плит
B34: Работа:
B35: Монтаж плит дорожных | C35: шт. | F35: 435 | H35: =G35*F35 -> 0 | I35: учитывать перевозку с Беринга-2
A36: 01.06.04. | B36: Устройство поста мойки колес
A37: 01.06.04.00 | B37: Устройство поста мойки колес
B38: Работа:
B39: Устройство поста мойки колес | C39: шт | F39: 1 | H39: =G39*F39 -> 0
B40: Итого стоимость работ | H40: =SUM(H16:H39) -> 0
B41: ПРИМЕЧАНИЕ:
A42: Стоимость строительно-монтажных работ (СМР) учитывает прямые затраты, накладные расходы, сметную прибыль, затраты на все второстепенные, сопутсвующие (расходные) материалы и работы необходимые для осуществления полного комплекса работ, включая затраты: на мобилизацию, аренду и эксплуатацию всех необходимых механизмов, оборудования и инструментов, бытовых помещений и биотуалетов; выполнение сопутствующих работ; вывоз мусора; налоги и иные издержки Подрядчика.
A43: Стоимость материалов учитывает стоимость доставки до объекта строительства
A44: Коэффициент разрыхления = 1,15

Sheet материалы к ЛСР №1 
J1: Приложение №7
B3: ПОДРЯДЧИК: | C3: ЗАКАЗЧИК: | H3: ТЕХНИЧЕСКИЙ ЗАКАЗЧИК:
A8: Ведомость материалов
A9: Обустройство строительной площадки ГП-77
A10: № п/п | B10: Наименование | C10: Ед. изм. | D10: Норма расхода | E10: Толщина,м | F10: Кол-во | G10: Цена за ед. | H10: Сумма | I10: Примечание | J10: Форма закупа материала
A11: 01 | B11: Подготовительные работы
A12: 01.05. | B12: Обустройство строительной площадки
A13: 01.05.04. | B13: Отсыпка территории
A14: 01.05.04.00 | B14: Отсыпка территории
B15: Песок для отсыпки (модуль крупности до 1,0) | C15: м3 | D15: 1.144 | F15: 65828.277 | H15: =G15*F15 -> 0
A16: 01.06.01. | B16: Монтаж плит
A17: 01.06.01.00 | B17: Монтаж плит
B18: Щебень 20-40 | C18: м3 | F18: 5 | H18: =G18*F18 -> 0
B19: Бетон В7,5 | C19: м3 | F19: 2 | H19: =G19*F19 -> 0
B20: Плита ПДН 6000х2000х140 | C20: шт. | F20: 435 | H20: 0 | J20: давальческий, б/у
A21: 01.06.04. | B21: Устройство поста мойки колес
A22: 01.06.04.00 | B22: Устройство поста мойки колес
B23: Кольцо КС 10-9 | C23: шт | F23: 1 | H23: =G23*F23 -> 0 | J23: давальческий, б/у
B24: Крышка колодца ПП 10-1 | C24: шт | F24: 1 | H24: =G24*F24 -> 0 | J24: давальческий, б/у
B25: Еврокуб 1000л | C25: шт | F25: 1 | H25: =G25*F25 -> 0 | J25: давальческий, б/у
B26: Щебень 20-40 | C26: м3 | F26: 2 | H26: =G26*F26 -> 0
B27: Труба Ø500х9 | C27: м.п. | F27: 6 | H27: =G27*F27 -> 0 | J27: давальческий, б/у
B28: Аппарат высокого давления (HD 10/21-4 S) | C28: шт. | F28: 1 | H28: =G28*F28 -> 0 | J28: давальческий, б/у
B29: Итого стоимость материалов: | H29: =SUM(H15:H28) -> 0
B30: ПРИМЕЧАНИЕ:
A31: Стоимость строительно-монтажных работ (СМР) учитывает прямые затраты, накладные расходы, сметную прибыль, затраты на все второстепенные, сопутсвующие (расходные) материалы и работы необходимые для осуществления полного комплекса работ, включая затраты: на мобилизацию, аренду и эксплуатацию всех необходимых механизмов, оборудования и инструментов, бытовых помещений и биотуалетов; выполнение сопутствующих работ; вывоз мусора; налоги и иные издержки Подрядчика.
A32: Стоимость материалов учитывает стоимость доставки до объекта строительства
A33: Коэффициент разрыхления = 1,15

Sheet работа к ЛСР№2
I1: Приложение №8
B4: ПОДРЯДЧИК: | C4: ЗАКАЗЧИК: | G4: ТЕХНИЧЕСКИЙ ЗАКАЗЧИК:
A9: Ведомость работ
A10: Устройство котлована ГП-77
A11: № п/п | B11: Наименование | C11: Ед. изм. | D11: Норма расхода | E11: Кол-во | F11: Цена за ед. | G11: Сумма | H11: Примечание | I11: Форма закупа материала
A12: 02 | B12: Фундамент
A13: 02.02. | B13: Устройство котлована
A14: 02.02.01. | B14: Выемка грунта
A15: 02.02.01.00 | B15: Выемка грунта
B16: Работа:
B17: Выемка грунта в плотном теле | C17: м3 | E17: 7360.59 | G17: =F17*E17 -> 0
B18: Выемка грунта в плотном теле | C18: м3 | G18: =F18*E18 -> 0 | H18: cкладирование грунта
B19: Выемка грунта в плотном теле | C19: м3 | E19: 1000 | G19: =F19*E19 -> 0 | H19: под башенный кран
A20: 02.02.02. | B20: Транспортировка грунта
A21: 02.02.02.00 | B21: Транспортировка грунта
B22: Работа:
B23: Транспортировка грунта на территорию другого ЖК в рыхлом теле | C23: м3 | D23: 1.15 | E23: 9614.6785 | G23: =F23*E23 -> 0
A24: 02.02.04. | B24: Отсыпка территории
A25: 02.02.04.00 | B25: Отсыпка территории
B26: Работа:
B27: Отсыпка территории песком под уровень с трамбованием в плотном теле | C27: м3 | E27: 4711.58 | G27: =F27*E27 -> 0 | H27: грунтовая подушка основания фундамента (перед устройством свайного поля)
A28: 02.02.05. | B28: Засыпка пазух
A29: 02.02.05.00 | B29: Засыпка пазух
B30: Работа:
B31: Засыпка пазух котлована песком в плотном теле | C31: м3 | E31: 14670.25 | G31: =F31*E31 -> 0 | H31: с виброуплотнением
A32: 02.02. | B32: Устройство фундамента
A33: 02.04.01. | B33: Срубка оголовков свай
A34: 02.04.01.00 | B34: Срубка оголовков свай
B35: Работа:
B36: Срубка оголовков свай | C36: шт | E36: 24 | G36: =F36*E36 -> 0
B37: Итого стоимость работ | G37: =SUM(G16:G36) -> 0
B38: ПРИМЕЧАНИЕ:
A39: Стоимость строительно-монтажных работ (СМР) учитывает прямые затраты, накладные расходы, сметную прибыль, затраты на все второстепенные, сопутсвующие (расходные) материалы и работы необходимые для осуществления полного комплекса работ, включая затраты: на мобилизацию, аренду и эксплуатацию всех необходимых механизмов, оборудования и инструментов, бытовых помещений и биотуалетов; выполнение сопутствующих работ; вывоз мусора; налоги и иные издержки Подрядчика.
A40: Стоимость материалов учитывает стоимость доставки до объекта строительства
A41: Коэффициент разрыхления = 1,15

Sheet материалы к ЛСР№2
I1: Приложение №8
B4: ПОДРЯДЧИК: | C4: ЗАКАЗЧИК: | G4: ТЕХНИЧЕСКИЙ ЗАКАЗЧИК:
A9: Ведомость работ
A10: Устройство котлована ГП-77
A11: № п/п | B11: Наименование | C11: Ед. изм. | D11: Норма расхода | E11: Кол-во | F11: Цена за ед. | G11: Сумма | H11: Примечание | I11: Форма закупа материала
A12: 02 | B12: Фундамент
A13: 02.02. | B13: Устройство котлована
A14: 02.02.04. | B14: Отсыпка территории
A15: 02.02.04.00 | B15: Отсыпка территории
B16: Песок для отсыпки (модуль крупности до 1,0) | C16: м3 | D16: 1.144 | E16: 5390.0475 | G16: =F16*E16 -> 0
A17: 02.02.05. | B17: Засыпка пазух
A18: 02.02.05.00 | B18: Засыпка пазух
B19: Песок для отсыпки (модуль крупности до 1,0) | C19: м3 | D19: 1.144 | E19: 16782.766 | G19: =F19*E19 -> 0
B20: Итого по ЛСР: | G20: =SUM(G16:G19) -> 0
B21: ПРИМЕЧАНИЕ:
A22: Стоимость строительно-монтажных работ (СМР) учитывает прямые затраты, накладные расходы, сметную прибыль, затраты на все второстепенные, сопутсвующие (расходные) материалы и работы необходимые для осуществления полного комплекса работ, включая затраты: на мобилизацию, аренду и эксплуатацию всех необходимых механизмов, оборудования и инструментов, бытовых помещений и биотуалетов; выполнение сопутствующих работ; вывоз мусора; налоги и иные издержки Подрядчика.
A23: Стоимость материалов учитывает стоимость доставки до объекта строительства
A24: Коэффициент разрыхления = 1,15

Sheet работа
A4: № | B4: Наименование | C4: Ед. изм. | D4: №1 | E4: №2 | F4: №3 | G4: Кол-во | H4: Цена за ед. | I4: Сумма
B5: Снятие верхнего растительного слоя в плотном теле | C5: м3 | D5: =SUMIF(ЛСР№1!$B$11:$J$58,B5,ЛСР№1!$F$11:$F$58) -> 29922.48 | E5: =SUMIF(ЛСР№2!$B$12:$I$46,B5,ЛСР№2!$E$12:$E$46) -> 0 | F5: =SUMIF(#REF!,B5,#REF!) -> #REF! | G5: =SUM(D5:F5) -> #REF! | H5: 120 | I5: =H5*G5 -> #REF!
B6: Транспортировка грунта с утилизацией в рыхлом теле | C6: м3 | D6: =SUMIF(ЛСР№1!$B$11:$J$58,B6,ЛСР№1!$F$11:$F$58) -> 34410.852 | E6: =SUMIF(ЛСР№2!$B$12:$I$46,B6,ЛСР№2!$E$12:$E$46) -> 0 | F6: =SUMIF(#REF!,B6,#REF!) -> #REF! | G6: =SUM(D6:F6) -> #REF! | H6: 375 | I6: =H6*G6 -> #REF!
B7: Транспортировка грунта на территорию другого ЖК в рыхлом теле | C7: м3 | D7: =SUMIF(ЛСР№1!$B$11:$J$58,B7,ЛСР№1!$F$11:$F$58) -> 0 | E7: =SUMIF(ЛСР№2!$B$12:$I$46,B7,ЛСР№2!$E$12:$E$46) -> 9614.6785 | F7: =SUMIF(#REF!,B7,#REF!) -> #REF! | G7: =SUM(D7:F7) -> #REF! | H7: 307 | I7: =H7*G7 -> #REF!
B8: Транспортировка грунта в пределах строительного участка в рыхлом теле | C8: м3 | D8: =SUMIF(ЛСР№1!$B$11:$J$58,B8,ЛСР№1!$F$11:$F$58) -> 0 | E8: =SUMIF(ЛСР№2!$B$12:$I$46,B8,ЛСР№2!$E$12:$E$46) -> 0 | F8: =SUMIF(#REF!,B8,#REF!) -> #REF! | G8: =SUM(D8:F8) -> #REF! | H8: 110 | I8: =H8*G8 -> #REF!
B9: Выемка грунта в плотном теле | C9: м3 | D9: =SUMIF(ЛСР№1!$B$11:$J$58,B9,ЛСР№1!$F$11:$F$58) -> 0 | E9: =SUMIF(ЛСР№2!$B$12:$I$46,B9,ЛСР№2!$E$12:$E$46) -> 8360.59 | F9: =SUMIF(#REF!,B9,#REF!) -> #REF! | G9: =SUM(D9:F9) -> #REF! | H9: 140 | I9: =H9*G9 -> #REF!
B10: Погрузка грунта в плотном теле | C10: м3 | D10: =SUMIF(ЛСР№1!$B$11:$J$58,B10,ЛСР№1!$F$11:$F$58) -> 34410.852 | E10: =SUMIF(ЛСР№2!$B$12:$I$46,B10,ЛСР№2!$E$12:$E$46) -> 0 | F10: =SUMIF(#REF!,B10,#REF!) -> #REF! | G10: =SUM(D10:F10) -> #REF! | H10: 120 | I10: =H10*G10 -> #REF!
B11: Отсыпка территории песком под уровень с трамбованием в плотном теле | C11: м3 | D11: =SUMIF(ЛСР№1!$B$11:$J$58,B11,ЛСР№1!$F$11:$F$58) -> 57542.2 | E11: =SUMIF(ЛСР№2!$B$12:$I$46,B11,ЛСР№2!$E$12:$E$46) -> 4711.58 | F11: =SUMIF(#REF!,B11,#REF!) -> #REF! | G11: =SUM(D11:F11) -> #REF! | H11: 100 | I11: =H11*G11 -> #REF!
B12: Засыпка пазух котлована песком в плотном теле | C12: м3 | D12: =SUMIF(ЛСР№1!$B$11:$J$58,B12,ЛСР№1!$F$11:$F$58) -> 0 | E12: =SUMIF(ЛСР№2!$B$12:$I$46,B12,ЛСР№2!$E$12:$E$46) -> 14670.25 | F12: =SUMIF(#REF!,B12,#REF!) -> #REF! | G12: =SUM(D12:F12) -> #REF! | H12: 110 | I12: =H12*G12 -> #REF!
B13: Монтаж плит дорожных | C13: шт | D13: =SUMIF(ЛСР№1!$B$11:$J$58,B13,ЛСР№1!$F$11:$F$58) -> 435 | E13: =SUMIF(ЛСР№2!$B$12:$I$46,B13,ЛСР№2!$E$12:$E$46) -> 0 | F13: =SUMIF(#REF!,B13,#REF!) -> #REF! | G13: =SUM(D13:F13) -> #REF! | H13: 3000 | I13: =H13*G13 -> #REF!
B14: Устройство поста мойки колес | C14: шт | D14: =SUMIF(ЛСР№1!$B$11:$J$58,B14,ЛСР№1!$F$11:$F$58) -> 1 | E14: =SUMIF(ЛСР№2!$B$12:$I$46,B14,ЛСР№2!$E$12:$E$46) -> 0 | F14: =SUMIF(#REF!,B14,#REF!) -> #REF! | G14: =SUM(D14:F14) -> #REF! | H14: 20000 | I14: =H14*G14 -> #REF!
B15: Вывоз ж/б мусора с утилизацией | C15: тн | D15: =SUMIF(ЛСР№1!$B$11:$J$58,B15,ЛСР№1!$F$11:$F$58) -> 7000 | E15: =SUMIF(ЛСР№2!$B$12:$I$46,B15,ЛСР№2!$E$12:$E$46) -> 0 | F15: =SUMIF(#REF!,B15,#REF!) -> #REF! | G15: =SUM(D15:F15) -> #REF! | H15: 2500 | I15: =H15*G15 -> #REF!
B16: Вывоз мусора с утилизацией | C16: м3 | D16: =SUMIF(ЛСР№1!$B$11:$J$58,B16,ЛСР№1!$F$11:$F$58) -> 7000 | E16: =SUMIF(ЛСР№2!$B$12:$I$46,B16,ЛСР№2!$E$12:$E$46) -> 0 | F16: =SUMIF(#REF!,B16,#REF!) -> #REF! | G16: =SUM(D16:F16) -> #REF! | H16: 500 | I16: =H16*G16 -> #REF!
B17: Срубка оголовков свай | C17: шт | D17: =SUMIF(ЛСР№1!$B$11:$J$58,B17,ЛСР№1!$F$11:$F$58) -> 0 | E17: =SUMIF(ЛСР№2!$B$12:$I$46,B17,ЛСР№2!$E$12:$E$46) -> 24 | F17: =SUMIF(#REF!,B17,#REF!) -> #REF! | G17: =SUM(D17:F17) -> #REF! | H17: 1400 | I17: =H17*G17 -> #REF!
I18: =SUM(I5:I17) -> #REF!
I19: =I18-ЛСР№1!H60-ЛСР№2!G48-#REF! -> #REF!

Sheet материал
A2: № | B2: Наименование | C2: Ед. изм. | D2: №1 | E2: №2 | F2: №3 | G2: Кол-во | H2: Цена за ед. | I2: Сумма | J2: Форма закупа материала | K2: Примечание
B3: Песок для отсыпки (модуль крупности до 1,0) | C3: м3 | D3: =SUMIF(ЛСР№1!$B$11:$J$58,B3,ЛСР№1!$F$11:$F$58) -> 65828.277 | E3: =SUMIF(ЛСР№2!$B$12:$I$46,B3,ЛСР№2!$E$12:$E$46) -> 22172.814 | F3: =SUMIF(#REF!,B3,#REF!) -> #REF! | G3: =SUM(D3:F3) -> #REF! | H3: 685 | I3: =H3*G3 -> #REF! | J3: Закуп подрядчика | K3: Тюменьнеруд счет от 1.07.24
B4: Щебень 20-40 | C4: м3 | D4: =SUMIF(ЛСР№1!$B$11:$J$58,B4,ЛСР№1!$F$11:$F$58) -> 7 | E4: =SUMIF(ЛСР№2!$B$12:$I$46,B4,ЛСР№2!$E$12:$E$46) -> 0 | F4: =SUMIF(#REF!,B4,#REF!) -> #REF! | G4: =SUM(D4:F4) -> #REF! | H4: 2550 | I4: =H4*G4 -> #REF! | J4: Закуп подрядчика | K4: ИП Литовкин счет 320 от 29.06.24
B5: Бетон В7,5 | C5: м3 | D5: =SUMIF(ЛСР№1!$B$11:$J$58,B5,ЛСР№1!$F$11:$F$58) -> 2 | E5: =SUMIF(ЛСР№2!$B$12:$I$46,B5,ЛСР№2!$E$12:$E$46) -> 0 | F5: =SUMIF(#REF!,B5,#REF!) -> #REF! | G5: =SUM(D5:F5) -> #REF! | H5: 9450 | I5: =H5*G5 -> #REF! | J5: Закуп подрядчика | K5: Еаробетон сч 1309 рт 28.06
B6: Плита ПДН 6000х2000х140 тип 1 | C6: шт. | D6: =SUMIF(ЛСР№1!$B$11:$J$58,B6,ЛСР№1!$F$11:$F$58) -> 0 | E6: =SUMIF(ЛСР№2!$B$12:$I$46,B6,ЛСР№2!$E$12:$E$46) -> 0 | F6: =SUMIF(#REF!,B6,#REF!) -> #REF! | G6: =SUM(D6:F6) -> #REF! | H6: 30800 | I6: =H6*G6 -> #REF! | J6: Закуп подрядчика в 2024г. | K6: ЖБИ 1 сч 174 от 1.07
B7: Плита ПДН 6000х2000х140 тип 2 | C7: шт. | D7: =SUMIF(ЛСР№1!$B$11:$J$58,B7,ЛСР№1!$F$11:$F$58) -> 0 | E7: =SUMIF(ЛСР№2!$B$12:$I$46,B7,ЛСР№2!$E$12:$E$46) -> 0 | F7: =SUMIF(#REF!,B7,#REF!) -> #REF! | G7: =SUM(D7:F7) -> #REF! | H7: 30600 | I7: =H7*G7 -> #REF! | J7: Закуп ЭНКО в 2025г. | K7: Бетонстрой КП
B8: Аппарат высокого давления (HD 10/21-4 S) | C8: шт. | D8: =SUMIF(ЛСР№1!$B$11:$J$58,B8,ЛСР№1!$F$11:$F$58) -> 1 | E8: =SUMIF(ЛСР№2!$B$12:$I$46,B8,ЛСР№2!$E$12:$E$46) -> 0 | F8: =SUMIF(#REF!,B8,#REF!) -> #REF! | G8: =SUM(D8:F8) -> #REF! | H8: 0 | I8: =H8*G8 -> #REF! | J8: Б/У
B9: Кольцо КС 10-9 | C9: шт | D9: =SUMIF(ЛСР№1!$B$11:$J$58,B9,ЛСР№1!$F$11:$F$58) -> 1 | E9: =SUMIF(ЛСР№2!$B$12:$I$46,B9,ЛСР№2!$E$12:$E$46) -> 0 | F9: =SUMIF(#REF!,B9,#REF!) -> #REF! | G9: =SUM(D9:F9) -> #REF! | H9: 4150 | I9: =H9*G9 -> #REF! | J9: Закуп подрядчика | K9: Астар Групп УТ-2115 от 1.07
B10: Крышка колодца ПП 10-1 | C10: шт | D10: =SUMIF(ЛСР№1!$B$11:$J$58,B10,ЛСР№1!$F$11:$F$58) -> 1 | E10: =SUMIF(ЛСР№2!$B$12:$I$46,B10,ЛСР№2!$E$12:$E$46) -> 0 | F10: =SUMIF(#REF!,B10,#REF!) -> #REF! | G10: =SUM(D10:F10) -> #REF! | H10: 4150 | I10: =H10*G10 -> #REF! | J10: Закуп подрядчика | K10: Астар Групп УТ-2115 от 1.07
B11: Еврокуб 1000л | C11: шт | D11: =SUMIF(ЛСР№1!$B$11:$J$58,B11,ЛСР№1!$F$11:$F$58) -> 1 | E11: =SUMIF(ЛСР№2!$B$12:$I$46,B11,ЛСР№2!$E$12:$E$46) -> 0 | F11: =SUMIF(#REF!,B11,#REF!) -> #REF! | G11: =SUM(D11:F11) -> #REF! | H11: 11400 | I11: =H11*G11 -> #REF! | J11: Закуп подрядчика | K11: ИП Булатова УТ 484 от 1.07
B12: Труба Ø500х9 (2 полутрубы) | C12: м.п. | D12: =SUMIF(ЛСР№1!$B$11:$J$58,B12,ЛСР№1!$F$11:$F$58) -> 0 | E12: =SUMIF(ЛСР№2!$B$12:$I$46,B12,ЛСР№2!$E$12:$E$46) -> 0 | F12: =SUMIF(#REF!,B12,#REF!) -> #REF! | G12: =SUM(D12:F12) -> #REF! | H12: 0 | I12: =H12*G12 -> #REF! | J12: Б/У
I13: =SUM(I3:I12) -> #REF!
I14: =I13-ЛСР№1!H61-ЛСР№2!G49-#REF! -> #REF!
