Workbook

Sheet ЛСР
B2: Локальный сметный расчет (ЛСР) №1
B3: Объект: «Жилой район «Преображенский» в г. Тюмени. Квартал 8. Участок 72:17:1313004:1005. Многоэтажный жилой дом с нежилыми помещениями ГП-72.215» Секция 1
B4: Ведомость объемов работ и расхода материалов по работе: Черновая отделка полов и сопутствующим работам (согласно проекту шифр АР, стадия Р)
A6: № | B6: Наименование | C6: Артикул, марка, производитель | D6: Характеристика | E6: Ед. изм. | F6: Норма расхода | G6: Секция 1 | H6: Количество | I6: Цена за ед., руб | J6: Сумма, руб | K6: Примечание | L6: Форма закупа материала
A8: 09 | B8: Внутренняя отделка
A9: 09.01 | B9: Черновая отделка полов | J9: =SUM($J$84,$J$68,$J$10) -> 0
A10: 09.01.01 | B10: Устройство стяжки в квартирах и МОП | J10: =SUM($J$11) -> 0
A11: 09.01.01.00 | B11: Устройство стяжки в квартирах и МОП | J11: =SUM($J$60,$J$58,$J$50,$J$48,$J$40,$J$38,$J$29,$J$27,$J$25,$J$23,$J$20,$J$18,$J$14,$J$12) -> 0
B12: Работы: | J12: =SUM($J$13) -> 0
B13: Заделка тех. отверстий | E13: м3 | G13: 5.26 | H13: =SUM($G$13:$G$13) -> 5.26 | I13: {=INDEX(Р[Цена за ед., руб],MATCH(1,IF(($B13=Р[Наименование])*($K13=Р[Примечание]),{1},($B13=Р[Наименование])*($K13=Р[Примечание])),0))} -> 0 | J13: =ROUND($H$13*$I$13,2) -> 0
B14: Материалы: | J14: =SUM($J$15:$J$17) -> 0
A15: 1 | B15: Арматура | D15: А500С Ø8 ГОСТ 34028-2016 | E15: т | F15: 1.03 | G15: 0.089 | H15: =SUM($G$15:$G$15) -> 0.089 | I15: =VLOOKUP(B15,М[#All],6,0) -> 0 | J15: =ROUND($H$15*$I$15,2) -> 0 | L15: Закупка подрядчик
A16: 2 | B16: Бетон БСТ B20 | D16: БСТ B20 | E16: м3 | F16: 1.015 | G16: 5.34 | H16: =SUM($G$16:$G$16) -> 5.34 | I16: =VLOOKUP(B16,М[#All],6,0) -> 0 | J16: =ROUND($H$16*$I$16,2) -> 0 | L16: Закупка подрядчик
A17: 3 | B17: Сетка кладочная сварная Вр-1 50х50х2 | D17: кладочная сварная Вр-1 50х50х2 | E17: м2 | F17: 1.1 | G17: 32.15 | H17: =SUM($G$17:$G$17) -> 32.15 | I17: =VLOOKUP(B17,М[#All],6,0) -> 0 | J17: =ROUND($H$17*$I$17,2) -> 0 | L17: Закупка подрядчик
B18: Работы: | J18: =SUM($J$19) -> 0
B19: Изоляция для стяжки | E19: м2 | G19: 1477.05 | H19: =SUM($G$19:$G$19) -> 1477.05 | I19: {=INDEX(Р[Цена за ед., руб],MATCH(1,IF(($B19=Р[Наименование])*($K19=Р[Примечание]),{1},($B19=Р[Наименование])*($K19=Р[Примечание])),0))} -> 0 | J19: =ROUND($H$19*$I$19,2) -> 0 | K19: С заведением на стены 300 мм за 2 раза
B20: Материалы: | J20: =SUM($J$21:$J$22) -> 0
A21: 1 | B21: Лента гидроизоляционная 120х70мм | D21: 120х70мм | E21: пог. м | F21: 1.05 | G21: =(1.05+0.218)*G19 -> 1872.8994 | H21: =SUM($G$21:$G$21) -> 1872.8994 | I21: =VLOOKUP(B21,М[#All],6,0) -> 0 | J21: =ROUND($H$21*$I$21,2) -> 0 | L21: Закупка подрядчик
A22: 2 | B22: Гидроизоляция обмазочная цементная | C22: CR 65 Waterproof, Ceresit | D22: обмазочная цементная | E22: кг | F22: 4 | G22: 5908.2 | H22: =SUM($G$22:$G$22) -> 5908.2 | I22: =VLOOKUP(B22,М[#All],6,0) -> 0 | J22: =ROUND($H$22*$I$22,2) -> 0 | K22: CR 65 Waterproof, Ceresit | L22: Закупка подрядчик
B23: Работы: | J23: =SUM($J$24) -> 0
B24: Устройство сетки | E24: м2 | G24: 2026.73 | H24: =SUM($G$24:$G$24) -> 2026.73 | I24: {=INDEX(Р[Цена за ед., руб],MATCH(1,IF(($B24=Р[Наименование])*($K24=Р[Примечание]),{1},($B24=Р[Наименование])*($K24=Р[Примечание])),0))} -> 0 | J24: =ROUND($H$24*$I$24,2) -> 0
B25: Материалы: | J25: =SUM($J$26) -> 0
A26: 1 | B26: Сетка ЦПВС оцинк. 20х0,7х0,3 | D26: ЦПВС оцинк. 20х0,7х0,3 | E26: м2 | F26: 1.05 | G26: 2128.04 | H26: =SUM($G$26:$G$26) -> 2128.04 | I26: =VLOOKUP(B26,М[#All],6,0) -> 0 | J26: =ROUND($H$26*$I$26,2) -> 0 | L26: Закупка подрядчик
B27: Работы: | J27: =SUM($J$28) -> 0
B28: Устройство стяжки - тип 1 | E28: м2 | G28: 7754.66 | H28: =SUM($G$28:$G$28) -> 7754.66 | I28: {=INDEX(Р[Цена за ед., руб],MATCH(1,IF(($B28=Р[Наименование])*($K28=Р[Примечание]),{1},($B28=Р[Наименование])*($K28=Р[Примечание])),0))} -> 0 | J28: =ROUND($H$28*$I$28,2) -> 0 | K28: Тип 1 - вспененный полиэтилен + стяжка + краевая изоляция. Помещения квартир: коридоры, комнаты, кухни, прихожие - типовой этаж - 80 мм
B29: Материалы: | J29: =SUM($J$30:$J$37) -> 0
A30: 1 | B30: Лента клейкая армированная ТПЛ 48мм | D30: армированная ТПЛ 48мм | E30: м | F30: 1.05 | G30: 14488.48 | H30: =SUM($G$30:$G$30) -> 14488.48 | I30: =VLOOKUP(B30,М[#All],6,0) -> 0 | J30: =ROUND($H$30*$I$30,2) -> 0 | L30: Закупка подрядчик
A31: 2 | B31: Цемент ПЦ-400 Д20 | D31: ПЦ-400 Д20 | E31: кг | F31: 460 | G31: 285370.35 | H31: =SUM($G$31:$G$31) -> 285370.35 | I31: =VLOOKUP(B31,М[#All],6,0) -> 0 | J31: =ROUND($H$31*$I$31,2) -> 0 | L31: Закупка подрядчик
A32: 3 | B32: Песок среднезернистый МК 1,7-2,0; ГЧ до 3% | D32: среднезернистый МК 1,7-2,0; ГЧ до 3% | E32: т | F32: 1.723 | G32: 1068.56 | H32: =SUM($G$32:$G$32) -> 1068.56 | I32: =VLOOKUP(B32,М[#All],6,0) -> 0 | J32: =ROUND($H$32*$I$32,2) -> 0 | L32: Закупка подрядчик
A33: 4 | B33: Полиэтилен вспененный химически сшитый 10мм | D33: химически сшитый 10мм | E33: м2 | F33: 1.05 | G33: 8089.74 | H33: =SUM($G$33:$G$33) -> 8089.74 | I33: =VLOOKUP(B33,М[#All],6,0) -> 0 | J33: =ROUND($H$33*$I$33,2) -> 0 | L33: Закупка подрядчик
A34: 5 | B34: Герметик акриловый | D34: акриловый | E34: туб. | F34: 2.1 | G34: 379 | H34: =SUM($G$34:$G$34) -> 379 | I34: =VLOOKUP(B34,М[#All],6,0) -> 0 | J34: =ROUND($H$34*$I$34,2) -> 0 | K34: Стиз В, туба - 600 мл - наносится внутри квартиры у оконного блока открытого балкона | L34: Закупка подрядчик
A35: 6 | B35: Фиброволокно полипропиленовое 12мм | D35: полипропиленовое 12мм | E35: кг | F35: 0.4 | G35: 248.14 | H35: =SUM($G$35:$G$35) -> 248.14 | I35: =VLOOKUP(B35,М[#All],6,0) -> 0 | J35: =ROUND($H$35*$I$35,2) -> 0 | L35: Закупка подрядчик
A36: 7 | B36: Лента кромочная демпферная 8х100мм 20м | D36: 8х100мм 20м | E36: шт | F36: 1.05 | G36: 416 | H36: =SUM($G$36:$G$36) -> 416 | I36: =VLOOKUP(B36,М[#All],6,0) -> 0 | J36: =ROUND($H$36*$I$36,2) -> 0 | L36: Закупка подрядчик
A37: 8 | B37: Пластификатор противоморозный | D37: противоморозный | E37: л (дм3) | F37: 1 | G37: 620.35 | H37: =SUM($G$37:$G$37) -> 620.35 | I37: =VLOOKUP(B37,М[#All],6,0) -> 0 | J37: =ROUND($H$37*$I$37,2) -> 0 | L37: Закупка подрядчик
B38: Работы: | J38: =SUM($J$39) -> 0
B39: Устройство стяжки - тип 2 | E39: м2 | G39: 487.94 | H39: =SUM($G$39:$G$39) -> 487.94 | I39: {=INDEX(Р[Цена за ед., руб],MATCH(1,IF(($B39=Р[Наименование])*($K39=Р[Примечание]),{1},($B39=Р[Наименование])*($K39=Р[Примечание])),0))} -> 0 | J39: =ROUND($H$39*$I$39,2) -> 0 | K39: Тип 2 - теплоизоляция + стяжка + краевая изоляция. Вестибюль, тамбур, колясочная, лифтовой тамбур - 50 мм, нежелые помещения, помещения квартир: коридоры, комнаты, кухни, прихожие (1 этаж) - 80 мм
B40: Материалы: | J40: =SUM($J$41:$J$47) -> 0
A41: 1 | B41: Лента клейкая армированная ТПЛ 48мм | D41: армированная ТПЛ 48мм | E41: м | F41: 1.05 | G41: 404.1 | H41: =SUM($G$41:$G$41) -> 404.1 | I41: =VLOOKUP(B41,М[#All],6,0) -> 0 | J41: =ROUND($H$41*$I$41,2) -> 0 | L41: Закупка подрядчик
A42: 2 | B42: Пенополистирол экструзионный 50мм 30 кг/м3 | D42: экструзионный 50мм 30 кг/м3 | E42: м3 | F42: 1.03 | G42: 25.14 | H42: =SUM($G$42:$G$42) -> 25.14 | I42: =VLOOKUP(B42,М[#All],6,0) -> 0 | J42: =ROUND($H$42*$I$42,2) -> 0 | L42: Закупка подрядчик
A43: 3 | B43: Цемент ПЦ-400 Д20 | D43: ПЦ-400 Д20 | E43: кг | F43: 460 | G43: 15793.82 | H43: =SUM($G$43:$G$43) -> 15793.82 | I43: =VLOOKUP(B43,М[#All],6,0) -> 0 | J43: =ROUND($H$43*$I$43,2) -> 0 | L43: Закупка подрядчик
...

Sheet Работы
A1: Сводная ведомость объемов работ
A3: Наименование | B3: Ед. изм. | C3: Количество | D3: Цена за ед., руб | E3: Сумма, руб | F3: Примечание
A4: Заделка тех. отверстий | B4: м3 | C4: 5.26 | E4: =ROUND(Р[[#This Row],[Количество]]*Р[[#This Row],[Цена за ед., руб]],2) -> 0
A5: Изоляция для стяжки | B5: м2 | C5: 1477.05 | E5: =ROUND(Р[[#This Row],[Количество]]*Р[[#This Row],[Цена за ед., руб]],2) -> 0 | F5: С заведением на стены 300 мм за 2 раза
A6: Устройство сетки | B6: м2 | C6: 2026.73 | E6: =ROUND(Р[[#This Row],[Количество]]*Р[[#This Row],[Цена за ед., руб]],2) -> 0
A7: Устройство стяжки - тип 1 | B7: м2 | C7: 7754.66 | E7: =ROUND(Р[[#This Row],[Количество]]*Р[[#This Row],[Цена за ед., руб]],2) -> 0 | F7: Тип 1 - вспененный полиэтилен + стяжка + краевая изоляция. Помещения квартир: коридоры, комнаты, кухни, прихожие - типовой этаж - 80 мм
A8: Устройство стяжки - тип 2 | B8: м2 | C8: 487.94 | E8: =ROUND(Р[[#This Row],[Количество]]*Р[[#This Row],[Цена за ед., руб]],2) -> 0 | F8: Тип 2 - теплоизоляция + стяжка + краевая изоляция. Вестибюль, тамбур, колясочная, лифтовой тамбур - 50 мм, нежелые помещения, помещения квартир: коридоры, комнаты, кухни, прихожие (1 этаж) - 80 мм
A9: Устройство стяжки - тип 3 | B9: м2 | C9: 32.75 | E9: =ROUND(Р[[#This Row],[Количество]]*Р[[#This Row],[Цена за ед., руб]],2) -> 0 | F9: Тип 3 - теплоизоляция + обмазочная изоляция за 2 раза с заведением на стены 300 мм + стяжка. КУИ - 50 мм, сан узлы (квартиры 1 эт.) - 60 мм, сан узлы нежелых помещений - 65 мм;
A10: Устройство стяжки - тип 4 | B10: м2 | C10: 1525.06 | E10: =ROUND(Р[[#This Row],[Количество]]*Р[[#This Row],[Цена за ед., руб]],2) -> 0 | F10: Тип 4 - грунтовка + стяжка + краевая изоляция. Лестничная клетка - 60 мм, лифтовой тамбур, коридор - 80 мм, электрощитовая, помещение связи - 135 мм, ИТП, насосная - 75 мм
A11: Изоляция для стяжки на открытых балконах | B11: м2 | C11: 325.19 | E11: =ROUND(Р[[#This Row],[Количество]]*Р[[#This Row],[Цена за ед., руб]],2) -> 0 | F11: в 1 слой
A12: Устройство стяжки на открытых балконах | B12: м2 | C12: 227.42 | E12: =ROUND(Р[[#This Row],[Количество]]*Р[[#This Row],[Цена за ед., руб]],2) -> 0
A13: Монтаж уголка с огрунтовкой и окраской | B13: пог. м | C13: 122.75 | E13: =ROUND(Р[[#This Row],[Количество]]*Р[[#This Row],[Цена за ед., руб]],2) -> 0
A14: Итог | D14: Итого: | E14: =SUBTOTAL(109,Р[Сумма, руб]) -> 0
D15: Проверка: | E15: =Р[[#Totals],[Сумма, руб]]-ЛСР!J95 -> 0

Sheet Материалы
A1: Сводная ведомость объемов материала
A3: Наим. | B3: Артикул, марка, произв. | C3: Хар-ка | D3: Ед. изм. | E3: Количество | F3: Цена за ед., руб | G3: Сумма, руб | H3: Прим. | I3: Форма закупа
A4: Арматура | B4: =VLOOKUP(М[[#This Row],[Наим.]],ЛСР!$B$6:$L$92,2,0) -> 0 | C4: =VLOOKUP(М[[#This Row],[Наим.]],ЛСР!$B$6:$L$92,3,0) -> А500С Ø8 ГОСТ 34028-2016 | D4: =VLOOKUP(М[[#This Row],[Наим.]],ЛСР!$B$6:$L$92,4,0) -> т | E4: =SUMIF(ЛСР!$B$6:$B$92,$A4,ЛСР!$H$6:$H$92) -> 0.089 | G4: =ROUND(М[[#This Row],[Количество]]*М[[#This Row],[Цена за ед., руб]],2) -> 0 | H4: =VLOOKUP(М[[#This Row],[Наим.]],ЛСР!$B$6:$L$92,10,0) -> 0 | I4: =VLOOKUP(М[[#This Row],[Наим.]],ЛСР!$B$6:$L$92,11,0) -> Закупка подрядчик
A5: Бетон БСТ B20 | B5: =VLOOKUP(М[[#This Row],[Наим.]],ЛСР!$B$6:$L$92,2,0) -> 0 | C5: =VLOOKUP(М[[#This Row],[Наим.]],ЛСР!$B$6:$L$92,3,0) -> БСТ B20 | D5: =VLOOKUP(М[[#This Row],[Наим.]],ЛСР!$B$6:$L$92,4,0) -> м3 | E5: =SUMIF(ЛСР!$B$6:$B$92,$A5,ЛСР!$H$6:$H$92) -> 5.34 | G5: =ROUND(М[[#This Row],[Количество]]*М[[#This Row],[Цена за ед., руб]],2) -> 0 | H5: =VLOOKUP(М[[#This Row],[Наим.]],ЛСР!$B$6:$L$92,10,0) -> 0 | I5: =VLOOKUP(М[[#This Row],[Наим.]],ЛСР!$B$6:$L$92,11,0) -> Закупка подрядчик
A6: Сетка кладочная сварная Вр-1 50х50х2 | B6: =VLOOKUP(М[[#This Row],[Наим.]],ЛСР!$B$6:$L$92,2,0) -> 0 | C6: =VLOOKUP(М[[#This Row],[Наим.]],ЛСР!$B$6:$L$92,3,0) -> кладочная сварная Вр-1 50х50х2 | D6: =VLOOKUP(М[[#This Row],[Наим.]],ЛСР!$B$6:$L$92,4,0) -> м2 | E6: =SUMIF(ЛСР!$B$6:$B$92,$A6,ЛСР!$H$6:$H$92) -> 282.31 | G6: =ROUND(М[[#This Row],[Количество]]*М[[#This Row],[Цена за ед., руб]],2) -> 0 | H6: =VLOOKUP(М[[#This Row],[Наим.]],ЛСР!$B$6:$L$92,10,0) -> 0 | I6: =VLOOKUP(М[[#This Row],[Наим.]],ЛСР!$B$6:$L$92,11,0) -> Закупка подрядчик
A7: Лента гидроизоляционная 120х70мм | B7: =VLOOKUP(М[[#This Row],[Наим.]],ЛСР!$B$6:$L$92,2,0) -> 0 | C7: =VLOOKUP(М[[#This Row],[Наим.]],ЛСР!$B$6:$L$92,3,0) -> 120х70мм | D7: =VLOOKUP(М[[#This Row],[Наим.]],ЛСР!$B$6:$L$92,4,0) -> пог. м | E7: =SUMIF(ЛСР!$B$6:$B$92,$A7,ЛСР!$H$6:$H$92) -> 1939.3492 | G7: =ROUND(М[[#This Row],[Количество]]*М[[#This Row],[Цена за ед., руб]],2) -> 0 | H7: =VLOOKUP(М[[#This Row],[Наим.]],ЛСР!$B$6:$L$92,10,0) -> 0 | I7: =VLOOKUP(М[[#This Row],[Наим.]],ЛСР!$B$6:$L$92,11,0) -> Закупка подрядчик
A8: Гидроизоляция обмазочная цементная | B8: =VLOOKUP(М[[#This Row],[Наим.]],ЛСР!$B$6:$L$92,2,0) -> CR 65 Waterproof, Ceresit | C8: =VLOOKUP(М[[#This Row],[Наим.]],ЛСР!$B$6:$L$92,3,0) -> обмазочная цементная | D8: =VLOOKUP(М[[#This Row],[Наим.]],ЛСР!$B$6:$L$92,4,0) -> кг | E8: =SUMIF(ЛСР!$B$6:$B$92,$A8,ЛСР!$H$6:$H$92) -> 6113.48 | G8: =ROUND(М[[#This Row],[Количество]]*М[[#This Row],[Цена за ед., руб]],2) -> 0 | H8: =VLOOKUP(М[[#This Row],[Наим.]],ЛСР!$B$6:$L$92,10,0) -> CR 65 Waterproof, Ceresit | I8: =VLOOKUP(М[[#This Row],[Наим.]],ЛСР!$B$6:$L$92,11,0) -> Закупка подрядчик
A9: Сетка ЦПВС оцинк. 20х0,7х0,3 | B9: =VLOOKUP(М[[#This Row],[Наим.]],ЛСР!$B$6:$L$92,2,0) -> 0 | C9: =VLOOKUP(М[[#This Row],[Наим.]],ЛСР!$B$6:$L$92,3,0) -> ЦПВС оцинк. 20х0,7х0,3 | D9: =VLOOKUP(М[[#This Row],[Наим.]],ЛСР!$B$6:$L$92,4,0) -> м2 | E9: =SUMIF(ЛСР!$B$6:$B$92,$A9,ЛСР!$H$6:$H$92) -> 2128.04 | G9: =ROUND(М[[#This Row],[Количество]]*М[[#This Row],[Цена за ед., руб]],2) -> 0 | H9: =VLOOKUP(М[[#This Row],[Наим.]],ЛСР!$B$6:$L$92,10,0) -> 0 | I9: =VLOOKUP(М[[#This Row],[Наим.]],ЛСР!$B$6:$L$92,11,0) -> Закупка подрядчик
A10: Лента клейкая армированная ТПЛ 48мм | B10: =VLOOKUP(М[[#This Row],[Наим.]],ЛСР!$B$6:$L$92,2,0) -> 0 | C10: =VLOOKUP(М[[#This Row],[Наим.]],ЛСР!$B$6:$L$92,3,0) -> армированная ТПЛ 48мм | D10: =VLOOKUP(М[[#This Row],[Наим.]],ЛСР!$B$6:$L$92,4,0) -> м | E10: =SUMIF(ЛСР!$B$6:$B$92,$A10,ЛСР!$H$6:$H$92) -> 16596.95 | G10: =ROUND(М[[#This Row],[Количество]]*М[[#This Row],[Цена за ед., руб]],2) -> 0 | H10: =VLOOKUP(М[[#This Row],[Наим.]],ЛСР!$B$6:$L$92,10,0) -> 0 | I10: =VLOOKUP(М[[#This Row],[Наим.]],ЛСР!$B$6:$L$92,11,0) -> Закупка подрядчик
A11: Цемент ПЦ-400 Д20 | B11: =VLOOKUP(М[[#This Row],[Наим.]],ЛСР!$B$6:$L$92,2,0) -> 0 | C11: =VLOOKUP(М[[#This Row],[Наим.]],ЛСР!$B$6:$L$92,3,0) -> ПЦ-400 Д20 | D11: =VLOOKUP(М[[#This Row],[Наим.]],ЛСР!$B$6:$L$92,4,0) -> кг | E11: =SUMIF(ЛСР!$B$6:$B$92,$A11,ЛСР!$H$6:$H$92) -> 361237.02 | G11: =ROUND(М[[#This Row],[Количество]]*М[[#This Row],[Цена за ед., руб]],2) -> 0 | H11: =VLOOKUP(М[[#This Row],[Наим.]],ЛСР!$B$6:$L$92,10,0) -> 0 | I11: =VLOOKUP(М[[#This Row],[Наим.]],ЛСР!$B$6:$L$92,11,0) -> Закупка подрядчик
A12: Песок среднезернистый МК 1,7-2,0; ГЧ до 3% | B12: =VLOOKUP(М[[#This Row],[Наим.]],ЛСР!$B$6:$L$92,2,0) -> 0 | C12: =VLOOKUP(М[[#This Row],[Наим.]],ЛСР!$B$6:$L$92,3,0) -> среднезернистый МК 1,7-2,0; ГЧ до 3% | D12: =VLOOKUP(М[[#This Row],[Наим.]],ЛСР!$B$6:$L$92,4,0) -> т | E12: =SUMIF(ЛСР!$B$6:$B$92,$A12,ЛСР!$H$6:$H$92) -> 1352.85 | G12: =ROUND(М[[#This Row],[Количество]]*М[[#This Row],[Цена за ед., руб]],2) -> 0 | H12: =VLOOKUP(М[[#This Row],[Наим.]],ЛСР!$B$6:$L$92,10,0) -> 0 | I12: =VLOOKUP(М[[#This Row],[Наим.]],ЛСР!$B$6:$L$92,11,0) -> Закупка подрядчик
A13: Полиэтилен вспененный химически сшитый 10мм | B13: =VLOOKUP(М[[#This Row],[Наим.]],ЛСР!$B$6:$L$92,2,0) -> 0 | C13: =VLOOKUP(М[[#This Row],[Наим.]],ЛСР!$B$6:$L$92,3,0) -> химически сшитый 10мм | D13: =VLOOKUP(М[[#This Row],[Наим.]],ЛСР!$B$6:$L$92,4,0) -> м2 | E13: =SUMIF(ЛСР!$B$6:$B$92,$A13,ЛСР!$H$6:$H$92) -> 8089.74 | G13: =ROUND(М[[#This Row],[Количество]]*М[[#This Row],[Цена за ед., руб]],2) -> 0 | H13: =VLOOKUP(М[[#This Row],[Наим.]],ЛСР!$B$6:$L$92,10,0) -> 0 | I13: =VLOOKUP(М[[#This Row],[Наим.]],ЛСР!$B$6:$L$92,11,0) -> Закупка подрядчик
A14: Герметик акриловый | B14: =VLOOKUP(М[[#This Row],[Наим.]],ЛСР!$B$6:$L$92,2,0) -> 0 | C14: =VLOOKUP(М[[#This Row],[Наим.]],ЛСР!$B$6:$L$92,3,0) -> акриловый | D14: =VLOOKUP(М[[#This Row],[Наим.]],ЛСР!$B$6:$L$92,4,0) -> туб. | E14: =SUMIF(ЛСР!$B$6:$B$92,$A14,ЛСР!$H$6:$H$92) -> 774 | G14: =ROUND(М[[#This Row],[Количество]]*М[[#This Row],[Цена за ед., руб]],2) -> 0 | H14: =VLOOKUP(М[[#This Row],[Наим.]],ЛСР!$B$6:$L$92,10,0) -> Стиз В, туба - 600 мл - наносится внутри квартиры у оконного блока открытого балкона | I14: =VLOOKUP(М[[#This Row],[Наим.]],ЛСР!$B$6:$L$92,11,0) -> Закупка подрядчик
A15: Фиброволокно полипропиленовое 12мм | B15: =VLOOKUP(М[[#This Row],[Наим.]],ЛСР!$B$6:$L$92,2,0) -> 0 | C15: =VLOOKUP(М[[#This Row],[Наим.]],ЛСР!$B$6:$L$92,3,0) -> полипропиленовое 12мм | D15: =VLOOKUP(М[[#This Row],[Наим.]],ЛСР!$B$6:$L$92,4,0) -> кг | E15: =SUMIF(ЛСР!$B$6:$B$92,$A15,ЛСР!$H$6:$H$92) -> 310.47 | G15: =ROUND(М[[#This Row],[Количество]]*М[[#This Row],[Цена за ед., руб]],2) -> 0 | H15: =VLOOKUP(М[[#This Row],[Наим.]],ЛСР!$B$6:$L$92,10,0) -> 0 | I15: =VLOOKUP(М[[#This Row],[Наим.]],ЛСР!$B$6:$L$92,11,0) -> Закупка подрядчик
... A26: Эмаль по металлу RAL7035 | B26: =VLOOKUP(М[[#This Row],[Наим.]],ЛСР!$B$6:$L$92,2,0) -> 0 | C26: =VLOOKUP(М[[#This Row],[Наим.]],ЛСР!$B$6:$L$92,3,0) -> по металлу RAL7035 | D26: =VLOOKUP(М[[#This Row],[Наим.]],ЛСР!$B$6:$L$92,4,0) -> л (дм3) | E26: =SUMIF(ЛСР!$B$6:$B$92,$A26,ЛСР!$H$6:$H$92) -> 9.28 | G26: =ROUND(М[[#This Row],[Количество]]*М[[#This Row],[Цена за ед., руб]],2) -> 0 | H26: =VLOOKUP(М[[#This Row],[Наим.]],ЛСР!$B$6:$L$92,10,0) -> 0 | I26: =VLOOKUP(М[[#This Row],[Наим.]],ЛСР!$B$6:$L$92,11,0) -> Закупка подрядчик
A27: Итог | F27: Итого: | G27: =SUBTOTAL(109,М[Сумма, руб]) -> 0
F28: Проверка: | G28: =М[[#Totals],[Сумма, руб]]-ЛСР!J96 -> 0

Sheet ПараметрыЗагрузки
A1: ЛСР | B1: ЛСРГуид
A2: ГП-72.215.01.09.01 Секция 1_Черновая отделка полов №1 | B2: 2a9df7da-1175-11f1-9618-db392af1e994
