Workbook

Sheet ЛСР
B2: Локальный сметный расчет (ЛСР) №1
B3: Объект: «Жилой район «Преображенский» в г. Тюмени. Квартал 8. Участок 72:17:1313004:1005. Многоэтажный жилой дом с нежилыми помещениями ГП-72.214» Секция 1, 2
B4: Ведомость объемов работ и расхода материалов по работе: Устройство кровли и сопутствующим работам (согласно проекту шифр АС, стадия Р)
A6: № | B6: Наименование | C6: Артикул, марка, производитель | D6: Характеристика | E6: Ед. изм. | F6: Норма расхода | G6: Секция 1 | H6: Секция 2 | I6: Количество | J6: Цена за ед., руб | K6: Сумма, руб | L6: Примечание | M6: Форма закупа материала
A8: 04 | B8: Кровля
A9: 04.01 | B9: Устройство кровли | K9: =SUM($K$137,$K$127,$K$112,$K$51,$K$10) -> 0
A10: 04.01.01 | B10: Устройство основного пирога наплавляемой кровли | K10: =SUM($K$11) -> 0
A11: 04.01.01.00 | B11: Устройство основного пирога кровли | K11: =SUM($K$48,$K$46,$K$44,$K$42,$K$40,$K$38,$K$34,$K$32,$K$28,$K$26,$K$23,$K$21,$K$18,$K$16,$K$14,$K$12) -> 0
B12: Работы: | K12: =SUM($K$13) -> 0
B13: Нанесение битумного праймера под гидроизоляцию | E13: м2 | G13: 488.4 | H13: 488.32 | I13: =SUM($G$13:$H$13) -> 976.72 | J13: =VLOOKUP(B13,Работы!$B$3:$I$23,6,0) -> 0 | K13: =ROUND($I$13*$J$13,2) -> 0 | L13: в т.ч. в местах примыкания
B14: Материалы: | K14: =SUM($K$15) -> 0
A15: 1 | B15: Праймер битумный | C15: №01, Технониколь | D15: битумный | E15: л (дм3) | F15: 0.3 | G15: =G13*F15 -> 146.52 | H15: =H13*F15 -> 146.496 | I15: =SUM($G$15:$H$15) -> 293.016 | J15: =VLOOKUP(B15,Материалы!$B$2:$K$37,8,0) -> 0 | K15: =ROUND($I$15*$J$15,2) -> 0 | L15: №01, Технониколь | M15: Закупка подрядчик
B16: Работы: | K16: =SUM($K$17) -> 0
B17: Укладка пароизоляции по подготовленному основанию насухо (с проклейкой швов) | E17: м2 | G17: 483.16 | H17: 488.32 | I17: =SUM($G$17:$H$17) -> 971.48 | J17: =VLOOKUP(B17,Работы!$B$3:$I$23,6,0) -> 0 | K17: =ROUND($I$17*$J$17,2) -> 0
B18: Материалы: | K18: =SUM($K$19:$K$20) -> 0
A19: 1 | B19: Пленка строительная | C19: D, Изоспан | D19: гидропароизоляционная | E19: м2 | F19: 1.1 | G19: 535 | H19: 540 | I19: =SUM($G$19:$H$19) -> 1075 | J19: =VLOOKUP(B19,Материалы!$B$2:$K$37,8,0) -> 0 | K19: =ROUND($I$19*$J$19,2) -> 0 | L19: D, Изоспан | M19: Закупка подрядчик
A20: 2 | B20: Лента клейкая | C20: KL+, Изоспан | D20: усиленная двухсторонняя 25мм,25м | E20: шт | G20: 13 | H20: 14 | I20: =SUM($G$20:$H$20) -> 27 | J20: =VLOOKUP(B20,Материалы!$B$2:$K$37,8,0) -> 0 | K20: =ROUND($I$20*$J$20,2) -> 0 | L20: KL+, Изоспан | M20: Закупка подрядчик
B21: Работы: | K21: =SUM($K$22) -> 0
B22: Укладка утеплителя толщ. 200мм. | E22: м2 | G22: 483.16 | H22: 488.32 | I22: =SUM($G$22:$H$22) -> 971.48 | J22: =VLOOKUP(B22,Работы!$B$3:$I$23,6,0) -> 0 | K22: =ROUND($I$22*$J$22,2) -> 0
B23: Материалы: | K23: =SUM($K$24:$K$25) -> 0
A24: 1 | B24: Пенополистирол экструзионный 1180х580х100мм 35кг/м3 | D24: экструзионный 1180х580х100мм 35кг/м3 | E24: м3 | F24: 1.03 | G24: 99.53 | H24: 100.59 | I24: =SUM($G$24:$H$24) -> 200.12 | J24: =VLOOKUP(B24,Материалы!$B$2:$K$37,8,0) -> 0 | K24: =ROUND($I$24*$J$24,2) -> 0 | L24: В два слоя | M24: Закупка подрядчик
A25: 2 | B25: Пена монтажная противопожарная | D25: противопожарная | E25: баллон | G25: 19 | H25: 20 | I25: =SUM($G$25:$H$25) -> 39 | J25: =VLOOKUP(B25,Материалы!$B$2:$K$37,8,0) -> 0 | K25: =ROUND($I$25*$J$25,2) -> 0 | M25: Закупка подрядчик
B26: Работы: | K26: =SUM($K$27) -> 0
B27: Устройство кровель плоских из наплавляемых материалов в 2 слоя | E27: м2 | G27: 488.4 | H27: 488.32 | I27: =SUM($G$27:$H$27) -> 976.72 | J27: =VLOOKUP(B27,Работы!$B$3:$I$23,6,0) -> 0 | K27: =ROUND($I$27*$J$27,2) -> 0
B28: Материалы: | K28: =SUM($K$29:$K$31) -> 0
A29: 1 | B29: Унифлекс ЭКП 10х1м | D29: ЭКП 10х1м | E29: м2 | F29: 1.14 | G29: 556.77 | H29: 556.68 | I29: =SUM($G$29:$H$29) -> 1113.45 | J29: =VLOOKUP(B29,Материалы!$B$2:$K$37,8,0) -> 0 | K29: =ROUND($I$29*$J$29,2) -> 0 | M29: Закупка подрядчик
A30: 2 | B30: Унифлекс ЭПП 10х1м | D30: ЭПП 10х1м | E30: м2 | F30: 1.16 | G30: 566.54 | H30: 566.45 | I30: =SUM($G$30:$H$30) -> 1132.99 | J30: =VLOOKUP(B30,Материалы!$B$2:$K$37,8,0) -> 0 | K30: =ROUND($I$30*$J$30,2) -> 0 | M30: Закупка подрядчик
A31: 3 | B31: Газ-пропан | E31: л (дм3) | F31: 0.94 | G31: 459.09 | H31: 459.02 | I31: =SUM($G$31:$H$31) -> 918.11 | J31: =VLOOKUP(B31,Материалы!$B$2:$K$37,8,0) -> 0 | K31: =ROUND($I$31*$J$31,2) -> 0 | M31: Закупка подрядчик
B32: Работы: | K32: =SUM($K$33) -> 0
B33: Устройство стяжек сборных из плоских асбестоцементных листов плоских (2слоя) | E33: м2 | G33: 483.16 | H33: 488.32 | I33: =SUM($G$33:$H$33) -> 971.48 | J33: =VLOOKUP(B33,Работы!$B$3:$I$23,6,0) -> 0 | K33: =ROUND($I$33*$J$33,2) -> 0
B34: Материалы: | K34: =SUM($K$35:$K$37) -> 0
A35: 1 | B35: Лист асбестоцементный ЛП-П 10мм | D35: ЛП-П 10мм | E35: м2 | F35: 2.05 | G35: =G33*F35 -> 990.478 | H35: 1025.47 | I35: =SUM($G$35:$H$35) -> 2015.948 | J35: =VLOOKUP(B35,Материалы!$B$2:$K$37,8,0) -> 0 | K35: =ROUND($I$35*$J$35,2) -> 0 | L35: в 2 слоя | M35: Закупка подрядчик
A36: 2 | B36: Кляймер | D36: 10мм двойной гнутый для плоского шифера | E36: шт | F36: 4 | G36: 1934 | H36: 1954 | I36: =SUM($G$36:$H$36) -> 3888 | J36: =VLOOKUP(B36,Материалы!$B$2:$K$37,8,0) -> 0 | K36: =ROUND($I$36*$J$36,2) -> 0 | M36: Закупка подрядчик
A37: 3 | B37: Саморезы по дереву 3,5х45 | D37: по дереву 3,5х45 | E37: шт | F37: 5 | G37: 2416 | H37: 2442 | I37: =SUM($G$37:$H$37) -> 4858 | J37: =VLOOKUP(B37,Материалы!$B$2:$K$37,8,0) -> 0 | K37: =ROUND($I$37*$J$37,2) -> 0 | M37: Закупка подрядчик
B38: Работы: | K38: =SUM($K$39) -> 0
B39: Устройство уклонообразующего слоя из керамзита с разуклонкой | E39: м2 | G39: 483.16 | H39: 488.32 | I39: =SUM($G$39:$H$39) -> 971.48 | J39: =VLOOKUP(B39,Работы!$B$3:$I$23,6,0) -> 0 | K39: =ROUND($I$39*$J$39,2) -> 0 | L39: толщ.50-250мм
B40: Материалы: | K40: =SUM($K$41) -> 0
A41: 1 | B41: Керамзит | D41: фр.10-20мм | E41: м3 | F41: 1.05 | G41: 93.01 | H41: 94 | I41: =SUM($G$41:$H$41) -> 187.01 | J41: =VLOOKUP(B41,Материалы!$B$2:$K$37,8,0) -> 0 | K41: =ROUND($I$41*$J$41,2) -> 0 | M41: Закупка подрядчик
B42: Работы: | K42: =SUM($K$43) -> 0
B43: Устройство уклонообразующего слоя из цементно-песчаной стяжки с разуклонкой | E43: м2 | G43: 2.49 | I43: =SUM($G$43:$H$43) -> 2.49 | J43: =VLOOKUP(B43,Работы!$B$3:$I$23,6,0) -> 0 | K43: =ROUND($I$43*$J$43,2) -> 0
B44: Материалы: | K44: =SUM($K$45) -> 0
A45: 1 | B45: Раствор строительный | D45: цементно-песчаный М100 | E45: м3 | F45: 1.1 | G45: 0.2 | I45: =SUM($G$45:$H$45) -> 0.2 | J45: =VLOOKUP(B45,Материалы!$B$2:$K$37,8,0) -> 0 | K45: =ROUND($I$45*$J$45,2) -> 0 | M45: Закупка подрядчик
B46: Работы: | K46: =SUM($K$47) -> 0
B47: Утепление парапетов | E47: м2 | G47: 137.99 | H47: 124.19 | I47: =SUM($G$47:$H$47) -> 262.18 | J47: =VLOOKUP(B47,Работы!$B$3:$I$23,6,0) -> 0 | K47: =ROUND($I$47*$J$47,2) -> 0
B48: Материалы: | K48: =SUM($K$49:$K$50) -> 0
A49: 1 | B49: Дюбель для теплоизоляции с термоголовкой 10х160 | D49: для теплоизоляции с термоголовкой 10х160 | E49: шт | F49: 7 | G49: 970 | H49: 870 | I49: =SUM($G$49:$H$49) -> 1840 | J49: =VLOOKUP(B49,Материалы!$B$2:$K$37,8,0) -> 0 | K49: =ROUND($I$49*$J$49,2) -> 0 | M49: Закупка подрядчик
A50: 2 | B50: Плита минераловатная 100мм 130 кг/м3 | D50: 100мм 130 кг/м3 | E50: м3 | F50: 1.07 | G50: 14.77 | H50: 13.29 | I50: =SUM($G$50:$H$50) -> 28.06 | J50: =VLOOKUP(B50,Материалы!$B$2:$K$37,8,0) -> 0 | K50: =ROUND($I$50*$J$50,2) -> 0 | M50: Закупка подрядчик
A51: 04.01.02 | B51: Устройство примыканий наплавляемой кровли | K51: =SUM($K$52) -> 0
A52: 04.01.02.00 | B52: Устройство примыканий наплавляемой кровли | K52: =SUM($K$110,$K$108,$K$105,$K$103,$K$96,$K$94,$K$90,$K$88,$K$85,$K$83,$K$76,$K$74,$K$72,$K$70,$K$66,$K$64,$K$61,$K$59,$K$55,$K$53) -> 0
B53: Работы: | K53: =SUM($K$54) -> 0
B54: Монтаж краевой рейки в примыканию к парапету с герметизацией по верху | E54: пог. м | G54: 96.43 | H54: 103.89 | I54: =SUM($G$54:$H$54) -> 200.32 | J54: =VLOOKUP(B54,Работы!$B$3:$I$23,6,0) -> 0 | K54: =ROUND($I$54*$J$54,2) -> 0
B55: Материалы: | K55: =SUM($K$56:$K$58) -> 0
A56: 1 | B56: Рейка краевая алюминиевая 3000х32х3,0 | D56: алюминиевая 3000х32х3,0 | E56: пог. м | F56: 1.07 | G56: 103.18 | H56: 111.16 | I56: =SUM($G$56:$H$56) -> 214.34 | J56: =VLOOKUP(B56,Материалы!$B$2:$K$37,8,0) -> 0 | K56: =ROUND($I$56*$J$56,2) -> 0 | M56: Закупка подрядчик
A57: 2 | B57: Герметик полиуретановый | D57: полиуретановый | E57: туб. | G57: 5 | H57: 6 | I57: =SUM($G$57:$H$57) -> 11 | J57: =VLOOKUP(B57,Материалы!$B$2:$K$37,8,0) -> 0 | K57: =ROUND($I$57*$J$57,2) -> 0 | M57: Закупка подрядчик
A58: 3 | B58: Дюбель-гвоздь 6х40 | D58: 6х40 | E58: шт | G58: 520 | H58: 560 | I58: =SUM($G$58:$H$58) -> 1080 | J58: =VLOOKUP(B58,Материалы!$B$2:$K$37,8,0) -> 0 | K58: =ROUND($I$58*$J$58,2) -> 0 | M58: Закупка подрядчик
B59: Работы: | K59: =SUM($K$60) -> 0
B60: Монтаж утеплителя (минплита) толщ.100мм | E60: м2 | G60: 152.67 | H60: 184.25 | I60: =SUM($G$60:$H$60) -> 336.92 | J60: =VLOOKUP(B60,Работы!$B$3:$I$23,6,0) -> 0 | K60: =ROUND($I$60*$J$60,2) -> 0
B61: Материалы: | K61: =SUM($K$62:$K$63) -> 0
A62: 1 | B62: Дюбель для теплоизоляции с термоголовкой 10х160 | D62: для теплоизоляции с термоголовкой 10х160 | E62: шт | F62: 7 | G62: 1070 | H62: 1290 | I62: =SUM($G$62:$H$62) -> 2360 | J62: =VLOOKUP(B62,Материалы!$B$2:$K$37,8,0) -> 0 | K62: =ROUND($I$62*$J$62,2) -> 0 | M62: Закупка подрядчик
A63: 2 | B63: Плита минераловатная 100мм 130 кг/м3 | D63: 100мм 130 кг/м3 | E63: м3 | F63: 1.07 | G63: 16.34 | H63: 19.72 | I63: =SUM($G$63:$H$63) -> 36.06 | J63: =VLOOKUP(B63,Материалы!$B$2:$K$37,8,0) -> 0 | K63: =ROUND($I$63*$J$63,2) -> 0 | M63: Закупка подрядчик
B64: Работы: | K64: =SUM($K$65) -> 0
B65: Монтаж утеплителя (минплита) толщ.150мм | E65: м2 | G65: 39.67 | H65: 38.3 | I65: =SUM($G$65:$H$65) -> 77.97 | J65: =VLOOKUP(B65,Работы!$B$3:$I$23,6,0) -> 0 | K65: =ROUND($I$65*$J$65,2) -> 0 | L65: Утеплитель до пола (вентшахты), присоединение секций h=0,4 м
B66: Материалы: | K66: =SUM($K$67:$K$69) -> 0
A67: 1 | B67: Дюбель для теплоизоляции с термоголовкой 10х220 | D67: для теплоизоляции с термоголовкой 10х220 | E67: шт | F67: 7 | G67: 285 | H67: 270 | I67: =SUM($G$67:$H$67) -> 555 | J67: =VLOOKUP(B67,Материалы!$B$2:$K$37,8,0) -> 0 | K67: =ROUND($I$67*$J$67,2) -> 0 | M67: Закупка подрядчик
A68: 2 | B68: Плита минераловатная 150мм 110 кг/м3 | D68: 150мм 110 кг/м3 | E68: м3 | F68: 1.07 | G68: 6.37 | H68: 6.15 | I68: =SUM($G$68:$H$68) -> 12.52 | J68: =VLOOKUP(B68,Материалы!$B$2:$K$37,8,0) -> 0 | K68: =ROUND($I$68*$J$68,2) -> 0 | M68: Закупка подрядчик
A69: 3 | B69: Пена монтажная противопожарная | D69: противопожарная | E69: баллон | G69: 3 | I69: =SUM($G$69:$H$69) -> 3 | J69: =VLOOKUP(B69,Материалы!$B$2:$K$37,8,0) -> 0 | K69: =ROUND($I$69*$J$69,2) -> 0 | M69: Закупка подрядчик
B70: Работы: | K70: =SUM($K$71) -> 0
B71: Нанесение битумного праймера под гидроизоляцию | E71: м2 | G71: 550.67 | H71: 580.6 | I71: =SUM($G$71:$H$71) -> 1131.27 | J71: =VLOOKUP(B71,Работы!$B$3:$I$23,6,0) -> 0 | K71: =ROUND($I$71*$J$71,2) -> 0 | L71: в т.ч. в местах примыкания
B72: Материалы: | K72: =SUM($K$73) -> 0
A73: 1 | B73: Праймер битумный | C73: №01, Технониколь | D73: битумный | E73: л (дм3) | F73: 0.3 | G73: 165.2 | H73: 174.18 | I73: =SUM($G$73:$H$73) -> 339.38 | J73: =VLOOKUP(B73,Материалы!$B$2:$K$37,8,0) -> 0 | K73: =ROUND($I$73*$J$73,2) -> 0 | L73: №01, Технониколь | M73: Закупка подрядчик
B74: Работы: | K74: =SUM($K$75) -> 0
B75: Обшивка асбестоцементными листами | E75: м2 | G75: 375.52 | H75: 395.95 | I75: =SUM($G$75:$H$75) -> 771.47 | J75: =VLOOKUP(B75,Работы!$B$3:$I$23,6,0) -> 0 | K75: =ROUND($I$75*$J$75,2) -> 0 | L75: вентшахты, кладки вокруг фановых труб, парапет
B76: Материалы: | K76: =SUM($K$77:$K$82) -> 0
A77: 1 | B77: Дюбель рамный металлический 10х202 | D77: рамный металлический 10х202 | E77: шт | G77: 150 | H77: 130 | I77: =SUM($G$77:$H$77) -> 280 | J77: =VLOOKUP(B77,Материалы!$B$2:$K$37,8,0) -> 0 | K77: =ROUND($I$77*$J$77,2) -> 0 | M77: Закупка подрядчик
A78: 2 | B78: Дюбель рамный металлический 10х152 | D78: рамный металлический 10х152 | E78: шт | G78: 2300 | H78: 2410 | I78: =SUM($G$78:$H$78) -> 4710 | J78: =VLOOKUP(B78,Материалы!$B$2:$K$37,8,0) -> 0 | K78: =ROUND($I$78*$J$78,2) -> 0 | M78: Закупка подрядчик
A79: 3 | B79: Лист асбестоцементный | D79: ЛП-П 10мм | E79: м2 | F79: 2.05 | G79: =G75*F79 -> 769.816 | H79: 831.5 | I79: =SUM($G$79:$H$79) -> 1601.316 | J79: =VLOOKUP(B79,Материалы!$B$2:$K$37,8,0) -> 0 | K79: =ROUND($I$79*$J$79,2) -> 0 | L79: в 2 слоя | M79: Закупка подрядчик
A80: 4 | B80: Доска обрезная антисептированная 50х100х6000 | D80: обрезная антисептированная 50х100х6000 | E80: м3 | F80: 1.05 | G80: 3.62 | H80: 3.79 | I80: =SUM($G$80:$H$80) -> 7.41 | J80: =VLOOKUP(B80,Материалы!$B$2:$K$37,8,0) -> 0 | K80: =ROUND($I$80*$J$80,2) -> 0 | M80: Закупка подрядчик
A81: 5 | B81: Доска обрезная антисептированная 50х150х6000 | D81: обрезная антисептированная 50х150х6000 | E81: м3 | F81: 1.05 | G81: 0.23 | H81: 0.2 | I81: =SUM($G$81:$H$81) -> 0.43 | J81: =VLOOKUP(B81,Материалы!$B$2:$K$37,8,0) -> 0 | K81: =ROUND($I$81*$J$81,2) -> 0 | M81: Закупка подрядчик
A82: 6 | B82: Саморезы по дереву 3,5х45 | D82: по дереву 3,5х45 | E82: шт | G82: 2852 | H82: 2841 | I82: =SUM($G$82:$H$82) -> 5693 | J82: =VLOOKUP(B82,Материалы!$B$2:$K$37,8,0) -> 0 | K82: =ROUND($I$82*$J$82,2) -> 0 | M82: Закупка подрядчик
B83: Работы: | K83: =SUM($K$84) -> 0
B84: Усиление примыканий, углов и стыков АЦЛ | E84: м2 | G84: 92.55 | H84: 94.22 | I84: =SUM($G$84:$H$84) -> 186.77 | J84: =VLOOKUP(B84,Работы!$B$3:$I$23,6,0) -> 0 | K84: =ROUND($I$84*$J$84,2) -> 0 | L84: 200мм - углы, 150мм- стыки
B85: Материалы: | K85: =SUM($K$86:$K$87) -> 0
A86: 1 | B86: Унифлекс ЭПП 10х1м | D86: ЭПП 10х1м | E86: м2 | F86: 1.1 | G86: 105 | H86: 105 | I86: =SUM($G$86:$H$86) -> 210 | J86: =VLOOKUP(B86,Материалы!$B$2:$K$37,8,0) -> 0 | K86: =ROUND($I$86*$J$86,2) -> 0 | M86: Закупка подрядчик
A87: 2 | B87: Газ-пропан | E87: л (дм3) | F87: 0.47 | G87: 43.5 | H87: 44.29 | I87: =SUM($G$87:$H$87) -> 87.79 | J87: =VLOOKUP(B87,Материалы!$B$2:$K$37,8,0) -> 0 | K87: =ROUND($I$87*$J$87,2) -> 0 | M87: Закупка подрядчик
B88: Работы: | K88: =SUM($K$89) -> 0
B89: Устройство галтели в примыканиях из асбестоцементных листов | E89: м2 | G89: 35.63 | H89: 36.4 | I89: =SUM($G$89:$H$89) -> 72.03 | J89: =VLOOKUP(B89,Работы!$B$3:$I$23,6,0) -> 0 | K89: =ROUND($I$89*$J$89,2) -> 0
B90: Материалы: | K90: =SUM($K$91:$K$93) -> 0
A91: 1 | B91: Лист асбестоцементный ЛП-П 10мм | D91: ЛП-П 10мм | E91: м2 | F91: 1.05 | G91: 37.41 | H91: 38.22 | I91: =SUM($G$91:$H$91) -> 75.63 | J91: =VLOOKUP(B91,Материалы!$B$2:$K$37,8,0) -> 0 | K91: =ROUND($I$91*$J$91,2) -> 0 | M91: Закупка подрядчик
A92: 2 | B92: Саморезы по дереву 3,5х45 | D92: по дереву 3,5х45 | E92: шт | G92: 422 | H92: 465 | I92: =SUM($G$92:$H$92) -> 887 | J92: =VLOOKUP(B92,Материалы!$B$2:$K$37,8,0) -> 0 | K92: =ROUND($I$92*$J$92,2) -> 0 | L92: шаг 300мм примыкание только к АЦЛ | M92: Закупка подрядчик
A93: 3 | B93: Дюбель-гвоздь 6х40 | D93: 6х40 | E93: шт | G93: 394 | H93: 343 | I93: =SUM($G$93:$H$93) -> 737 | J93: =VLOOKUP(B93,Материалы!$B$2:$K$37,8,0) -> 0 | K93: =ROUND($I$93*$J$93,2) -> 0 | L93: шаг 300мм, примыкание только к парапету | M93: Закупка подрядчик
B94: Работы: | K94: =SUM($K$95) -> 0
B95: Устройство примыканий водоизоляционного слоя и оклеечная гидроизоляция (2 слоя) | E95: м2 | G95: 550.67 | H95: 580.6 | I95: =SUM($G$95:$H$95) -> 1131.27 | J95: =VLOOKUP(B95,Работы!$B$3:$I$23,6,0) -> 0 | K95: =ROUND($I$95*$J$95,2) -> 0
B96: Материалы: | K96: =SUM($K$97:$K$102) -> 0
A97: 1 | B97: Унифлекс ЭКП 10х1м | D97: ЭКП 10х1м | E97: м2 | F97: 1.14 | G97: 627.77 | H97: 661.88 | I97: =SUM($G$97:$H$97) -> 1289.65 | J97: =VLOOKUP(B97,Материалы!$B$2:$K$37,8,0) -> 0 | K97: =ROUND($I$97*$J$97,2) -> 0 | M97: Закупка подрядчик
A98: 2 | B98: Унифлекс ЭПП 10х1м | D98: ЭПП 10х1м | E98: м2 | F98: 1.16 | G98: 585.42 | H98: 617.2 | I98: =SUM($G$98:$H$98) -> 1202.62 | J98: =VLOOKUP(B98,Материалы!$B$2:$K$37,8,0) -> 0 | K98: =ROUND($I$98*$J$98,2) -> 0 | M98: Закупка подрядчик
A99: 3 | B99: Газ-пропан | E99: л (дм3) | F99: 0.94 | G99: 678.28 | H99: 715.24 | I99: =SUM($G$99:$H$99) -> 1393.52 | J99: =VLOOKUP(B99,Материалы!$B$2:$K$37,8,0) -> 0 | K99: =ROUND($I$99*$J$99,2) -> 0 | M99: Закупка подрядчик
A100: 4 | B100: Пена монтажная противопожарная | D100: противопожарная | E100: баллон | G100: 1 | H100: 1 | I100: =SUM($G$100:$H$100) -> 2 | J100: =VLOOKUP(B100,Материалы!$B$2:$K$37,8,0) -> 0 | K100: =ROUND($I$100*$J$100,2) -> 0 | L100: устройство примыканий к выпускам труб | M100: Закупка подрядчик
A101: 5 | B101: Герметик полиуретановый | D101: полиуретановый | E101: туб. | G101: 1 | H101: 1 | I101: =SUM($G$101:$H$101) -> 2 | J101: =VLOOKUP(B101,Материалы!$B$2:$K$37,8,0) -> 0 | K101: =ROUND($I$101*$J$101,2) -> 0 | L101: устройство примыканий к выпускам труб | M101: Закупка подрядчик
A102: 6 | B102: Хомут червячный | D102: 120-140/12мм | E102: шт | G102: 4 | H102: 3 | I102: =SUM($G$102:$H$102) -> 7 | J102: =VLOOKUP(B102,Материалы!$B$2:$K$37,8,0) -> 0 | K102: =ROUND($I$102*$J$102,2) -> 0 | L102: устройство примыканий к выпускам труб | M102: Закупка подрядчик
B103: Работы: | K103: =SUM($K$104) -> 0
...

Sheet Работы
B1: Ведомость объемов работ
A2: № | B2: Наименование | C2: Ед. изм. | D2: секция 1 | E2: секция 2 | F2: Кол-во | G2: Цена за ед. | H2: Сумма | I2: Примечание
A3: =ROW()-2 -> 1 | B3: Нанесение битумного праймера под гидроизоляцию | C3: =VLOOKUP($B3,ЛСР!$B$6:$M$145,4,0) -> м2 | D3: =SUMIF(ЛСР!$B$6:$B$145,Работы!B3,ЛСР!$G$6:$G$145) -> 1039.07 | E3: =SUMIF(ЛСР!$B$6:$B$145,Работы!B3,ЛСР!$H$6:$H$145) -> 1068.92 | F3: =SUM(D3:E3) -> 2107.99 | H3: =ROUND(G3*F3,2) -> 0 | I3: =VLOOKUP($B3,ЛСР!$B$8:$M$145,11,0) -> в т.ч. в местах примыкания
A4: =ROW()-2 -> 2 | B4: Укладка пароизоляции по подготовленному основанию насухо (с проклейкой швов) | C4: =VLOOKUP($B4,ЛСР!$B$6:$M$145,4,0) -> м2 | D4: =SUMIF(ЛСР!$B$6:$B$145,Работы!B4,ЛСР!$G$6:$G$145) -> 483.16 | E4: =SUMIF(ЛСР!$B$6:$B$145,Работы!B4,ЛСР!$H$6:$H$145) -> 488.32 | F4: =SUM(D4:E4) -> 971.48 | H4: =ROUND(G4*F4,2) -> 0 | I4: =VLOOKUP($B4,ЛСР!$B$8:$M$145,11,0) -> 0
A5: =ROW()-2 -> 3 | B5: Укладка утеплителя толщ. 200мм. | C5: =VLOOKUP($B5,ЛСР!$B$6:$M$145,4,0) -> м2 | D5: =SUMIF(ЛСР!$B$6:$B$145,Работы!B5,ЛСР!$G$6:$G$145) -> 483.16 | E5: =SUMIF(ЛСР!$B$6:$B$145,Работы!B5,ЛСР!$H$6:$H$145) -> 488.32 | F5: =SUM(D5:E5) -> 971.48 | H5: =ROUND(G5*F5,2) -> 0 | I5: =VLOOKUP($B5,ЛСР!$B$8:$M$145,11,0) -> 0
A6: =ROW()-2 -> 4 | B6: Устройство кровель плоских из наплавляемых материалов в 2 слоя | C6: =VLOOKUP($B6,ЛСР!$B$6:$M$145,4,0) -> м2 | D6: =SUMIF(ЛСР!$B$6:$B$145,Работы!B6,ЛСР!$G$6:$G$145) -> 488.4 | E6: =SUMIF(ЛСР!$B$6:$B$145,Работы!B6,ЛСР!$H$6:$H$145) -> 488.32 | F6: =SUM(D6:E6) -> 976.72 | H6: =ROUND(G6*F6,2) -> 0 | I6: =VLOOKUP($B6,ЛСР!$B$8:$M$145,11,0) -> 0
A7: =ROW()-2 -> 5 | B7: Устройство стяжек сборных из плоских асбестоцементных листов плоских (2слоя) | C7: =VLOOKUP($B7,ЛСР!$B$6:$M$145,4,0) -> м2 | D7: =SUMIF(ЛСР!$B$6:$B$145,Работы!B7,ЛСР!$G$6:$G$145) -> 483.16 | E7: =SUMIF(ЛСР!$B$6:$B$145,Работы!B7,ЛСР!$H$6:$H$145) -> 488.32 | F7: =SUM(D7:E7) -> 971.48 | H7: =ROUND(G7*F7,2) -> 0 | I7: =VLOOKUP($B7,ЛСР!$B$8:$M$145,11,0) -> 0
A8: =ROW()-2 -> 6 | B8: Устройство уклонообразующего слоя из керамзита с разуклонкой | C8: =VLOOKUP($B8,ЛСР!$B$6:$M$145,4,0) -> м2 | D8: =SUMIF(ЛСР!$B$6:$B$145,Работы!B8,ЛСР!$G$6:$G$145) -> 483.16 | E8: =SUMIF(ЛСР!$B$6:$B$145,Работы!B8,ЛСР!$H$6:$H$145) -> 488.32 | F8: =SUM(D8:E8) -> 971.48 | H8: =ROUND(G8*F8,2) -> 0 | I8: =VLOOKUP($B8,ЛСР!$B$8:$M$145,11,0) -> толщ.50-250мм
A9: =ROW()-2 -> 7 | B9: Устройство уклонообразующего слоя из цементно-песчаной стяжки с разуклонкой | C9: =VLOOKUP($B9,ЛСР!$B$6:$M$145,4,0) -> м2 | D9: =SUMIF(ЛСР!$B$6:$B$145,Работы!B9,ЛСР!$G$6:$G$145) -> 2.49 | E9: =SUMIF(ЛСР!$B$6:$B$145,Работы!B9,ЛСР!$H$6:$H$145) -> 0 | F9: =SUM(D9:E9) -> 2.49 | H9: =ROUND(G9*F9,2) -> 0 | I9: =VLOOKUP($B9,ЛСР!$B$8:$M$145,11,0) -> 0
A10: =ROW()-2 -> 8 | B10: Утепление парапетов | C10: =VLOOKUP($B10,ЛСР!$B$6:$M$145,4,0) -> м2 | D10: =SUMIF(ЛСР!$B$6:$B$145,Работы!B10,ЛСР!$G$6:$G$145) -> 137.99 | E10: =SUMIF(ЛСР!$B$6:$B$145,Работы!B10,ЛСР!$H$6:$H$145) -> 124.19 | F10: =SUM(D10:E10) -> 262.18 | H10: =ROUND(G10*F10,2) -> 0 | I10: =VLOOKUP($B10,ЛСР!$B$8:$M$145,11,0) -> 0
A11: =ROW()-2 -> 9 | B11: Монтаж краевой рейки в примыканию к парапету с герметизацией по верху | C11: =VLOOKUP($B11,ЛСР!$B$6:$M$145,4,0) -> пог. м | D11: =SUMIF(ЛСР!$B$6:$B$145,Работы!B11,ЛСР!$G$6:$G$145) -> 96.43 | E11: =SUMIF(ЛСР!$B$6:$B$145,Работы!B11,ЛСР!$H$6:$H$145) -> 103.89 | F11: =SUM(D11:E11) -> 200.32 | H11: =ROUND(G11*F11,2) -> 0 | I11: =VLOOKUP($B11,ЛСР!$B$8:$M$145,11,0) -> 0
A12: =ROW()-2 -> 10 | B12: Монтаж утеплителя (минплита) толщ.100мм | C12: =VLOOKUP($B12,ЛСР!$B$6:$M$145,4,0) -> м2 | D12: =SUMIF(ЛСР!$B$6:$B$145,Работы!B12,ЛСР!$G$6:$G$145) -> 152.67 | E12: =SUMIF(ЛСР!$B$6:$B$145,Работы!B12,ЛСР!$H$6:$H$145) -> 184.25 | F12: =SUM(D12:E12) -> 336.92 | H12: =ROUND(G12*F12,2) -> 0 | I12: =VLOOKUP($B12,ЛСР!$B$8:$M$145,11,0) -> 0
A13: =ROW()-2 -> 11 | B13: Монтаж утеплителя (минплита) толщ.150мм | C13: =VLOOKUP($B13,ЛСР!$B$6:$M$145,4,0) -> м2 | D13: =SUMIF(ЛСР!$B$6:$B$145,Работы!B13,ЛСР!$G$6:$G$145) -> 39.67 | E13: =SUMIF(ЛСР!$B$6:$B$145,Работы!B13,ЛСР!$H$6:$H$145) -> 38.3 | F13: =SUM(D13:E13) -> 77.97 | H13: =ROUND(G13*F13,2) -> 0 | I13: =VLOOKUP($B13,ЛСР!$B$8:$M$145,11,0) -> Утеплитель до пола (вентшахты), присоединение секций h=0,4 м
A14: =ROW()-2 -> 12 | B14: Обшивка асбестоцементными листами | C14: =VLOOKUP($B14,ЛСР!$B$6:$M$145,4,0) -> м2 | D14: =SUMIF(ЛСР!$B$6:$B$145,Работы!B14,ЛСР!$G$6:$G$145) -> 375.52 | E14: =SUMIF(ЛСР!$B$6:$B$145,Работы!B14,ЛСР!$H$6:$H$145) -> 395.95 | F14: =SUM(D14:E14) -> 771.47 | H14: =ROUND(G14*F14,2) -> 0 | I14: =VLOOKUP($B14,ЛСР!$B$8:$M$145,11,0) -> вентшахты, кладки вокруг фановых труб, парапет
... A21: =ROW()-2 -> 19 | B21: Монтаж водоприемных воронок | C21: =VLOOKUP($B21,ЛСР!$B$6:$M$145,4,0) -> шт | D21: =SUMIF(ЛСР!$B$6:$B$145,Работы!B21,ЛСР!$G$6:$G$145) -> 3 | E21: =SUMIF(ЛСР!$B$6:$B$145,Работы!B21,ЛСР!$H$6:$H$145) -> 2 | F21: =SUM(D21:E21) -> 5 | H21: =ROUND(G21*F21,2) -> 0 | I21: =VLOOKUP($B21,ЛСР!$B$8:$M$145,11,0) -> 0
A22: =ROW()-2 -> 20 | B22: Монтаж фартука металлического | C22: пог. м | D22: =SUMIF(ЛСР!$B$6:$B$145,Работы!B22,ЛСР!$G$6:$G$145) -> 15.17 | E22: =SUMIF(ЛСР!$B$6:$B$145,Работы!B22,ЛСР!$H$6:$H$145) -> 0 | F22: =SUM(D22:E22) -> 15.17 | H22: =ROUND(G22*F22,2) -> 0 | I22: =VLOOKUP($B22,ЛСР!$B$8:$M$145,11,0) -> 0
A23: =ROW()-2 -> 21 | B23: Монтаж парапетных крышек | C23: пог. м | D23: =SUMIF(ЛСР!$B$6:$B$145,Работы!B23,ЛСР!$G$6:$G$145) -> 0 | E23: =SUMIF(ЛСР!$B$6:$B$145,Работы!B23,ЛСР!$H$6:$H$145) -> 111.52 | F23: =SUM(D23:E23) -> 111.52 | H23: =ROUND(G23*F23,2) -> 0 | I23: =VLOOKUP($B23,ЛСР!$B$8:$M$145,11,0) -> 0
G24: Итого: | H24: =SUM(H3:H23) -> 0
G25: Проверка: | H25: =H24-ЛСР!K147 -> 0

Sheet Материалы
B1: Спецификация материалов
A2: № | B2: Наименование | C2: Марка/ Завод изготовитель | D2: Характеристика | E2: Ед. изм. | F2: секция 1 | G2: секция 2 | H2: Кол-во | I2: Цена за ед. | J2: Сумма | K2: Примечание
A3: =ROW()-2 -> 1 | B3: Праймер битумный | C3: =VLOOKUP($B3,ЛСР!$B$6:$M$145,2,0) -> №01, Технониколь | D3: =VLOOKUP($B3,ЛСР!$B$6:$M$145,3,0) -> битумный | E3: =VLOOKUP($B3,ЛСР!$B$6:$M$145,4,0) -> л (дм3) | F3: =SUMIF(ЛСР!$B$6:$B$145,$B3,ЛСР!$G$6:$G$145) -> 311.72 | G3: =SUMIF(ЛСР!$B$6:$B$145,$B3,ЛСР!$H$6:$H$145) -> 320.676 | H3: =SUM(F3:G3) -> 632.396 | J3: =ROUND(I3*H3,2) -> 0 | K3: =VLOOKUP($B3,ЛСР!B6:M145,11,0) -> №01, Технониколь
A4: =ROW()-2 -> 2 | B4: Пленка строительная | C4: =VLOOKUP($B4,ЛСР!$B$6:$M$145,2,0) -> D, Изоспан | D4: =VLOOKUP($B4,ЛСР!$B$6:$M$145,3,0) -> гидропароизоляционная | E4: =VLOOKUP($B4,ЛСР!$B$6:$M$145,4,0) -> м2 | F4: =SUMIF(ЛСР!$B$6:$B$145,$B4,ЛСР!$G$6:$G$145) -> 680 | G4: =SUMIF(ЛСР!$B$6:$B$145,$B4,ЛСР!$H$6:$H$145) -> 695 | H4: =SUM(F4:G4) -> 1375 | J4: =ROUND(I4*H4,2) -> 0 | K4: =VLOOKUP($B4,ЛСР!B7:M146,11,0) -> D, Изоспан
A5: =ROW()-2 -> 3 | B5: Лента клейкая | C5: =VLOOKUP($B5,ЛСР!$B$6:$M$145,2,0) -> KL+, Изоспан | D5: =VLOOKUP($B5,ЛСР!$B$6:$M$145,3,0) -> усиленная двухсторонняя 25мм,25м | E5: =VLOOKUP($B5,ЛСР!$B$6:$M$145,4,0) -> шт | F5: =SUMIF(ЛСР!$B$6:$B$145,$B5,ЛСР!$G$6:$G$145) -> 17 | G5: =SUMIF(ЛСР!$B$6:$B$145,$B5,ЛСР!$H$6:$H$145) -> 18 | H5: =SUM(F5:G5) -> 35 | J5: =ROUND(I5*H5,2) -> 0 | K5: =VLOOKUP($B5,ЛСР!B8:M147,11,0) -> KL+, Изоспан
A6: =ROW()-2 -> 4 | B6: Пенополистирол экструзионный 1180х580х100мм 35кг/м3 | C6: =VLOOKUP($B6,ЛСР!$B$6:$M$145,2,0) -> 0 | D6: =VLOOKUP($B6,ЛСР!$B$6:$M$145,3,0) -> экструзионный 1180х580х100мм 35кг/м3 | E6: =VLOOKUP($B6,ЛСР!$B$6:$M$145,4,0) -> м3 | F6: =SUMIF(ЛСР!$B$6:$B$145,$B6,ЛСР!$G$6:$G$145) -> 99.53 | G6: =SUMIF(ЛСР!$B$6:$B$145,$B6,ЛСР!$H$6:$H$145) -> 100.59 | H6: =SUM(F6:G6) -> 200.12 | J6: =ROUND(I6*H6,2) -> 0 | K6: =VLOOKUP($B6,ЛСР!B9:M148,11,0) -> В два слоя
A7: =ROW()-2 -> 5 | B7: Пена монтажная противопожарная | C7: =VLOOKUP($B7,ЛСР!$B$6:$M$145,2,0) -> 0 | D7: =VLOOKUP($B7,ЛСР!$B$6:$M$145,3,0) -> противопожарная | E7: =VLOOKUP($B7,ЛСР!$B$6:$M$145,4,0) -> баллон | F7: =SUMIF(ЛСР!$B$6:$B$145,$B7,ЛСР!$G$6:$G$145) -> 25 | G7: =SUMIF(ЛСР!$B$6:$B$145,$B7,ЛСР!$H$6:$H$145) -> 23 | H7: =SUM(F7:G7) -> 48 | J7: =ROUND(I7*H7,2) -> 0 | K7: =VLOOKUP($B7,ЛСР!B10:M149,11,0) -> 0
A8: =ROW()-2 -> 6 | B8: Унифлекс ЭКП 10х1м | C8: =VLOOKUP($B8,ЛСР!$B$6:$M$145,2,0) -> 0 | D8: =VLOOKUP($B8,ЛСР!$B$6:$M$145,3,0) -> ЭКП 10х1м | E8: =VLOOKUP($B8,ЛСР!$B$6:$M$145,4,0) -> м2 | F8: =SUMIF(ЛСР!$B$6:$B$145,$B8,ЛСР!$G$6:$G$145) -> 1195.54 | G8: =SUMIF(ЛСР!$B$6:$B$145,$B8,ЛСР!$H$6:$H$145) -> 1229.56 | H8: =SUM(F8:G8) -> 2425.1 | J8: =ROUND(I8*H8,2) -> 0 | K8: =VLOOKUP($B8,ЛСР!B11:M150,11,0) -> 0
A9: =ROW()-2 -> 7 | B9: Унифлекс ЭПП 10х1м | C9: =VLOOKUP($B9,ЛСР!$B$6:$M$145,2,0) -> 0 | D9: =VLOOKUP($B9,ЛСР!$B$6:$M$145,3,0) -> ЭПП 10х1м | E9: =VLOOKUP($B9,ЛСР!$B$6:$M$145,4,0) -> м2 | F9: =SUMIF(ЛСР!$B$6:$B$145,$B9,ЛСР!$G$6:$G$145) -> 1270.96 | G9: =SUMIF(ЛСР!$B$6:$B$145,$B9,ЛСР!$H$6:$H$145) -> 1301.65 | H9: =SUM(F9:G9) -> 2572.61 | J9: =ROUND(I9*H9,2) -> 0 | K9: =VLOOKUP($B9,ЛСР!B12:M151,11,0) -> 0
A10: =ROW()-2 -> 8 | B10: Газ-пропан | C10: =VLOOKUP($B10,ЛСР!$B$6:$M$145,2,0) -> 0 | D10: =VLOOKUP($B10,ЛСР!$B$6:$M$145,3,0) -> 0 | E10: =VLOOKUP($B10,ЛСР!$B$6:$M$145,4,0) -> л (дм3) | F10: =SUMIF(ЛСР!$B$6:$B$145,$B10,ЛСР!$G$6:$G$145) -> 1180.87 | G10: =SUMIF(ЛСР!$B$6:$B$145,$B10,ЛСР!$H$6:$H$145) -> 1218.55 | H10: =SUM(F10:G10) -> 2399.42 | J10: =ROUND(I10*H10,2) -> 0 | K10: =VLOOKUP($B10,ЛСР!B13:M152,11,0) -> 0
A11: =ROW()-2 -> 9 | B11: Лист асбестоцементный ЛП-П 10мм | C11: =VLOOKUP($B11,ЛСР!$B$6:$M$145,2,0) -> 0 | D11: =VLOOKUP($B11,ЛСР!$B$6:$M$145,3,0) -> ЛП-П 10мм | E11: =VLOOKUP($B11,ЛСР!$B$6:$M$145,4,0) -> м2 | F11: =SUMIF(ЛСР!$B$6:$B$145,$B11,ЛСР!$G$6:$G$145) -> 1027.888 | G11: =SUMIF(ЛСР!$B$6:$B$145,$B11,ЛСР!$H$6:$H$145) -> 1063.69 | H11: =SUM(F11:G11) -> 2091.578 | J11: =ROUND(I11*H11,2) -> 0 | K11: =VLOOKUP($B11,ЛСР!B14:M153,11,0) -> в 2 слоя
A12: =ROW()-2 -> 10 | B12: Кляймер | C12: =VLOOKUP($B12,ЛСР!$B$6:$M$145,2,0) -> 0 | D12: =VLOOKUP($B12,ЛСР!$B$6:$M$145,3,0) -> 10мм двойной гнутый для плоского шифера | E12: =VLOOKUP($B12,ЛСР!$B$6:$M$145,4,0) -> шт | F12: =SUMIF(ЛСР!$B$6:$B$145,$B12,ЛСР!$G$6:$G$145) -> 1934 | G12: =SUMIF(ЛСР!$B$6:$B$145,$B12,ЛСР!$H$6:$H$145) -> 1954 | H12: =SUM(F12:G12) -> 3888 | J12: =ROUND(I12*H12,2) -> 0 | K12: =VLOOKUP($B12,ЛСР!B15:M154,11,0) -> 0
A13: =ROW()-2 -> 11 | B13: Саморезы по дереву 3,5х45 | C13: =VLOOKUP($B13,ЛСР!$B$6:$M$145,2,0) -> 0 | D13: =VLOOKUP($B13,ЛСР!$B$6:$M$145,3,0) -> по дереву 3,5х45 | E13: =VLOOKUP($B13,ЛСР!$B$6:$M$145,4,0) -> шт | F13: =SUMIF(ЛСР!$B$6:$B$145,$B13,ЛСР!$G$6:$G$145) -> 5690 | G13: =SUMIF(ЛСР!$B$6:$B$145,$B13,ЛСР!$H$6:$H$145) -> 5748 | H13: =SUM(F13:G13) -> 11438 | J13: =ROUND(I13*H13,2) -> 0 | K13: =VLOOKUP($B13,ЛСР!B16:M155,11,0) -> 0
A14: =ROW()-2 -> 12 | B14: Керамзит | C14: =VLOOKUP($B14,ЛСР!$B$6:$M$145,2,0) -> 0 | D14: =VLOOKUP($B14,ЛСР!$B$6:$M$145,3,0) -> фр.10-20мм | E14: =VLOOKUP($B14,ЛСР!$B$6:$M$145,4,0) -> м3 | F14: =SUMIF(ЛСР!$B$6:$B$145,$B14,ЛСР!$G$6:$G$145) -> 93.01 | G14: =SUMIF(ЛСР!$B$6:$B$145,$B14,ЛСР!$H$6:$H$145) -> 94 | H14: =SUM(F14:G14) -> 187.01 | J14: =ROUND(I14*H14,2) -> 0 | K14: =VLOOKUP($B14,ЛСР!B17:M156,11,0) -> 0
... A37: =ROW()-2 -> 35 | B37: Крышка парапетная оцинк.сталь 560мм 0,7мм RAL9004 | C37: =VLOOKUP($B37,ЛСР!$B$6:$M$145,2,0) -> 0 | D37: =VLOOKUP($B37,ЛСР!$B$6:$M$145,3,0) -> оцинк.сталь 560мм 0,7мм RAL9004 | E37: =VLOOKUP($B37,ЛСР!$B$6:$M$145,4,0) -> пог. м | F37: =SUMIF(ЛСР!$B$6:$B$145,$B37,ЛСР!$G$6:$G$145) -> 0 | G37: =SUMIF(ЛСР!$B$6:$B$145,$B37,ЛСР!$H$6:$H$145) -> 117.1 | H37: =SUM(F37:G37) -> 117.1 | J37: =ROUND(I37*H37,2) -> 0 | K37: =VLOOKUP($B37,ЛСР!B40:M179,11,0) -> Ширина развертки - 20х50х90х560х120х50х20 мм. 10см перехлест, 2м длина профиля. Размеры уточнить по месту.
I38: Итого: | J38: =SUM(J3:J37) -> 0
I39: Проверка: | J39: =J38-ЛСР!K148 -> 0

Sheet ПараметрыЗагрузки
A1: ЛСР | B1: ЛСРГуид
A2: ГП-72.214.01.04.01 Секция 1_Устройство кровли №1 | B2: f3e98c0c-3d6e-11f1-9618-db392af1e994
A3: ГП-72.214.02.04.01 Секция 2_Устройство кровли №1 | B3: fbfb0e02-3d6e-11f1-9618-db392af1e994
