Workbook

Sheet ЛСР
B2: Локальный сметный расчет (ЛСР) №1
B3: Объект: «Жилой район «Преображенский» в г. Тюмени. Квартал 8. Участок 72:17:1313004:1005. Многоэтажный жилой дом с нежилыми помещениями ГП-72.214» Секция 1, 2
B4: Ведомость объемов работ и расхода материалов по работе: Устройство кровли и сопутствующим работам (согласно проекту шифр АС, стадия Р)
A6: № | B6: Наименование | C6: Артикул, марка, производитель | D6: Характеристика | E6: Ед. изм. | F6: Норма расхода | G6: Секция 1 | H6: Секция 2 | I6: Количество | J6: Цена за ед., руб | K6: Сумма, руб | L6: Примечание | M6: Форма закупа материала
A8: 04 | B8: Кровля
A9: 04.01 | B9: Устройство кровли | K9: =SUM($K$137,$K$127,$K$112,$K$51,$K$10) -> 0
A10: 04.01.01 | B10: Устройство основного пирога наплавляемой кровли | K10: =SUM($K$11) -> 0
A11: 04.01.01.00 | B11: Устройство основного пирога кровли | K11: =SUM($K$48,$K$46,$K$44,$K$42,$K$40,$K$38,$K$34,$K$32,$K$28,$K$26,$K$23,$K$21,$K$18,$K$16,$K$14,$K$12) -> 0
B12: Работы: | K12: =SUM($K$13) -> 0
B13: Нанесение битумного праймера под гидроизоляцию | E13: м2 | G13: 488.4 | H13: 488.32 | I13: =SUM($G$13:$H$13) -> 976.72 | J13: =VLOOKUP(B13,Работы!$B$3:$I$23,6,0) -> 0 | K13: =ROUND($I$13*$J$13,2) -> 0 | L13: в т.ч. в местах примыкания
B14: Материалы: | K14: =SUM($K$15) -> 0
A15: 1 | B15: Праймер битумный | C15: №01, Технониколь | D15: битумный | E15: л (дм3) | F15: 0.3 | G15: =G13*F15 -> 146.52 | H15: =H13*F15 -> 146.496 | I15: =SUM($G$15:$H$15) -> 293.016 | J15: =VLOOKUP(B15,Материалы!$B$2:$K$37,8,0) -> 0 | K15: =ROUND($I$15*$J$15,2) -> 0 | L15: №01, Технониколь | M15: Закупка подрядчик
B16: Работы: | K16: =SUM($K$17) -> 0
B17: Укладка пароизоляции по подготовленному основанию насухо (с проклейкой швов) | E17: м2 | G17: 483.16 | H17: 488.32 | I17: =SUM($G$17:$H$17) -> 971.48 | J17: =VLOOKUP(B17,Работы!$B$3:$I$23,6,0) -> 0 | K17: =ROUND($I$17*$J$17,2) -> 0
B18: Материалы: | K18: =SUM($K$19:$K$20) -> 0
A19: 1 | B19: Пленка строительная | C19: D, Изоспан | D19: гидропароизоляционная | E19: м2 | F19: 1.1 | G19: 535 | H19: 540 | I19: =SUM($G$19:$H$19) -> 1075 | J19: =VLOOKUP(B19,Материалы!$B$2:$K$37,8,0) -> 0 | K19: =ROUND($I$19*$J$19,2) -> 0 | L19: D, Изоспан | M19: Закупка подрядчик
A20: 2 | B20: Лента клейкая | C20: KL+, Изоспан | D20: усиленная двухсторонняя 25мм,25м | E20: шт | G20: 13 | H20: 14 | I20: =SUM($G$20:$H$20) -> 27 | J20: =VLOOKUP(B20,Материалы!$B$2:$K$37,8,0) -> 0 | K20: =ROUND($I$20*$J$20,2) -> 0 | L20: KL+, Изоспан | M20: Закупка подрядчик
B21: Работы: | K21: =SUM($K$22) -> 0
B22: Укладка утеплителя толщ. 200мм. | E22: м2 | G22: 483.16 | H22: 488.32 | I22: =SUM($G$22:$H$22) -> 971.48 | J22: =VLOOKUP(B22,Работы!$B$3:$I$23,6,0) -> 0 | K22: =ROUND($I$22*$J$22,2) -> 0
B23: Материалы: | K23: =SUM($K$24:$K$25) -> 0
A24: 1 | B24: Пенополистирол экструзионный 1180х580х100мм 35кг/м3 | D24: экструзионный 1180х580х100мм 35кг/м3 | E24: м3 | F24: 1.03 | G24: 99.53 | H24: 100.59 | I24: =SUM($G$24:$H$24) -> 200.12 | J24: =VLOOKUP(B24,Материалы!$B$2:$K$37,8,0) -> 0 | K24: =ROUND($I$24*$J$24,2) -> 0 | L24: В два слоя | M24: Закупка подрядчик
A25: 2 | B25: Пена монтажная противопожарная | D25: противопожарная | E25: баллон | G25: 19 | H25: 20 | I25: =SUM($G$25:$H$25) -> 39 | J25: =VLOOKUP(B25,Материалы!$B$2:$K$37,8,0) -> 0 | K25: =ROUND($I$25*$J$25,2) -> 0 | M25: Закупка подрядчик
B26: Работы: | K26: =SUM($K$27) -> 0
B27: Устройство кровель плоских из наплавляемых материалов в 2 слоя | E27: м2 | G27: 488.4 | H27: 488.32 | I27: =SUM($G$27:$H$27) -> 976.72 | J27: =VLOOKUP(B27,Работы!$B$3:$I$23,6,0) -> 0 | K27: =ROUND($I$27*$J$27,2) -> 0
B28: Материалы: | K28: =SUM($K$29:$K$31) -> 0
A29: 1 | B29: Унифлекс ЭКП 10х1м | D29: ЭКП 10х1м | E29: м2 | F29: 1.14 | G29: 556.77 | H29: 556.68 | I29: =SUM($G$29:$H$29) -> 1113.45 | J29: =VLOOKUP(B29,Материалы!$B$2:$K$37,8,0) -> 0 | K29: =ROUND($I$29*$J$29,2) -> 0 | M29: Закупка подрядчик
A30: 2 | B30: Унифлекс ЭПП 10х1м | D30: ЭПП 10х1м | E30: м2 | F30: 1.16 | G30: 566.54 | H30: 566.45 | I30: =SUM($G$30:$H$30) -> 1132.99 | J30: =VLOOKUP(B30,Материалы!$B$2:$K$37,8,0) -> 0 | K30: =ROUND($I$30*$J$30,2) -> 0 | M30: Закупка подрядчик
A31: 3 | B31: Газ-пропан | E31: л (дм3) | F31: 0.94 | G31: 459.09 | H31: 459.02 | I31: =SUM($G$31:$H$31) -> 918.11 | J31: =VLOOKUP(B31,Материалы!$B$2:$K$37,8,0) -> 0 | K31: =ROUND($I$31*$J$31,2) -> 0 | M31: Закупка подрядчик
B32: Работы: | K32: =SUM($K$33) -> 0
B33: Устройство стяжек сборных из плоских асбестоцементных листов плоских (2слоя) | E33: м2 | G33: 483.16 | H33: 488.32 | I33: =SUM($G$33:$H$33) -> 971.48 | J33: =VLOOKUP(B33,Работы!$B$3:$I$23,6,0) -> 0 | K33: =ROUND($I$33*$J$33,2) -> 0
B34: Материалы: | K34: =SUM($K$35:$K$37) -> 0
A35: 1 | B35: Лист асбестоцементный ЛП-П 10мм | D35: ЛП-П 10мм | E35: м2 | F35: 2.05 | G35: =G33*F35 -> 990.478 | H35: 1025.47 | I35: =SUM($G$35:$H$35) -> 2015.948 | J35: =VLOOKUP(B35,Материалы!$B$2:$K$37,8,0) -> 0 | K35: =ROUND($I$35*$J$35,2) -> 0 | L35: в 2 слоя | M35: Закупка подрядчик
A36: 2 | B36: Кляймер | D36: 10мм двойной гнутый для плоского шифера | E36: шт | F36: 4 | G36: 1934 | H36: 1954 | I36: =SUM($G$36:$H$36) -> 3888 | J36: =VLOOKUP(B36,Материалы!$B$2:$K$37,8,0) -> 0 | K36: =ROUND($I$36*$J$36,2) -> 0 | M36: Закупка подрядчик
A37: 3 | B37: Саморезы по дереву 3,5х45 | D37: по дереву 3,5х45 | E37: шт | F37: 5 | G37: 2416 | H37: 2442 | I37: =SUM($G$37:$H$37) -> 4858 | J37: =VLOOKUP(B37,Материалы!$B$2:$K$37,8,0) -> 0 | K37: =ROUND($I$37*$J$37,2) -> 0 | M37: Закупка подрядчик
B38: Работы: | K38: =SUM($K$39) -> 0
B39: Устройство уклонообразующего слоя из керамзита с разуклонкой | E39: м2 | G39: 483.16 | H39: 488.32 | I39: =SUM($G$39:$H$39) -> 971.48 | J39: =VLOOKUP(B39,Работы!$B$3:$I$23,6,0) -> 0 | K39: =ROUND($I$39*$J$39,2) -> 0 | L39: толщ.50-250мм
B40: Материалы: | K40: =SUM($K$41) -> 0
A41: 1 | B41: Керамзит | D41: фр.10-20мм | E41: м3 | F41: 1.05 | G41: 93.01 | H41: 94 | I41: =SUM($G$41:$H$41) -> 187.01 | J41: =VLOOKUP(B41,Материалы!$B$2:$K$37,8,0) -> 0 | K41: =ROUND($I$41*$J$41,2) -> 0 | M41: Закупка подрядчик
B42: Работы: | K42: =SUM($K$43) -> 0
B43: Устройство уклонообразующего слоя из цементно-песчаной стяжки с разуклонкой | E43: м2 | G43: 2.49 | I43: =SUM($G$43:$H$43) -> 2.49 | J43: =VLOOKUP(B43,Работы!$B$3:$I$23,6,0) -> 0 | K43: =ROUND($I$43*$J$43,2) -> 0
...

Sheet Работы
B1: Ведомость объемов работ
A2: № | B2: Наименование | C2: Ед. изм. | D2: секция 1 | E2: секция 2 | F2: Кол-во | G2: Цена за ед. | H2: Сумма | I2: Примечание
A3: =ROW()-2 -> 1 | B3: Нанесение битумного праймера под гидроизоляцию | C3: =VLOOKUP($B3,ЛСР!$B$6:$M$145,4,0) -> м2 | D3: =SUMIF(ЛСР!$B$6:$B$145,Работы!B3,ЛСР!$G$6:$G$145) -> 1039.07 | E3: =SUMIF(ЛСР!$B$6:$B$145,Работы!B3,ЛСР!$H$6:$H$145) -> 1068.92 | F3: =SUM(D3:E3) -> 2107.99 | H3: =ROUND(G3*F3,2) -> 0 | I3: =VLOOKUP($B3,ЛСР!$B$8:$M$145,11,0) -> в т.ч. в местах примыкания
A4: =ROW()-2 -> 2 | B4: Укладка пароизоляции по подготовленному основанию насухо (с проклейкой швов) | C4: =VLOOKUP($B4,ЛСР!$B$6:$M$145,4,0) -> м2 | D4: =SUMIF(ЛСР!$B$6:$B$145,Работы!B4,ЛСР!$G$6:$G$145) -> 483.16 | E4: =SUMIF(ЛСР!$B$6:$B$145,Работы!B4,ЛСР!$H$6:$H$145) -> 488.32 | F4: =SUM(D4:E4) -> 971.48 | H4: =ROUND(G4*F4,2) -> 0 | I4: =VLOOKUP($B4,ЛСР!$B$8:$M$145,11,0) -> 0
A5: =ROW()-2 -> 3 | B5: Укладка утеплителя толщ. 200мм. | C5: =VLOOKUP($B5,ЛСР!$B$6:$M$145,4,0) -> м2 | D5: =SUMIF(ЛСР!$B$6:$B$145,Работы!B5,ЛСР!$G$6:$G$145) -> 483.16 | E5: =SUMIF(ЛСР!$B$6:$B$145,Работы!B5,ЛСР!$H$6:$H$145) -> 488.32 | F5: =SUM(D5:E5) -> 971.48 | H5: =ROUND(G5*F5,2) -> 0 | I5: =VLOOKUP($B5,ЛСР!$B$8:$M$145,11,0) -> 0
A6: =ROW()-2 -> 4 | B6: Устройство кровель плоских из наплавляемых материалов в 2 слоя | C6: =VLOOKUP($B6,ЛСР!$B$6:$M$145,4,0) -> м2 | D6: =SUMIF(ЛСР!$B$6:$B$145,Работы!B6,ЛСР!$G$6:$G$145) -> 488.4 | E6: =SUMIF(ЛСР!$B$6:$B$145,Работы!B6,ЛСР!$H$6:$H$145) -> 488.32 | F6: =SUM(D6:E6) -> 976.72 | H6: =ROUND(G6*F6,2) -> 0 | I6: =VLOOKUP($B6,ЛСР!$B$8:$M$145,11,0) -> 0
A7: =ROW()-2 -> 5 | B7: Устройство стяжек сборных из плоских асбестоцементных листов плоских (2слоя) | C7: =VLOOKUP($B7,ЛСР!$B$6:$M$145,4,0) -> м2 | D7: =SUMIF(ЛСР!$B$6:$B$145,Работы!B7,ЛСР!$G$6:$G$145) -> 483.16 | E7: =SUMIF(ЛСР!$B$6:$B$145,Работы!B7,ЛСР!$H$6:$H$145) -> 488.32 | F7: =SUM(D7:E7) -> 971.48 | H7: =ROUND(G7*F7,2) -> 0 | I7: =VLOOKUP($B7,ЛСР!$B$8:$M$145,11,0) -> 0
A8: =ROW()-2 -> 6 | B8: Устройство уклонообразующего слоя из керамзита с разуклонкой | C8: =VLOOKUP($B8,ЛСР!$B$6:$M$145,4,0) -> м2 | D8: =SUMIF(ЛСР!$B$6:$B$145,Работы!B8,ЛСР!$G$6:$G$145) -> 483.16 | E8: =SUMIF(ЛСР!$B$6:$B$145,Работы!B8,ЛСР!$H$6:$H$145) -> 488.32 | F8: =SUM(D8:E8) -> 971.48 | H8: =ROUND(G8*F8,2) -> 0 | I8: =VLOOKUP($B8,ЛСР!$B$8:$M$145,11,0) -> толщ.50-250мм
A9: =ROW()-2 -> 7 | B9: Устройство уклонообразующего слоя из цементно-песчаной стяжки с разуклонкой | C9: =VLOOKUP($B9,ЛСР!$B$6:$M$145,4,0) -> м2 | D9: =SUMIF(ЛСР!$B$6:$B$145,Работы!B9,ЛСР!$G$6:$G$145) -> 2.49 | E9: =SUMIF(ЛСР!$B$6:$B$145,Работы!B9,ЛСР!$H$6:$H$145) -> 0 | F9: =SUM(D9:E9) -> 2.49 | H9: =ROUND(G9*F9,2) -> 0 | I9: =VLOOKUP($B9,ЛСР!$B$8:$M$145,11,0) -> 0
A10: =ROW()-2 -> 8 | B10: Утепление парапетов | C10: =VLOOKUP($B10,ЛСР!$B$6:$M$145,4,0) -> м2 | D10: =SUMIF(ЛСР!$B$6:$B$145,Работы!B10,ЛСР!$G$6:$G$145) -> 137.99 | E10: =SUMIF(ЛСР!$B$6:$B$145,Работы!B10,ЛСР!$H$6:$H$145) -> 124.19 | F10: =SUM(D10:E10) -> 262.18 | H10: =ROUND(G10*F10,2) -> 0 | I10: =VLOOKUP($B10,ЛСР!$B$8:$M$145,11,0) -> 0
A11: =ROW()-2 -> 9 | B11: Монтаж краевой рейки в примыканию к парапету с герметизацией по верху | C11: =VLOOKUP($B11,ЛСР!$B$6:$M$145,4,0) -> пог. м | D11: =SUMIF(ЛСР!$B$6:$B$145,Работы!B11,ЛСР!$G$6:$G$145) -> 96.43 | E11: =SUMIF(ЛСР!$B$6:$B$145,Работы!B11,ЛСР!$H$6:$H$145) -> 103.89 | F11: =SUM(D11:E11) -> 200.32 | H11: =ROUND(G11*F11,2) -> 0 | I11: =VLOOKUP($B11,ЛСР!$B$8:$M$145,11,0) -> 0
A12: =ROW()-2 -> 10 | B12: Монтаж утеплителя (минплита) толщ.100мм | C12: =VLOOKUP($B12,ЛСР!$B$6:$M$145,4,0) -> м2 | D12: =SUMIF(ЛСР!$B$6:$B$145,Работы!B12,ЛСР!$G$6:$G$145) -> 152.67 | E12: =SUMIF(ЛСР!$B$6:$B$145,Работы!B12,ЛСР!$H$6:$H$145) -> 184.25 | F12: =SUM(D12:E12) -> 336.92 | H12: =ROUND(G12*F12,2) -> 0 | I12: =VLOOKUP($B12,ЛСР!$B$8:$M$145,11,0) -> 0
A13: =ROW()-2 -> 11 | B13: Монтаж утеплителя (минплита) толщ.150мм | C13: =VLOOKUP($B13,ЛСР!$B$6:$M$145,4,0) -> м2 | D13: =SUMIF(ЛСР!$B$6:$B$145,Работы!B13,ЛСР!$G$6:$G$145) -> 39.67 | E13: =SUMIF(ЛСР!$B$6:$B$145,Работы!B13,ЛСР!$H$6:$H$145) -> 38.3 | F13: =SUM(D13:E13) -> 77.97 | H13: =ROUND(G13*F13,2) -> 0 | I13: =VLOOKUP($B13,ЛСР!$B$8:$M$145,11,0) -> Утеплитель до пола (вентшахты), присоединение секций h=0,4 м
A14: =ROW()-2 -> 12 | B14: Обшивка асбестоцементными листами | C14: =VLOOKUP($B14,ЛСР!$B$6:$M$145,4,0) -> м2 | D14: =SUMIF(ЛСР!$B$6:$B$145,Работы!B14,ЛСР!$G$6:$G$145) -> 375.52 | E14: =SUMIF(ЛСР!$B$6:$B$145,Работы!B14,ЛСР!$H$6:$H$145) -> 395.95 | F14: =SUM(D14:E14) -> 771.47 | H14: =ROUND(G14*F14,2) -> 0 | I14: =VLOOKUP($B14,ЛСР!$B$8:$M$145,11,0) -> вентшахты, кладки вокруг фановых труб, парапет
... A21: =ROW()-2 -> 19 | B21: Монтаж водоприемных воронок | C21: =VLOOKUP($B21,ЛСР!$B$6:$M$145,4,0) -> шт | D21: =SUMIF(ЛСР!$B$6:$B$145,Работы!B21,ЛСР!$G$6:$G$145) -> 3 | E21: =SUMIF(ЛСР!$B$6:$B$145,Работы!B21,ЛСР!$H$6:$H$145) -> 2 | F21: =SUM(D21:E21) -> 5 | H21: =ROUND(G21*F21,2) -> 0 | I21: =VLOOKUP($B21,ЛСР!$B$8:$M$145,11,0) -> 0
A22: =ROW()-2 -> 20 | B22: Монтаж фартука металлического | C22: пог. м | D22: =SUMIF(ЛСР!$B$6:$B$145,Работы!B22,ЛСР!$G$6:$G$145) -> 15.17 | E22: =SUMIF(ЛСР!$B$6:$B$145,Работы!B22,ЛСР!$H$6:$H$145) -> 0 | F22: =SUM(D22:E22) -> 15.17 | H22: =ROUND(G22*F22,2) -> 0 | I22: =VLOOKUP($B22,ЛСР!$B$8:$M$145,11,0) -> 0
A23: =ROW()-2 -> 21 | B23: Монтаж парапетных крышек | C23: пог. м | D23: =SUMIF(ЛСР!$B$6:$B$145,Работы!B23,ЛСР!$G$6:$G$145) -> 0 | E23: =SUMIF(ЛСР!$B$6:$B$145,Работы!B23,ЛСР!$H$6:$H$145) -> 111.52 | F23: =SUM(D23:E23) -> 111.52 | H23: =ROUND(G23*F23,2) -> 0 | I23: =VLOOKUP($B23,ЛСР!$B$8:$M$145,11,0) -> 0
G24: Итого: | H24: =SUM(H3:H23) -> 0
G25: Проверка: | H25: =H24-ЛСР!K147 -> 0

Sheet Материалы
B1: Спецификация материалов
A2: № | B2: Наименование | C2: Марка/ Завод изготовитель | D2: Характеристика | E2: Ед. изм. | F2: секция 1 | G2: секция 2 | H2: Кол-во | I2: Цена за ед. | J2: Сумма | K2: Примечание
A3: =ROW()-2 -> 1 | B3: Праймер битумный | C3: =VLOOKUP($B3,ЛСР!$B$6:$M$145,2,0) -> №01, Технониколь | D3: =VLOOKUP($B3,ЛСР!$B$6:$M$145,3,0) -> битумный | E3: =VLOOKUP($B3,ЛСР!$B$6:$M$145,4,0) -> л (дм3) | F3: =SUMIF(ЛСР!$B$6:$B$145,$B3,ЛСР!$G$6:$G$145) -> 311.72 | G3: =SUMIF(ЛСР!$B$6:$B$145,$B3,ЛСР!$H$6:$H$145) -> 320.676 | H3: =SUM(F3:G3) -> 632.396 | J3: =ROUND(I3*H3,2) -> 0 | K3: =VLOOKUP($B3,ЛСР!B6:M145,11,0) -> №01, Технониколь
A4: =ROW()-2 -> 2 | B4: Пленка строительная | C4: =VLOOKUP($B4,ЛСР!$B$6:$M$145,2,0) -> D, Изоспан | D4: =VLOOKUP($B4,ЛСР!$B$6:$M$145,3,0) -> гидропароизоляционная | E4: =VLOOKUP($B4,ЛСР!$B$6:$M$145,4,0) -> м2 | F4: =SUMIF(ЛСР!$B$6:$B$145,$B4,ЛСР!$G$6:$G$145) -> 680 | G4: =SUMIF(ЛСР!$B$6:$B$145,$B4,ЛСР!$H$6:$H$145) -> 695 | H4: =SUM(F4:G4) -> 1375 | J4: =ROUND(I4*H4,2) -> 0 | K4: =VLOOKUP($B4,ЛСР!B7:M146,11,0) -> D, Изоспан
A5: =ROW()-2 -> 3 | B5: Лента клейкая | C5: =VLOOKUP($B5,ЛСР!$B$6:$M$145,2,0) -> KL+, Изоспан | D5: =VLOOKUP($B5,ЛСР!$B$6:$M$145,3,0) -> усиленная двухсторонняя 25мм,25м | E5: =VLOOKUP($B5,ЛСР!$B$6:$M$145,4,0) -> шт | F5: =SUMIF(ЛСР!$B$6:$B$145,$B5,ЛСР!$G$6:$G$145) -> 17 | G5: =SUMIF(ЛСР!$B$6:$B$145,$B5,ЛСР!$H$6:$H$145) -> 18 | H5: =SUM(F5:G5) -> 35 | J5: =ROUND(I5*H5,2) -> 0 | K5: =VLOOKUP($B5,ЛСР!B8:M147,11,0) -> KL+, Изоспан
A6: =ROW()-2 -> 4 | B6: Пенополистирол экструзионный 1180х580х100мм 35кг/м3 | C6: =VLOOKUP($B6,ЛСР!$B$6:$M$145,2,0) -> 0 | D6: =VLOOKUP($B6,ЛСР!$B$6:$M$145,3,0) -> экструзионный 1180х580х100мм 35кг/м3 | E6: =VLOOKUP($B6,ЛСР!$B$6:$M$145,4,0) -> м3 | F6: =SUMIF(ЛСР!$B$6:$B$145,$B6,ЛСР!$G$6:$G$145) -> 99.53 | G6: =SUMIF(ЛСР!$B$6:$B$145,$B6,ЛСР!$H$6:$H$145) -> 100.59 | H6: =SUM(F6:G6) -> 200.12 | J6: =ROUND(I6*H6,2) -> 0 | K6: =VLOOKUP($B6,ЛСР!B9:M148,11,0) -> В два слоя
A7: =ROW()-2 -> 5 | B7: Пена монтажная противопожарная | C7: =VLOOKUP($B7,ЛСР!$B$6:$M$145,2,0) -> 0 | D7: =VLOOKUP($B7,ЛСР!$B$6:$M$145,3,0) -> противопожарная | E7: =VLOOKUP($B7,ЛСР!$B$6:$M$145,4,0) -> баллон | F7: =SUMIF(ЛСР!$B$6:$B$145,$B7,ЛСР!$G$6:$G$145) -> 25 | G7: =SUMIF(ЛСР!$B$6:$B$145,$B7,ЛСР!$H$6:$H$145) -> 23 | H7: =SUM(F7:G7) -> 48 | J7: =ROUND(I7*H7,2) -> 0 | K7: =VLOOKUP($B7,ЛСР!B10:M149,11,0) -> 0
A8: =ROW()-2 -> 6 | B8: Унифлекс ЭКП 10х1м | C8: =VLOOKUP($B8,ЛСР!$B$6:$M$145,2,0) -> 0 | D8: =VLOOKUP($B8,ЛСР!$B$6:$M$145,3,0) -> ЭКП 10х1м | E8: =VLOOKUP($B8,ЛСР!$B$6:$M$145,4,0) -> м2 | F8: =SUMIF(ЛСР!$B$6:$B$145,$B8,ЛСР!$G$6:$G$145) -> 1195.54 | G8: =SUMIF(ЛСР!$B$6:$B$145,$B8,ЛСР!$H$6:$H$145) -> 1229.56 | H8: =SUM(F8:G8) -> 2425.1 | J8: =ROUND(I8*H8,2) -> 0 | K8: =VLOOKUP($B8,ЛСР!B11:M150,11,0) -> 0
A9: =ROW()-2 -> 7 | B9: Унифлекс ЭПП 10х1м | C9: =VLOOKUP($B9,ЛСР!$B$6:$M$145,2,0) -> 0 | D9: =VLOOKUP($B9,ЛСР!$B$6:$M$145,3,0) -> ЭПП 10х1м | E9: =VLOOKUP($B9,ЛСР!$B$6:$M$145,4,0) -> м2 | F9: =SUMIF(ЛСР!$B$6:$B$145,$B9,ЛСР!$G$6:$G$145) -> 1270.96 | G9: =SUMIF(ЛСР!$B$6:$B$145,$B9,ЛСР!$H$6:$H$145) -> 1301.65 | H9: =SUM(F9:G9) -> 2572.61 | J9: =ROUND(I9*H9,2) -> 0 | K9: =VLOOKUP($B9,ЛСР!B12:M151,11,0) -> 0
A10: =ROW()-2 -> 8 | B10: Газ-пропан | C10: =VLOOKUP($B10,ЛСР!$B$6:$M$145,2,0) -> 0 | D10: =VLOOKUP($B10,ЛСР!$B$6:$M$145,3,0) -> 0 | E10: =VLOOKUP($B10,ЛСР!$B$6:$M$145,4,0) -> л (дм3) | F10: =SUMIF(ЛСР!$B$6:$B$145,$B10,ЛСР!$G$6:$G$145) -> 1180.87 | G10: =SUMIF(ЛСР!$B$6:$B$145,$B10,ЛСР!$H$6:$H$145) -> 1218.55 | H10: =SUM(F10:G10) -> 2399.42 | J10: =ROUND(I10*H10,2) -> 0 | K10: =VLOOKUP($B10,ЛСР!B13:M152,11,0) -> 0
A11: =ROW()-2 -> 9 | B11: Лист асбестоцементный ЛП-П 10мм | C11: =VLOOKUP($B11,ЛСР!$B$6:$M$145,2,0) -> 0 | D11: =VLOOKUP($B11,ЛСР!$B$6:$M$145,3,0) -> ЛП-П 10мм | E11: =VLOOKUP($B11,ЛСР!$B$6:$M$145,4,0) -> м2 | F11: =SUMIF(ЛСР!$B$6:$B$145,$B11,ЛСР!$G$6:$G$145) -> 1027.888 | G11: =SUMIF(ЛСР!$B$6:$B$145,$B11,ЛСР!$H$6:$H$145) -> 1063.69 | H11: =SUM(F11:G11) -> 2091.578 | J11: =ROUND(I11*H11,2) -> 0 | K11: =VLOOKUP($B11,ЛСР!B14:M153,11,0) -> в 2 слоя
A12: =ROW()-2 -> 10 | B12: Кляймер | C12: =VLOOKUP($B12,ЛСР!$B$6:$M$145,2,0) -> 0 | D12: =VLOOKUP($B12,ЛСР!$B$6:$M$145,3,0) -> 10мм двойной гнутый для плоского шифера | E12: =VLOOKUP($B12,ЛСР!$B$6:$M$145,4,0) -> шт | F12: =SUMIF(ЛСР!$B$6:$B$145,$B12,ЛСР!$G$6:$G$145) -> 1934 | G12: =SUMIF(ЛСР!$B$6:$B$145,$B12,ЛСР!$H$6:$H$145) -> 1954 | H12: =SUM(F12:G12) -> 3888 | J12: =ROUND(I12*H12,2) -> 0 | K12: =VLOOKUP($B12,ЛСР!B15:M154,11,0) -> 0
A13: =ROW()-2 -> 11 | B13: Саморезы по дереву 3,5х45 | C13: =VLOOKUP($B13,ЛСР!$B$6:$M$145,2,0) -> 0 | D13: =VLOOKUP($B13,ЛСР!$B$6:$M$145,3,0) -> по дереву 3,5х45 | E13: =VLOOKUP($B13,ЛСР!$B$6:$M$145,4,0) -> шт | F13: =SUMIF(ЛСР!$B$6:$B$145,$B13,ЛСР!$G$6:$G$145) -> 5690 | G13: =SUMIF(ЛСР!$B$6:$B$145,$B13,ЛСР!$H$6:$H$145) -> 5748 | H13: =SUM(F13:G13) -> 11438 | J13: =ROUND(I13*H13,2) -> 0 | K13: =VLOOKUP($B13,ЛСР!B16:M155,11,0) -> 0
A14: =ROW()-2 -> 12 | B14: Керамзит | C14: =VLOOKUP($B14,ЛСР!$B$6:$M$145,2,0) -> 0 | D14: =VLOOKUP($B14,ЛСР!$B$6:$M$145,3,0) -> фр.10-20мм | E14: =VLOOKUP($B14,ЛСР!$B$6:$M$145,4,0) -> м3 | F14: =SUMIF(ЛСР!$B$6:$B$145,$B14,ЛСР!$G$6:$G$145) -> 93.01 | G14: =SUMIF(ЛСР!$B$6:$B$145,$B14,ЛСР!$H$6:$H$145) -> 94 | H14: =SUM(F14:G14) -> 187.01 | J14: =ROUND(I14*H14,2) -> 0 | K14: =VLOOKUP($B14,ЛСР!B17:M156,11,0) -> 0
... A37: =ROW()-2 -> 35 | B37: Крышка парапетная оцинк.сталь 560мм 0,7мм RAL9004 | C37: =VLOOKUP($B37,ЛСР!$B$6:$M$145,2,0) -> 0 | D37: =VLOOKUP($B37,ЛСР!$B$6:$M$145,3,0) -> оцинк.сталь 560мм 0,7мм RAL9004 | E37: =VLOOKUP($B37,ЛСР!$B$6:$M$145,4,0) -> пог. м | F37: =SUMIF(ЛСР!$B$6:$B$145,$B37,ЛСР!$G$6:$G$145) -> 0 | G37: =SUMIF(ЛСР!$B$6:$B$145,$B37,ЛСР!$H$6:$H$145) -> 117.1 | H37: =SUM(F37:G37) -> 117.1 | J37: =ROUND(I37*H37,2) -> 0 | K37: =VLOOKUP($B37,ЛСР!B40:M179,11,0) -> Ширина развертки - 20х50х90х560х120х50х20 мм. 10см перехлест, 2м длина профиля. Размеры уточнить по месту.
I38: Итого: | J38: =SUM(J3:J37) -> 0
I39: Проверка: | J39: =J38-ЛСР!K148 -> 0

Sheet ПараметрыЗагрузки
A1: ЛСР | B1: ЛСРГуид
A2: ГП-72.214.01.04.01 Секция 1_Устройство кровли №1 | B2: f3e98c0c-3d6e-11f1-9618-db392af1e994
A3: ГП-72.214.02.04.01 Секция 2_Устройство кровли №1 | B3: fbfb0e02-3d6e-11f1-9618-db392af1e994
