Workbook

Sheet ЛСР
B2: Локальный сметный расчет (ЛСР) №1
B3: Объект: «Жилой район «Преображенский» в г. Тюмени. Квартал 8. Участок 72:17:1313004:1005. Многоэтажный жилой дом с нежилыми помещениями ГП-72.215» Секция 1
B4: Ведомость объемов работ и расхода материалов по работе: Устройство кровли и сопутствующим работам (согласно проекту шифр АС, стадия Р)
A6: № | B6: Наименование | C6: Артикул, марка, производитель | D6: Характеристика | E6: Ед. изм. | F6: Норма расхода | G6: Секция 1 | H6: Количество | I6: Цена за ед., руб | J6: Сумма, руб | K6: Примечание | L6: Форма закупа материала
A8: 04 | B8: Кровля
A9: 04.01 | B9: Устройство кровли | J9: =SUM($J$123,$J$108,$J$51,$J$10) -> 0
A10: 04.01.01 | B10: Устройство основного пирога наплавляемой кровли | J10: =SUM($J$11) -> 0
A11: 04.01.01.00 | B11: Устройство основного пирога кровли | J11: =SUM($J$48,$J$46,$J$44,$J$42,$J$40,$J$38,$J$34,$J$32,$J$28,$J$26,$J$23,$J$21,$J$18,$J$16,$J$14,$J$12) -> 0
B12: Работы: | J12: =SUM($J$13) -> 0
B13: Нанесение битумного праймера под гидроизоляцию | E13: м2 | G13: 504.61 | H13: =SUM($G$13:$G$13) -> 504.61 | I13: {=INDEX(Р[Цена за ед., руб],MATCH(1,IF(($B13=Р[Наименование])*($K13=Р[Примечание]),{1},($B13=Р[Наименование])*($K13=Р[Примечание])),0))} -> 0 | J13: =ROUND($H$13*$I$13,2) -> 0 | K13: в т.ч. в местах примыкания
B14: Материалы: | J14: =SUM($J$15) -> 0
A15: 1 | B15: Праймер битумный | C15: №01, Технониколь | D15: битумный | E15: л (дм3) | F15: 0.3 | G15: 151.38 | H15: =SUM($G$15:$G$15) -> 151.38 | I15: =VLOOKUP(B15,Материалы!$B$2:$J$34,7,0) -> 0 | J15: =ROUND($H$15*$I$15,2) -> 0 | K15: Технониколь №01 | L15: Закупка подрядчик
B16: Работы: | J16: =SUM($J$17) -> 0
B17: Укладка пароизоляции по подготовленному основанию насухо (с проклейкой швов) | E17: м2 | G17: 496.62 | H17: =SUM($G$17:$G$17) -> 496.62 | I17: {=INDEX(Р[Цена за ед., руб],MATCH(1,IF(($B17=Р[Наименование])*($K17=Р[Примечание]),{1},($B17=Р[Наименование])*($K17=Р[Примечание])),0))} -> 0 | J17: =ROUND($H$17*$I$17,2) -> 0
B18: Материалы: | J18: =SUM($J$19:$J$20) -> 0
A19: 1 | B19: Пленка строительная | D19: гидропароизоляционная | E19: м2 | F19: 1.1 | G19: 550 | H19: =SUM($G$19:$G$19) -> 550 | I19: =VLOOKUP(B19,Материалы!$B$2:$J$34,7,0) -> 0 | J19: =ROUND($H$19*$I$19,2) -> 0 | K19: Изоспан D | L19: Закупка подрядчик
A20: 2 | B20: Лента клейкая усиленная двухсторонняя 25мм,25м | C20: KL+, Изоспан | D20: усиленная двухсторонняя 25мм,25м | E20: шт | G20: 14 | H20: =SUM($G$20:$G$20) -> 14 | I20: =VLOOKUP(B20,Материалы!$B$2:$J$34,7,0) -> 0 | J20: =ROUND($H$20*$I$20,2) -> 0 | K20: Лента Изоспан KL+ | L20: Закупка подрядчик
B21: Работы: | J21: =SUM($J$22) -> 0
B22: Укладка утеплителя толщ. 200мм. | E22: м2 | G22: 496.62 | H22: =SUM($G$22:$G$22) -> 496.62 | I22: {=INDEX(Р[Цена за ед., руб],MATCH(1,IF(($B22=Р[Наименование])*($K22=Р[Примечание]),{1},($B22=Р[Наименование])*($K22=Р[Примечание])),0))} -> 0 | J22: =ROUND($H$22*$I$22,2) -> 0
B23: Материалы: | J23: =SUM($J$24:$J$25) -> 0
A24: 1 | B24: Пенополистирол экструзионный 1180х580х100мм 35кг/м3 | D24: экструзионный 1180х580х100мм 35кг/м3 | E24: м3 | F24: 1.03 | G24: 102.3 | H24: =SUM($G$24:$G$24) -> 102.3 | I24: =VLOOKUP(B24,Материалы!$B$2:$J$34,7,0) -> 0 | J24: =ROUND($H$24*$I$24,2) -> 0 | K24: В два слоя | L24: Закупка подрядчик
A25: 2 | B25: Пена монтажная противопожарная | D25: противопожарная | E25: баллон | G25: 20 | H25: =SUM($G$25:$G$25) -> 20 | I25: =VLOOKUP(B25,Материалы!$B$2:$J$34,7,0) -> 0 | J25: =ROUND($H$25*$I$25,2) -> 0 | L25: Закупка подрядчик
B26: Работы: | J26: =SUM($J$27) -> 0
B27: Устройство кровель плоских из наплавляемых материалов в 2 слоя | E27: м2 | G27: 504.61 | H27: =SUM($G$27:$G$27) -> 504.61 | I27: {=INDEX(Р[Цена за ед., руб],MATCH(1,IF(($B27=Р[Наименование])*($K27=Р[Примечание]),{1},($B27=Р[Наименование])*($K27=Р[Примечание])),0))} -> 0 | J27: =ROUND($H$27*$I$27,2) -> 0
B28: Материалы: | J28: =SUM($J$29:$J$31) -> 0
A29: 1 | B29: Унифлекс ЭКП 10х1м | D29: ЭКП 10х1м | E29: м2 | F29: 1.14 | G29: 575.25 | H29: =SUM($G$29:$G$29) -> 575.25 | I29: =VLOOKUP(B29,Материалы!$B$2:$J$34,7,0) -> 0 | J29: =ROUND($H$29*$I$29,2) -> 0 | L29: Закупка подрядчик
A30: 2 | B30: Унифлекс ЭПП 10х1м | D30: ЭПП 10х1м | E30: м2 | F30: 1.16 | G30: 585.34 | H30: =SUM($G$30:$G$30) -> 585.34 | I30: =VLOOKUP(B30,Материалы!$B$2:$J$34,7,0) -> 0 | J30: =ROUND($H$30*$I$30,2) -> 0 | L30: Закупка подрядчик
A31: 3 | B31: Газ-пропан | E31: л (дм3) | F31: 0.94 | G31: 474.33 | H31: =SUM($G$31:$G$31) -> 474.33 | I31: =VLOOKUP(B31,Материалы!$B$2:$J$34,7,0) -> 0 | J31: =ROUND($H$31*$I$31,2) -> 0 | L31: Закупка подрядчик
B32: Работы: | J32: =SUM($J$33) -> 0
B33: Устройство стяжек сборных из плоских асбестоцементных листов плоских (2слоя) | E33: м2 | G33: 496.62 | H33: =SUM($G$33:$G$33) -> 496.62 | I33: {=INDEX(Р[Цена за ед., руб],MATCH(1,IF(($B33=Р[Наименование])*($K33=Р[Примечание]),{1},($B33=Р[Наименование])*($K33=Р[Примечание])),0))} -> 0 | J33: =ROUND($H$33*$I$33,2) -> 0
B34: Материалы: | J34: =SUM($J$35:$J$37) -> 0
A35: 1 | B35: Лист асбестоцементный ЛП-П 10мм | D35: ЛП-П 10мм | E35: м2 | F35: 2.05 | G35: =ROUND(G33*F35,2) -> 1018.07 | H35: =SUM($G$35:$G$35) -> 1018.07 | I35: =VLOOKUP(B35,Материалы!$B$2:$J$34,7,0) -> 0 | J35: =ROUND($H$35*$I$35,2) -> 0 | K35: в 2 слоя | L35: Закупка подрядчик
A36: 2 | B36: Кляймер 10мм двойной гнутый для плоского шифера | D36: 10мм двойной гнутый для плоского шифера | E36: шт | F36: 4 | G36: 1988 | H36: =SUM($G$36:$G$36) -> 1988 | I36: =VLOOKUP(B36,Материалы!$B$2:$J$34,7,0) -> 0 | J36: =ROUND($H$36*$I$36,2) -> 0 | L36: Закупка подрядчик
A37: 3 | B37: Саморезы по дереву 3,5х45 | D37: по дереву 3,5х45 | E37: шт | F37: 5 | G37: 2484 | H37: =SUM($G$37:$G$37) -> 2484 | I37: =VLOOKUP(B37,Материалы!$B$2:$J$34,7,0) -> 0 | J37: =ROUND($H$37*$I$37,2) -> 0 | L37: Закупка подрядчик
B38: Работы: | J38: =SUM($J$39) -> 0
B39: Устройство уклонообразующего слоя из керамзита с разуклонкой | E39: м2 | G39: 496.62 | H39: =SUM($G$39:$G$39) -> 496.62 | I39: {=INDEX(Р[Цена за ед., руб],MATCH(1,IF(($B39=Р[Наименование])*($K39=Р[Примечание]),{1},($B39=Р[Наименование])*($K39=Р[Примечание])),0))} -> 0 | J39: =ROUND($H$39*$I$39,2) -> 0 | K39: толщ.50-250мм
B40: Материалы: | J40: =SUM($J$41) -> 0
A41: 1 | B41: Керамзит | D41: фр.10-20мм | E41: м3 | F41: 1.05 | G41: 95.6 | H41: =SUM($G$41:$G$41) -> 95.6 | I41: =VLOOKUP(B41,Материалы!$B$2:$J$34,7,0) -> 0 | J41: =ROUND($H$41*$I$41,2) -> 0 | L41: Закупка подрядчик
B42: Работы: | J42: =SUM($J$43) -> 0
B43: Устройство уклонообразующего слоя из цементно-песчаной стяжки с разуклонкой | E43: м2 | G43: 3.55 | H43: =SUM($G$43:$G$43) -> 3.55 | I43: {=INDEX(Р[Цена за ед., руб],MATCH(1,IF(($B43=Р[Наименование])*($K43=Р[Примечание]),{1},($B43=Р[Наименование])*($K43=Р[Примечание])),0))} -> 0 | J43: =ROUND($H$43*$I$43,2) -> 0
B44: Материалы: | J44: =SUM($J$45) -> 0
A45: 1 | B45: Раствор строительный | D45: цементно-песчаный М100 | E45: м3 | F45: 1.1 | G45: 0.29 | H45: =SUM($G$45:$G$45) -> 0.29 | I45: =VLOOKUP(B45,Материалы!$B$2:$J$34,7,0) -> 0 | J45: =ROUND($H$45*$I$45,2) -> 0 | L45: Закупка подрядчик
B46: Работы: | J46: =SUM($J$47) -> 0
B47: Утепление парапетов | E47: м2 | G47: 117.88 | H47: =SUM($G$47:$G$47) -> 117.88 | I47: {=INDEX(Р[Цена за ед., руб],MATCH(1,IF(($B47=Р[Наименование])*($K47=Р[Примечание]),{1},($B47=Р[Наименование])*($K47=Р[Примечание])),0))} -> 0 | J47: =ROUND($H$47*$I$47,2) -> 0 | K47: на высоту 1,2 м
B48: Материалы: | J48: =SUM($J$49:$J$50) -> 0
A49: 1 | B49: Дюбель для теплоизоляции с термоголовкой 10х160 | D49: для теплоизоляции с термоголовкой 10х160 | E49: шт | F49: 7 | G49: 830 | H49: =SUM($G$49:$G$49) -> 830 | I49: =VLOOKUP(B49,Материалы!$B$2:$J$34,7,0) -> 0 | J49: =ROUND($H$49*$I$49,2) -> 0 | L49: Закупка подрядчик
A50: 2 | B50: Плита минераловатная 100мм 130 кг/м3 | D50: 100мм 130 кг/м3 | E50: м3 | F50: 1.07 | G50: 12.61 | H50: =SUM($G$50:$G$50) -> 12.61 | I50: =VLOOKUP(B50,Материалы!$B$2:$J$34,7,0) -> 0 | J50: =ROUND($H$50*$I$50,2) -> 0 | L50: Закупка подрядчик
A51: 04.01.02 | B51: Устройство примыканий наплавляемой кровли | J51: =SUM($J$52) -> 0
A52: 04.01.02.00 | B52: Устройство примыканий наплавляемой кровли | J52: =SUM($J$106,$J$104,$J$101,$J$99,$J$95,$J$93,$J$89,$J$87,$J$84,$J$82,$J$75,$J$73,$J$71,$J$69,$J$66,$J$64,$J$61,$J$59,$J$55,$J$53) -> 0
B53: Работы: | J53: =SUM($J$54) -> 0
B54: Монтаж краевой рейки в примыканию к парапету с герметизацией по верху | E54: пог. м | G54: 98.33 | H54: =SUM($G$54:$G$54) -> 98.33 | I54: {=INDEX(Р[Цена за ед., руб],MATCH(1,IF(($B54=Р[Наименование])*($K54=Р[Примечание]),{1},($B54=Р[Наименование])*($K54=Р[Примечание])),0))} -> 0 | J54: =ROUND($H$54*$I$54,2) -> 0
B55: Материалы: | J55: =SUM($J$56:$J$58) -> 0
A56: 1 | B56: Рейка краевая алюминиевая 3000х32х3,0 | D56: алюминиевая 3000х32х3,0 | E56: пог. м | F56: 1.07 | G56: 105.21 | H56: =SUM($G$56:$G$56) -> 105.21 | I56: =VLOOKUP(B56,Материалы!$B$2:$J$34,7,0) -> 0 | J56: =ROUND($H$56*$I$56,2) -> 0 | L56: Закупка подрядчик
A57: 2 | B57: Герметик полиуретановый | D57: полиуретановый | E57: туб. | G57: 5 | H57: =SUM($G$57:$G$57) -> 5 | I57: =VLOOKUP(B57,Материалы!$B$2:$J$34,7,0) -> 0 | J57: =ROUND($H$57*$I$57,2) -> 0 | L57: Закупка подрядчик
A58: 3 | B58: Дюбель-гвоздь 6х40 | D58: 6х40 | E58: шт | G58: 530 | H58: =SUM($G$58:$G$58) -> 530 | I58: =VLOOKUP(B58,Материалы!$B$2:$J$34,7,0) -> 0 | J58: =ROUND($H$58*$I$58,2) -> 0 | L58: Закупка подрядчик
B59: Работы: | J59: =SUM($J$60) -> 0
B60: Монтаж утеплителя (минплита) толщ.100мм | E60: м2 | G60: 210.72 | H60: =SUM($G$60:$G$60) -> 210.72 | I60: {=INDEX(Р[Цена за ед., руб],MATCH(1,IF(($B60=Р[Наименование])*($K60=Р[Примечание]),{1},($B60=Р[Наименование])*($K60=Р[Примечание])),0))} -> 0 | J60: =ROUND($H$60*$I$60,2) -> 0 | K60: Утеплитель до пола (вентшахты)
B61: Материалы: | J61: =SUM($J$62:$J$63) -> 0
A62: 1 | B62: Дюбель для теплоизоляции с термоголовкой 10х160 | D62: для теплоизоляции с термоголовкой 10х160 | E62: шт | F62: 7 | G62: 1480 | H62: =SUM($G$62:$G$62) -> 1480 | I62: =VLOOKUP(B62,Материалы!$B$2:$J$34,7,0) -> 0 | J62: =ROUND($H$62*$I$62,2) -> 0 | L62: Закупка подрядчик
A63: 2 | B63: Плита минераловатная 100мм 130 кг/м3 | D63: 100мм 130 кг/м3 | E63: м3 | F63: 1.07 | G63: 22.55 | H63: =SUM($G$63:$G$63) -> 22.55 | I63: =VLOOKUP(B63,Материалы!$B$2:$J$34,7,0) -> 0 | J63: =ROUND($H$63*$I$63,2) -> 0 | L63: Закупка подрядчик
B64: Работы: | J64: =SUM($J$65) -> 0
B65: Монтаж утеплителя (минплита) толщ.150мм | E65: м2 | G65: 41.88 | H65: =SUM($G$65:$G$65) -> 41.88 | I65: {=INDEX(Р[Цена за ед., руб],MATCH(1,IF(($B65=Р[Наименование])*($K65=Р[Примечание]),{1},($B65=Р[Наименование])*($K65=Р[Примечание])),0))} -> 0 | J65: =ROUND($H$65*$I$65,2) -> 0 | K65: Утеплитель до пола (вентшахты)
B66: Материалы: | J66: =SUM($J$67:$J$68) -> 0
A67: 1 | B67: Дюбель для теплоизоляции с термоголовкой 10х220 | D67: для теплоизоляции с термоголовкой 10х220 | E67: шт | F67: 7 | G67: 295 | H67: =SUM($G$67:$G$67) -> 295 | I67: =VLOOKUP(B67,Материалы!$B$2:$J$34,7,0) -> 0 | J67: =ROUND($H$67*$I$67,2) -> 0 | L67: Закупка подрядчик
A68: 2 | B68: Плита минераловатная 150мм 130 кг/м3 | D68: 150мм 130 кг/м3 | E68: м3 | F68: 1.07 | G68: 6.72 | H68: =SUM($G$68:$G$68) -> 6.72 | I68: =VLOOKUP(B68,Материалы!$B$2:$J$34,7,0) -> 0 | J68: =ROUND($H$68*$I$68,2) -> 0 | L68: Закупка подрядчик
B69: Работы: | J69: =SUM($J$70) -> 0
B70: Нанесение битумного праймера под гидроизоляцию | E70: м2 | G70: 622.78 | H70: =SUM($G$70:$G$70) -> 622.78 | I70: {=INDEX(Р[Цена за ед., руб],MATCH(1,IF(($B70=Р[Наименование])*($K70=Р[Примечание]),{1},($B70=Р[Наименование])*($K70=Р[Примечание])),0))} -> 0 | J70: =ROUND($H$70*$I$70,2) -> 0 | K70: в т.ч. в местах примыкания
B71: Материалы: | J71: =SUM($J$72) -> 0
A72: 1 | B72: Праймер битумный | C72: №01, Технониколь | D72: битумный | E72: л (дм3) | F72: 0.3 | G72: 186.84 | H72: =SUM($G$72:$G$72) -> 186.84 | I72: =VLOOKUP(B72,Материалы!$B$2:$J$34,7,0) -> 0 | J72: =ROUND($H$72*$I$72,2) -> 0 | K72: Технониколь №01 | L72: Закупка подрядчик
B73: Работы: | J73: =SUM($J$74) -> 0
B74: Обшивка асбестоцементными листами | E74: м2 | G74: 411.58 | H74: =SUM($G$74:$G$74) -> 411.58 | I74: {=INDEX(Р[Цена за ед., руб],MATCH(1,IF(($B74=Р[Наименование])*($K74=Р[Примечание]),{1},($B74=Р[Наименование])*($K74=Р[Примечание])),0))} -> 0 | J74: =ROUND($H$74*$I$74,2) -> 0 | K74: вентшахты, кладки вокруг фановых труб, парапет
B75: Материалы: | J75: =SUM($J$76:$J$81) -> 0
A76: 1 | B76: Дюбель рамный металлический 10х202 | D76: рамный металлический 10х202 | E76: шт | G76: 120 | H76: =SUM($G$76:$G$76) -> 120 | I76: =VLOOKUP(B76,Материалы!$B$2:$J$34,7,0) -> 0 | J76: =ROUND($H$76*$I$76,2) -> 0 | L76: Закупка подрядчик
A77: 2 | B77: Дюбель рамный металлический 10х152 | D77: рамный металлический 10х152 | E77: шт | G77: 2500 | H77: =SUM($G$77:$G$77) -> 2500 | I77: =VLOOKUP(B77,Материалы!$B$2:$J$34,7,0) -> 0 | J77: =ROUND($H$77*$I$77,2) -> 0 | L77: Закупка подрядчик
A78: 3 | B78: Лист асбестоцементный ЛП-П 10мм | D78: ЛП-П 10мм | E78: м2 | F78: 2.05 | G78: =ROUND(G74*F78,2) -> 843.74 | H78: =SUM($G$78:$G$78) -> 843.74 | I78: =VLOOKUP(B78,Материалы!$B$2:$J$34,7,0) -> 0 | J78: =ROUND($H$78*$I$78,2) -> 0 | K78: в 2 слоя | L78: Закупка подрядчик
A79: 4 | B79: Доска обрезная антисептированная 50х100х6000 | D79: обрезная антисептированная 50х100х6000 | E79: м3 | F79: 1.05 | G79: 3.93 | H79: =SUM($G$79:$G$79) -> 3.93 | I79: =VLOOKUP(B79,Материалы!$B$2:$J$34,7,0) -> 0 | J79: =ROUND($H$79*$I$79,2) -> 0 | L79: Закупка подрядчик
A80: 5 | B80: Доска обрезная антисептированная 50х150х6000 | D80: обрезная антисептированная 50х150х6000 | E80: м3 | F80: 1.05 | G80: 0.27 | H80: =SUM($G$80:$G$80) -> 0.27 | I80: =VLOOKUP(B80,Материалы!$B$2:$J$34,7,0) -> 0 | J80: =ROUND($H$80*$I$80,2) -> 0 | L80: Закупка подрядчик
A81: 6 | B81: Саморезы по дереву 3,5х45 | D81: по дереву 3,5х45 | E81: шт | G81: 2921 | H81: =SUM($G$81:$G$81) -> 2921 | I81: =VLOOKUP(B81,Материалы!$B$2:$J$34,7,0) -> 0 | J81: =ROUND($H$81*$I$81,2) -> 0 | L81: Закупка подрядчик
B82: Работы: | J82: =SUM($J$83) -> 0
B83: Усиление примыканий, углов и стыков АЦЛ | E83: м2 | G83: 99.85 | H83: =SUM($G$83:$G$83) -> 99.85 | I83: {=INDEX(Р[Цена за ед., руб],MATCH(1,IF(($B83=Р[Наименование])*($K83=Р[Примечание]),{1},($B83=Р[Наименование])*($K83=Р[Примечание])),0))} -> 0 | J83: =ROUND($H$83*$I$83,2) -> 0 | K83: 200мм- углы, 150мм- стыки
B84: Материалы: | J84: =SUM($J$85:$J$86) -> 0
A85: 1 | B85: Унифлекс ЭПП 10х1м | D85: ЭПП 10х1м | E85: м2 | F85: 1.1 | G85: 110 | H85: =SUM($G$85:$G$85) -> 110 | I85: =VLOOKUP(B85,Материалы!$B$2:$J$34,7,0) -> 0 | J85: =ROUND($H$85*$I$85,2) -> 0 | L85: Закупка подрядчик
A86: 2 | B86: Газ-пропан | E86: л (дм3) | F86: 0.47 | G86: 46.93 | H86: =SUM($G$86:$G$86) -> 46.93 | I86: =VLOOKUP(B86,Материалы!$B$2:$J$34,7,0) -> 0 | J86: =ROUND($H$86*$I$86,2) -> 0 | L86: Закупка подрядчик
B87: Работы: | J87: =SUM($J$88) -> 0
B88: Устройство галтели в примыканиях из асбестоцементных листов | E88: м2 | G88: 39.74 | H88: =SUM($G$88:$G$88) -> 39.74 | I88: {=INDEX(Р[Цена за ед., руб],MATCH(1,IF(($B88=Р[Наименование])*($K88=Р[Примечание]),{1},($B88=Р[Наименование])*($K88=Р[Примечание])),0))} -> 0 | J88: =ROUND($H$88*$I$88,2) -> 0
B89: Материалы: | J89: =SUM($J$90:$J$92) -> 0
A90: 1 | B90: Лист асбестоцементный ЛП-П 10мм | D90: ЛП-П 10мм | E90: м2 | F90: 1.05 | G90: 41.72 | H90: =SUM($G$90:$G$90) -> 41.72 | I90: =VLOOKUP(B90,Материалы!$B$2:$J$34,7,0) -> 0 | J90: =ROUND($H$90*$I$90,2) -> 0 | L90: Закупка подрядчик
A91: 2 | B91: Саморезы по дереву 3,5х45 | D91: по дереву 3,5х45 | E91: шт | G91: 545 | H91: =SUM($G$91:$G$91) -> 545 | I91: =VLOOKUP(B91,Материалы!$B$2:$J$34,7,0) -> 0 | J91: =ROUND($H$91*$I$91,2) -> 0 | K91: шаг 300мм примыкание только к АЦЛ | L91: Закупка подрядчик
A92: 3 | B92: Дюбель-гвоздь 6х40 | D92: 6х40 | E92: шт | G92: 386 | H92: =SUM($G$92:$G$92) -> 386 | I92: =VLOOKUP(B92,Материалы!$B$2:$J$34,7,0) -> 0 | J92: =ROUND($H$92*$I$92,2) -> 0 | K92: шаг 300мм, примыкание только к парапету | L92: Закупка подрядчик
B93: Работы: | J93: =SUM($J$94) -> 0
B94: Устройство примыканий водоизоляционного слоя и оклеечная гидроизоляция (2 слоя) | E94: м2 | G94: 622.78 | H94: =SUM($G$94:$G$94) -> 622.78 | I94: {=INDEX(Р[Цена за ед., руб],MATCH(1,IF(($B94=Р[Наименование])*($K94=Р[Примечание]),{1},($B94=Р[Наименование])*($K94=Р[Примечание])),0))} -> 0 | J94: =ROUND($H$94*$I$94,2) -> 0
B95: Материалы: | J95: =SUM($J$96:$J$98) -> 0
A96: 1 | B96: Унифлекс ЭКП 10х1м | D96: ЭКП 10х1м | E96: м2 | F96: 1.14 | G96: 709.97 | H96: =SUM($G$96:$G$96) -> 709.97 | I96: =VLOOKUP(B96,Материалы!$B$2:$J$34,7,0) -> 0 | J96: =ROUND($H$96*$I$96,2) -> 0 | L96: Закупка подрядчик
A97: 2 | B97: Унифлекс ЭПП 10х1м | D97: ЭПП 10х1м | E97: м2 | F97: 1.16 | G97: 664.37 | H97: =SUM($G$97:$G$97) -> 664.37 | I97: =VLOOKUP(B97,Материалы!$B$2:$J$34,7,0) -> 0 | J97: =ROUND($H$97*$I$97,2) -> 0 | L97: Закупка подрядчик
A98: 3 | B98: Газ-пропан | E98: л (дм3) | F98: 0.94 | G98: 760.2 | H98: =SUM($G$98:$G$98) -> 760.2 | I98: =VLOOKUP(B98,Материалы!$B$2:$J$34,7,0) -> 0 | J98: =ROUND($H$98*$I$98,2) -> 0 | L98: Закупка подрядчик
B99: Работы: | J99: =SUM($J$100) -> 0
B100: Устройство примыканий пароизоляционного слоя к вертикальным конструкциям | E100: м2 | G100: 128 | H100: =SUM($G$100:$G$100) -> 128 | I100: {=INDEX(Р[Цена за ед., руб],MATCH(1,IF(($B100=Р[Наименование])*($K100=Р[Примечание]),{1},($B100=Р[Наименование])*($K100=Р[Примечание])),0))} -> 0 | J100: =ROUND($H$100*$I$100,2) -> 0 | K100: на высоту 250мм + узел 4.8 04/2024-АСУ, лист 4.2
B101: Материалы: | J101: =SUM($J$102:$J$103) -> 0
A102: 1 | B102: Пленка строительная | D102: гидропароизоляционная | E102: м2 | F102: 1.1 | G102: 145 | H102: =SUM($G$102:$G$102) -> 145 | I102: =VLOOKUP(B102,Материалы!$B$2:$J$34,7,0) -> 0 | J102: =ROUND($H$102*$I$102,2) -> 0 | K102: Изоспан D | L102: Закупка подрядчик
A103: 2 | B103: Лента клейкая усиленная двухсторонняя 25мм,25м | C103: KL+, Изоспан | D103: усиленная двухсторонняя 25мм,25м | E103: шт | G103: 4 | H103: =SUM($G$103:$G$103) -> 4 | I103: =VLOOKUP(B103,Материалы!$B$2:$J$34,7,0) -> 0 | J103: =ROUND($H$103*$I$103,2) -> 0 | K103: Изоспан KL+ | L103: Закупка подрядчик
...

Sheet Работы
A1: Сводная ведомость объемов работ
A3: Наименование | B3: Ед. изм. | C3: Количество | D3: Цена за ед., руб | E3: Сумма, руб | F3: Примечание
A4: Нанесение битумного праймера под гидроизоляцию | B4: м2 | C4: 1127.39 | E4: =ROUND(Р[[#This Row],[Количество]]*Р[[#This Row],[Цена за ед., руб]],2) -> 0 | F4: в т.ч. в местах примыкания
A5: Укладка пароизоляции по подготовленному основанию насухо (с проклейкой швов) | B5: м2 | C5: 496.62 | E5: =ROUND(Р[[#This Row],[Количество]]*Р[[#This Row],[Цена за ед., руб]],2) -> 0
A6: Укладка утеплителя толщ. 200мм. | B6: м2 | C6: 496.62 | E6: =ROUND(Р[[#This Row],[Количество]]*Р[[#This Row],[Цена за ед., руб]],2) -> 0
A7: Устройство кровель плоских из наплавляемых материалов в 2 слоя | B7: м2 | C7: 504.61 | E7: =ROUND(Р[[#This Row],[Количество]]*Р[[#This Row],[Цена за ед., руб]],2) -> 0
A8: Устройство стяжек сборных из плоских асбестоцементных листов плоских (2слоя) | B8: м2 | C8: 496.62 | E8: =ROUND(Р[[#This Row],[Количество]]*Р[[#This Row],[Цена за ед., руб]],2) -> 0
A9: Устройство уклонообразующего слоя из керамзита с разуклонкой | B9: м2 | C9: 496.62 | E9: =ROUND(Р[[#This Row],[Количество]]*Р[[#This Row],[Цена за ед., руб]],2) -> 0 | F9: толщ.50-250мм
A10: Устройство уклонообразующего слоя из цементно-песчаной стяжки с разуклонкой | B10: м2 | C10: 3.55 | E10: =ROUND(Р[[#This Row],[Количество]]*Р[[#This Row],[Цена за ед., руб]],2) -> 0
A11: Утепление парапетов | B11: м2 | C11: 117.88 | E11: =ROUND(Р[[#This Row],[Количество]]*Р[[#This Row],[Цена за ед., руб]],2) -> 0 | F11: на высоту 1,2 м
A12: Монтаж краевой рейки в примыканию к парапету с герметизацией по верху | B12: пог. м | C12: 98.33 | E12: =ROUND(Р[[#This Row],[Количество]]*Р[[#This Row],[Цена за ед., руб]],2) -> 0
A13: Монтаж утеплителя (минплита) толщ.100мм | B13: м2 | C13: 210.72 | E13: =ROUND(Р[[#This Row],[Количество]]*Р[[#This Row],[Цена за ед., руб]],2) -> 0 | F13: Утеплитель до пола (вентшахты)
A14: Монтаж утеплителя (минплита) толщ.150мм | B14: м2 | C14: 41.88 | E14: =ROUND(Р[[#This Row],[Количество]]*Р[[#This Row],[Цена за ед., руб]],2) -> 0 | F14: Утеплитель до пола (вентшахты)
A15: Обшивка асбестоцементными листами | B15: м2 | C15: 411.58 | E15: =ROUND(Р[[#This Row],[Количество]]*Р[[#This Row],[Цена за ед., руб]],2) -> 0 | F15: вентшахты, кладки вокруг фановых труб, парапет
A16: Усиление примыканий, углов и стыков АЦЛ | B16: м2 | C16: 99.85 | E16: =ROUND(Р[[#This Row],[Количество]]*Р[[#This Row],[Цена за ед., руб]],2) -> 0 | F16: 200мм- углы, 150мм- стыки
A17: Устройство галтели в примыканиях из асбестоцементных листов | B17: м2 | C17: 39.74 | E17: =ROUND(Р[[#This Row],[Количество]]*Р[[#This Row],[Цена за ед., руб]],2) -> 0
A18: Устройство примыканий водоизоляционного слоя и оклеечная гидроизоляция (2 слоя) | B18: м2 | C18: 622.78 | E18: =ROUND(Р[[#This Row],[Количество]]*Р[[#This Row],[Цена за ед., руб]],2) -> 0
A19: Устройство примыканий пароизоляционного слоя к вертикальным конструкциям | B19: м2 | C19: 128 | E19: =ROUND(Р[[#This Row],[Количество]]*Р[[#This Row],[Цена за ед., руб]],2) -> 0 | F19: на высоту 250мм + узел 4.8 04/2024-АСУ, лист 4.2
A20: Устройство цементно-песчаной стяжки по верху парапета | B20: м2 | C20: 38.6 | E20: =ROUND(Р[[#This Row],[Количество]]*Р[[#This Row],[Цена за ед., руб]],2) -> 0
A21: Монтаж аэраторов | B21: шт | C21: 11 | E21: =ROUND(Р[[#This Row],[Количество]]*Р[[#This Row],[Цена за ед., руб]],2) -> 0
A22: Монтаж водоприемных воронок | B22: шт | C22: 6 | E22: =ROUND(Р[[#This Row],[Количество]]*Р[[#This Row],[Цена за ед., руб]],2) -> 0
A23: Монтаж парапетных крышек | B23: пог. м | C23: 121.31 | E23: =ROUND(Р[[#This Row],[Количество]]*Р[[#This Row],[Цена за ед., руб]],2) -> 0
A24: Итог | D24: Итого: | E24: =SUBTOTAL(109,Р[Сумма, руб]) -> 0
D25: Проверка: | E25: =Р[[#Totals],[Сумма, руб]]-ЛСР!J134 -> 0

Sheet Материалы
B1: Спецификация материалов
A2: № | B2: Наименование | C2: Марка/ Завод изготовитель | D2: Характеристика | E2: Ед. изм. | F2: секция 1 | G2: Кол-во | H2: Цена за ед. | I2: Сумма | J2: Примечание
A3: =ROW()-2 -> 1 | B3: Праймер битумный | C3: =VLOOKUP($B3,ЛСР!$B$6:$L$132,2,0) -> №01, Технониколь | D3: =VLOOKUP($B3,ЛСР!$B$6:$L$132,3,0) -> битумный | E3: =VLOOKUP($B3,ЛСР!$B$6:$L$132,4,0) -> л (дм3) | F3: =SUMIF(ЛСР!$B$6:$B$132,$B3,ЛСР!$G$6:$G$132) -> 338.22 | G3: =SUM(F3:F3) -> 338.22 | I3: =ROUND(H3*G3,2) -> 0 | J3: =VLOOKUP($B3,ЛСР!$B$6:$L$132,10,0) -> Технониколь №01
A4: =ROW()-2 -> 2 | B4: Пленка строительная | C4: =VLOOKUP($B4,ЛСР!$B$6:$L$132,2,0) -> 0 | D4: =VLOOKUP($B4,ЛСР!$B$6:$L$132,3,0) -> гидропароизоляционная | E4: =VLOOKUP($B4,ЛСР!$B$6:$L$132,4,0) -> м2 | F4: =SUMIF(ЛСР!$B$6:$B$132,$B4,ЛСР!$G$6:$G$132) -> 695 | G4: =SUM(F4:F4) -> 695 | I4: =ROUND(H4*G4,2) -> 0 | J4: =VLOOKUP($B4,ЛСР!$B$6:$L$132,10,0) -> Изоспан D
A5: =ROW()-2 -> 3 | B5: Лента клейкая усиленная двухсторонняя 25мм,25м | C5: =VLOOKUP($B5,ЛСР!$B$6:$L$132,2,0) -> KL+, Изоспан | D5: =VLOOKUP($B5,ЛСР!$B$6:$L$132,3,0) -> усиленная двухсторонняя 25мм,25м | E5: =VLOOKUP($B5,ЛСР!$B$6:$L$132,4,0) -> шт | F5: =SUMIF(ЛСР!$B$6:$B$132,$B5,ЛСР!$G$6:$G$132) -> 18 | G5: =SUM(F5:F5) -> 18 | I5: =ROUND(H5*G5,2) -> 0 | J5: =VLOOKUP($B5,ЛСР!$B$6:$L$132,10,0) -> Лента Изоспан KL+
A6: =ROW()-2 -> 4 | B6: Пенополистирол экструзионный 1180х580х100мм 35кг/м3 | C6: =VLOOKUP($B6,ЛСР!$B$6:$L$132,2,0) -> 0 | D6: =VLOOKUP($B6,ЛСР!$B$6:$L$132,3,0) -> экструзионный 1180х580х100мм 35кг/м3 | E6: =VLOOKUP($B6,ЛСР!$B$6:$L$132,4,0) -> м3 | F6: =SUMIF(ЛСР!$B$6:$B$132,$B6,ЛСР!$G$6:$G$132) -> 102.3 | G6: =SUM(F6:F6) -> 102.3 | I6: =ROUND(H6*G6,2) -> 0 | J6: =VLOOKUP($B6,ЛСР!$B$6:$L$132,10,0) -> В два слоя
A7: =ROW()-2 -> 5 | B7: Пена монтажная противопожарная | C7: =VLOOKUP($B7,ЛСР!$B$6:$L$132,2,0) -> 0 | D7: =VLOOKUP($B7,ЛСР!$B$6:$L$132,3,0) -> противопожарная | E7: =VLOOKUP($B7,ЛСР!$B$6:$L$132,4,0) -> баллон | F7: =SUMIF(ЛСР!$B$6:$B$132,$B7,ЛСР!$G$6:$G$132) -> 22 | G7: =SUM(F7:F7) -> 22 | I7: =ROUND(H7*G7,2) -> 0 | J7: =VLOOKUP($B7,ЛСР!$B$6:$L$132,10,0) -> 0
A8: =ROW()-2 -> 6 | B8: Унифлекс ЭКП 10х1м | C8: =VLOOKUP($B8,ЛСР!$B$6:$L$132,2,0) -> 0 | D8: =VLOOKUP($B8,ЛСР!$B$6:$L$132,3,0) -> ЭКП 10х1м | E8: =VLOOKUP($B8,ЛСР!$B$6:$L$132,4,0) -> м2 | F8: =SUMIF(ЛСР!$B$6:$B$132,$B8,ЛСР!$G$6:$G$132) -> 1296.22 | G8: =SUM(F8:F8) -> 1296.22 | I8: =ROUND(H8*G8,2) -> 0 | J8: =VLOOKUP($B8,ЛСР!$B$6:$L$132,10,0) -> 0
A9: =ROW()-2 -> 7 | B9: Унифлекс ЭПП 10х1м | C9: =VLOOKUP($B9,ЛСР!$B$6:$L$132,2,0) -> 0 | D9: =VLOOKUP($B9,ЛСР!$B$6:$L$132,3,0) -> ЭПП 10х1м | E9: =VLOOKUP($B9,ЛСР!$B$6:$L$132,4,0) -> м2 | F9: =SUMIF(ЛСР!$B$6:$B$132,$B9,ЛСР!$G$6:$G$132) -> 1376.71 | G9: =SUM(F9:F9) -> 1376.71 | I9: =ROUND(H9*G9,2) -> 0 | J9: =VLOOKUP($B9,ЛСР!$B$6:$L$132,10,0) -> 0
A10: =ROW()-2 -> 8 | B10: Газ-пропан | C10: =VLOOKUP($B10,ЛСР!$B$6:$L$132,2,0) -> 0 | D10: =VLOOKUP($B10,ЛСР!$B$6:$L$132,3,0) -> 0 | E10: =VLOOKUP($B10,ЛСР!$B$6:$L$132,4,0) -> л (дм3) | F10: =SUMIF(ЛСР!$B$6:$B$132,$B10,ЛСР!$G$6:$G$132) -> 1281.46 | G10: =SUM(F10:F10) -> 1281.46 | I10: =ROUND(H10*G10,2) -> 0 | J10: =VLOOKUP($B10,ЛСР!$B$6:$L$132,10,0) -> 0
A11: =ROW()-2 -> 9 | B11: Лист асбестоцементный ЛП-П 10мм | C11: =VLOOKUP($B11,ЛСР!$B$6:$L$132,2,0) -> 0 | D11: =VLOOKUP($B11,ЛСР!$B$6:$L$132,3,0) -> ЛП-П 10мм | E11: =VLOOKUP($B11,ЛСР!$B$6:$L$132,4,0) -> м2 | F11: =SUMIF(ЛСР!$B$6:$B$132,$B11,ЛСР!$G$6:$G$132) -> 1903.53 | G11: =SUM(F11:F11) -> 1903.53 | I11: =ROUND(H11*G11,2) -> 0 | J11: =VLOOKUP($B11,ЛСР!$B$6:$L$132,10,0) -> в 2 слоя
A12: =ROW()-2 -> 10 | B12: Кляймер 10мм двойной гнутый для плоского шифера | C12: =VLOOKUP($B12,ЛСР!$B$6:$L$132,2,0) -> 0 | D12: =VLOOKUP($B12,ЛСР!$B$6:$L$132,3,0) -> 10мм двойной гнутый для плоского шифера | E12: =VLOOKUP($B12,ЛСР!$B$6:$L$132,4,0) -> шт | F12: =SUMIF(ЛСР!$B$6:$B$132,$B12,ЛСР!$G$6:$G$132) -> 1988 | G12: =SUM(F12:F12) -> 1988 | I12: =ROUND(H12*G12,2) -> 0 | J12: =VLOOKUP($B12,ЛСР!$B$6:$L$132,10,0) -> 0
A13: =ROW()-2 -> 11 | B13: Саморезы по дереву 3,5х45 | C13: =VLOOKUP($B13,ЛСР!$B$6:$L$132,2,0) -> 0 | D13: =VLOOKUP($B13,ЛСР!$B$6:$L$132,3,0) -> по дереву 3,5х45 | E13: =VLOOKUP($B13,ЛСР!$B$6:$L$132,4,0) -> шт | F13: =SUMIF(ЛСР!$B$6:$B$132,$B13,ЛСР!$G$6:$G$132) -> 5950 | G13: =SUM(F13:F13) -> 5950 | I13: =ROUND(H13*G13,2) -> 0 | J13: =VLOOKUP($B13,ЛСР!$B$6:$L$132,10,0) -> 0
A14: =ROW()-2 -> 12 | B14: Керамзит | C14: =VLOOKUP($B14,ЛСР!$B$6:$L$132,2,0) -> 0 | D14: =VLOOKUP($B14,ЛСР!$B$6:$L$132,3,0) -> фр.10-20мм | E14: =VLOOKUP($B14,ЛСР!$B$6:$L$132,4,0) -> м3 | F14: =SUMIF(ЛСР!$B$6:$B$132,$B14,ЛСР!$G$6:$G$132) -> 95.6 | G14: =SUM(F14:F14) -> 95.6 | I14: =ROUND(H14*G14,2) -> 0 | J14: =VLOOKUP($B14,ЛСР!$B$6:$L$132,10,0) -> 0
... A34: =ROW()-2 -> 32 | B34: Крышка парапетная оцинк.сталь 460мм 0,7мм RAL9004 | C34: =VLOOKUP($B34,ЛСР!$B$6:$L$132,2,0) -> 0 | D34: =VLOOKUP($B34,ЛСР!$B$6:$L$132,3,0) -> оцинк.сталь 460мм 0,7мм RAL9004 | E34: =VLOOKUP($B34,ЛСР!$B$6:$L$132,4,0) -> пог. м | F34: =SUMIF(ЛСР!$B$6:$B$132,$B34,ЛСР!$G$6:$G$132) -> 17.23 | G34: =SUM(F34:F34) -> 17.23 | I34: =ROUND(H34*G34,2) -> 0 | J34: =VLOOKUP($B34,ЛСР!$B$6:$L$132,10,0) -> Ширина развертки - 20х50х90х460х120х50х20 мм. 10см перехлест, 2м длина профиля. Размеры уточнить по месту. Терассы.
H35: Итого: | I35: =SUM(I3:I34) -> 0
H36: Проверка: | I36: =I35-ЛСР!J135 -> 0

Sheet ПараметрыЗагрузки
A1: ЛСР | B1: ЛСРГуид
A2: ГП-72.215.01.04.01 Секция 1_Устройство кровли №1 | B2: cd71ab29-3d7a-11f1-9618-db392af1e994
