Workbook

Sheet ЛСР
B2: Локальный сметный расчет (ЛСР) №2
B3: Объект: «Жилой район «Преображенский» в г. Тюмени. Квартал 8. Участок 72:17:1313004:1005. Многоэтажный жилой дом с нежилыми помещениями ГП-72.215» Секция 1
B4: Ведомость объемов работ и расхода материалов по работе: Устройство террасы (в т.ч. ограждения) и сопутствующим работам (согласно проекту шифр , стадия Р)
A6: № | B6: Наименование | C6: Артикул, марка, производитель | D6: Характеристика | E6: Ед. изм. | F6: Норма расхода | G6: Секция 1 | H6: Количество | I6: Цена за ед., руб | J6: Сумма, руб | K6: Примечание | L6: Форма закупа материала
A8: 04 | B8: Кровля
A9: 04.02 | B9: Устройство террасы (в т.ч. ограждения) | J9: =SUM($J$46,$J$10) -> 0
A10: 04.02.01 | B10: Устройство террасы | J10: =SUM($J$11) -> 0
A11: 04.02.01.00 | B11: Устройство террасы | J11: =SUM($J$44,$J$42,$J$40,$J$38,$J$34,$J$32,$J$28,$J$26,$J$23,$J$21,$J$18,$J$16,$J$14,$J$12) -> 0
B12: Работы: | J12: =SUM($J$13) -> 0
B13: Нанесение битумного праймера под гидроизоляцию | E13: м2 | G13: 25.77 | H13: =SUM($G$13:$G$13) -> 25.77 | I13: {=INDEX(Р[Цена за ед., руб],MATCH(1,IF(($B13=Р[Наименование])*($K13=Р[Примечание]),{1},($B13=Р[Наименование])*($K13=Р[Примечание])),0))} -> 0 | J13: =ROUND($H$13*$I$13,2) -> 0 | K13: в т.ч. в местах примыкания
B14: Материалы: | J14: =SUM($J$15) -> 0
A15: 1 | B15: Праймер битумный | C15: №01, Технониколь | D15: битумный | E15: л (дм3) | F15: 0.3 | G15: 7.73 | H15: =SUM($G$15:$G$15) -> 7.73 | I15: =VLOOKUP(B15,Материалы!$B$3:$J$20,7,0) -> 0 | J15: =ROUND($H$15*$I$15,2) -> 0 | K15: Технониколь №01 | L15: Закупка подрядчик
B16: Работы: | J16: =SUM($J$17) -> 0
B17: Укладка пароизоляции по подготовленному основанию насухо (с проклейкой швов) | E17: м2 | G17: 25.77 | H17: =SUM($G$17:$G$17) -> 25.77 | I17: {=INDEX(Р[Цена за ед., руб],MATCH(1,IF(($B17=Р[Наименование])*($K17=Р[Примечание]),{1},($B17=Р[Наименование])*($K17=Р[Примечание])),0))} -> 0 | J17: =ROUND($H$17*$I$17,2) -> 0
B18: Материалы: | J18: =SUM($J$19:$J$20) -> 0
A19: 1 | B19: Пленка строительная | D19: гидропароизоляционная | E19: м2 | F19: 1.1 | G19: 30 | H19: =SUM($G$19:$G$19) -> 30 | I19: =VLOOKUP(B19,Материалы!$B$3:$J$20,7,0) -> 0 | J19: =ROUND($H$19*$I$19,2) -> 0 | K19: Изоспан D | L19: Закупка подрядчик
A20: 2 | B20: Лента клейкая усиленная двухсторонняя 25мм,25м | C20: KL+, Изоспан | D20: усиленная двухсторонняя 25мм,25м | E20: шт | G20: 1 | H20: =SUM($G$20:$G$20) -> 1 | I20: =VLOOKUP(B20,Материалы!$B$3:$J$20,7,0) -> 0 | J20: =ROUND($H$20*$I$20,2) -> 0 | K20: Лента Изоспан KL+ | L20: Закупка подрядчик
B21: Работы: | J21: =SUM($J$22) -> 0
B22: Укладка утеплителя | E22: м2 | G22: 25.77 | H22: =SUM($G$22:$G$22) -> 25.77 | I22: {=INDEX(Р[Цена за ед., руб],MATCH(1,IF(($B22=Р[Наименование])*($K22=Р[Примечание]),{1},($B22=Р[Наименование])*($K22=Р[Примечание])),0))} -> 0 | J22: =ROUND($H$22*$I$22,2) -> 0
B23: Материалы: | J23: =SUM($J$24:$J$25) -> 0
A24: 1 | B24: Пенополистирол экструзионный 1180х580х100мм 35кг/м3 | D24: экструзионный 1180х580х100мм 35кг/м3 | E24: м3 | F24: 1.03 | G24: 5.31 | H24: =SUM($G$24:$G$24) -> 5.31 | I24: =VLOOKUP(B24,Материалы!$B$3:$J$20,7,0) -> 0 | J24: =ROUND($H$24*$I$24,2) -> 0 | K24: В два слоя | L24: Закупка подрядчик
A25: 2 | B25: Пена монтажная противопожарная | D25: противопожарная | E25: баллон | G25: 1 | H25: =SUM($G$25:$G$25) -> 1 | I25: =VLOOKUP(B25,Материалы!$B$3:$J$20,7,0) -> 0 | J25: =ROUND($H$25*$I$25,2) -> 0 | L25: Закупка подрядчик
B26: Работы: | J26: =SUM($J$27) -> 0
B27: Устройство кровель плоских из наплавляемых материалов в 2 слоя | E27: м2 | G27: 25.77 | H27: =SUM($G$27:$G$27) -> 25.77 | I27: {=INDEX(Р[Цена за ед., руб],MATCH(1,IF(($B27=Р[Наименование])*($K27=Р[Примечание]),{1},($B27=Р[Наименование])*($K27=Р[Примечание])),0))} -> 0 | J27: =ROUND($H$27*$I$27,2) -> 0
B28: Материалы: | J28: =SUM($J$29:$J$31) -> 0
A29: 1 | B29: Унифлекс ЭКП 10х1м | D29: ЭКП 10х1м | E29: м2 | F29: 1.14 | G29: 29.37 | H29: =SUM($G$29:$G$29) -> 29.37 | I29: =VLOOKUP(B29,Материалы!$B$3:$J$20,7,0) -> 0 | J29: =ROUND($H$29*$I$29,2) -> 0 | L29: Закупка подрядчик
A30: 2 | B30: Унифлекс ЭПП 10х1м | D30: ЭПП 10х1м | E30: м2 | F30: 1.16 | G30: 29.89 | H30: =SUM($G$30:$G$30) -> 29.89 | I30: =VLOOKUP(B30,Материалы!$B$3:$J$20,7,0) -> 0 | J30: =ROUND($H$30*$I$30,2) -> 0 | L30: Закупка подрядчик
A31: 3 | B31: Газ-пропан | E31: л (дм3) | F31: 0.94 | G31: 24.22 | H31: =SUM($G$31:$G$31) -> 24.22 | I31: =VLOOKUP(B31,Материалы!$B$3:$J$20,7,0) -> 0 | J31: =ROUND($H$31*$I$31,2) -> 0 | L31: Закупка подрядчик
B32: Работы: | J32: =SUM($J$33) -> 0
B33: Устройство стяжек сборных из плоских асбестоцементных листов плоских (2слоя) | E33: м2 | G33: 25.77 | H33: =SUM($G$33:$G$33) -> 25.77 | I33: {=INDEX(Р[Цена за ед., руб],MATCH(1,IF(($B33=Р[Наименование])*($K33=Р[Примечание]),{1},($B33=Р[Наименование])*($K33=Р[Примечание])),0))} -> 0 | J33: =ROUND($H$33*$I$33,2) -> 0
B34: Материалы: | J34: =SUM($J$35:$J$37) -> 0
A35: 1 | B35: Лист асбестоцементный ЛП-П 10мм | D35: ЛП-П 10мм | E35: м2 | F35: 2.05 | G35: =ROUND(G33*F35,2) -> 52.83 | H35: =SUM($G$35:$G$35) -> 52.83 | I35: =VLOOKUP(B35,Материалы!$B$3:$J$20,7,0) -> 0 | J35: =ROUND($H$35*$I$35,2) -> 0 | L35: Закупка подрядчик
A36: 2 | B36: Кляймер 10мм двойной гнутый для плоского шифера | D36: 10мм двойной гнутый для плоского шифера | E36: шт | F36: 4 | G36: 104 | H36: =SUM($G$36:$G$36) -> 104 | I36: =VLOOKUP(B36,Материалы!$B$3:$J$20,7,0) -> 0 | J36: =ROUND($H$36*$I$36,2) -> 0 | L36: Закупка подрядчик
A37: 3 | B37: Саморезы по дереву 3,5х45 | D37: по дереву 3,5х45 | E37: шт | F37: 5 | G37: 129 | H37: =SUM($G$37:$G$37) -> 129 | I37: =VLOOKUP(B37,Материалы!$B$3:$J$20,7,0) -> 0 | J37: =ROUND($H$37*$I$37,2) -> 0 | L37: Закупка подрядчик
B38: Работы: | J38: =SUM($J$39) -> 0
B39: Устройство уклонообразующего слоя из керамзита с разуклонкой | E39: м2 | G39: 25.77 | H39: =SUM($G$39:$G$39) -> 25.77 | I39: {=INDEX(Р[Цена за ед., руб],MATCH(1,IF(($B39=Р[Наименование])*($K39=Р[Примечание]),{1},($B39=Р[Наименование])*($K39=Р[Примечание])),0))} -> 0 | J39: =ROUND($H$39*$I$39,2) -> 0 | K39: толщ.50-150мм
B40: Материалы: | J40: =SUM($J$41) -> 0
A41: 1 | B41: Керамзит | D41: фр.10-20мм | E41: м3 | F41: 1.05 | G41: 3.16 | H41: =SUM($G$41:$G$41) -> 3.16 | I41: =VLOOKUP(B41,Материалы!$B$3:$J$20,7,0) -> 0 | J41: =ROUND($H$41*$I$41,2) -> 0 | L41: Закупка подрядчик
B42: Работы: | J42: =SUM($J$43) -> 0
B43: Утепление парапетов | E43: м2 | G43: 17.53 | H43: =SUM($G$43:$G$43) -> 17.53 | I43: {=INDEX(Р[Цена за ед., руб],MATCH(1,IF(($B43=Р[Наименование])*($K43=Р[Примечание]),{1},($B43=Р[Наименование])*($K43=Р[Примечание])),0))} -> 0 | J43: =ROUND($H$43*$I$43,2) -> 0 | K43: на высоту 1,2 м
...

Sheet Работы
A1: Сводная ведомость объемов работ
A3: Наименование | B3: Ед. изм. | C3: Количество | D3: Цена за ед., руб | E3: Сумма, руб | F3: Примечание
A4: Нанесение битумного праймера под гидроизоляцию | B4: м2 | C4: 66.83 | E4: =ROUND(Р[[#This Row],[Количество]]*Р[[#This Row],[Цена за ед., руб]],2) -> 0 | F4: в т.ч. в местах примыкания
A5: Укладка пароизоляции по подготовленному основанию насухо (с проклейкой швов) | B5: м2 | C5: 25.77 | E5: =ROUND(Р[[#This Row],[Количество]]*Р[[#This Row],[Цена за ед., руб]],2) -> 0
A6: Укладка утеплителя | B6: м2 | C6: 25.77 | E6: =ROUND(Р[[#This Row],[Количество]]*Р[[#This Row],[Цена за ед., руб]],2) -> 0
A7: Устройство кровель плоских из наплавляемых материалов в 2 слоя | B7: м2 | C7: 25.77 | E7: =ROUND(Р[[#This Row],[Количество]]*Р[[#This Row],[Цена за ед., руб]],2) -> 0
A8: Устройство стяжек сборных из плоских асбестоцементных листов плоских (2слоя) | B8: м2 | C8: 25.77 | E8: =ROUND(Р[[#This Row],[Количество]]*Р[[#This Row],[Цена за ед., руб]],2) -> 0
A9: Устройство уклонообразующего слоя из керамзита с разуклонкой | B9: м2 | C9: 25.77 | E9: =ROUND(Р[[#This Row],[Количество]]*Р[[#This Row],[Цена за ед., руб]],2) -> 0 | F9: толщ.50-150мм
A10: Утепление парапетов | B10: м2 | C10: 17.53 | E10: =ROUND(Р[[#This Row],[Количество]]*Р[[#This Row],[Цена за ед., руб]],2) -> 0 | F10: на высоту 1,2 м
A11: Монтаж краевой рейки в примыканию к парапету с герметизацией по верху | B11: пог. м | C11: 14.11 | E11: =ROUND(Р[[#This Row],[Количество]]*Р[[#This Row],[Цена за ед., руб]],2) -> 0
A12: Обшивка асбестоцементными листами | B12: м2 | C12: 19.45 | E12: =ROUND(Р[[#This Row],[Количество]]*Р[[#This Row],[Цена за ед., руб]],2) -> 0 | F12: кирпичных стенок примыкания
A13: Устройство галтели в примыканиях из асбестоцементных листов | B13: м2 | C13: 4.32 | E13: =ROUND(Р[[#This Row],[Количество]]*Р[[#This Row],[Цена за ед., руб]],2) -> 0
A14: Устройство примыканий водоизоляционного слоя и оклеечная гидроизоляция (2 слоя) | B14: м2 | C14: 41.06 | E14: =ROUND(Р[[#This Row],[Количество]]*Р[[#This Row],[Цена за ед., руб]],2) -> 0
A15: Устройство примыканий пароизоляционного слоя к вертикальным конструкциям | B15: м2 | C15: 7.2 | E15: =ROUND(Р[[#This Row],[Количество]]*Р[[#This Row],[Цена за ед., руб]],2) -> 0 | F15: на высоту 250 мм
A16: Итог | D16: Итого: | E16: =SUBTOTAL(109,Р[Сумма, руб]) -> 0
D17: Проверка: | E17: =Р[[#Totals],[Сумма, руб]]-ЛСР!J82 -> 0

Sheet Материалы
B1: Спецификация материалов
A2: № | B2: Наименование | C2: Марка/ Завод изготовитель | D2: Характеристика | E2: Ед. изм. | F2: секция 1 | G2: Кол-во | H2: Цена за ед. | I2: Сумма | J2: Примечание
A3: =ROW()-2 -> 1 | B3: Праймер битумный | C3: =VLOOKUP($B3,ЛСР!$B$6:$L$80,2,0) -> №01, Технониколь | D3: =VLOOKUP($B3,ЛСР!$B$6:$L$80,3,0) -> битумный | E3: =VLOOKUP($B3,ЛСР!$B$6:$L$80,4,0) -> л (дм3) | F3: =SUMIF(ЛСР!$B$6:$B$80,$B3,ЛСР!$G$6:$G$80) -> 20.05 | G3: =SUM(F3:F3) -> 20.05 | I3: =ROUND(H3*G3,2) -> 0 | J3: =VLOOKUP($B3,[1]ЛСР!$B$6:$L$132,10,0) -> Технониколь №01
A4: =ROW()-2 -> 2 | B4: Пленка строительная | C4: =VLOOKUP($B4,ЛСР!$B$6:$L$80,2,0) -> 0 | D4: =VLOOKUP($B4,ЛСР!$B$6:$L$80,3,0) -> гидропароизоляционная | E4: =VLOOKUP($B4,ЛСР!$B$6:$L$80,4,0) -> м2 | F4: =SUMIF(ЛСР!$B$6:$B$80,$B4,ЛСР!$G$6:$G$80) -> 40 | G4: =SUM(F4:F4) -> 40 | I4: =ROUND(H4*G4,2) -> 0 | J4: =VLOOKUP($B4,[1]ЛСР!$B$6:$L$132,10,0) -> Изоспан D
A5: =ROW()-2 -> 3 | B5: Лента клейкая усиленная двухсторонняя 25мм,25м | C5: =VLOOKUP($B5,ЛСР!$B$6:$L$80,2,0) -> KL+, Изоспан | D5: =VLOOKUP($B5,ЛСР!$B$6:$L$80,3,0) -> усиленная двухсторонняя 25мм,25м | E5: =VLOOKUP($B5,ЛСР!$B$6:$L$80,4,0) -> шт | F5: =SUMIF(ЛСР!$B$6:$B$80,$B5,ЛСР!$G$6:$G$80) -> 2 | G5: =SUM(F5:F5) -> 2 | I5: =ROUND(H5*G5,2) -> 0 | J5: =VLOOKUP($B5,[1]ЛСР!$B$6:$L$132,10,0) -> Лента Изоспан KL+
A6: =ROW()-2 -> 4 | B6: Пенополистирол экструзионный 1180х580х100мм 35кг/м3 | C6: =VLOOKUP($B6,ЛСР!$B$6:$L$80,2,0) -> 0 | D6: =VLOOKUP($B6,ЛСР!$B$6:$L$80,3,0) -> экструзионный 1180х580х100мм 35кг/м3 | E6: =VLOOKUP($B6,ЛСР!$B$6:$L$80,4,0) -> м3 | F6: =SUMIF(ЛСР!$B$6:$B$80,$B6,ЛСР!$G$6:$G$80) -> 5.31 | G6: =SUM(F6:F6) -> 5.31 | I6: =ROUND(H6*G6,2) -> 0 | J6: =VLOOKUP($B6,[1]ЛСР!$B$6:$L$132,10,0) -> В два слоя
A7: =ROW()-2 -> 5 | B7: Пена монтажная противопожарная | C7: =VLOOKUP($B7,ЛСР!$B$6:$L$80,2,0) -> 0 | D7: =VLOOKUP($B7,ЛСР!$B$6:$L$80,3,0) -> противопожарная | E7: =VLOOKUP($B7,ЛСР!$B$6:$L$80,4,0) -> баллон | F7: =SUMIF(ЛСР!$B$6:$B$80,$B7,ЛСР!$G$6:$G$80) -> 1 | G7: =SUM(F7:F7) -> 1 | I7: =ROUND(H7*G7,2) -> 0 | J7: =VLOOKUP($B7,[1]ЛСР!$B$6:$L$132,10,0) -> 0
A8: =ROW()-2 -> 6 | B8: Унифлекс ЭКП 10х1м | C8: =VLOOKUP($B8,ЛСР!$B$6:$L$80,2,0) -> 0 | D8: =VLOOKUP($B8,ЛСР!$B$6:$L$80,3,0) -> ЭКП 10х1м | E8: =VLOOKUP($B8,ЛСР!$B$6:$L$80,4,0) -> м2 | F8: =SUMIF(ЛСР!$B$6:$B$80,$B8,ЛСР!$G$6:$G$80) -> 76.17 | G8: =SUM(F8:F8) -> 76.17 | I8: =ROUND(H8*G8,2) -> 0 | J8: =VLOOKUP($B8,[1]ЛСР!$B$6:$L$132,10,0) -> 0
A9: =ROW()-2 -> 7 | B9: Унифлекс ЭПП 10х1м | C9: =VLOOKUP($B9,ЛСР!$B$6:$L$80,2,0) -> 0 | D9: =VLOOKUP($B9,ЛСР!$B$6:$L$80,3,0) -> ЭПП 10х1м | E9: =VLOOKUP($B9,ЛСР!$B$6:$L$80,4,0) -> м2 | F9: =SUMIF(ЛСР!$B$6:$B$80,$B9,ЛСР!$G$6:$G$80) -> 70.83 | G9: =SUM(F9:F9) -> 70.83 | I9: =ROUND(H9*G9,2) -> 0 | J9: =VLOOKUP($B9,[1]ЛСР!$B$6:$L$132,10,0) -> 0
A10: =ROW()-2 -> 8 | B10: Газ-пропан | C10: =VLOOKUP($B10,ЛСР!$B$6:$L$80,2,0) -> 0 | D10: =VLOOKUP($B10,ЛСР!$B$6:$L$80,3,0) -> 0 | E10: =VLOOKUP($B10,ЛСР!$B$6:$L$80,4,0) -> л (дм3) | F10: =SUMIF(ЛСР!$B$6:$B$80,$B10,ЛСР!$G$6:$G$80) -> 82.93 | G10: =SUM(F10:F10) -> 82.93 | I10: =ROUND(H10*G10,2) -> 0 | J10: =VLOOKUP($B10,[1]ЛСР!$B$6:$L$132,10,0) -> 0
A11: =ROW()-2 -> 9 | B11: Лист асбестоцементный ЛП-П 10мм | C11: =VLOOKUP($B11,ЛСР!$B$6:$L$80,2,0) -> 0 | D11: =VLOOKUP($B11,ЛСР!$B$6:$L$80,3,0) -> ЛП-П 10мм | E11: =VLOOKUP($B11,ЛСР!$B$6:$L$80,4,0) -> м2 | F11: =SUMIF(ЛСР!$B$6:$B$80,$B11,ЛСР!$G$6:$G$80) -> 97.24 | G11: =SUM(F11:F11) -> 97.24 | I11: =ROUND(H11*G11,2) -> 0 | J11: =VLOOKUP($B11,[1]ЛСР!$B$6:$L$132,10,0) -> в 2 слоя
A12: =ROW()-2 -> 10 | B12: Кляймер 10мм двойной гнутый для плоского шифера | C12: =VLOOKUP($B12,ЛСР!$B$6:$L$80,2,0) -> 0 | D12: =VLOOKUP($B12,ЛСР!$B$6:$L$80,3,0) -> 10мм двойной гнутый для плоского шифера | E12: =VLOOKUP($B12,ЛСР!$B$6:$L$80,4,0) -> шт | F12: =SUMIF(ЛСР!$B$6:$B$80,$B12,ЛСР!$G$6:$G$80) -> 104 | G12: =SUM(F12:F12) -> 104 | I12: =ROUND(H12*G12,2) -> 0 | J12: =VLOOKUP($B12,[1]ЛСР!$B$6:$L$132,10,0) -> 0
A13: =ROW()-2 -> 11 | B13: Саморезы по дереву 3,5х45 | C13: =VLOOKUP($B13,ЛСР!$B$6:$L$80,2,0) -> 0 | D13: =VLOOKUP($B13,ЛСР!$B$6:$L$80,3,0) -> по дереву 3,5х45 | E13: =VLOOKUP($B13,ЛСР!$B$6:$L$80,4,0) -> шт | F13: =SUMIF(ЛСР!$B$6:$B$80,$B13,ЛСР!$G$6:$G$80) -> 279 | G13: =SUM(F13:F13) -> 279 | I13: =ROUND(H13*G13,2) -> 0 | J13: =VLOOKUP($B13,[1]ЛСР!$B$6:$L$132,10,0) -> 0
A14: =ROW()-2 -> 12 | B14: Керамзит | C14: =VLOOKUP($B14,ЛСР!$B$6:$L$80,2,0) -> 0 | D14: =VLOOKUP($B14,ЛСР!$B$6:$L$80,3,0) -> фр.10-20мм | E14: =VLOOKUP($B14,ЛСР!$B$6:$L$80,4,0) -> м3 | F14: =SUMIF(ЛСР!$B$6:$B$80,$B14,ЛСР!$G$6:$G$80) -> 3.16 | G14: =SUM(F14:F14) -> 3.16 | I14: =ROUND(H14*G14,2) -> 0 | J14: =VLOOKUP($B14,[1]ЛСР!$B$6:$L$132,10,0) -> 0
... A20: =ROW()-2 -> 18 | B20: Доска обрезная антисептированная 50х100х6000 | C20: =VLOOKUP($B20,ЛСР!$B$6:$L$80,2,0) -> 0 | D20: =VLOOKUP($B20,ЛСР!$B$6:$L$80,3,0) -> обрезная антисептированная 50х100х6000 | E20: =VLOOKUP($B20,ЛСР!$B$6:$L$80,4,0) -> м3 | F20: =SUMIF(ЛСР!$B$6:$B$80,$B20,ЛСР!$G$6:$G$80) -> 0.23 | G20: =SUM(F20:F20) -> 0.23 | I20: =ROUND(H20*G20,2) -> 0 | J20: =VLOOKUP($B20,[1]ЛСР!$B$6:$L$132,10,0) -> 0
H21: Итого: | I21: =SUM(I3:I20) -> 0
H22: Проверка: | I22: =I21-ЛСР!J83 -> 0

Sheet ПараметрыЗагрузки
A1: ЛСР | B1: ЛСРГуид
A2: ГП-72.215.01.04.02 Секция 1_Устройство террасы (в т.ч. ограждения) №1 | B2: c4e7f7d5-3d85-11f1-9618-db392af1e994
